{"text_format":"1","workbook":"xlsx","n_sheets":6,"sheets":["Principal","Histórico versiones","Datos","Espectros","CRI","Otros"],"not_rendered":{"charts":3,"images":2,"macros":1,"external_links":0,"defined_names":4,"comments":1,"pivot_tables":0},"unopened":[],"bounds":{"document_bytes":16777216,"sheet_cells":100000,"rows_first":2000,"rows_last":500,"rows_between":2000,"halvings":0,"cell_chars":16384,"cell_head_chars":4096},"cells_cut":0,"cells_raw":0,"read":"whole","date_system":"1900"}

{"sheet":"Principal","index":0,"n_rows":58,"n_cols":19,"rows_kept":58,"cut":false,"hidden":false,"merged":[[1,1,2,13],[20,1,22,7],[29,1,33,6],[57,13,59,17],[17,12,17,14],[18,12,18,14],[19,12,19,14],[20,12,20,14],[21,12,21,14],[24,12,24,14],[25,12,25,14],[26,12,26,14],[27,12,27,14],[28,12,28,14],[29,12,29,14],[39,1,39,2],[39,15,39,16],[39,5,39,7],[39,10,39,12],[14,15,15,15],[14,16,15,16],[25,1,25,5],[18,1,18,5],[19,1,19,5],[24,1,24,2],[26,1,26,5],[27,1,27,5],[28,1,28,5],[14,11,15,13],[14,14,15,14],[22,12,22,14],[23,12,23,14],[8,11,10,17],[12,13,12,14],[12,11,12,12],[12,1,12,5],[11,1,11,2],[8,1,9,7],[14,18,15,18],[13,1,13,5],[14,1,14,5],[17,1,17,2],[14,17,15,17],[16,11,16,14]]}
[]
[null,"CALCULADORA DE POTENCIA Y ESPECTRO PARA PANTALLAS DIY",null,null,null,null,null,null,null,null,null,null,null,null,null,"Desarrollado para:"]
[]
[null,"Elaborado por Óscar Fernández, 2021",null,null,null,null,null,null,null,null,null,null,"V2.0"]
[]
[]
[]
[null,"1º PASO: DATOS DEL PROYECTO",null,null,null,null,null,null,null,null,null,"1º PASO: ELECCIÓN DE LEDS"]
[null,"Rellena las casillas con fondo blanco para calcular una estimación de potencia que será necesaria para tu acuario",null,null,null,null,null,null,null,null,null,"Introduce los vatios de cada tipo de led que vayas a utilizar. Verás automáticamente como influye en el espectro final de la pantalla. Puedes hacer hasta 3 configuraciones simultáneas y seleccionar con una X que configuración representar en la gráfica."]
[]
[]
[null,"Medidas del acuario"]
[null,"Ancho (cm):",null,null,null,null,36,null,null,null,null,"Tipo de led:",null,3535]
[null,"Fondo (cm):",null,null,null,null,24]
[null,"Columna de agua (cm):",null,null,null,null,30,null,null,null,null,"Tipo de led",null,null,"Temperatura\nnm","W","W","W","Nº Leds"]
[]
[null,null,null,null,null,null,null,null,null,null,null,"Marca con una X la columna a utilizar -->  ",null,null,null,"X"]
[null,"Iluminación",null,null,null,null,null,null,null,null,null,null,"Blue (465-480) XP-E2",null,null,18,null,null,{"$f":"IF(M18=\"\",\"\",ROUNDUP(HLOOKUP(\"X\",$P$17:$R$30,ROW(P18)-16,FALSE) / VLOOKUP(M18,Datos!A:O,15,FALSE),0))","v":6}]
[null,"Fotoperiodo en horas:",null,null,null,null,7,null,null,null,null,null,"Blanco Frío (6000K) XP-G2",null,null,26,null,null,{"$f":"IF(M19=\"\",\"\",ROUNDUP(HLOOKUP(\"X\",$P$17:$R$30,ROW(P19)-16,FALSE) / VLOOKUP(M19,Datos!A:O,15,FALSE),0))","v":6}]
[null,"Tipo de requisitos:",null,null,null,null,"Alto",null,null,null,null,null,"Royal Blue (440-450) XT-E",null,null,26,null,null,{"$f":"IF(M20=\"\",\"\",ROUNDUP(HLOOKUP(\"X\",$P$17:$R$30,ROW(P20)-16,FALSE) / VLOOKUP(M20,Datos!A:O,15,FALSE),0))","v":6}]
[null,"Con la información solicitada a continuación se podrá calcular la superficie de acuario que se puede iluminar y estimar una medida de PAR en la base.",null,null,null,null,null,null,null,null,null,null,"Green (520-525) XP-E",null,null,8,null,null,{"$f":"IF(M21=\"\",\"\",ROUNDUP(HLOOKUP(\"X\",$P$17:$R$30,ROW(P21)-16,FALSE) / VLOOKUP(M21,Datos!A:O,15,FALSE),0))","v":3}]
[null,null,null,null,null,null,null,null,null,null,null,null,"UV (410-420) Semiled",null,null,8,null,null,{"$f":"IF(M22=\"\",\"\",ROUNDUP(HLOOKUP(\"X\",$P$17:$R$30,ROW(P22)-16,FALSE) / VLOOKUP(M22,Datos!A:O,15,FALSE),0))","v":4}]
[null,null,null,null,null,null,null,null,null,null,null,null,"Photo Red (650-665) XP-E2",null,null,8,null,null,{"$f":"IF(M23=\"\",\"\",ROUNDUP(HLOOKUP(\"X\",$P$17:$R$30,ROW(P23)-16,FALSE) / VLOOKUP(M23,Datos!A:O,15,FALSE),0))","v":4}]
[null,null,null,null,null,null,null,null,null,null,null,null,"UV (405-410) Semiled",null,null,8,null,null,{"$f":"IF(M24=\"\",\"\",ROUNDUP(HLOOKUP(\"X\",$P$17:$R$30,ROW(P24)-16,FALSE) / VLOOKUP(M24,Datos!A:O,15,FALSE),0))","v":4}]
[null,"Datos de la pantalla",null,null,null,null,null,null,null,null,null,null,null,null,null,null,null,null,{"$f":"IF(M25=\"\",\"\",ROUNDUP(HLOOKUP(\"X\",$P$17:$R$30,ROW(P25)-16,FALSE) / VLOOKUP(M25,Datos!A:O,15,FALSE),0))","v":""}]
[null,"Altura de la fuente de luz desde la COLUMNA de  agua (cm):",null,null,null,null,16,null,null,null,null,null,null,null,null,null,null,null,{"$f":"IF(M26=\"\",\"\",ROUNDUP(HLOOKUP(\"X\",$P$17:$R$30,ROW(P26)-16,FALSE) / VLOOKUP(M26,Datos!A:O,15,FALSE),0))","v":""}]
[null,"*Ancho de la pantalla (cm):",null,null,null,null,30,null,null,null,null,null,null,null,null,null,null,null,{"$f":"IF(M27=\"\",\"\",ROUNDUP(HLOOKUP(\"X\",$P$17:$R$30,ROW(P27)-16,FALSE) / VLOOKUP(M27,Datos!A:O,15,FALSE),0))","v":""}]
[null,"Grados de las lentes (º)",null,null,null,null,90,null,null,null,null,null,null,null,null,null,null,null,{"$f":"IF(M28=\"\",\"\",ROUNDUP(HLOOKUP(\"X\",$P$17:$R$30,ROW(P28)-16,FALSE) / VLOOKUP(M28,Datos!A:O,15,FALSE),0))","v":""}]
[null,"*Fondo de la pantalla (cm):",null,null,null,null,10,null,null,null,null,null,null,null,null,null,null,null,{"$f":"IF(M29=\"\",\"\",ROUNDUP(HLOOKUP(\"X\",$P$17:$R$30,ROW(P29)-16,FALSE) / VLOOKUP(M29,Datos!A:O,15,FALSE),0))","v":""}]
[null,"* Se entiende por ancho y por fondo de la pantalla la supercie que ocupan los leds. No confundir con el tamaño total de la pantalla o disipador. \nPor ejemplo, una fila de 5 leds de 20mm totalmente juntos sería 10cmx0,2cm",null,null,null,null,null,null,null,null,null,null,null,null,null,null,null,null,{"$f":"IF(M30=\"\",\"\",ROUNDUP(HLOOKUP(\"X\",$P$17:$R$30,ROW(P30)-16,FALSE) / VLOOKUP(M30,Datos!A:O,15,FALSE),0))","v":""}]
[null,null,null,null,null,null,null,null,null,null,null,null,null,null,null,{"$f":"SUM(P18:P30)","v":102},{"$f":"SUM(Q18:Q30)","v":0},{"$f":"SUM(R18:R30)","v":0}]
[]
[]
[]
[]
[null,"3º PASO: RESULTADOS"]
[]
[null,"Litros (L):",{"$f":"(G13*G14*G15)/1000","v":25.92},null,null,"Cobertura Superficie:",null,null,{"$f":"ROUND(((G26/100)*TAN((RADIANS(G28)/2))*2)*100+G27,0)&\"x\"&ROUND(((G26/100)*TAN((RADIANS(G28)/2))*2)*100+G29,0)","v":"62x42"},null,"Cobertura en base:",null,null,{"$f":"ROUND((((G26+G15)/100)*TAN((RADIANS(G28)/2))*2)*100+G27,0)&\"x\"&ROUND((((G26+G15)/100)*TAN((RADIANS(G28)/2))*2)*100+G29,0)","v":"122x102"},null,"* Temperatura de color:",null,{"$f":"IFERROR(ROUND(CRI!B8,0),\"\")","v":7691}]
[]
[null,"Potencia necesaria (W):",null,{"$f":"ROUNDUP(0.0354*G13*G14*(IF(G20=\"Bajo\",1,IF(G20=\"Medio\",2,3))/G19)*EXP((G15) /100),0)","v":18},null,"Potencia Recomendada (W)",null,null,{"$f":"D40*1.3","v":23.400000000000002},null,"Potencia Final (W)",null,null,{"$f":"_xlfn.CONCAT(ROUND(P31,1),\"W\")","v":"102W"},null,"PAR estimado (μmol/s):",null,{"$f":"ROUND((Espectros!E58/(2*PI()*(1-COS(RADIANS(G28)/2))))/(((G26+G15)/100)^2)*0.025,0)","v":322}]
[]
[]
[]
[]
[]
[]
[]
[]
[]
[]
[]
[]
[]
[]
[]
[]
[]
[null,null,null,null,null,null,null,null,null,null,null,null,null,"* Si la casilla de temperatura de color está en rojo significa que hay una distancia cromática >0.0054. Es decir, se aleja de un tono blanco y los resultados serán aproximados."]

{"sheet":"Histórico versiones","index":1,"n_rows":11,"n_cols":4,"rows_kept":11,"cut":false,"hidden":false,"merged":[[1,1,2,3]]}
[]
[null,"HISTÓRICO DE VERSIONES"]
[]
[null,"Versión","Fecha Publicación","Cambios"]
[null,"v2.1",null,"· Corregidos algunos valores de potencia y lumens en los tipos de led.\n· Añadido más tipos de led.\n· El espectro de W se calcula en base a los mW teoricos de cada led y no con la potencia que consume el led.\n· Corregido un fallo en el cálculo del CRI.\n· Añadido campo con los leds necesarios según los W indicados."]
[null,"v2.0","2022-10-23","· Se cambia la hoja Principal entera.\n· Cambios en las fórmulas de cálculos de los espectros.\n· Añadida gráfica en base a la luz visible.\n· Añadido cálculo del CRI.\n· Añadido cálculo del par estimado\n· Filtro para elegir el tipo de led a utilizar."]
[null,"v1.4","2022-03-04","· Cambiados los literales del punto 3\n· Corregido error en los totales del punto 2"]
[null,"v1.3","2021-09-03","· Cambiado los literales de la parte de resultados.\n· Añadida opción para tipo de led\n· Añadido el color \"Full Spectrum Pink\"\n· Añadido el apartado 3 para calcular la superficie de acuario que quedará ilumada"]
[null,"v1.2","2021-07-20","· Se incluye un histórico de versiones para control de cambios.\n· Se cambia el gráfico para que se mantega la escala entre el espectro sugerido y el espectro personalizado y que la comparativa de espectros sea más real e intuitiva."]
[null,"v1.1","2021-07-17","· Quitadas macros para mejorar compatibilidad\n· Se incluye la opción de trabajar en tres espectros a la vez y seleccionar la columna que queremos representar.\n· El espectro inicial se calcula con fórmulas y se representa mediante una línea negra en la gráfica.\n· Cambiados los literales de las medidas del paso 1 para que sea más explicativo.\n· En vez del alto se pide la columna de agua"]
[null,"v1.0","2021-07-17","Versión inicial"]

{"sheet":"Datos","index":2,"n_rows":58,"n_cols":15,"rows_kept":58,"cut":false,"hidden":false,"merged":[]}
[]
["Nombre","Voltaje (V)","Corriente (mA)","Kelvin","DWL","lm/Led","mW/led","Formato","R","G","B","Luminous efficacy","Lumens Flux (lx)","Radion Flux (W)","Potencia (W)"]
["Blanco Frío (6000K) XP-E",3.23,1000,6000,null,148,null,3535,245,250,253,{"$f":"IF(E3=\"\",\"\",HLOOKUP(E3,Otros!$C$25:$GU$29,5,FALSE))","v":""},{"$f":"IF(F3>0,F3*C3/350,((G3*C3/350)/1000)*L3*(683))","v":422.85714285714283},{"$f":"IF(L3=\"\",O3*0.7,M3/(L3*683))","v":2.2609999999999997},{"$f":"B3*C3/1000","v":3.23}]
["Blanco Frío (6000K) XP-E2",3.12,1000,6000,null,148,null,3535,245,250,253,{"$f":"IF(E4=\"\",\"\",HLOOKUP(E4,Otros!$C$25:$GU$29,5,FALSE))","v":""},422.85714285714283,{"$f":"IF(L4=\"\",O4*0.7,M4/(L4*683))","v":2.1839999999999997},3.12]
["Blanco Cálido (3500K) XP-E",3.23,1000,3500,null,130,null,3535,255,231,153,{"$f":"IF(E5=\"\",\"\",HLOOKUP(E5,Otros!$C$25:$GU$29,5,FALSE))","v":""},371.42857142857144,2.2609999999999997,3.23]
["Blanco Cálido (3500K) XP-E2",3.12,1000,3500,null,142,null,3535,255,231,153,{"$f":"IF(E6=\"\",\"\",HLOOKUP(E6,Otros!$C$25:$GU$29,5,FALSE))","v":""},405.71428571428572,2.1839999999999997,3.12]
["Blue (465-480) XP-E",3.27,1000,null,464,35,null,3535,68,116,197,{"$f":"IF(E7=\"\",\"\",HLOOKUP(E7,Otros!$C$25:$GU$29,5,FALSE))","v":7.0911089999999996E-2},{"$f":"IF(F7>0,F7*C7/350,((G7*C7/350)/1000)*L7*(683))","v":100},2.0647388770052948,{"$f":"B7*C7/1000","v":3.27}]
["Blue (465-480) XP-E2",3.14,1000,null,464,39,null,3535,68,116,197,{"$f":"IF(E8=\"\",\"\",HLOOKUP(E8,Otros!$C$25:$GU$29,5,FALSE))","v":7.0911089999999996E-2},111.42857142857143,2.3007090343773284,3.14]
["Royal Blue (440-450) XP-E2",3.2,1000,null,444,null,625,3535,68,10,241,{"$f":"IF(E9=\"\",\"\",HLOOKUP(E9,Otros!$C$25:$GU$29,5,FALSE))","v":2.8351250000000001E-2},{"$f":"IF(F9>0,F9*C9/350,((G9*C9/350)/1000)*L9*(683))","v":34.578399553571437},1.785714285714286,3.2]
["Green (520-525) XP-E",3.16,1000,null,520,87,null,3535,1,176,81,{"$f":"IF(E10=\"\",\"\",HLOOKUP(E10,Otros!$C$25:$GU$29,5,FALSE))","v":0.71},{"$f":"IF(F10>0,F10*C10/350,((G10*C10/350)/1000)*L10*(683))","v":248.57142857142858},0.51259239183269467,3.16]
["Green (520-525) XP-E2",3.01,1000,null,520,148,null,3535,1,176,81,{"$f":"IF(E11=\"\",\"\",HLOOKUP(E11,Otros!$C$25:$GU$29,5,FALSE))","v":0.71},{"$f":"IF(F11>0,F11*C11/350,((G11*C11/350)/1000)*L11*(683))","v":422.85714285714283},0.87199625277285975,{"$f":"B11*C11/1000","v":3.01}]
["Red (620-630) XP-E",2.2999999999999998,700,null,620,51,null,3535,255,1,0,{"$f":"IF(E12=\"\",\"\",HLOOKUP(E12,Otros!$C$25:$GU$29,5,FALSE))","v":0.38100000000000001},{"$f":"IF(F12>0,F12*C12/350,((G12*C12/350)/1000)*L12*(683))","v":102},0.39197150136613595,{"$f":"B12*C12/1000","v":1.6099999999999999}]
["Red (620-630) XP-E2",2.2999999999999998,700,null,620,73,null,3535,255,1,0,{"$f":"IF(E13=\"\",\"\",HLOOKUP(E13,Otros!$C$25:$GU$29,5,FALSE))","v":0.38100000000000001},146,0.56105724705348869,1.6099999999999999]
["Photo Red (650-665) XP-E",2.5,1000,null,660,null,375,3535,255,1,0,{"$f":"IF(E14=\"\",\"\",HLOOKUP(E14,Otros!$C$25:$GU$29,5,FALSE))","v":6.0999999999999999E-2},{"$f":"IF(F14>0,F14*C14/350,((G14*C14/350)/1000)*L14*(683))","v":44.638928571428565},1.0714285714285714,{"$f":"B14*C14/1000","v":2.5}]
["Photo Red (650-665) XP-E2",2.42,1000,null,660,null,425,3535,194,0,2,{"$f":"IF(E15=\"\",\"\",HLOOKUP(E15,Otros!$C$25:$GU$29,5,FALSE))","v":6.0999999999999999E-2},50.590785714285708,1.2142857142857142,2.42]
["Amber (585-595) XP-E2",2.6,1000,null,590,80,null,3535,255,193,0,{"$f":"IF(E16=\"\",\"\",HLOOKUP(E16,Otros!$C$25:$GU$29,5,FALSE))","v":0.75700000000000001},{"$f":"IF(F16>0,F16*C16/350,((G16*C16/350)/1000)*L16*(683))","v":228.57142857142858},0.44208457243652433,{"$f":"B16*C16/1000","v":2.6}]
["Amber (585-595) XP-E",2.2999999999999998,500,null,590,51,null,3535,255,193,0,{"$f":"IF(E17=\"\",\"\",HLOOKUP(E17,Otros!$C$25:$GU$29,5,FALSE))","v":0.75700000000000001},72.857142857142861,0.14091445746414213,1.1499999999999999]
["Red-Orange (610-620) XP-E",2.1,700,null,610,62,null,3535,255,140,0,{"$f":"IF(E18=\"\",\"\",HLOOKUP(E18,Otros!$C$25:$GU$29,5,FALSE))","v":0.503},{"$f":"IF(F18>0,F18*C18/350,((G18*C18/350)/1000)*L18*(683))","v":124},0.36093832320862529,{"$f":"B18*C18/1000","v":1.47}]
["Red-Orange (610-620) XP-E2",2.6,1000,null,610,93,null,3535,255,140,0,{"$f":"IF(E19=\"\",\"\",HLOOKUP(E19,Otros!$C$25:$GU$29,5,FALSE))","v":0.503},265.71428571428572,0.77343926401848273,2.6]
["Far-Red (720-740) XP-E2",2.2400000000000002,1000,null,730,null,375,3535,95,1,1,{"$f":"IF(E20=\"\",\"\",HLOOKUP(E20,Otros!$C$25:$GU$29,5,FALSE))","v":5.1999999999999995E-4},0.38052857142857138,1.0714285714285714,2.2400000000000002]
["UV (395-400) Semiled",3.4,700,null,400,null,425,3535,82,35,116,{"$f":"IF(E21=\"\",\"\",HLOOKUP(E21,Otros!$C$25:$GU$29,5,FALSE))","v":3.9599999999999998E-4},0.22989779999999999,0.85,2.38]
["UV (405-410) Semiled",3.4,700,null,410,null,425,3535,112,48,161,{"$f":"IF(E22=\"\",\"\",HLOOKUP(E22,Otros!$C$25:$GU$29,5,FALSE))","v":1.2099999999999999E-3},0.70246549999999996,0.85,2.38]
["UV (410-420) Semiled",3.4,700,null,420,null,455,3535,69,48,167,{"$f":"IF(E23=\"\",\"\",HLOOKUP(E23,Otros!$C$25:$GU$29,5,FALSE))","v":4.0000000000000001E-3},2.4861200000000001,0.90999999999999992,2.38]
["Royal Blue (440-450) XT-E",3.28,1500,null,450,null,625,3535,68,10,241,{"$f":"IF(E24=\"\",\"\",HLOOKUP(E24,Otros!$C$25:$GU$29,5,FALSE))","v":3.7999999999999999E-2},{"$f":"IF(F24>0,F24*C24/350,((G24*C24/350)/1000)*L24*(683))","v":69.519642857142841},{"$f":"IF(L24=\"\",O24*0.7,M24/(L24*683))","v":2.6785714285714279},{"$f":"B24*C24/1000","v":4.92}]
["Blanco Frío (6000K) XT-E",3.21,1500,6000,null,130,null,3535,245,250,253,{"$f":"IF(E25=\"\",\"\",HLOOKUP(E25,Otros!$C$25:$GU$29,5,FALSE))","v":""},{"$f":"IF(F25>0,F25*C25/350,((G25*C25/350)/1000)*L25*(683))","v":557.14285714285711},{"$f":"IF(L25=\"\",O25*0.7,M25/(L25*683))","v":3.3705000000000003},{"$f":"B25*C25/1000","v":4.8150000000000004}]
["Blanco Cálido (3500K) XT-E",3.21,1500,3500,null,110,null,3535,255,231,153,{"$f":"IF(E26=\"\",\"\",HLOOKUP(E26,Otros!$C$25:$GU$29,5,FALSE))","v":""},471.42857142857144,3.3705000000000003,4.8150000000000004]
["Blanco Frío (6000K) XP-G2",3.02,1500,6000,null,130,null,3535,245,250,253,{"$f":"IF(E27=\"\",\"\",HLOOKUP(E27,Otros!$C$25:$GU$29,5,FALSE))","v":""},{"$f":"IF(F27>0,F27*C27/350,((G27*C27/350)/1000)*L27*(683))","v":557.14285714285711},{"$f":"IF(L27=\"\",O27*0.7,M27/(L27*683))","v":3.1709999999999998},{"$f":"B27*C27/1000","v":4.53}]
["Blanco Cálido (3500K) XP-G2",3.02,1500,3500,null,130,null,3535,255,231,153,{"$f":"IF(E28=\"\",\"\",HLOOKUP(E28,Otros!$C$25:$GU$29,5,FALSE))","v":""},557.14285714285711,3.1709999999999998,4.53]
["Blanco Cálido (3500K) 1W",3.4,300,3500,null,115,null,"Powerled 1W",255,231,153,{"$f":"IF(E29=\"\",\"\",HLOOKUP(E29,Otros!$C$25:$GU$29,5,FALSE))","v":""},98.571428571428569,0.71399999999999997,1.02]
["Blanco Frio (6500K) 1W",3.4,300,6500,null,110,null,"Powerled 1W",245,250,253,{"$f":"IF(E30=\"\",\"\",HLOOKUP(E30,Otros!$C$25:$GU$29,5,FALSE))","v":""},94.285714285714292,0.71399999999999997,1.02]
["Blanco Frio (10000K) 1W",3.4,300,10000,null,110,null,"Powerled 1W",190,216,239,{"$f":"IF(E31=\"\",\"\",HLOOKUP(E31,Otros!$C$25:$GU$29,5,FALSE))","v":""},94.285714285714292,0.71399999999999997,1.02]
["UV (395-400) 1W",3.4,300,null,400,10,null,"Powerled 1W",82,35,116,{"$f":"IF(E32=\"\",\"\",HLOOKUP(E32,Otros!$C$25:$GU$29,5,FALSE))","v":3.9599999999999998E-4},8.5714285714285712,31.691100505156143,1.02]
["UV (410-415) 1W",3.4,300,null,410,10,null,"Powerled 1W",112,48,161,{"$f":"IF(E33=\"\",\"\",HLOOKUP(E33,Otros!$C$25:$GU$29,5,FALSE))","v":1.2099999999999999E-3},8.5714285714285712,10.371632892596555,1.02]
["UV (420-430) 1W",3.4,300,null,420,10,null,"Powerled 1W",69,48,167,{"$f":"IF(E34=\"\",\"\",HLOOKUP(E34,Otros!$C$25:$GU$29,5,FALSE))","v":4.0000000000000001E-3},8.5714285714285712,3.1374189500104577,1.02]
["Royal Blue (440-450) 1W",3.4,300,null,444,null,300,"Powerled 1W",68,10,241,{"$f":"IF(E35=\"\",\"\",HLOOKUP(E35,Otros!$C$25:$GU$29,5,FALSE))","v":2.8351250000000001E-2},4.9792895357142868,0.25714285714285717,1.02]
["Blue (465-480) 1W",3.4,300,null,470,20,null,"Powerled 1W",68,116,197,{"$f":"IF(E36=\"\",\"\",HLOOKUP(E36,Otros!$C$25:$GU$29,5,FALSE))","v":9.0980000000000005E-2},17.142857142857142,0.27587768300817389,1.02]
["Cyan (495-500) 1W",3.2,300,null,500,45,null,"Powerled 1W",1,201,182,{"$f":"IF(E37=\"\",\"\",HLOOKUP(E37,Otros!$C$25:$GU$29,5,FALSE))","v":0.32300000000000001},38.571428571428569,0.17484068452070661,0.96]
["Verde (520-525) 1W",3,300,null,520,60,null,"Powerled 1W",1,176,81,{"$f":"IF(E38=\"\",\"\",HLOOKUP(E38,Otros!$C$25:$GU$29,5,FALSE))","v":0.71},51.428571428571431,0.10605359831021269,0.9]
["Amarillo (590-595) 1W",2.5,300,null,590,25,null,"Powerled 1W",255,255,1,{"$f":"IF(E39=\"\",\"\",HLOOKUP(E39,Otros!$C$25:$GU$29,5,FALSE))","v":0.75700000000000001},21.428571428571427,4.1445428665924149E-2,0.75]
["Naranja (600-605) 1W",2.5,300,null,600,25,null,"Powerled 1W",255,140,0,{"$f":"IF(E40=\"\",\"\",HLOOKUP(E40,Otros!$C$25:$GU$29,5,FALSE))","v":0.63100000000000001},21.428571428571427,4.9721377971639585E-2,0.75]
["Rojo (620-625) 1W",2.4,300,null,620,25,null,"Powerled 1W",255,1,0,{"$f":"IF(E41=\"\",\"\",HLOOKUP(E41,Otros!$C$25:$GU$29,5,FALSE))","v":0.38100000000000001},21.428571428571427,8.2346954068515943E-2,0.72]
["Rojo Profundo (660-665) 1W",2.4,300,null,660,null,290,"Powerled 1W",194,0,2,{"$f":"IF(E42=\"\",\"\",HLOOKUP(E42,Otros!$C$25:$GU$29,5,FALSE))","v":6.0999999999999999E-2},10.356231428571428,0.24857142857142858,0.72]
["Infrarojo(735-745) 1W",2.4,300,null,740,0.25,null,"Powerled 1W",95,1,1,{"$f":"IF(E43=\"\",\"\",HLOOKUP(E43,Otros!$C$25:$GU$29,5,FALSE))","v":2.4919999999999999E-4},0.21428571428571427,1.258996368383009,0.72]
["Blanco Cálido (3500K) 3W",3.6,700,3500,null,115,null,"Powerled 3W",255,231,153,{"$f":"IF(E44=\"\",\"\",HLOOKUP(E44,Otros!$C$25:$GU$29,5,FALSE))","v":""},230,1.7639999999999998,2.52]
["Blanco Frio (6500K) 3W",3.6,700,6500,null,110,null,"Powerled 3W",245,250,253,{"$f":"IF(E45=\"\",\"\",HLOOKUP(E45,Otros!$C$25:$GU$29,5,FALSE))","v":""},220,1.7639999999999998,2.52]
["Blanco Frio (10000K) 3W",3.6,700,10000,null,110,null,"Powerled 3W",190,216,239,{"$f":"IF(E46=\"\",\"\",HLOOKUP(E46,Otros!$C$25:$GU$29,5,FALSE))","v":""},220,1.7639999999999998,2.52]
["UV (395-400) 3W",3.6,700,null,400,20,null,"Powerled 3W",82,35,116,{"$f":"IF(E47=\"\",\"\",HLOOKUP(E47,Otros!$C$25:$GU$29,5,FALSE))","v":3.9599999999999998E-4},40,147.89180235739533,2.52]
["UV (410-415) 3W",3.4,700,null,410,20,null,"Powerled 3W",112,48,161,{"$f":"IF(E48=\"\",\"\",HLOOKUP(E48,Otros!$C$25:$GU$29,5,FALSE))","v":1.2099999999999999E-3},40,48.400953498783927,2.38]
["UV (420-430) 3W",3.4,700,null,420,20,null,"Powerled 3W",69,48,167,{"$f":"IF(E49=\"\",\"\",HLOOKUP(E49,Otros!$C$25:$GU$29,5,FALSE))","v":4.0000000000000001E-3},40,14.641288433382137,2.38]
["Royal Blue (440-450) 3W",3.4,700,null,444,null,300,"Powerled 3W",68,10,241,{"$f":"IF(E50=\"\",\"\",HLOOKUP(E50,Otros!$C$25:$GU$29,5,FALSE))","v":2.8351250000000001E-2},11.618342250000001,0.6,2.38]
["Blue (465-480) 3W",3.4,700,null,470,20,null,"Powerled 3W",68,116,197,{"$f":"IF(E51=\"\",\"\",HLOOKUP(E51,Otros!$C$25:$GU$29,5,FALSE))","v":9.0980000000000005E-2},40,0.64371459368573913,2.38]
["Cyan (495-500) 3W",3.2,700,null,500,45,null,"Powerled 3W",1,201,182,{"$f":"IF(E52=\"\",\"\",HLOOKUP(E52,Otros!$C$25:$GU$29,5,FALSE))","v":0.32300000000000001},90,0.40796159721498215,2.2400000000000002]
["Verde (520-525) 3W",3,700,null,520,60,null,"Powerled 3W",1,176,81,{"$f":"IF(E53=\"\",\"\",HLOOKUP(E53,Otros!$C$25:$GU$29,5,FALSE))","v":0.71},120,0.24745839605716291,2.1]
["Amarillo (590-595) 3W",2.5,700,null,590,25,null,"Powerled 3W",255,255,1,{"$f":"IF(E54=\"\",\"\",HLOOKUP(E54,Otros!$C$25:$GU$29,5,FALSE))","v":0.75700000000000001},50,9.6706000220489696E-2,1.75]
["Naranja (600-605) 3W",2.5,700,null,600,25,null,"Powerled 3W",255,140,0,{"$f":"IF(E55=\"\",\"\",HLOOKUP(E55,Otros!$C$25:$GU$29,5,FALSE))","v":0.63100000000000001},50,0.11601654860049238,1.75]
["Rojo (620-625) 3W",2.4,700,null,620,25,null,"Powerled 3W",255,1,0,{"$f":"IF(E56=\"\",\"\",HLOOKUP(E56,Otros!$C$25:$GU$29,5,FALSE))","v":0.38100000000000001},50,0.19214289282653724,1.68]
["Rojo Profundo (660-665) 3W",2.4,700,null,660,null,300,"Powerled 3W",194,0,2,{"$f":"IF(E57=\"\",\"\",HLOOKUP(E57,Otros!$C$25:$GU$29,5,FALSE))","v":6.0999999999999999E-2},24.997800000000002,0.60000000000000009,1.68]
["Infrarojo(735-745) 3W",2.4,700,null,740,null,290,"Powerled 3W",95,1,1,{"$f":"IF(E58=\"\",\"\",HLOOKUP(E58,Otros!$C$25:$GU$29,5,FALSE))","v":2.4919999999999999E-4},9.8718087999999996E-2,0.58000000000000007,1.68]

{"sheet":"Espectros","index":3,"n_rows":80,"n_cols":399,"rows_kept":80,"cut":false,"hidden":false,"merged":[[31,0,32,0],[31,1,32,1],[4,0,4,7],[30,0,30,7],[5,4,6,4],[5,5,6,5],[5,6,6,6],[5,7,6,7],[5,3,6,3],[5,0,6,0],[5,1,6,1],[5,2,6,2],[31,2,32,2],[31,3,32,3],[58,0,58,3],[55,0,55,7],[56,0,57,0],[56,1,57,1],[56,2,57,2],[56,3,57,3]]}
[null,"Parametros:"]
[null,"nm Mínimos",390,null,"Valor min. grafica",0]
[null,"nm Máximos",780,null,"Valor max. grafica",10]
[]
["Espectro normalizado para cada tipo de led"]
["FILA","Nombre","Kelvin","Peak wavelength","Peak Wavelength normalize","Gauss (a)","H","T",{"$f":"F2","v":0},{"$f":"IF(J7=\"\",\"\",(J7-$C$2)*($F$3-$F$2)/($C$3-$C$2)+$F$2)","v":2.564102564102564E-2},{"$f":"IF(K7=\"\",\"\",(K7-$C$2)*($F$3-$F$2)/($C$3-$C$2)+$F$2)","v":5.128205128205128E-2},7.6923076923076927E-2,0.10256410256410256,0.12820512820512819,0.15384615384615385,0.17948717948717949,0.20512820512820512,0.23076923076923078,0.25641025641025639,0.28205128205128205,0.30769230769230771,0.33333333333333331,0.35897435897435898,0.38461538461538464,0.41025641025641024,0.4358974358974359,0.46153846153846156,0.48717948717948717,0.51282051282051277,0.53846153846153844,0.5641025641025641,0.58974358974358976,0.61538461538461542,0.64102564102564108,0.66666666666666663,0.69230769230769229,0.71794871794871795,0.74358974358974361,0.76923076923076927,0.79487179487179482,0.82051282051282048,0.84615384615384615,0.87179487179487181,0.89743589743589747,0.92307692307692313,0.94871794871794868,0.97435897435897434,1,1.0256410256410255,1.0512820512820513,1.0769230769230769,1.1025641025641026,1.1282051282051282,1.1538461538461537,1.1794871794871795,1.2051282051282051,1.2307692307692308,1.2564102564102564,1.2820512820512822,1.3076923076923077,1.3333333333333333,1.358974358974359,1.3846153846153846,1.4102564102564104,1.4358974358974359,1.4615384615384615,1.4871794871794872,1.5128205128205128,1.5384615384615385,1.5641025641025641,1.5897435897435896,1.6153846153846154,1.641025641025641,1.6666666666666667,{"$f":"IF(BW7=\"\",\"\",(BW7-$C$2)*($F$3-$F$2)/($C$3-$C$2)+$F$2)","v":1.6923076923076923},1.7179487179487178,1.7435897435897436,1.7692307692307692,1.7948717948717949,1.8205128205128205,1.8461538461538463,1.8717948717948718,1.8974358974358974,1.9230769230769231,1.9487179487179487,1.9743589743589745,2,2.0256410256410255,2.0512820512820511,2.0769230769230771,2.1025641025641026,2.1282051282051282,2.1538461538461537,2.1794871794871793,2.2051282051282053,2.2307692307692308,2.2564102564102564,2.2820512820512819,2.3076923076923075,2.3333333333333335,2.358974358974359,2.3846153846153846,2.4102564102564101,2.4358974358974357,2.4615384615384617,2.4871794871794872,2.5128205128205128,2.5384615384615383,2.5641025641025643,2.5897435897435899,2.6153846153846154,2.641025641025641,2.6666666666666665,2.6923076923076925,2.7179487179487181,2.7435897435897436,2.7692307692307692,2.7948717948717947,2.8205128205128207,2.8461538461538463,2.8717948717948718,2.8974358974358974,2.9230769230769229,2.9487179487179489,2.9743589743589745,3,3.0256410256410255,3.0512820512820511,3.0769230769230771,3.1025641025641026,3.1282051282051282,3.1538461538461537,3.1794871794871793,3.2051282051282053,3.2307692307692308,3.2564102564102564,3.2820512820512819,3.3076923076923075,{"$f":"IF(EI7=\"\",\"\",(EI7-$C$2)*($F$3-$F$2)/($C$3-$C$2)+$F$2)","v":3.3333333333333335},3.358974358974359,3.3846153846153846,3.4102564102564101,3.4358974358974357,3.4615384615384617,3.4871794871794872,3.5128205128205128,3.5384615384615383,3.5641025641025643,3.5897435897435899,3.6153846153846154,3.641025641025641,3.6666666666666665,3.6923076923076925,3.7179487179487181,3.7435897435897436,3.7692307692307692,3.7948717948717947,3.8205128205128207,3.8461538461538463,3.8717948717948718,3.8974358974358974,3.9230769230769229,3.9487179487179489,3.9743589743589745,4,4.0256410256410255,4.0512820512820511,4.0769230769230766,4.1025641025641022,4.1282051282051286,4.1538461538461542,4.1794871794871797,4.2051282051282053,4.2307692307692308,4.2564102564102564,4.2820512820512819,4.3076923076923075,4.333333333333333,4.3589743589743586,4.384615384615385,4.4102564102564106,4.4358974358974361,4.4615384615384617,4.4871794871794872,4.5128205128205128,4.5384615384615383,4.5641025641025639,4.5897435897435894,4.615384615384615,4.6410256410256414,4.666666666666667,4.6923076923076925,4.7179487179487181,4.7435897435897436,4.7692307692307692,4.7948717948717947,4.8205128205128203,4.8461538461538458,4.8717948717948714,4.8974358974358978,4.9230769230769234,4.9487179487179489,{"$f":"IF(GU7=\"\",\"\",(GU7-$C$2)*($F$3-$F$2)/($C$3-$C$2)+$F$2)","v":4.9743589743589745},5,5.0256410256410255,5.0512820512820511,5.0769230769230766,5.1025641025641022,5.1282051282051286,5.1538461538461542,5.1794871794871797,5.2051282051282053,5.2307692307692308,5.2564102564102564,5.2820512820512819,5.3076923076923075,5.333333333333333,5.3589743589743586,5.384615384615385,5.4102564102564106,5.4358974358974361,5.4615384615384617,5.4871794871794872,5.5128205128205128,5.5384615384615383,5.5641025641025639,5.5897435897435894,5.615384615384615,5.6410256410256414,5.666666666666667,5.6923076923076925,5.7179487179487181,5.7435897435897436,5.7692307692307692,5.7948717948717947,5.8205128205128203,5.8461538461538458,5.8717948717948714,5.8974358974358978,5.9230769230769234,5.9487179487179489,5.9743589743589745,6,6.0256410256410255,6.0512820512820511,6.0769230769230766,6.1025641025641022,6.1282051282051286,6.1538461538461542,6.1794871794871797,6.2051282051282053,6.2307692307692308,6.2564102564102564,6.2820512820512819,6.3076923076923075,6.333333333333333,6.3589743589743586,6.384615384615385,6.4102564102564106,6.4358974358974361,6.4615384615384617,6.4871794871794872,6.5128205128205128,6.5384615384615383,6.5641025641025639,6.5897435897435894,{"$f":"IF(JG7=\"\",\"\",(JG7-$C$2)*($F$3-$F$2)/($C$3-$C$2)+$F$2)","v":6.615384615384615},6.6410256410256414,6.666666666666667,6.6923076923076925,6.7179487179487181,6.7435897435897436,6.7692307692307692,6.7948717948717947,6.8205128205128203,6.8461538461538458,6.8717948717948714,6.8974358974358978,6.9230769230769234,6.9487179487179489,6.9743589743589745,7,7.0256410256410255,7.0512820512820511,7.0769230769230766,7.1025641025641022,7.1282051282051286,7.1538461538461542,7.1794871794871797,7.2051282051282053,7.2307692307692308,7.2564102564102564,7.2820512820512819,7.3076923076923075,7.333333333333333,7.3589743589743586,7.384615384615385,7.4102564102564106,7.4358974358974361,7.4615384615384617,7.4871794871794872,7.5128205128205128,7.5384615384615383,7.5641025641025639,7.5897435897435894,7.615384615384615,7.6410256410256414,7.666666666666667,7.6923076923076925,7.7179487179487181,7.7435897435897436,7.7692307692307692,7.7948717948717947,7.8205128205128203,7.8461538461538458,7.8717948717948714,7.8974358974358978,7.9230769230769234,7.9487179487179489,7.9743589743589745,8,8.0256410256410255,8.0512820512820511,8.0769230769230766,8.1025641025641022,8.1282051282051277,8.1538461538461533,8.1794871794871788,8.2051282051282044,8.2307692307692299,{"$f":"IF(LS7=\"\",\"\",(LS7-$C$2)*($F$3-$F$2)/($C$3-$C$2)+$F$2)","v":8.2564102564102573},8.2820512820512828,8.3076923076923084,8.3333333333333339,8.3589743589743595,8.384615384615385,8.4102564102564106,8.4358974358974361,8.4615384615384617,8.4871794871794872,8.5128205128205128,8.5384615384615383,8.5641025641025639,8.5897435897435894,8.615384615384615,8.6410256410256405,8.6666666666666661,8.6923076923076916,8.7179487179487172,8.7435897435897427,8.7692307692307701,8.7948717948717956,8.8205128205128212,8.8461538461538467,8.8717948717948723,8.8974358974358978,8.9230769230769234,8.9487179487179489,8.9743589743589745,9,9.0256410256410255,9.0512820512820511,9.0769230769230766,9.1025641025641022,9.1282051282051277,9.1538461538461533,9.1794871794871788,9.2051282051282044,9.2307692307692299,9.2564102564102573,9.2820512820512828,9.3076923076923084,9.3333333333333339,9.3589743589743595,9.384615384615385,9.4102564102564106,9.4358974358974361,9.4615384615384617,9.4871794871794872,9.5128205128205128,9.5384615384615383,9.5641025641025639,9.5897435897435894,9.615384615384615,9.6410256410256405,9.6666666666666661,9.6923076923076916,9.7179487179487172,9.7435897435897427,9.7692307692307701,9.7948717948717956,9.8205128205128212,9.8461538461538467,9.8717948717948723,{"$f":"IF(OE7=\"\",\"\",(OE7-$C$2)*($F$3-$F$2)/($C$3-$C$2)+$F$2)","v":9.8974358974358978},9.9230769230769234,9.9487179487179489,9.9743589743589745,10]
[null,null,null,null,null,null,null,null,{"$f":"C2","v":390},{"$f":"IF(OR(I7=\"\",I7>$C$3-1),\"\",I7+1)","v":391},{"$f":"IF(OR(J7=\"\",J7>$C$3-1),\"\",J7+1)","v":392},393,394,395,396,397,398,399,400,401,402,403,404,405,406,407,408,409,410,411,412,413,414,415,416,417,418,419,420,421,422,423,424,425,426,427,428,429,430,431,432,433,434,435,436,437,438,439,440,441,442,443,444,445,446,447,448,449,450,451,452,453,454,455,{"$f":"IF(OR(BV7=\"\",BV7>$C$3-1),\"\",BV7+1)","v":456},457,458,459,460,461,462,463,464,465,466,467,468,469,470,471,472,473,474,475,476,477,478,479,480,481,482,483,484,485,486,487,488,489,490,491,492,493,494,495,496,497,498,499,500,501,502,503,504,505,506,507,508,509,510,511,512,513,514,515,516,517,518,519,{"$f":"IF(OR(EH7=\"\",EH7>$C$3-1),\"\",EH7+1)","v":520},521,522,523,524,525,526,527,528,529,530,531,532,533,534,535,536,537,538,539,540,541,542,543,544,545,546,547,548,549,550,551,552,553,554,555,556,557,558,559,560,561,562,563,564,565,566,567,568,569,570,571,572,573,574,575,576,577,578,579,580,581,582,583,{"$f":"IF(OR(GT7=\"\",GT7>$C$3-1),\"\",GT7+1)","v":584},585,586,587,588,589,590,591,592,593,594,595,596,597,598,599,600,601,602,603,604,605,606,607,608,609,610,611,612,613,614,615,616,617,618,619,620,621,622,623,624,625,626,627,628,629,630,631,632,633,634,635,636,637,638,639,640,641,642,643,644,645,646,647,{"$f":"IF(OR(JF7=\"\",JF7>$C$3-1),\"\",JF7+1)","v":648},649,650,651,652,653,654,655,656,657,658,659,660,661,662,663,664,665,666,667,668,669,670,671,672,673,674,675,676,677,678,679,680,681,682,683,684,685,686,687,688,689,690,691,692,693,694,695,696,697,698,699,700,701,702,703,704,705,706,707,708,709,710,711,{"$f":"IF(OR(LR7=\"\",LR7>$C$3-1),\"\",LR7+1)","v":712},713,714,715,716,717,718,719,720,721,722,723,724,725,726,727,728,729,730,731,732,733,734,735,736,737,738,739,740,741,742,743,744,745,746,747,748,749,750,751,752,753,754,755,756,757,758,759,760,761,762,763,764,765,766,767,768,769,770,771,772,773,774,775,{"$f":"IF(OR(OD7=\"\",OD7>$C$3-1),\"\",OD7+1)","v":776},777,{"$f":"IF(OR(OF7=\"\",OF7>$C$3-1),\"\",OF7+1)","v":778},{"$f":"IF(OR(OG7=\"\",OG7>$C$3-1),\"\",OG7+1)","v":779},{"$f":"IF(OR(OH7=\"\",OH7>$C$3-1),\"\",OH7+1)","v":780}]
[{"$f":"IF(Principal!M18=\"\",\"\",MATCH(Principal!M18,Datos!A:A,0))","v":8},{"$f":"IF(A8=\"\",\"\",INDIRECT(\"Datos!A\"&Espectros!A8,TRUE))","v":"Blue (465-480) XP-E2"},{"$f":"IF(A8=\"\",\"\",IF(INDIRECT(\"Datos!D\"&Espectros!A8,TRUE)=0,\"\",INDIRECT(\"Datos!D\"&Espectros!A8,TRUE)))","v":""},{"$f":"IF(A8=\"\",\"\",IF(INDIRECT(\"Datos!E\"&Espectros!A8,TRUE)=0,\"\",INDIRECT(\"Datos!E\"&Espectros!A8,TRUE)))","v":464},{"$f":"IF(D8=\"\",\"\",(D8-$C$2)*($F$3-$F$2) / ($C$3-$C$2)+$F$2)","v":1.8974358974358974},{"$f":"IF(AND(C8=\"\",D8=\"\"),\"\",IF(C8=\"\",1,IF(1-((6000-C8)/10000)>=0.98,0.98,1-((6500-C8)/10000))))","v":1},{"$f":"IF(C8=\"\",\"\",1-(ABS(2000-C8)/10000))","v":""},{"$f":"IF(C8=\"\",\"\",IF(C8>6500,0,ABS(6500-C8)/10000)*1.4)","v":""},{"$f":"IF($A8=\"\",\"\",IF($D8=\"\",($F8*EXP(1)^(-(((I$6-1.41)^2)/0.2)))+($G8*EXP(1)^(-(((I$6-$H8-4.52)^2)/3))),$F8*EXP(1)^(-(((I$6-$E8)^2)/0.2))))","v":1.5209966633606566E-8},{"$f":"IF($A8=\"\",\"\",IF($D8=\"\",($F8*EXP(1)^(-(((J$6-1.41)^2)/0.2)))+($G8*EXP(1)^(-(((J$6-$H8-4.52)^2)/3))),$F8*EXP(1)^(-(((J$6-$E8)^2)/0.2))))","v":2.4660077156878934E-8},3.9719637732462531E-8,6.3556621686386577E-8,1.010324787383418E-7,1.5955333626649126E-7,2.5031994188297322E-7,3.90148271200578E-7,6.0409967534634537E-7,9.2924919980473698E-7,1.4200396381961235E-6,2.1558245665424333E-6,3.2514048104242223E-6,4.8716193771801355E-6,7.2513744581796608E-6,1.072289352836234E-5,1.5752458093569511E-5,2.2989490694564215E-5,3.3331514334971142E-5,4.800930491984976E-5,6.8697426695131942E-5,9.7656284848116355E-5,1.3791280933656217E-4,1.9348784616417459E-4,2.6967920120680929E-4,3.7340995676616218E-4,5.1365203470552726E-4,7.019348573951593E-4,9.5294817863842644E-4,1.2852465212196274E-3,1.722059954944513E-3,2.2922119712446096E-3,3.0311397712986382E-3,3.9820052427092202E-3,5.1968761858911926E-3,6.7379469990854791E-3,8.6787562081501526E-3,1.1105345265789324E-2,1.4117289464913351E-2,1.7828518336399413E-2,2.2367830462197553E-2,2.7878997349657701E-2,3.4520344153598261E-2,4.2463692961709869E-2,5.1892558444811762E-2,6.299949718207852E-2,7.5982531939044973E-2,9.1040601272215554E-2,0.10836802322189601,0.12814800906558185,0.15054531793679973,0.17569820357697485,0.20370986779576356,0.23463969785452651,0.26849462285421744,0.30522097282225724,0.34469725897816889,0.38672831028333637,0.43104119612807257,0.47728333514955151,0.52502313431195435,0.57375342073743296,0.62289782337751609,0.67182013634461812,0.71983655624142273,{"$f":"IF($A8=\"\",\"\",IF($D8=\"\",($F8*EXP(1)^(-(((BV$6-1.41)^2)/0.2)))+($G8*EXP(1)^(-(((BV$6-$H8-4.52)^2)/3))),$F8*EXP(1)^(-(((BV$6-$E8)^2)/0.2))))","v":0.76623053932279861},0.81026987913198234,0.85122547032236251,0.88839110866685822,0.92110358907082146,0.94876230973008757,0.97084757649454434,0.98693682970859742,0.99671808631130876,1,0.99671808631130854,0.98693682970859742,0.97084757649454412,0.94876230973008735,0.92110358907082146,0.88839110866685822,0.85122547032236218,0.81026987913198201,0.76623053932279817,0.71983655624142273,0.67182013634461812,0.62289782337751565,0.57375342073743252,0.52502313431195391,0.47728333514955151,0.43104119612807257,0.38672831028333604,0.3446972589781685,0.30522097282225691,0.26849462285421744,0.23463969785452651,0.20370986779576333,0.17569820357697458,0.15054531793679951,0.12814800906558185,0.10836802322189568,9.1040601272215388E-2,7.5982531939044876E-2,6.299949718207852E-2,5.1892558444811762E-2,4.2463692961709702E-2,3.4520344153598184E-2,2.7878997349657642E-2,2.2367830462197553E-2,1.7828518336399413E-2,1.4117289464913314E-2,1.1105345265789305E-2,8.678756208150137E-3,6.7379469990854687E-3,5.1968761858911926E-3,3.982005242709202E-3,3.031139771298633E-3,2.2922119712446096E-3,1.722059954944513E-3,1.2852465212196274E-3,9.5294817863842047E-4,7.019348573951568E-4,5.1365203470552726E-4,3.7340995676616218E-4,2.6967920120680929E-4,1.9348784616417356E-4,1.379128093365619E-4,9.7656284848116355E-5,6.8697426695131942E-5,{"$f":"IF($A8=\"\",\"\",IF($D8=\"\",($F8*EXP(1)^(-(((EH$6-1.41)^2)/0.2)))+($G8*EXP(1)^(-(((EH$6-$H8-4.52)^2)/3))),$F8*EXP(1)^(-(((EH$6-$E8)^2)/0.2))))","v":4.800930491984976E-5},3.3331514334970959E-5,2.2989490694564089E-5,1.5752458093569511E-5,1.072289352836234E-5,7.2513744581796608E-6,4.8716193771801101E-6,3.2514048104242108E-6,2.1558245665424333E-6,1.4200396381961235E-6,9.2924919980473031E-7,6.0409967534634325E-7,3.9014827120057588E-7,2.5031994188297322E-7,1.5955333626649126E-7,1.0103247873834107E-7,6.3556621686386339E-8,3.9719637732462392E-8,2.4660077156878934E-8,1.5209966633606566E-8,9.3198037964362036E-9,5.6732243166958053E-9,3.4308191049885146E-9,2.0611536224385595E-9,1.2301769405528011E-9,7.2940624952193635E-10,4.2965122660575794E-10,2.5142433489175874E-10,1.4616494983105799E-10,8.4415821599158133E-11,4.8433866406877939E-11,2.7606993013063225E-11,1.5632691198141821E-11,8.794133836930176E-12,4.9147006500804991E-12,2.7286369014830171E-12,1.5050090232628031E-12,8.2466419195615357E-13,4.4891058806023436E-13,2.4276565104093026E-13,1.3042453763685412E-13,6.961070804620177E-14,3.6909441579424315E-14,1.9442118057122179E-14,1.0174061423345023E-14,5.2891978474199614E-15,2.731680784756661E-15,1.4015698964193434E-15,7.1440461615054987E-16,3.6175823092832748E-16,1.8198570200832879E-16,9.0949599996713398E-17,4.5155327489445029E-17,2.2272136382310586E-17,1.0913383990617753E-17,5.3125333958418297E-18,2.5691448337270296E-18,1.2342984420532802E-18,5.8911007699308718E-19,2.7932988357029781E-19,1.3157792312611518E-19,6.1573427832955678E-20,2.8625185805493533E-20,1.3220502875110503E-20,{"$f":"IF($A8=\"\",\"\",IF($D8=\"\",($F8*EXP(1)^(-(((GT$6-1.41)^2)/0.2)))+($G8*EXP(1)^(-(((GT$6-$H8-4.52)^2)/3))),$F8*EXP(1)^(-(((GT$6-$E8)^2)/0.2))))","v":6.0658590352502897E-21},2.7649121058953093E-21,1.2520308341349831E-21,5.6323987955884203E-22,2.5171926058553775E-22,1.1175942938749721E-22,4.9294286178487632E-23,2.1599995782404575E-23,9.4027616773334196E-24,4.0663229612943175E-24,1.7470003299574164E-24,7.4563928812488113E-25,3.1616169937838518E-25,1.331785890028008E-25,5.5731950070459608E-26,2.3169611265390697E-26,9.5692507157907432E-27,3.9262847864995805E-27,1.6004066198689131E-27,6.4807244890172193E-28,2.6071226144458682E-28,1.0419431708448816E-28,4.1368644060453919E-29,1.6317109123264527E-29,6.3938114882308358E-30,2.4889783285285058E-30,9.6255838332369074E-31,3.6980921120363325E-31,1.4114745304520768E-31,5.3519622975199714E-32,2.0160333995224422E-32,7.5444412015031143E-33,2.8047949158371895E-33,1.0359047461025333E-33,3.800871718023147E-34,1.3854513474149213E-34,5.0169991167617612E-35,1.8048513878454209E-35,6.4503539880181578E-36,2.2901837455648024E-36,8.0779616126179898E-37,2.8305962048023037E-37,9.8536863221809757E-38,3.4077225172631024E-38,1.1707775682133764E-38,3.9960345981479954E-39,1.3549671447888885E-39,4.56428723702955E-40,1.5274318706095814E-40,5.0780316904545852E-41,1.6771567079217968E-41,5.5029625615271004E-42,1.7937592381852336E-42,5.8086662168678242E-43,1.8686732549657633E-43,5.9722089826058882E-44,1.8961875939898984E-44,5.980979078508492E-45,1.8741655198184678E-45,5.8342936211890186E-46,1.8043188998386095E-46,5.5434864785604302E-47,1.6919883358132339E-47,5.1304612879850243E-48,{"$f":"IF($A8=\"\",\"\",IF($D8=\"\",($F8*EXP(1)^(-(((JF$6-1.41)^2)/0.2)))+($G8*EXP(1)^(-(((JF$6-$H8-4.52)^2)/3))),$F8*EXP(1)^(-(((JF$6-$E8)^2)/0.2))))","v":1.5454684484364987E-48},4.6249660515800173E-49,1.3749966286974786E-49,4.0610599006405845E-50,1.191576241591663E-50,3.4733532404420888E-51,1.0058211169745603E-51,2.893591521187313E-52,8.2698641430448348E-53,2.3480330461156618E-53,6.6229993533284361E-54,1.8558800290422253E-54,5.1664206328378864E-55,1.4288094165395942E-55,3.9255772074515173E-56,1.0714635982966881E-56,2.9053335319632848E-57,7.8263497135593194E-58,2.0944364217383728E-58,5.5682636580374789E-59,1.4706762478261318E-59,3.8588601881710567E-60,1.0058788743199612E-60,2.6048157453152507E-61,6.7012066014431344E-62,1.7126699779207989E-62,4.3484956508671816E-63,1.0968546309673738E-63,2.7485509018597712E-64,6.842316724030125E-65,1.6921826597519633E-65,4.1575356835822835E-66,1.0147741797480874E-66,2.4606367686966959E-67,5.9274826050302199E-68,1.4185274523977036E-68,3.3724838592478328E-69,7.965383545310553E-70,1.8689951883671012E-70,4.3566668587200903E-71,1.0088932088023415E-71,2.3210298364900348E-72,5.3047011952934675E-73,1.2044417644220945E-73,2.7167855891908435E-74,6.0879293156678478E-75,1.3552783971385183E-75,2.9973130751346616E-76,6.5853729975692334E-77,1.4373857230866168E-77,3.1168144824050556E-78,6.7141842882116403E-79,1.4368791390007706E-79,3.054864135130082E-80,6.4522061966564354E-81,1.3538459621620225E-81,2.8221165659160336E-82,5.8442033664508219E-83,1.2023208267516799E-83,2.4573108487686377E-84,4.9893561280891578E-85,1.0064068585917321E-85,2.0167281003159302E-86,4.0148173235822793E-87,{"$f":"IF($A8=\"\",\"\",IF($D8=\"\",($F8*EXP(1)^(-(((LR$6-1.41)^2)/0.2)))+($G8*EXP(1)^(-(((LR$6-$H8-4.52)^2)/3))),$F8*EXP(1)^(-(((LR$6-$E8)^2)/0.2))))","v":7.9401536616193303E-88},1.5600434805324454E-88,3.0450131786999732E-89,5.9045435236345672E-90,1.137439112011317E-90,2.1767806358547783E-91,4.1385275529721867E-92,7.8166688642746653E-93,1.4667032553025476E-93,2.7340564381325038E-94,5.0631101144247851E-95,9.3147659732298902E-96,1.7024375953026959E-96,3.0911147865717059E-97,5.5757557617992609E-98,9.9916457763215145E-99,1.7787503321722742E-99,3.1458472945558827E-100,5.5271971838094941E-101,9.6475482092988088E-102,1.6729140724976221E-102,2.8818740036678564E-103,4.9319767698016996E-104,8.3851673234927751E-105,1.4162734771439802E-105,2.3764418339471848E-106,3.9614295213417201E-107,6.560264599981201E-108,1.0792832999537834E-108,1.7639823518582809E-109,2.8641627516692841E-110,4.6200409721713822E-111,7.4035265746850342E-112,1.1786263064188526E-112,1.8640531814128366E-113,2.9287691754270161E-114,4.5714783723450841E-115,7.088802420363823E-116,1.0920279451399307E-116,1.6712418810547746E-117,2.5409115461506394E-118,3.8378187555539574E-119,5.7586946776038843E-120,8.5843679268874754E-121,1.2712684571713733E-121,1.8702983789375373E-122,2.7335637176200233E-123,3.9691013026402135E-124,5.7253210297909467E-125,8.2045011711691516E-126,1.1680170899043284E-126,1.6519271502046199E-127,2.3210113428862949E-128,3.2397262339877476E-129,4.4924581530926292E-130,6.1887714711948591E-131,8.4697292924496288E-132,1.1515406976036864E-132,1.555370046243615E-133,2.087049974926156E-134,2.7821250331637392E-135,3.684385949613796E-136,4.8472818047772326E-137,6.3354300220463549E-138,{"$f":"IF($A8=\"\",\"\",IF($D8=\"\",($F8*EXP(1)^(-(((OD$6-1.41)^2)/0.2)))+($G8*EXP(1)^(-(((OD$6-$H8-4.52)^2)/3))),$F8*EXP(1)^(-(((OD$6-$E8)^2)/0.2))))","v":8.2261875275166182E-139},1.0611231537463644E-139,1.3598081952599723E-140,1.7311479886221356E-141,2.1894519305642646E-142,2.7509412266244303E-143]
[{"$f":"IF(Principal!M19=\"\",\"\",MATCH(Principal!M19,Datos!A:A,0))","v":27},{"$f":"IF(A9=\"\",\"\",INDIRECT(\"Datos!A\"&Espectros!A9,TRUE))","v":"Blanco Frío (6000K) XP-G2"},{"$f":"IF(A9=\"\",\"\",IF(INDIRECT(\"Datos!D\"&Espectros!A9,TRUE)=0,\"\",INDIRECT(\"Datos!D\"&Espectros!A9,TRUE)))","v":6000},{"$f":"IF(A9=\"\",\"\",IF(INDIRECT(\"Datos!E\"&Espectros!A9,TRUE)=0,\"\",INDIRECT(\"Datos!E\"&Espectros!A9,TRUE)))","v":""},{"$f":"IF(D9=\"\",\"\",(D9-$C$2)*($F$3-$F$2) / ($C$3-$C$2)+$F$2)","v":""},{"$f":"IF(AND(C9=\"\",D9=\"\"),\"\",IF(C9=\"\",1,IF(1-((6000-C9)/10000)>=0.98,0.98,1-((6500-C9)/10000))))","v":0.98},{"$f":"IF(C9=\"\",\"\",1-(ABS(2000-C9)/10000))","v":0.6},{"$f":"IF(C9=\"\",\"\",IF(C9>6500,0,ABS(6500-C9)/10000)*1.4)","v":6.9999999999999993E-2},{"$f":"IF($A9=\"\",\"\",IF($D9=\"\",($F9*EXP(1)^(-(((I$6-1.41)^2)/0.2)))+($G9*EXP(1)^(-(((I$6-$H9-4.52)^2)/3))),$F9*EXP(1)^(-(((I$6-$E9)^2)/0.2))))","v":5.820687943140357E-4},6.4594071649616124E-4,7.2121205684283333E-4,8.1107954301359799E-4,9.1972954811675564E-4,1.0526166928398351E-3,1.2168065305003413E-3,1.4213920905297699E-3,1.6779939301287128E-3,2.0013525728743856E-3,2.4100206007237239E-3,2.9271590055400714E-3,3.5814384944571876E-3,4.408041097837944E-3,5.4497505112053434E-3,6.758111046390662E-3,8.3946249063553361E-3,1.0431945898650617E-2,1.2955014991178633E-2,1.6062069802597705E-2,1.9865446919944855E-2,2.4492083760763055E-2,3.0083616644701803E-2,3.6795965057470272E-2,4.4798290114129058E-2,5.427121929962482E-2,6.5404240921094245E-2,7.8392191361567484E-2,9.3430786829835979E-2,0.11071118901098601,0.13041364037021996,0.15270025866447903,0.1777071395123079,0.2055359779255328,0.23624548106657903,0.26984290113581522,0.30627606482075892,0.34542630967069393,0.38710275385549964,0.43103832039040502,0.47688790739532738,0.52422904095581013,0.57256526689692488,0.62133243427380225,0.6699079004483276,0.71762255082331883,0.76377538270332102,0.80765026051869526,0.84853431756327447,0.88573736623179034,0.91861159262793335,0.94657075918001499,0.96910812550724534,0.98581232584552003,0.996380510848205,1.0006281697623798,0.99849519044850132,0.99004788175300529,0.97547686584809479,0.95509093666773859,0.92930716345421382,0.8986376850479334,0.86367378142386053,0.82506791643395128,0.78351451441106856,0.7397302605179138,0.69443470052005385,0.64833186269532472,0.6020935378637664,0.55634473989735111,0.51165173669295627,0.46851289924782835,0.42735247293418921,0.38851723848463388,0.3522759076060849,0.31882099506671779,0.28827282933693094,0.26068530937775292,0.23605298615872372,0.21431904257043655,0.19538376188805978,0.17911310918963882,0.16534709788774701,0.15390767031118202,0.14460588268628441,0.13724824689797066,0.13164214062183804,0.12760025108900389,0.12494406393068928,0.12350644608040744,0.12313340013522804,0.12368508705975247,0.12503622531725914,0.12707597845056817,0.12970744105261819,0.13284682630504055,0.13642244815708562,0.14037357901190181,0.14464925057743436,0.14920705223409986,0.1540119685784008,0.15903528622868227,0.16425358984971483,0.16964785882971889,0.17520266915861984,0.18090549974107145,0.18674613849291033,0.19271618093231635,0.19880861238330161,0.20501746415274252,0.21133753392710011,0.21776416098496137,0.22429304748502354,0.2309201179413678,0.23764140994056346,0.24445299011452232,0.25135089030687929,0.25833105972483461,0.26538932963317052,0.27252138781395591,0.27972276058371232,0.28698880063444637,0.29431467935425865,0.30169538259725942,0.30912570912193316,0.31660027111226496,0.32411349634655079,0.33165963169343909,0.33923274770080419,0.34682674410678588,0.3544353561488498,0.36205216158017206,0.36967058832628841,0.377283922731317,0.38488531835411938,0.39246780528197123,0.40002429993378091,0.40754761532742678,0.41503047178697194,0.42246550806578803,0.42984529286128392,0.43716233669619292,0.44440910414039514,0.45157802634613187,0.45866151386828319,0.46565196974018558,0.47254180277429864,0.47932344105590502,0.48598934559698759,0.4925320241164563,0.4989440449120352,0.50521805078835336,0.51134677300512987,0.51732304520881012,0.52313981731058856,0.52879016927346856,0.53426732477084204,0.53956466467904052,0.54467574036640554,0.54959428674166055,0.55431423502472899,0.55882972520363927,0.56313511814179562,0.56722500730064707,0.57109423004368409,0.57473787848871072,0.57815130987648122,0.58133015642505592,0.58427033464060962,0.58696805405691899,0.58941982537735083,0.59162246799487661,0.59357311686742575,0.59526922872777899,0.59670858760915968,0.59788930966971765,0.59880984730120668,0.59946899250930785,0.5998658795552666,0.59999998685075617,0.59987113810016102,0.59947950268678007,0.59882559530176593,0.59791027481693426,0.59673474240490421,0.59530053891232515,0.59360954149423228,0.59166395951982176,0.58946632976214486,0.5870195108863816,0.58432667725345588,0.58139131205779282,0.57821719981998221,0.5748084182569958,0.57116932955439748,0.56730457106669618,0.56321904547357737,0.55891791042125682,0.55440656767957297,0.54969065184670285,0.54477601863453695,0.53966873276876171,0.53437505553859665,0.52890143203190165,0.52325447809199588,0.51744096703303755,0.51146781615117431,0.50534207306891632,0.49907090195027382,0.49266156962418323,0.48612143165357091,0.47945791838712404,0.47267852103041708,0.4657907777725081,0.45880226000346153,0.45172055865748406,0.44455327071547895,0.43730798589984204,0.429992273593234,0.42261367001188982,0.41517966566275705,0.40769769311241211,0.40017511509427423,0.39261921297916036,0.38503717563266221,0.37743608868122858,0.3698229242071886,0.36220453089125537,0.35458762461933679,0.34697877956872869,0.33938441978700717,0.33181081127516399,0.32426405458474994,0.31675007793702936,0.30927463087037926,0.30184327842043152,0.29446139583573416,0.2871341638300241,0.27986656437054769,0.27266337700025806,0.26552917569015494,0.2584683262165175,0.25148498405633279,0.24458309279281951,0.23776638302162417,0.2310383717469992,0.2244023622560859,0.21786144445830366,0.21141849567580998,0.20507618187002877,0.19883695928836387,0.19270307651440705,0.18667657690423417,0.1807593013907374,0.17495289163738578,0.16925879352232914,0.1636782609333636,0.15821235985396143,0.15286197272032864,0.14762780302929368,0.14251038017674417,0.13751006450631287,0.13262705254807508,0.12786138242714065,0.1232129394222144,0.1186814616544508,0.1142665458872385,0.10996765341791583,0.1057841160428373,0.10171514207767555,9.7759822415357481E-2,9.3917136604581078E-2,9.018595893245622E-2,8.6565064495430791E-2,8.3053135243320753E-2,7.9648765981943009E-2,7.6350470320552755E-2,7.315668655101018E-2,7.0065783446338945E-2,6.7076065967090218E-2,6.4185780864682379E-2,6.1393122171654636E-2,5.8696236569536438E-2,5.6093228625800677E-2,5.358216589213239E-2,5.1161083856998087E-2,4.8827990746248572E-2,4.6580872166222163E-2,4.4417695584536475E-2,4.2336414644461466E-2,4.0334973309452286E-2,3.8411309835089495E-2,3.6563360566316719E-2,3.4789063558489923E-2,3.3086362021349534E-2,3.1453207585599864E-2,2.9887563392324984E-2,2.8387407005990475E-2,2.6950733152269857E-2,2.5575556282398205E-2,2.4259912966187024E-2,2.3001864116241551E-2,2.1799497046294528E-2,2.065092736691793E-2,1.955430072219146E-2,1.8507794371194652E-2,1.750961861845049E-2,1.6558018097680243E-2,1.5651272913435162E-2,1.4787699645349399E-2,1.3965652219910857E-2,1.3183522654775662E-2,1.2439741680754996E-2,1.1732779246683964E-2,1.1061144912440538E-2,1.0423388135419943E-2,9.8180984557867772E-3,9.2439055858250033E-3,8.6994794086863447E-3,8.1835298918001356E-3,7.6948069201555353E-3,7.2321000545993467E-3,6.7942382202120302E-3,6.3800893297313787E-3,5.9885598468880094E-3,5.6185942944034332E-3,5.2691747112758687E-3,4.9393200638479734E-3,4.6280856150107486E-3,4.3345622557526978E-3,4.0578758031123568E-3,3.7971862684374746E-3,3.5516870996953869E-3,3.320604401418075E-3,3.1031961357022679E-3,2.8987513075207989E-3,2.7065891374367991E-3,2.5260582246479893E-3,2.3565357031246851E-3,2.1974263934431454E-3,2.048161952755586E-3,1.9082000251804219E-3,1.7770233947414569E-3,1.6541391428329894E-3,1.5390778120396723E-3,1.4313925779960927E-3,1.3306584308307736E-3,1.2364713676040837E-3,1.1484475970185719E-3,1.066222757554318E-3,9.8945115006084192E-4,9.178049857211651E-4,8.5097365019286004E-4,7.8866298462530141E-4,7.3059458415203424E-4,6.765051143620747E-4,6.2614564616405698E-4,5.7928100937249547E-4,5.356891652658146E-4,4.9516059829131864E-4,4.574977270226842E-4,4.2251433441084572E-4,3.900350173091816E-4,3.5989465519846399E-4,3.319378979862062E-4,3.0601867270834516E-4,2.8199970891880729E-4,2.5975208251404277E-4,2.391547777049996E-4,2.2009426681809458E-4,2.0246410757926697E-4,1.8616455751112096E-4,1.7110220505218548E-4,1.571896169893586E-4,1.4434500177945198E-4,1.3249188832322351E-4,1.2155881974527155E-4,1.1147906172543732E-4,1.0219032492180536E-4,9.363450102183599E-5,8.5757411956447429E-5,7.8508571811871088E-5,7.1840960975649658E-5,6.5710812056130841E-5,6.0077407119093287E-5,5.490288579057742E-5,5.0152063781492732E-5,4.5792261397007085E-5,4.1793141601977903E-5,3.812655722267203E-5,3.4766406874636168E-5]
[{"$f":"IF(Principal!M20=\"\",\"\",MATCH(Principal!M20,Datos!A:A,0))","v":24},{"$f":"IF(A10=\"\",\"\",INDIRECT(\"Datos!A\"&Espectros!A10,TRUE))","v":"Royal Blue (440-450) XT-E"},{"$f":"IF(A10=\"\",\"\",IF(INDIRECT(\"Datos!D\"&Espectros!A10,TRUE)=0,\"\",INDIRECT(\"Datos!D\"&Espectros!A10,TRUE)))","v":""},{"$f":"IF(A10=\"\",\"\",IF(INDIRECT(\"Datos!E\"&Espectros!A10,TRUE)=0,\"\",INDIRECT(\"Datos!E\"&Espectros!A10,TRUE)))","v":450},{"$f":"IF(D10=\"\",\"\",(D10-$C$2)*($F$3-$F$2) / ($C$3-$C$2)+$F$2)","v":1.5384615384615385},1,"","",7.2513744581796489E-6,1.0722893528362321E-5,1.5752458093569511E-5,2.2989490694564089E-5,3.3331514334971081E-5,4.8009304919849584E-5,6.8697426695131942E-5,9.7656284848116355E-5,1.379128093365619E-4,1.9348784616417391E-4,2.6967920120680831E-4,3.7340995676616218E-4,5.1365203470552726E-4,7.019348573951568E-4,9.5294817863842308E-4,1.2852465212196229E-3,1.722059954944513E-3,2.2922119712446096E-3,3.031139771298633E-3,3.9820052427092124E-3,5.1968761858911831E-3,6.7379469990854687E-3,8.678756208150137E-3,1.1105345265789313E-2,1.411728946491334E-2,1.7828518336399399E-2,2.2367830462197532E-2,2.7878997349657642E-2,3.4520344153598212E-2,4.2463692961709792E-2,5.1892558444811734E-2,6.2999497182078493E-2,7.5982531939044876E-2,9.1040601272215485E-2,0.10836802322189587,0.12814800906558177,0.15054531793679951,0.17569820357697458,0.20370986779576347,0.23463969785452626,0.2684946228542171,0.30522097282225691,0.3446972589781685,0.38672831028333637,0.43104119612807223,0.47728333514955107,0.52502313431195391,0.57375342073743252,0.62289782337751609,0.67182013634461768,0.71983655624142273,0.76623053932279817,0.81026987913198201,0.85122547032236251,0.88839110866685789,0.92110358907082146,0.94876230973008735,0.97084757649454412,0.98693682970859742,0.99671808631130854,1,0.99671808631130876,0.98693682970859742,0.97084757649454434,0.94876230973008757,0.92110358907082146,0.88839110866685822,0.85122547032236284,0.81026987913198234,0.76623053932279861,0.71983655624142273,0.67182013634461812,0.62289782337751609,0.57375342073743296,0.52502313431195435,0.47728333514955151,0.43104119612807257,0.38672831028333637,0.34469725897816889,0.30522097282225724,0.26849462285421771,0.23463969785452626,0.20370986779576356,0.17569820357697485,0.15054531793679973,0.12814800906558205,0.10836802322189587,9.1040601272215554E-2,7.5982531939044973E-2,6.2999497182078631E-2,5.1892558444811852E-2,4.2463692961709792E-2,3.4520344153598261E-2,2.7878997349657701E-2,2.2367830462197601E-2,1.7828518336399445E-2,1.411728946491334E-2,1.1105345265789324E-2,8.6787562081501526E-3,6.7379469990854852E-3,5.1968761858911831E-3,3.9820052427092124E-3,3.0311397712986382E-3,2.2922119712446161E-3,1.7220599549445177E-3,1.2852465212196229E-3,9.5294817863842308E-4,7.019348573951593E-4,5.1365203470552922E-4,3.7340995676616348E-4,2.6967920120680831E-4,1.9348784616417391E-4,1.3791280933656217E-4,9.7656284848116694E-5,6.8697426695132064E-5,4.8009304919849584E-5,3.3331514334971081E-5,2.2989490694564215E-5,1.5752458093569596E-5,1.0722893528362398E-5,7.2513744581796489E-6,4.8716193771801355E-6,3.2514048104242223E-6,2.1558245665424413E-6,1.420039638196126E-6,9.2924919980473349E-7,6.0409967534634537E-7,3.90148271200578E-7,2.503199418829746E-7,1.5955333626649184E-7,1.0103247873834143E-7,6.3556621686386577E-8,3.9719637732462531E-8,2.466007715687902E-8,1.5209966633606622E-8,9.3198037964362383E-9,5.6732243166958252E-9,3.4308191049885266E-9,2.0611536224385723E-9,1.2301769405528011E-9,7.2940624952194152E-10,4.2965122660576094E-10,2.5142433489176055E-10,1.4616494983105903E-10,8.4415821599157526E-11,4.8433866406877597E-11,2.7606993013062928E-11,1.563269119814204E-11,8.7941338369302374E-12,4.9147006500805346E-12,2.7286369014830563E-12,1.505009023262819E-12,8.2466419195616538E-13,4.4891058806023911E-13,2.4276565104092683E-13,1.3042453763685319E-13,6.9610708046200773E-14,3.6909441579424573E-14,1.9442118057122318E-14,1.0174061423345095E-14,5.2891978474200371E-15,2.7316807847566416E-15,1.4015698964193338E-15,7.1440461615054475E-16,3.6175823092832487E-16,1.8198570200832751E-16,9.0949599996712103E-17,4.5155327489445664E-17,2.2272136382310903E-17,1.0913383990617907E-17,5.3125333958419044E-18,2.5691448337270108E-18,1.2342984420532627E-18,5.8911007699307466E-19,2.7932988357029184E-19,1.3157792312611426E-19,6.1573427832954366E-20,2.8625185805493991E-20,1.3220502875110598E-20,6.0658590352504191E-21,2.7649121058953288E-21,1.2520308341349564E-21,5.6323987955882999E-22,2.5171926058553596E-22,1.1175942938749564E-22,4.9294286178486939E-23,2.1599995782404731E-23,9.4027616773335519E-24,4.0663229612944042E-24,1.7470003299574285E-24,7.4563928812489179E-25,3.1616169937837848E-25,1.3317858900279892E-25,5.5731950070458816E-26,2.3169611265390203E-26,9.5692507157905394E-27,3.9262847864996357E-27,1.6004066198689474E-27,6.4807244890173565E-28,2.6071226144459238E-28,1.0419431708448668E-28,4.1368644060452742E-29,1.6317109123264294E-29,6.3938114882307447E-30,2.4889783285284704E-30,9.6255838332366324E-31,3.698092112036438E-31,1.4114745304520969E-31,5.3519622975200469E-32,2.0160333995224997E-32,7.5444412015030075E-33,2.8047949158371101E-33,1.0359047461025186E-33,3.8008717180230396E-34,1.3854513474149017E-34,5.0169991167616896E-35,1.8048513878454209E-35,6.4503539880181578E-36,2.2901837455648024E-36,8.0779616126179898E-37,2.8305962048022231E-37,9.8536863221806959E-38,3.4077225172630053E-38,1.1707775682133264E-38,3.9960345981478812E-39,1.354967144788927E-39,4.564287237029745E-40,1.5274318706096249E-40,5.07803169045473E-41,1.6771567079218447E-41,5.5029625615271004E-42,1.7937592381852336E-42,5.8086662168678242E-43,1.8686732549657633E-43,5.9722089826058882E-44,1.8961875939898984E-44,5.980979078508492E-45,1.8741655198184678E-45,5.8342936211890186E-46,1.8043188998385582E-46,5.5434864785601151E-47,1.6919883358131615E-47,5.1304612879848055E-48,1.5454684484364328E-48,4.6249660515797544E-49,1.3749966286975569E-49,4.0610599006407582E-50,1.191576241591714E-50,3.4733532404422865E-51,1.0058211169745603E-51,2.893591521187313E-52,8.2698641430448348E-53,2.3480330461156618E-53,6.6229993533284361E-54,1.8558800290422253E-54,5.1664206328378864E-55,1.4288094165395942E-55,3.9255772074515173E-56,1.0714635982966881E-56,2.9053335319631195E-57,7.8263497135588737E-58,2.094436421738313E-58,5.5682636580371614E-59,1.4706762478260482E-59,3.8588601881711661E-60,1.0058788743200182E-60,2.6048157453153246E-61,6.7012066014435144E-62,1.7126699779208477E-62,4.3484956508671816E-63,1.0968546309673738E-63,2.7485509018597712E-64,6.842316724030125E-65,1.6921826597519633E-65,4.1575356835822835E-66,1.0147741797480874E-66,2.4606367686966959E-67,5.9274826050302199E-68,1.4185274523976228E-68,3.3724838592476413E-69,7.9653835453101001E-70,1.8689951883669947E-70,4.3566668587198434E-71,1.0088932088022842E-71,2.3210298364901665E-72,5.3047011952939187E-73,1.2044417644221971E-73,2.7167855891909209E-74,6.0879293156678478E-75,1.3552783971385183E-75,2.9973130751346616E-76,6.5853729975692334E-77,1.4373857230866168E-77,3.1168144824050556E-78,6.7141842882116403E-79,1.4368791390007706E-79,3.054864135130082E-80,6.4522061966564354E-81,1.3538459621619071E-81,2.8221165659157931E-82,5.8442033664506558E-83,1.2023208267515773E-83,2.4573108487685677E-84,4.9893561280890161E-85,1.0064068585916748E-85,2.0167281003157584E-86,4.0148173235819364E-87,7.9401536616188794E-88,1.5600434805324454E-88,3.0450131786999732E-89,5.9045435236345672E-90,1.137439112011317E-90,2.1767806358547783E-91,4.1385275529721867E-92,7.8166688642746653E-93,1.4667032553025476E-93,2.7340564381325038E-94,5.0631101144247851E-95,9.3147659732298902E-96,1.7024375953026959E-96,3.0911147865717059E-97,5.5757557617992609E-98,9.9916457763203791E-99,1.7787503321720722E-99,3.1458472945554361E-100,5.5271971838087086E-101,9.6475482092977127E-102,1.6729140724973843E-102,2.8818740036678564E-103,4.9319767698016996E-104,8.3851673234927751E-105,1.4162734771439802E-105,2.3764418339471848E-106,3.9614295213417201E-107,6.560264599981201E-108,1.0792832999537834E-108,1.7639823518582809E-109,2.8641627516692841E-110,4.6200409721713822E-111,7.4035265746850342E-112,1.1786263064188526E-112,1.8640531814128366E-113,2.9287691754266836E-114,4.5714783723443042E-115,7.0888024203626148E-116,1.0920279451398065E-116,1.6712418810544897E-117,2.5409115461506394E-118,3.8378187555539574E-119,5.7586946776038843E-120,8.5843679268874754E-121,1.2712684571713733E-121,1.8702983789375373E-122,2.7335637176200233E-123,3.9691013026402135E-124,5.7253210297909467E-125,8.2045011711691516E-126,1.1680170899043284E-126,1.6519271502046199E-127,2.3210113428862949E-128,3.2397262339877476E-129,4.4924581530921182E-130,6.1887714711941544E-131,8.4697292924486666E-132,1.1515406976035556E-132,1.555370046243438E-133,2.0870499749258002E-134,2.7821250331637392E-135,3.684385949613796E-136,4.8472818047772326E-137,6.3354300220463549E-138,8.2261875275166182E-139,1.0611231537463644E-139,1.3598081952599723E-140,1.7311479886221356E-141,2.1894519305642646E-142,2.7509412266244303E-143,3.4337754160748693E-144,4.2580145398463589E-145,5.2455021714571893E-146,6.4196548666806732E-147,7.8051448485923867E-148,9.4274650728744178E-149,1.1312369312468902E-149,1.3485184598230229E-150,1.5969999211812447E-151,1.8788736315588453E-152,2.196013098732586E-153,2.549863656719846E-154,2.9413294386849973E-155,3.3706608619164596E-156]
[{"$f":"IF(Principal!M21=\"\",\"\",MATCH(Principal!M21,Datos!A:A,0))","v":10},{"$f":"IF(A11=\"\",\"\",INDIRECT(\"Datos!A\"&Espectros!A11,TRUE))","v":"Green (520-525) XP-E"},{"$f":"IF(A11=\"\",\"\",IF(INDIRECT(\"Datos!D\"&Espectros!A11,TRUE)=0,\"\",INDIRECT(\"Datos!D\"&Espectros!A11,TRUE)))","v":""},{"$f":"IF(A11=\"\",\"\",IF(INDIRECT(\"Datos!E\"&Espectros!A11,TRUE)=0,\"\",INDIRECT(\"Datos!E\"&Espectros!A11,TRUE)))","v":520},{"$f":"IF(D11=\"\",\"\",(D11-$C$2)*($F$3-$F$2) / ($C$3-$C$2)+$F$2)","v":3.3333333333333335},1,"","",7.4563928812488113E-25,1.7470003299574164E-24,4.0663229612943175E-24,9.4027616773335519E-24,2.1599995782404731E-23,4.9294286178486939E-23,1.1175942938749564E-22,2.5171926058553596E-22,5.6323987955884203E-22,1.2520308341349831E-21,2.7649121058953093E-21,6.0658590352502897E-21,1.3220502875110598E-20,2.8625185805493991E-20,6.1573427832954366E-20,1.3157792312611426E-19,2.7932988357029184E-19,5.8911007699307466E-19,1.2342984420532802E-18,2.5691448337270296E-18,5.3125333958418297E-18,1.0913383990617753E-17,2.2272136382310903E-17,4.5155327489445664E-17,9.0949599996712103E-17,1.8198570200832751E-16,3.6175823092832487E-16,7.1440461615054475E-16,1.4015698964193434E-15,2.731680784756661E-15,5.2891978474199614E-15,1.0174061423345023E-14,1.9442118057122318E-14,3.6909441579424573E-14,6.9610708046200773E-14,1.3042453763685319E-13,2.4276565104092683E-13,4.4891058806022957E-13,8.2466419195615357E-13,1.5050090232628031E-12,2.7286369014830171E-12,4.9147006500805346E-12,8.7941338369302374E-12,1.563269119814204E-11,2.7606993013062928E-11,4.8433866406877597E-11,8.4415821599157526E-11,1.4616494983105642E-10,2.5142433489175874E-10,4.2965122660575794E-10,7.2940624952194152E-10,1.2301769405528011E-9,2.0611536224385595E-9,3.4308191049885146E-9,5.6732243166958053E-9,9.3198037964362383E-9,1.5209966633606513E-8,2.4660077156878759E-8,3.9719637732462392E-8,6.3556621686386339E-8,1.0103247873834143E-7,1.5955333626649041E-7,2.5031994188297232E-7,3.9014827120057588E-7,{"$f":"IF($A11=\"\",\"\",IF($D11=\"\",($F11*EXP(1)^(-(((BU$6-1.41)^2)/0.2)))+($G11*EXP(1)^(-(((BU$6-$H11-4.52)^2)/3))),$F11*EXP(1)^(-(((BU$6-$E11)^2)/0.2))))","v":6.0409967534634325E-7},9.2924919980473349E-7,1.4200396381961158E-6,2.1558245665424295E-6,3.2514048104242108E-6,4.8716193771801101E-6,7.2513744581796489E-6,1.0722893528362321E-5,1.5752458093569511E-5,2.2989490694564089E-5,3.3331514334970959E-5,4.8009304919849584E-5,6.8697426695131698E-5,9.7656284848116355E-5,1.379128093365619E-4,1.9348784616417356E-4,2.6967920120680782E-4,3.7340995676616218E-4,5.1365203470552726E-4,7.019348573951568E-4,9.5294817863842047E-4,1.2852465212196196E-3,1.722059954944513E-3,2.2922119712446096E-3,3.031139771298633E-3,3.982005242709202E-3,5.1968761858911692E-3,6.7379469990854687E-3,8.678756208150137E-3,1.1105345265789305E-2,1.4117289464913314E-2,1.7828518336399334E-2,2.2367830462197553E-2,2.7878997349657642E-2,3.4520344153598184E-2,4.2463692961709702E-2,5.1892558444811762E-2,6.299949718207852E-2,7.5982531939044876E-2,9.1040601272215388E-2,0.10836802322189568,0.12814800906558185,0.15054531793679951,0.17569820357697458,0.20370986779576333,0.23463969785452596,0.26849462285421744,0.30522097282225691,0.3446972589781685,0.38672831028333604,0.43104119612807185,0.47728333514955151,0.52502313431195391,0.57375342073743252,0.62289782337751565,0.67182013634461735,0.71983655624142273,0.76623053932279817,0.81026987913198201,0.85122547032236218,0.88839110866685755,0.92110358907082146,0.94876230973008735,0.97084757649454412,{"$f":"IF($A11=\"\",\"\",IF($D11=\"\",($F11*EXP(1)^(-(((EG$6-1.41)^2)/0.2)))+($G11*EXP(1)^(-(((EG$6-$H11-4.52)^2)/3))),$F11*EXP(1)^(-(((EG$6-$E11)^2)/0.2))))","v":0.9869368297085972},0.99671808631130854,1,0.99671808631130876,0.98693682970859742,0.97084757649454456,0.94876230973008779,0.92110358907082146,0.88839110866685822,0.85122547032236284,0.81026987913198278,0.76623053932279817,0.71983655624142273,0.67182013634461812,0.62289782337751654,0.57375342073743341,0.52502313431195391,0.47728333514955151,0.43104119612807257,0.38672831028333676,0.34469725897816922,0.30522097282225691,0.26849462285421744,0.23463969785452651,0.20370986779576389,0.17569820357697505,0.15054531793679951,0.12814800906558185,0.10836802322189601,9.1040601272215693E-2,7.5982531939045111E-2,6.2999497182078742E-2,5.189255844481195E-2,4.2463692961709702E-2,3.4520344153598184E-2,2.7878997349657642E-2,2.2367830462197553E-2,1.7828518336399413E-2,1.4117289464913377E-2,1.1105345265789343E-2,8.6787562081501752E-3,6.7379469990854974E-3,5.1968761858912161E-3,3.982005242709202E-3,3.031139771298633E-3,2.2922119712446096E-3,1.722059954944513E-3,1.2852465212196274E-3,9.5294817863842644E-4,7.0193485739516049E-4,5.1365203470553008E-4,3.7340995676616445E-4,2.696792012068107E-4,1.9348784616417356E-4,1.379128093365619E-4,9.7656284848116355E-5,6.8697426695131942E-5,4.800930491984976E-5,3.3331514334971142E-5,2.2989490694564255E-5,1.5752458093569623E-5,1.0722893528362418E-5,7.2513744581797133E-6,4.8716193771801101E-6,{"$f":"IF($A11=\"\",\"\",IF($D11=\"\",($F11*EXP(1)^(-(((GS$6-1.41)^2)/0.2)))+($G11*EXP(1)^(-(((GS$6-$H11-4.52)^2)/3))),$F11*EXP(1)^(-(((GS$6-$E11)^2)/0.2))))","v":3.2514048104242108E-6},2.1558245665424333E-6,1.4200396381961235E-6,9.2924919980473698E-7,6.0409967534634854E-7,3.9014827120057874E-7,2.5031994188297545E-7,1.5955333626649269E-7,1.0103247873834107E-7,6.3556621686386339E-8,3.9719637732462392E-8,2.4660077156878934E-8,1.5209966633606566E-8,9.3198037964362697E-9,5.6732243166958467E-9,3.4308191049885394E-9,2.0611536224385798E-9,1.23017694055281E-9,7.2940624952193635E-10,4.2965122660575794E-10,2.5142433489175874E-10,1.4616494983105799E-10,8.4415821599158133E-11,4.8433866406877939E-11,2.7606993013063225E-11,1.5632691198142208E-11,8.7941338369303311E-12,4.9147006500806041E-12,2.7286369014830171E-12,1.5050090232628031E-12,8.2466419195615357E-13,4.4891058806023436E-13,2.4276565104093026E-13,1.3042453763685412E-13,6.961070804620177E-14,3.6909441579425104E-14,1.9442118057122593E-14,1.0174061423345239E-14,5.2891978474199614E-15,2.731680784756661E-15,1.4015698964193434E-15,7.1440461615054987E-16,3.6175823092832748E-16,1.8198570200832879E-16,9.0949599996713398E-17,4.515532748944599E-17,2.2272136382311064E-17,1.0913383990617753E-17,5.3125333958418297E-18,2.5691448337270296E-18,1.2342984420532802E-18,5.8911007699308718E-19,2.7932988357029781E-19,1.3157792312611518E-19,6.1573427832955678E-20,2.862518580549455E-20,1.3220502875110879E-20,6.0658590352502897E-21,2.7649121058953093E-21,1.2520308341349831E-21,5.6323987955884203E-22,2.5171926058553775E-22,1.1175942938749721E-22,4.9294286178487632E-23,{"$f":"IF($A11=\"\",\"\",IF($D11=\"\",($F11*EXP(1)^(-(((JE$6-1.41)^2)/0.2)))+($G11*EXP(1)^(-(((JE$6-$H11-4.52)^2)/3))),$F11*EXP(1)^(-(((JE$6-$E11)^2)/0.2))))","v":2.1599995782405037E-23},9.4027616773337532E-24,4.0663229612944336E-24,1.7470003299574164E-24,7.4563928812488113E-25,3.1616169937838518E-25,1.331785890028008E-25,5.5731950070459608E-26,2.3169611265390697E-26,9.5692507157907432E-27,3.9262847864997197E-27,1.6004066198689701E-27,6.4807244890174489E-28,2.6071226144458682E-28,1.0419431708448816E-28,4.1368644060453919E-29,1.6317109123264527E-29,6.3938114882308358E-30,2.4889783285285058E-30,9.6255838332369074E-31,3.6980921120364901E-31,1.4114745304521372E-31,5.3519622975199714E-32,2.0160333995224422E-32,7.5444412015031143E-33,2.8047949158371895E-33,1.0359047461025333E-33,3.800871718023147E-34,1.3854513474149213E-34,5.0169991167617612E-35,1.8048513878454663E-35,6.4503539880181578E-36,2.2901837455648024E-36,8.0779616126179898E-37,2.8305962048023037E-37,9.8536863221809757E-38,3.4077225172631024E-38,1.1707775682133764E-38,3.9960345981479954E-39,1.3549671447889847E-39,4.5642872370298747E-40,1.5274318706096899E-40,5.0780316904545852E-41,1.6771567079217968E-41,5.5029625615271004E-42,1.7937592381852336E-42,5.8086662168678242E-43,1.8686732549657633E-43,5.9722089826058882E-44,1.8961875939898984E-44,5.980979078508492E-45,1.8741655198184678E-45,5.8342936211890186E-46,1.8043188998386095E-46,5.5434864785604302E-47,1.6919883358132339E-47,5.1304612879850243E-48,1.5454684484364987E-48,4.6249660515800173E-49,1.374996628697596E-49,4.0610599006409315E-50,1.1915762415917646E-50,3.473353240442385E-51,1.0058211169746603E-51,{"$f":"IF($A11=\"\",\"\",IF($D11=\"\",($F11*EXP(1)^(-(((LQ$6-1.41)^2)/0.2)))+($G11*EXP(1)^(-(((LQ$6-$H11-4.52)^2)/3))),$F11*EXP(1)^(-(((LQ$6-$E11)^2)/0.2))))","v":2.8935915211875593E-52},8.2698641430456591E-53,2.3480330461156618E-53,6.6229993533284361E-54,1.8558800290422253E-54,5.1664206328378864E-55,1.4288094165395942E-55,3.9255772074515173E-56,1.0714635982966881E-56,2.9053335319632848E-57,7.8263497135593194E-58,2.0944364217383728E-58,5.5682636580374789E-59,1.4706762478261318E-59,3.8588601881713861E-60,1.0058788743200469E-60,2.6048157453154728E-61,6.7012066014437044E-62,1.7126699779209448E-62,4.348495650867553E-63,1.0968546309674673E-63,2.748550901860006E-64,6.842316724030125E-65,1.6921826597519633E-65,4.1575356835822835E-66,1.0147741797480874E-66,2.4606367686966959E-67,5.9274826050302199E-68,1.4185274523977036E-68,3.3724838592478328E-69,7.965383545310553E-70,1.8689951883671012E-70,4.3566668587200903E-71,1.0088932088023415E-71,2.3210298364902323E-72,5.3047011952940701E-73,1.2044417644222315E-73,2.7167855891910752E-74,6.0879293156685399E-75,1.3552783971386724E-75,2.9973130751350022E-76,6.5853729975692334E-77,1.4373857230866168E-77,3.1168144824050556E-78,6.7141842882116403E-79,1.4368791390007706E-79,3.054864135130082E-80,6.4522061966564354E-81,1.3538459621620225E-81,2.8221165659160336E-82,5.8442033664508219E-83,1.2023208267516799E-83,2.4573108487686377E-84,4.9893561280891578E-85,1.0064068585917321E-85,2.0167281003159302E-86,4.0148173235822793E-87,7.9401536616193303E-88,1.5600434805326229E-88,3.0450131787003192E-89,5.9045435236354061E-90,1.137439112011317E-90,2.1767806358547783E-91,4.1385275529721867E-92,{"$f":"IF($A11=\"\",\"\",IF($D11=\"\",($F11*EXP(1)^(-(((OC$6-1.41)^2)/0.2)))+($G11*EXP(1)^(-(((OC$6-$H11-4.52)^2)/3))),$F11*EXP(1)^(-(((OC$6-$E11)^2)/0.2))))","v":7.8166688642746653E-93},1.4667032553025476E-93,2.7340564381325038E-94,5.0631101144247851E-95,9.3147659732298902E-96,1.7024375953026959E-96,3.0911147865717059E-97]
[{"$f":"IF(Principal!M22=\"\",\"\",MATCH(Principal!M22,Datos!A:A,0))","v":23},{"$f":"IF(A12=\"\",\"\",INDIRECT(\"Datos!A\"&Espectros!A12,TRUE))","v":"UV (410-420) Semiled"},{"$f":"IF(A12=\"\",\"\",IF(INDIRECT(\"Datos!D\"&Espectros!A12,TRUE)=0,\"\",INDIRECT(\"Datos!D\"&Espectros!A12,TRUE)))","v":""},{"$f":"IF(A12=\"\",\"\",IF(INDIRECT(\"Datos!E\"&Espectros!A12,TRUE)=0,\"\",INDIRECT(\"Datos!E\"&Espectros!A12,TRUE)))","v":420},0.76923076923076927,1,"","",5.1892558444811734E-2,6.299949718207852E-2,7.5982531939044945E-2,9.1040601272215554E-2,0.10836802322189587,0.12814800906558177,0.15054531793679951,0.17569820357697469,0.20370986779576356,0.23463969785452626,0.26849462285421727,0.30522097282225691,0.34469725897816866,0.38672831028333626,0.43104119612807229,0.4772833351495514,0.52502313431195391,0.57375342073743274,0.62289782337751609,0.67182013634461779,0.71983655624142262,0.76623053932279817,0.81026987913198212,0.85122547032236251,0.88839110866685811,0.92110358907082146,0.94876230973008735,0.97084757649454412,0.98693682970859742,0.99671808631130876,1,0.99671808631130876,0.98693682970859742,0.97084757649454434,0.94876230973008735,0.92110358907082146,0.88839110866685811,0.85122547032236273,0.81026987913198234,0.7662305393227985,0.71983655624142306,0.6718201363446179,0.62289782337751631,0.57375342073743274,0.52502313431195413,0.47728333514955168,0.43104119612807246,0.38672831028333654,0.34469725897816866,0.30522097282225708,0.26849462285421727,0.23463969785452635,0.20370986779576369,0.17569820357697469,0.15054531793679965,0.12814800906558177,0.10836802322189591,9.1040601272215596E-2,7.5982531939044945E-2,6.2999497182078604E-2,5.1892558444811734E-2,4.2463692961709827E-2,3.4520344153598274E-2,2.7878997349657663E-2,2.2367830462197581E-2,1.7828518336399399E-2,1.4117289464913351E-2,1.1105345265789334E-2,8.6787562081501457E-3,6.7379469990854791E-3,5.1968761858911926E-3,3.9820052427092202E-3,3.031139771298633E-3,2.2922119712446096E-3,1.722059954944513E-3,1.2852465212196274E-3,9.5294817863842644E-4,7.019348573951568E-4,5.1365203470552726E-4,3.7340995676616218E-4,2.6967920120680929E-4,1.9348784616417356E-4,1.379128093365619E-4,9.7656284848116355E-5,6.8697426695131942E-5,4.800930491984976E-5,3.3331514334970959E-5,2.2989490694564089E-5,1.5752458093569511E-5,1.072289352836234E-5,7.2513744581796608E-6,4.8716193771801101E-6,3.2514048104242108E-6,2.1558245665424333E-6,1.4200396381961235E-6,9.2924919980473698E-7,6.0409967534634325E-7,3.9014827120057588E-7,2.5031994188297322E-7,1.5955333626649126E-7,1.0103247873834107E-7,6.3556621686386339E-8,3.9719637732462392E-8,2.4660077156878934E-8,1.5209966633606566E-8,9.3198037964362036E-9,5.6732243166958053E-9,3.4308191049885146E-9,2.0611536224385595E-9,1.2301769405528011E-9,7.2940624952193635E-10,4.2965122660575794E-10,2.5142433489175874E-10,1.4616494983105799E-10,8.4415821599158133E-11,4.8433866406877597E-11,2.7606993013062928E-11,1.563269119814204E-11,8.7941338369302374E-12,4.9147006500805346E-12,2.7286369014830171E-12,1.5050090232628031E-12,8.2466419195615357E-13,4.4891058806023436E-13,2.4276565104093026E-13,1.3042453763685319E-13,6.9610708046200773E-14,3.6909441579424573E-14,1.9442118057122318E-14,1.0174061423345095E-14,5.2891978474199614E-15,2.731680784756661E-15,1.4015698964193434E-15,7.1440461615054987E-16,3.6175823092832748E-16,1.8198570200832751E-16,9.0949599996712103E-17,4.5155327489445664E-17,2.2272136382310903E-17,1.0913383990617753E-17,5.3125333958418297E-18,2.5691448337270296E-18,1.2342984420532802E-18,5.8911007699308718E-19,2.7932988357029184E-19,1.3157792312611426E-19,6.1573427832954366E-20,2.8625185805493991E-20,1.3220502875110598E-20,6.0658590352502897E-21,2.7649121058953093E-21,1.2520308341349831E-21,5.6323987955884203E-22,2.5171926058553775E-22,1.1175942938749564E-22,4.9294286178486939E-23,2.1599995782404731E-23,9.4027616773335519E-24,4.0663229612944042E-24,1.7470003299574285E-24,7.4563928812489179E-25,3.1616169937837848E-25,1.3317858900279892E-25,5.5731950070458816E-26,2.3169611265390203E-26,9.5692507157905394E-27,3.9262847864996357E-27,1.6004066198689474E-27,6.4807244890173565E-28,2.6071226144459238E-28,1.0419431708448963E-28,4.1368644060452742E-29,1.6317109123264294E-29,6.3938114882307447E-30,2.4889783285284704E-30,9.6255838332366324E-31,3.698092112036438E-31,1.4114745304520969E-31,5.3519622975200469E-32,2.0160333995224997E-32,7.5444412015032224E-33,2.8047949158371101E-33,1.0359047461025186E-33,3.8008717180230396E-34,1.3854513474149017E-34,5.0169991167616896E-35,1.8048513878454209E-35,6.4503539880181578E-36,2.2901837455648024E-36,8.0779616126179898E-37,2.8305962048023037E-37,9.8536863221806959E-38,3.4077225172630053E-38,1.1707775682133264E-38,3.9960345981478812E-39,1.354967144788927E-39,4.564287237029745E-40,1.5274318706096249E-40,5.07803169045473E-41,1.6771567079218447E-41,5.5029625615271004E-42,1.7937592381852336E-42,5.8086662168678242E-43,1.8686732549657633E-43,5.9722089826058882E-44,1.8961875939898984E-44,5.980979078508492E-45,1.8741655198184678E-45,5.8342936211890186E-46,1.8043188998386095E-46,5.5434864785601151E-47,1.6919883358131615E-47,5.1304612879848055E-48,1.5454684484364328E-48,4.6249660515797544E-49,1.3749966286975569E-49,4.0610599006407582E-50,1.191576241591714E-50,3.4733532404422865E-51,1.0058211169746175E-51,2.893591521187313E-52,8.2698641430448348E-53,2.3480330461156618E-53,6.6229993533284361E-54,1.8558800290422253E-54,5.1664206328378864E-55,1.4288094165395942E-55,3.9255772074515173E-56,1.0714635982966881E-56,2.9053335319632848E-57,7.8263497135588737E-58,2.094436421738313E-58,5.5682636580371614E-59,1.4706762478260482E-59,3.8588601881711661E-60,1.0058788743200182E-60,2.6048157453153246E-61,6.7012066014435144E-62,1.7126699779208477E-62,4.3484956508671816E-63,1.0968546309673738E-63,2.7485509018597712E-64,6.842316724030125E-65,1.6921826597519633E-65,4.1575356835822835E-66,1.0147741797480874E-66,2.4606367686966959E-67,5.9274826050302199E-68,1.4185274523977036E-68,3.3724838592476413E-69,7.9653835453101001E-70,1.8689951883669947E-70,4.3566668587198434E-71,1.0088932088022842E-71,2.3210298364901665E-72,5.3047011952939187E-73,1.2044417644221971E-73,2.7167855891909209E-74,6.0879293156683671E-75,1.3552783971385183E-75,2.9973130751346616E-76,6.5853729975692334E-77,1.4373857230866168E-77,3.1168144824050556E-78,6.7141842882116403E-79,1.4368791390007706E-79,3.054864135130082E-80,6.4522061966564354E-81,1.3538459621620225E-81,2.8221165659157931E-82,5.8442033664506558E-83,1.2023208267515773E-83,2.4573108487685677E-84,4.9893561280890161E-85,1.0064068585916748E-85,2.0167281003157584E-86,4.0148173235819364E-87,7.9401536616188794E-88,1.5600434805324454E-88,3.0450131786999732E-89,5.9045435236345672E-90,1.137439112011317E-90,2.1767806358547783E-91,4.1385275529721867E-92,7.8166688642746653E-93,1.4667032553025476E-93,2.7340564381325038E-94,5.0631101144247851E-95,9.3147659732296257E-96,1.702437595302599E-96,3.0911147865715302E-97,5.5757557617989438E-98,9.9916457763212302E-99,1.7787503321721226E-99,3.1458472945556147E-100,5.52719718380918E-101,9.6475482092982599E-102,1.6729140724974793E-102,2.8818740036678564E-103,4.9319767698016996E-104,8.3851673234927751E-105,1.4162734771439802E-105,2.3764418339471848E-106,3.9614295213417201E-107,6.560264599981201E-108,1.0792832999537834E-108,1.7639823518582809E-109,2.8641627516692841E-110,4.6200409721709885E-111,7.4035265746846141E-112,1.1786263064187857E-112,1.8640531814127308E-113,2.9287691754270161E-114,4.5714783723445648E-115,7.0888024203630183E-116,1.0920279451398684E-116,1.6712418810545847E-117,2.5409115461509282E-118,3.8378187555541759E-119,5.7586946776042111E-120,8.5843679268884506E-121,1.2712684571715177E-121,1.8702983789373247E-122,2.733563717619713E-123,3.9691013026399876E-124,5.7253210297906213E-125,8.2045011711686872E-126,1.1680170899041957E-126,1.6519271502044323E-127,2.3210113428861627E-128,3.2397262339875637E-129,4.4924581530923737E-130,6.1887714711948591E-131,8.4697292924491471E-132,1.151540697603621E-132,1.5553700462435266E-133,2.0870499749260373E-134,2.7821250331638974E-135,3.6843859496140052E-136,4.8472818047775085E-137,6.3354300220467153E-138,8.2261875275170851E-139,1.0611231537463644E-139,1.3598081952599723E-140,1.7311479886221356E-141,2.1894519305642646E-142,2.7509412266244303E-143,3.4337754160748693E-144,4.2580145398463589E-145,5.2455021714571893E-146,6.4196548666806732E-147,7.8051448485937161E-148,9.4274650728754892E-149,1.1312369312470829E-149,1.3485184598231762E-150,1.596999921181517E-151,1.8788736315591656E-152,2.1960130987330846E-153,2.5498636567201359E-154,2.9413294386854991E-155,3.3706608619170346E-156,3.8373474591470065E-157,4.3400213852223852E-158,4.876377200003878E-159,5.443113527221318E-160,6.0359018761432859E-161,6.6493872662288017E-162,7.2772243122635785E-163,7.9121511297231425E-164,8.546101852163492E-165,9.1703567825240487E-166,9.7757273173155204E-167,1.0352770891653963E-167,1.0892029408714198E-168,1.1384283055809433E-169,1.1820810181103241E-170,1.2193643104663974E-171,1.2495809437053961E-172,1.2721548720089625E-173,1.2866494995876658E-174,1.2927817223755996E-175,1.2904311236919064E-176,1.2796439066199898E-177,1.2606313837086463E-178,1.2337630929639898E-179,1.1995548534146385E-180,1.1586522995616528E-181,1.1118106288132781E-182,1.0598714488109592E-183,1.0037377145682563E-184,9.4434779415112088E-186]
[{"$f":"IF(Principal!M23=\"\",\"\",MATCH(Principal!M23,Datos!A:A,0))","v":15},{"$f":"IF(A13=\"\",\"\",INDIRECT(\"Datos!A\"&Espectros!A13,TRUE))","v":"Photo Red (650-665) XP-E2"},{"$f":"IF(A13=\"\",\"\",IF(INDIRECT(\"Datos!D\"&Espectros!A13,TRUE)=0,\"\",INDIRECT(\"Datos!D\"&Espectros!A13,TRUE)))","v":""},{"$f":"IF(A13=\"\",\"\",IF(INDIRECT(\"Datos!E\"&Espectros!A13,TRUE)=0,\"\",INDIRECT(\"Datos!E\"&Espectros!A13,TRUE)))","v":660},6.9230769230769234,1,"","",8.3851673234927751E-105,4.9319767698016996E-104,2.8818740036678564E-103,1.6729140724973843E-102,9.6475482092977127E-102,5.5271971838087086E-101,3.1458472945556147E-100,1.7787503321721226E-99,9.9916457763212302E-99,5.5757557617989438E-98,3.0911147865715302E-97,1.702437595302599E-96,9.3147659732296257E-96,5.0631101144243527E-95,2.7340564381322707E-94,1.4667032553025476E-93,7.8166688642746653E-93,4.1385275529721867E-92,2.1767806358547783E-91,1.137439112011317E-90,5.9045435236345672E-90,3.0450131786999732E-89,1.5600434805324454E-88,7.9401536616182018E-88,4.0148173235818225E-87,2.0167281003157584E-86,1.0064068585916748E-85,4.9893561280890161E-85,2.4573108487685677E-84,1.2023208267515773E-83,5.8442033664506558E-83,2.8221165659157931E-82,1.3538459621619071E-81,6.4522061966562528E-81,3.054864135130082E-80,1.4368791390007706E-79,6.7141842882116403E-79,3.1168144824050556E-78,1.4373857230866168E-77,6.5853729975692334E-77,2.9973130751346616E-76,1.3552783971385183E-75,6.0879293156678478E-75,2.7167855891908435E-74,1.2044417644220945E-73,5.3047011952934675E-73,2.3210298364901665E-72,1.0088932088022842E-71,4.3566668587198434E-71,1.8689951883669947E-70,7.9653835453101001E-70,3.3724838592476413E-69,1.4185274523976228E-68,5.9274826050302199E-68,2.4606367686966959E-67,1.0147741797480874E-66,4.1575356835822835E-66,1.6921826597519633E-65,6.842316724030125E-65,2.7485509018597712E-64,1.0968546309673738E-63,4.3484956508671816E-63,1.7126699779207989E-62,6.7012066014431344E-62,2.6048157453152507E-61,1.0058788743200182E-60,3.8588601881711661E-60,1.4706762478260482E-59,5.5682636580371614E-59,2.094436421738313E-58,7.8263497135588737E-58,2.9053335319631195E-57,1.0714635982966881E-56,3.9255772074515173E-56,1.4288094165395942E-55,5.1664206328378864E-55,1.8558800290422253E-54,6.6229993533284361E-54,2.3480330461156618E-53,8.2698641430448348E-53,2.893591521187313E-52,1.0058211169745603E-51,3.4733532404420888E-51,1.191576241591663E-50,4.0610599006405845E-50,1.3749966286974786E-49,4.6249660515797544E-49,1.5454684484364328E-48,5.1304612879848055E-48,1.6919883358131615E-47,5.5434864785601151E-47,1.8043188998386095E-46,5.8342936211890186E-46,1.8741655198184678E-45,5.980979078508492E-45,1.8961875939898984E-44,5.9722089826058882E-44,1.8686732549657633E-43,5.8086662168678242E-43,1.7937592381852336E-42,5.5029625615271004E-42,1.6771567079217968E-41,5.0780316904545852E-41,1.5274318706095814E-40,4.56428723702955E-40,1.354967144788927E-39,3.9960345981478812E-39,1.1707775682133264E-38,3.4077225172630053E-38,9.8536863221806959E-38,2.8305962048023037E-37,8.0779616126179898E-37,2.2901837455648024E-36,6.4503539880181578E-36,1.8048513878454209E-35,5.0169991167616896E-35,1.3854513474149017E-34,3.8008717180230396E-34,1.0359047461025186E-33,2.8047949158371101E-33,7.5444412015031143E-33,2.0160333995224422E-32,5.3519622975199714E-32,1.4114745304520768E-31,3.6980921120363325E-31,9.6255838332366324E-31,2.4889783285284704E-30,6.3938114882307447E-30,1.6317109123264294E-29,4.1368644060452742E-29,1.0419431708448816E-28,2.6071226144458682E-28,6.4807244890172193E-28,1.6004066198689131E-27,3.9262847864995805E-27,9.5692507157905394E-27,2.3169611265390203E-26,5.5731950070458816E-26,1.3317858900279892E-25,3.1616169937838518E-25,7.4563928812488113E-25,1.7470003299574164E-24,4.0663229612943175E-24,9.4027616773334196E-24,2.1599995782404731E-23,4.9294286178486939E-23,1.1175942938749564E-22,2.5171926058553596E-22,5.6323987955882999E-22,1.2520308341349831E-21,2.7649121058953093E-21,6.0658590352502897E-21,1.3220502875110503E-20,2.8625185805493533E-20,6.1573427832954366E-20,1.3157792312611426E-19,2.7932988357029184E-19,5.8911007699307466E-19,1.2342984420532627E-18,2.5691448337270108E-18,5.3125333958417542E-18,1.0913383990617907E-17,2.2272136382310903E-17,4.5155327489445664E-17,9.0949599996712103E-17,1.8198570200832751E-16,3.6175823092832487E-16,7.1440461615054475E-16,1.4015698964193338E-15,2.7316807847566416E-15,5.2891978474199243E-15,1.0174061423345095E-14,1.9442118057122318E-14,3.6909441579424573E-14,6.9610708046200773E-14,1.3042453763685319E-13,2.4276565104092683E-13,4.4891058806022957E-13,8.2466419195614478E-13,1.5050090232627871E-12,2.728636901482988E-12,4.9147006500805346E-12,8.7941338369302374E-12,1.563269119814204E-11,2.7606993013062928E-11,4.8433866406877597E-11,8.4415821599157526E-11,1.4616494983105642E-10,2.5142433489175605E-10,4.2965122660575334E-10,7.294062495219286E-10,1.2301769405528011E-9,2.0611536224385595E-9,3.4308191049885146E-9,5.6732243166958053E-9,9.3198037964362036E-9,1.520996663360646E-8,2.4660077156878673E-8,3.9719637732462107E-8,6.3556621686385889E-8,1.010324787383418E-7,1.5955333626649126E-7,2.5031994188297322E-7,3.9014827120057588E-7,6.0409967534634325E-7,9.2924919980473031E-7,1.4200396381961107E-6,2.1558245665424184E-6,3.2514048104241824E-6,4.8716193771800838E-6,7.2513744581796608E-6,1.072289352836234E-5,1.5752458093569511E-5,2.2989490694564089E-5,3.3331514334970959E-5,4.8009304919849421E-5,6.8697426695131454E-5,9.7656284848115826E-5,1.3791280933656095E-4,1.934878461641722E-4,2.6967920120680929E-4,3.7340995676616218E-4,5.1365203470552726E-4,7.019348573951568E-4,9.5294817863842047E-4,1.2852465212196196E-3,1.7220599549445052E-3,2.2922119712445975E-3,3.0311397712986196E-3,3.9820052427091811E-3,5.1968761858911926E-3,6.7379469990854687E-3,8.678756208150137E-3,1.1105345265789305E-2,1.4117289464913314E-2,1.7828518336399334E-2,2.236783046219747E-2,2.7878997349657542E-2,3.4520344153598066E-2,4.2463692961709869E-2,5.1892558444811762E-2,6.299949718207852E-2,7.5982531939044876E-2,9.1040601272215388E-2,0.10836802322189568,0.12814800906558152,0.15054531793679909,0.17569820357697413,0.20370986779576286,0.23463969785452651,0.26849462285421744,0.30522097282225691,0.3446972589781685,0.38672831028333604,0.43104119612807185,0.47728333514955068,0.52502313431195302,0.57375342073743174,0.62289782337751487,0.67182013634461812,0.71983655624142273,0.76623053932279817,0.81026987913198201,0.85122547032236218,0.88839110866685755,0.92110358907082113,0.94876230973008691,0.97084757649454367,0.98693682970859697,0.99671808631130876,1,0.99671808631130876,0.98693682970859742,0.97084757649454456,0.94876230973008779,0.92110358907082202,0.88839110866685878,0.85122547032236351,0.81026987913198201,0.76623053932279817,0.71983655624142273,0.67182013634461812,0.62289782337751654,0.57375342073743341,0.5250231343119548,0.47728333514955218,0.4310411961280734,0.38672831028333754,0.3446972589781685,0.30522097282225691,0.26849462285421744,0.23463969785452651,0.20370986779576389,0.17569820357697505,0.15054531793679993,0.12814800906558221,0.10836802322189634,9.1040601272215971E-2,7.5982531939044876E-2,6.299949718207852E-2,5.1892558444811762E-2,4.2463692961709869E-2,3.4520344153598309E-2,2.7878997349657736E-2,2.236783046219764E-2,1.7828518336399476E-2,1.4117289464913427E-2,1.1105345265789391E-2,8.678756208150137E-3,6.7379469990854687E-3,5.1968761858911926E-3,3.9820052427092202E-3,3.0311397712986464E-3,2.29221197124462E-3,1.7220599549445238E-3,1.2852465212196333E-3,9.5294817863843077E-4,7.0193485739516483E-4,5.1365203470553279E-4,3.7340995676616646E-4,2.6967920120681216E-4,1.9348784616417668E-4,1.3791280933656095E-4,9.7656284848115826E-5,6.8697426695131454E-5,4.8009304919849421E-5,3.3331514334970959E-5,2.2989490694564089E-5,1.5752458093569511E-5,1.072289352836234E-5,7.2513744581796608E-6,4.8716193771801533E-6,3.2514048104242341E-6,2.1558245665424489E-6,1.4200396381961309E-6,9.2924919980474334E-7,6.0409967534635183E-7,3.9014827120058212E-7,2.5031994188297725E-7,1.5955333626649353E-7,1.0103247873834324E-7,6.3556621686387927E-8,3.9719637732462107E-8,2.4660077156878673E-8,1.520996663360646E-8,9.3198037964362036E-9,5.6732243166958053E-9,3.4308191049885146E-9,2.0611536224385595E-9,1.2301769405528011E-9,7.2940624952194152E-10,4.2965122660576094E-10,2.5142433489176055E-10,1.4616494983105903E-10,8.4415821599159038E-11,4.8433866406878456E-11,2.7606993013063416E-11,1.5632691198142318E-11,8.7941338369304555E-12,4.9147006500806388E-12,2.7286369014831043E-12,1.5050090232627871E-12,8.2466419195614478E-13,4.4891058806022957E-13,2.4276565104092683E-13,1.3042453763685319E-13,6.9610708046200773E-14,3.6909441579424573E-14,1.9442118057122318E-14,1.0174061423345095E-14,5.2891978474200371E-15,2.7316807847567E-15,1.4015698964193633E-15,7.1440461615055993E-16,3.6175823092833261E-16,1.8198570200833138E-16,9.094959999671468E-17,4.5155327489446625E-17,2.2272136382311381E-17,1.091338399061814E-17,5.3125333958420554E-18,2.5691448337270108E-18,1.2342984420532627E-18,5.8911007699307466E-19,2.7932988357029184E-19,1.3157792312611426E-19,6.1573427832954366E-20,2.8625185805493991E-20,1.3220502875110598E-20,6.0658590352504191E-21,2.7649121058953288E-21]
[{"$f":"IF(Principal!M24=\"\",\"\",MATCH(Principal!M24,Datos!A:A,0))","v":22},{"$f":"IF(A14=\"\",\"\",INDIRECT(\"Datos!A\"&Espectros!A14,TRUE))","v":"UV (405-410) Semiled"},{"$f":"IF(A14=\"\",\"\",IF(INDIRECT(\"Datos!D\"&Espectros!A14,TRUE)=0,\"\",INDIRECT(\"Datos!D\"&Espectros!A14,TRUE)))","v":""},{"$f":"IF(A14=\"\",\"\",IF(INDIRECT(\"Datos!E\"&Espectros!A14,TRUE)=0,\"\",INDIRECT(\"Datos!E\"&Espectros!A14,TRUE)))","v":410},0.51282051282051277,1,"","",0.26849462285421744,0.30522097282225708,0.34469725897816877,0.38672831028333648,0.43104119612807246,0.47728333514955151,0.52502313431195413,0.57375342073743296,0.6228978233775162,0.67182013634461801,0.71983655624142273,0.7662305393227985,0.81026987913198234,0.85122547032236273,0.88839110866685811,0.92110358907082168,0.94876230973008735,0.97084757649454434,0.98693682970859742,0.99671808631130876,1,0.99671808631130876,0.98693682970859742,0.97084757649454412,0.94876230973008735,0.92110358907082146,0.88839110866685811,0.85122547032236251,0.81026987913198212,0.76623053932279817,0.71983655624142262,0.6718201363446179,0.62289782337751609,0.57375342073743274,0.52502313431195391,0.47728333514955129,0.43104119612807223,0.38672831028333637,0.34469725897816866,0.30522097282225691,0.26849462285421744,0.23463969785452626,0.20370986779576356,0.17569820357697458,0.15054531793679951,0.12814800906558185,0.10836802322189587,9.1040601272215554E-2,7.5982531939044876E-2,6.299949718207852E-2,5.18925584448117E-2,4.2463692961709792E-2,3.4520344153598261E-2,2.7878997349657642E-2,2.2367830462197553E-2,1.7828518336399382E-2,1.411728946491334E-2,1.1105345265789324E-2,8.678756208150137E-3,6.7379469990854687E-3,5.1968761858911831E-3,3.9820052427092124E-3,3.0311397712986382E-3,2.2922119712446096E-3,1.722059954944513E-3,1.2852465212196229E-3,9.5294817863842308E-4,7.019348573951593E-4,5.1365203470552726E-4,3.7340995676616218E-4,2.6967920120680831E-4,1.9348784616417391E-4,1.379128093365619E-4,9.7656284848116355E-5,6.8697426695131942E-5,4.8009304919849584E-5,3.3331514334971081E-5,2.2989490694564089E-5,1.5752458093569511E-5,1.072289352836234E-5,7.2513744581796608E-6,4.8716193771801101E-6,3.2514048104242108E-6,2.1558245665424333E-6,1.4200396381961235E-6,9.2924919980473698E-7,6.0409967534634325E-7,3.9014827120057588E-7,2.5031994188297322E-7,1.5955333626649126E-7,1.010324787383418E-7,6.3556621686386339E-8,3.9719637732462392E-8,2.4660077156878934E-8,1.5209966633606566E-8,9.3198037964362697E-9,5.6732243166958053E-9,3.4308191049885146E-9,2.0611536224385595E-9,1.2301769405528011E-9,7.2940624952193635E-10,4.2965122660575794E-10,2.5142433489175874E-10,1.4616494983105799E-10,8.4415821599158133E-11,4.8433866406877597E-11,2.7606993013062928E-11,1.563269119814204E-11,8.7941338369302374E-12,4.9147006500805346E-12,2.7286369014830171E-12,1.5050090232628031E-12,8.2466419195615357E-13,4.4891058806023436E-13,2.4276565104093026E-13,1.3042453763685319E-13,6.9610708046200773E-14,3.6909441579424573E-14,1.9442118057122318E-14,1.0174061423345095E-14,5.2891978474199614E-15,2.731680784756661E-15,1.4015698964193434E-15,7.1440461615054987E-16,3.6175823092832748E-16,1.8198570200832751E-16,9.0949599996712103E-17,4.5155327489445664E-17,2.2272136382310903E-17,1.0913383990617907E-17,5.3125333958418297E-18,2.5691448337270296E-18,1.2342984420532802E-18,5.8911007699308718E-19,2.7932988357029781E-19,1.3157792312611426E-19,6.1573427832954366E-20,2.8625185805493991E-20,1.3220502875110598E-20,6.0658590352502897E-21,2.7649121058953093E-21,1.2520308341349831E-21,5.6323987955884203E-22,2.5171926058553775E-22,1.1175942938749564E-22,4.9294286178486939E-23,2.1599995782404731E-23,9.4027616773335519E-24,4.0663229612944042E-24,1.7470003299574164E-24,7.4563928812488113E-25,3.1616169937838518E-25,1.331785890028008E-25,5.5731950070459608E-26,2.3169611265390203E-26,9.5692507157905394E-27,3.9262847864996357E-27,1.6004066198689474E-27,6.4807244890173565E-28,2.6071226144459238E-28,1.0419431708448963E-28,4.1368644060452742E-29,1.6317109123264294E-29,6.3938114882307447E-30,2.4889783285284704E-30,9.6255838332366324E-31,3.698092112036438E-31,1.4114745304520969E-31,5.3519622975200469E-32,2.0160333995224997E-32,7.5444412015032224E-33,2.8047949158371101E-33,1.0359047461025186E-33,3.8008717180230396E-34,1.3854513474149017E-34,5.0169991167616896E-35,1.8048513878454209E-35,6.4503539880181578E-36,2.2901837455648024E-36,8.0779616126179898E-37,2.8305962048023037E-37,9.8536863221806959E-38,3.4077225172630053E-38,1.1707775682133264E-38,3.9960345981478812E-39,1.354967144788927E-39,4.564287237029745E-40,1.5274318706096249E-40,5.07803169045473E-41,1.6771567079218447E-41,5.5029625615272565E-42,1.7937592381852336E-42,5.8086662168678242E-43,1.8686732549657633E-43,5.9722089826058882E-44,1.8961875939898984E-44,5.980979078508492E-45,1.8741655198184678E-45,5.8342936211890186E-46,1.8043188998386095E-46,5.5434864785601151E-47,1.6919883358131615E-47,5.1304612879848055E-48,1.5454684484364328E-48,4.6249660515797544E-49,1.3749966286975569E-49,4.0610599006407582E-50,1.191576241591714E-50,3.4733532404422865E-51,1.0058211169746175E-51,2.893591521187313E-52,8.2698641430448348E-53,2.3480330461156618E-53,6.6229993533284361E-54,1.8558800290422253E-54,5.1664206328378864E-55,1.4288094165395942E-55,3.9255772074515173E-56,1.0714635982966881E-56,2.9053335319632848E-57,7.8263497135588737E-58,2.094436421738313E-58,5.5682636580371614E-59,1.4706762478260482E-59,3.8588601881711661E-60,1.0058788743200182E-60,2.6048157453153246E-61,6.7012066014435144E-62,1.7126699779208477E-62,4.3484956508674283E-63,1.0968546309673738E-63,2.7485509018597712E-64,6.842316724030125E-65,1.6921826597519633E-65,4.1575356835822835E-66,1.0147741797480874E-66,2.4606367686966959E-67,5.9274826050302199E-68,1.4185274523977036E-68,3.3724838592476413E-69,7.9653835453101001E-70,1.8689951883669947E-70,4.3566668587198434E-71,1.0088932088022842E-71,2.3210298364901665E-72,5.3047011952939187E-73,1.2044417644221971E-73,2.7167855891909209E-74,6.0879293156683671E-75,1.3552783971385183E-75,2.9973130751346616E-76,6.5853729975692334E-77,1.4373857230866168E-77,3.1168144824050556E-78,6.7141842882116403E-79,1.4368791390007706E-79,3.054864135130082E-80,6.4522061966564354E-81,1.3538459621620225E-81,2.8221165659157931E-82,5.8442033664506558E-83,1.2023208267515773E-83,2.4573108487685677E-84,4.9893561280890161E-85,1.0064068585916748E-85,2.0167281003157584E-86,4.0148173235819364E-87,7.9401536616188794E-88,1.5600434805325341E-88,3.0450131786999732E-89,5.9045435236345672E-90,1.137439112011317E-90,2.1767806358547783E-91,4.1385275529721867E-92,7.8166688642746653E-93,1.4667032553025476E-93,2.7340564381325038E-94,5.0631101144247851E-95,9.3147659732296257E-96,1.702437595302599E-96,3.0911147865715302E-97,5.5757557617989438E-98,9.9916457763212302E-99,1.7787503321721226E-99,3.1458472945556147E-100,5.52719718380918E-101,9.6475482092982599E-102,1.6729140724974793E-102,2.8818740036678564E-103,4.9319767698016996E-104,8.3851673234927751E-105,1.4162734771439802E-105,2.3764418339471848E-106,3.9614295213417201E-107,6.560264599981201E-108,1.0792832999537834E-108,1.7639823518582809E-109,2.8641627516692841E-110,4.6200409721709885E-111,7.4035265746846141E-112,1.1786263064187857E-112,1.8640531814127308E-113,2.9287691754270161E-114,4.5714783723445648E-115,7.0888024203630183E-116,1.0920279451398684E-116,1.6712418810545847E-117,2.5409115461509282E-118,3.8378187555539574E-119,5.7586946776038843E-120,8.5843679268874754E-121,1.2712684571713733E-121,1.8702983789375373E-122,2.7335637176200233E-123,3.9691013026402135E-124,5.7253210297909467E-125,8.2045011711691516E-126,1.1680170899043284E-126,1.6519271502046199E-127,2.3210113428862949E-128,3.2397262339877476E-129,4.4924581530926292E-130,6.1887714711941544E-131,8.4697292924486666E-132,1.1515406976035556E-132,1.555370046243438E-133,2.0870499749258002E-134,2.7821250331637392E-135,3.684385949613796E-136,4.8472818047772326E-137,6.3354300220463549E-138,8.2261875275166182E-139,1.0611231537463644E-139,1.3598081952599723E-140,1.7311479886221356E-141,2.1894519305642646E-142,2.7509412266244303E-143,3.4337754160748693E-144,4.2580145398463589E-145,5.2455021714571893E-146,6.4196548666806732E-147,7.8051448485937161E-148,9.4274650728744178E-149,1.1312369312468902E-149,1.3485184598230229E-150,1.5969999211812447E-151,1.8788736315588453E-152,2.196013098732586E-153,2.549863656719846E-154,2.9413294386849973E-155,3.3706608619164596E-156,3.8373474591470065E-157,4.3400213852223852E-158,4.876377200003878E-159,5.443113527221318E-160,6.0359018761432859E-161,6.6493872662288017E-162,7.2772243122635785E-163,7.9121511297231425E-164,8.546101852163492E-165,9.1703567825240487E-166,9.7757273173144089E-167,1.0352770891652786E-167,1.0892029408712341E-168,1.1384283055807491E-169,1.1820810181101224E-170,1.2193643104661202E-171,1.2495809437051831E-172,1.2721548720087458E-173,1.2866494995874463E-174,1.2927817223754529E-175,1.2904311236919064E-176,1.2796439066199898E-177,1.2606313837086463E-178,1.2337630929639898E-179,1.1995548534146385E-180,1.1586522995616528E-181,1.1118106288132781E-182,1.0598714488109592E-183,1.0037377145682563E-184,9.4434779415112088E-186,8.8264969544545181E-187,8.1957642811403766E-188,7.5602337006783229E-189,6.9282836523494264E-190,6.3075510949435149E-191,5.704801958606403E-192,5.1258399997872382E-193,4.5754540374689371E-194,4.0574018809941603E-195,3.5744278344761802E-196]
[{"$f":"IF(Principal!M25=\"\",\"\",MATCH(Principal!M25,Datos!A:A,0))","v":""},{"$f":"IF(A15=\"\",\"\",INDIRECT(\"Datos!A\"&Espectros!A15,TRUE))","v":""},{"$f":"IF(A15=\"\",\"\",IF(INDIRECT(\"Datos!D\"&Espectros!A15,TRUE)=0,\"\",INDIRECT(\"Datos!D\"&Espectros!A15,TRUE)))","v":""},{"$f":"IF(A15=\"\",\"\",IF(INDIRECT(\"Datos!E\"&Espectros!A15,TRUE)=0,\"\",INDIRECT(\"Datos!E\"&Espectros!A15,TRUE)))","v":""},"","","","","","","","","","","","","","","","","","","","","","","","","","","","","","","","","","","","","","","","","","","","","","","","","","","","","","","","","","","","","","","","","","","",{"$f":"IF($A15=\"\",\"\",IF($D15=\"\",($F15*EXP(1)^(-(((BT$6-1.41)^2)/0.2)))+($G15*EXP(1)^(-(((BT$6-$H15-4.52)^2)/3))),$F15*EXP(1)^(-(((BT$6-$E15)^2)/0.2))))","v":""},"","","","","","","","","","","","","","","","","","","","","","","","","","","","","","","","","","","","","","","","","","","","","","","","","","","","","","","","","","","","","","","",{"$f":"IF($A15=\"\",\"\",IF($D15=\"\",($F15*EXP(1)^(-(((EF$6-1.41)^2)/0.2)))+($G15*EXP(1)^(-(((EF$6-$H15-4.52)^2)/3))),$F15*EXP(1)^(-(((EF$6-$E15)^2)/0.2))))","v":""},"","","","","","","","","","","","","","","","","","","","","","","","","","","","","","","","","","","","","","","","","","","","","","","","","","","","","","","","","","","","","","","",{"$f":"IF($A15=\"\",\"\",IF($D15=\"\",($F15*EXP(1)^(-(((GR$6-1.41)^2)/0.2)))+($G15*EXP(1)^(-(((GR$6-$H15-4.52)^2)/3))),$F15*EXP(1)^(-(((GR$6-$E15)^2)/0.2))))","v":""},"","","","","","","","","","","","","","","","","","","","","","","","","","","","","","","","","","","","","","","","","","","","","","","","","","","","","","","","","","","","","","","",{"$f":"IF($A15=\"\",\"\",IF($D15=\"\",($F15*EXP(1)^(-(((JD$6-1.41)^2)/0.2)))+($G15*EXP(1)^(-(((JD$6-$H15-4.52)^2)/3))),$F15*EXP(1)^(-(((JD$6-$E15)^2)/0.2))))","v":""},"","","","","","","","","","","","","","","","","","","","","","","","","","","","","","","","","","","","","","","","","","","","","","","","","","","","","","","","","","","","","","","",{"$f":"IF($A15=\"\",\"\",IF($D15=\"\",($F15*EXP(1)^(-(((LP$6-1.41)^2)/0.2)))+($G15*EXP(1)^(-(((LP$6-$H15-4.52)^2)/3))),$F15*EXP(1)^(-(((LP$6-$E15)^2)/0.2))))","v":""},"","","","","","","","","","","","","","","","","","","","","","","","","","","","","","","","","","","","","","","","","","","","","","","","","","","","","","","","","","","","","","","",{"$f":"IF($A15=\"\",\"\",IF($D15=\"\",($F15*EXP(1)^(-(((OB$6-1.41)^2)/0.2)))+($G15*EXP(1)^(-(((OB$6-$H15-4.52)^2)/3))),$F15*EXP(1)^(-(((OB$6-$E15)^2)/0.2))))","v":""},"","","","","","",""]
[{"$f":"IF(Principal!M26=\"\",\"\",MATCH(Principal!M26,Datos!A:A,0))","v":""},{"$f":"IF(A16=\"\",\"\",INDIRECT(\"Datos!A\"&Espectros!A16,TRUE))","v":""},{"$f":"IF(A16=\"\",\"\",IF(INDIRECT(\"Datos!D\"&Espectros!A16,TRUE)=0,\"\",INDIRECT(\"Datos!D\"&Espectros!A16,TRUE)))","v":""},{"$f":"IF(A16=\"\",\"\",IF(INDIRECT(\"Datos!E\"&Espectros!A16,TRUE)=0,\"\",INDIRECT(\"Datos!E\"&Espectros!A16,TRUE)))","v":""},"","","","","","","","","","","","","","","","","","","","",{"$f":"IF($A16=\"\",\"\",IF($D16=\"\",($F16*EXP(1)^(-(((Y$6-1.41)^2)/0.2)))+($G16*EXP(1)^(-(((Y$6-$H16-4.52)^2)/3))),$F16*EXP(1)^(-(((Y$6-$E16)^2)/0.2))))","v":""},"","","","","","","","","","","","","","","",{"$f":"IF($A16=\"\",\"\",IF($D16=\"\",($F16*EXP(1)^(-(((AO$6-1.41)^2)/0.2)))+($G16*EXP(1)^(-(((AO$6-$H16-4.52)^2)/3))),$F16*EXP(1)^(-(((AO$6-$E16)^2)/0.2))))","v":""},"","","","","","","","","","","","","","","",{"$f":"IF($A16=\"\",\"\",IF($D16=\"\",($F16*EXP(1)^(-(((BE$6-1.41)^2)/0.2)))+($G16*EXP(1)^(-(((BE$6-$H16-4.52)^2)/3))),$F16*EXP(1)^(-(((BE$6-$E16)^2)/0.2))))","v":""},"","","","","","","","","","","","","","","","","","","","","","","","","","","","","","",{"$f":"IF($A16=\"\",\"\",IF($D16=\"\",($F16*EXP(1)^(-(((CJ$6-1.41)^2)/0.2)))+($G16*EXP(1)^(-(((CJ$6-$H16-4.52)^2)/3))),$F16*EXP(1)^(-(((CJ$6-$E16)^2)/0.2))))","v":""},"","","","","","","","","","","","","","","",{"$f":"IF($A16=\"\",\"\",IF($D16=\"\",($F16*EXP(1)^(-(((CZ$6-1.41)^2)/0.2)))+($G16*EXP(1)^(-(((CZ$6-$H16-4.52)^2)/3))),$F16*EXP(1)^(-(((CZ$6-$E16)^2)/0.2))))","v":""},"","","","","","","","","","","","","","","",{"$f":"IF($A16=\"\",\"\",IF($D16=\"\",($F16*EXP(1)^(-(((DP$6-1.41)^2)/0.2)))+($G16*EXP(1)^(-(((DP$6-$H16-4.52)^2)/3))),$F16*EXP(1)^(-(((DP$6-$E16)^2)/0.2))))","v":""},"","","","","","","","","","","","","","","","","","","","","","","","","","","","","","","",{"$f":"IF($A16=\"\",\"\",IF($D16=\"\",($F16*EXP(1)^(-(((EV$6-1.41)^2)/0.2)))+($G16*EXP(1)^(-(((EV$6-$H16-4.52)^2)/3))),$F16*EXP(1)^(-(((EV$6-$E16)^2)/0.2))))","v":""},"","","","","","","","","","","","","","","",{"$f":"IF($A16=\"\",\"\",IF($D16=\"\",($F16*EXP(1)^(-(((FL$6-1.41)^2)/0.2)))+($G16*EXP(1)^(-(((FL$6-$H16-4.52)^2)/3))),$F16*EXP(1)^(-(((FL$6-$E16)^2)/0.2))))","v":""},"","","","","","","","","","","","","","","",{"$f":"IF($A16=\"\",\"\",IF($D16=\"\",($F16*EXP(1)^(-(((GB$6-1.41)^2)/0.2)))+($G16*EXP(1)^(-(((GB$6-$H16-4.52)^2)/3))),$F16*EXP(1)^(-(((GB$6-$E16)^2)/0.2))))","v":""},"","","","","","","","","","","","","","","","","","","","","","","","","","","","","","","",{"$f":"IF($A16=\"\",\"\",IF($D16=\"\",($F16*EXP(1)^(-(((HH$6-1.41)^2)/0.2)))+($G16*EXP(1)^(-(((HH$6-$H16-4.52)^2)/3))),$F16*EXP(1)^(-(((HH$6-$E16)^2)/0.2))))","v":""},"","","","","","","","","","","","","","","",{"$f":"IF($A16=\"\",\"\",IF($D16=\"\",($F16*EXP(1)^(-(((HX$6-1.41)^2)/0.2)))+($G16*EXP(1)^(-(((HX$6-$H16-4.52)^2)/3))),$F16*EXP(1)^(-(((HX$6-$E16)^2)/0.2))))","v":""},"","","","","","","","","","","","","","","",{"$f":"IF($A16=\"\",\"\",IF($D16=\"\",($F16*EXP(1)^(-(((IN$6-1.41)^2)/0.2)))+($G16*EXP(1)^(-(((IN$6-$H16-4.52)^2)/3))),$F16*EXP(1)^(-(((IN$6-$E16)^2)/0.2))))","v":""},"","","","","","","","","","","","","","","","","","","","","","","","","","","","","","","",{"$f":"IF($A16=\"\",\"\",IF($D16=\"\",($F16*EXP(1)^(-(((JT$6-1.41)^2)/0.2)))+($G16*EXP(1)^(-(((JT$6-$H16-4.52)^2)/3))),$F16*EXP(1)^(-(((JT$6-$E16)^2)/0.2))))","v":""},"","","","","","","","","","","","","","","",{"$f":"IF($A16=\"\",\"\",IF($D16=\"\",($F16*EXP(1)^(-(((KJ$6-1.41)^2)/0.2)))+($G16*EXP(1)^(-(((KJ$6-$H16-4.52)^2)/3))),$F16*EXP(1)^(-(((KJ$6-$E16)^2)/0.2))))","v":""},"","","","","","","","","","","","","","","",{"$f":"IF($A16=\"\",\"\",IF($D16=\"\",($F16*EXP(1)^(-(((KZ$6-1.41)^2)/0.2)))+($G16*EXP(1)^(-(((KZ$6-$H16-4.52)^2)/3))),$F16*EXP(1)^(-(((KZ$6-$E16)^2)/0.2))))","v":""},"","","","","","","","","","","","","","","","","","","","","","","","","","","","","","","",{"$f":"IF($A16=\"\",\"\",IF($D16=\"\",($F16*EXP(1)^(-(((MF$6-1.41)^2)/0.2)))+($G16*EXP(1)^(-(((MF$6-$H16-4.52)^2)/3))),$F16*EXP(1)^(-(((MF$6-$E16)^2)/0.2))))","v":""},"","","","","","","","","","","","","","","",{"$f":"IF($A16=\"\",\"\",IF($D16=\"\",($F16*EXP(1)^(-(((MV$6-1.41)^2)/0.2)))+($G16*EXP(1)^(-(((MV$6-$H16-4.52)^2)/3))),$F16*EXP(1)^(-(((MV$6-$E16)^2)/0.2))))","v":""},"","","","","","","","","","","","","","","",{"$f":"IF($A16=\"\",\"\",IF($D16=\"\",($F16*EXP(1)^(-(((NL$6-1.41)^2)/0.2)))+($G16*EXP(1)^(-(((NL$6-$H16-4.52)^2)/3))),$F16*EXP(1)^(-(((NL$6-$E16)^2)/0.2))))","v":""},"","","","","","","","","","","","","","","","","","","","","","",""]
[{"$f":"IF(Principal!M27=\"\",\"\",MATCH(Principal!M27,Datos!A:A,0))","v":""},{"$f":"IF(A17=\"\",\"\",INDIRECT(\"Datos!A\"&Espectros!A17,TRUE))","v":""},{"$f":"IF(A17=\"\",\"\",IF(INDIRECT(\"Datos!D\"&Espectros!A17,TRUE)=0,\"\",INDIRECT(\"Datos!D\"&Espectros!A17,TRUE)))","v":""},{"$f":"IF(A17=\"\",\"\",IF(INDIRECT(\"Datos!E\"&Espectros!A17,TRUE)=0,\"\",INDIRECT(\"Datos!E\"&Espectros!A17,TRUE)))","v":""},"","","","","","","","","","","","","","","","","","","","","","","","","","","","","","","","","","","","","","","","","","","","","","","","","","","","","","","","","","","","","","","","","","","","","","","","","","","","","","","","","","","","","","","","","","","","","","","","","","","","","","","","","","","","","","","","","","","","","","","","","","","","","","","","","","","","","","","","","","","","","","","","","","","","","","","","","","","","","","","","","","","","","","","","","","","","","","","","","","","","","","","","","","","","","","","","","","","","","","","","","","","","","","","","","","","","","","","","","","","","","","","","","","","","","","","","","","","","","","","","","","","","","","","","","","","","","","","","","","","","","","","","","","","","","","","","","","","","","","","","","","","","","","","","","","","","","","","","","","","","","","","","","","","","","","","","","","","","","","","","","","","","","","","","","","","","","","","","","","","","","","","","","","","","","","","","","","","","","","","","","","","","","","","","","","","","","","","","","","","","","","","","","","","","","","","","","","",""]
[{"$f":"IF(Principal!M28=\"\",\"\",MATCH(Principal!M28,Datos!A:A,0))","v":""},{"$f":"IF(A18=\"\",\"\",INDIRECT(\"Datos!A\"&Espectros!A18,TRUE))","v":""},{"$f":"IF(A18=\"\",\"\",IF(INDIRECT(\"Datos!D\"&Espectros!A18,TRUE)=0,\"\",INDIRECT(\"Datos!D\"&Espectros!A18,TRUE)))","v":""},{"$f":"IF(A18=\"\",\"\",IF(INDIRECT(\"Datos!E\"&Espectros!A18,TRUE)=0,\"\",INDIRECT(\"Datos!E\"&Espectros!A18,TRUE)))","v":""},"","",{"$f":"IF(C18=\"\",\"\",1-(ABS(2000-C18)/10000))","v":""},"","","","","","","","","","","","","","","","","","","","","","","","","","","","","","","","","","","","","","","","","","","","","","","","","","","","","","","","","","","","","","","","","","","","","","","","","","","","","","","","","","","","","","","","","","","","","","","","","","","","","","","","","","","","","","","","","","","","","","","","","","","","","","","","","","","","","","","","","","","","","","","","","","","","","","","","","","","","","","","","","","","","","","","","","","","","","","","","","","","","","","","","","","","","","","","","","","","","","","","","","","","","","","","","","","","","","","","","","","","","","","","","","","","","","","","","","","","","","","","","","","","","","","","","","","","","","","","","","","","","","","","","","","","","","","","","","","","","","","","","","","","","","","","","","","","","","","","","","","","","","","","","","","","","","","","","","","","","","","","","","","","","","","","","","","","","","","","","","","","","","","","","","","","","","","","","","","","","","","","","","","","","","","","","","","","","","","","","","","","","","","","","","","","","","","","",""]
[{"$f":"IF(Principal!M29=\"\",\"\",MATCH(Principal!M29,Datos!A:A,0))","v":""},{"$f":"IF(A19=\"\",\"\",INDIRECT(\"Datos!A\"&Espectros!A19,TRUE))","v":""},{"$f":"IF(A19=\"\",\"\",IF(INDIRECT(\"Datos!D\"&Espectros!A19,TRUE)=0,\"\",INDIRECT(\"Datos!D\"&Espectros!A19,TRUE)))","v":""},{"$f":"IF(A19=\"\",\"\",IF(INDIRECT(\"Datos!E\"&Espectros!A19,TRUE)=0,\"\",INDIRECT(\"Datos!E\"&Espectros!A19,TRUE)))","v":""},"","","","","","","","","","","","","","","","","","","","","","","","","","","","","","","","","","","","","","","","","","","","","","","","","","","","","","","","","","","","","","","","","","","","","","","","","","","","","","","","","","","","","","","","","","","","","","","","","","","","","","","","","","","","","","","","","","","","","","","","","","","","","","","","","","","","","","","","","","","","","","","","","","","","","","","","","","","","","","","","","","","","","","","","","","","","","","","","","","","","","","","","","","","","","","","","","","","","","","","","","","","","","","","","","","","","","","","","","","","","","","","","","","","","","","","","","","","","","","","","","","","","","","","","","","","","","","","","","","","","","","","","","","","","","","","","","","","","","","","","","","","","","","","","","","","","","","","","","","","","","","","","","","","","","","","","","","","","","","","","","","","","","","","","","","","","","","","","","","","","","","","","","","","","","","","","","","","","","","","","","","","","","","","","","","","","","","","","","","","","","","","","","","","","","","","","","","",""]
[{"$f":"IF(Principal!M30=\"\",\"\",MATCH(Principal!M30,Datos!A:A,0))","v":""},{"$f":"IF(A20=\"\",\"\",INDIRECT(\"Datos!A\"&Espectros!A20,TRUE))","v":""},{"$f":"IF(A20=\"\",\"\",IF(INDIRECT(\"Datos!D\"&Espectros!A20,TRUE)=0,\"\",INDIRECT(\"Datos!D\"&Espectros!A20,TRUE)))","v":""},{"$f":"IF(A20=\"\",\"\",IF(INDIRECT(\"Datos!E\"&Espectros!A20,TRUE)=0,\"\",INDIRECT(\"Datos!E\"&Espectros!A20,TRUE)))","v":""},"","","","","","","","","","","","","","","","","","","","","","","","","","","","","","","","","","","","","","","","","","","","","","","","","","","","","","","","","","","","","","","","","","","","","","","","","","","","","","","","","","","","","","","","","","","","","","","","","","","","","","","","","","","","","","","","","","","","","","","","","","","","","","","","","","","","","","","","","","","","","","","","","","","","","","","","","","","","","","","","","","","","","","","","","","","","","","","","","","","","","","","","","","","","","","","","","","","","","","","","","","","","","","","","","","","","","","","","","","","","","","","","","","","","","","","","","","","","","","","","","","","","","","","","","","","","","","","","","","","","","","","","","","","","","","","","","","","","","","","","","","","","","","","","","","","","","","","","","","","","","","","","","","","","","","","","","","","","","","","","","","","","","","","","","","","","","","","","","","","","","","","","","","","","","","","","","","","","","","","","","","","","","","","","","","","","","","","","","","","","","","","","","","","","","","","","","","",""]
[{"$f":"IF(Principal!M31=\"\",\"\",MATCH(Principal!M31,Datos!A:A,0))","v":""},null,{"$f":"IF(A21=\"\",\"\",IF(INDIRECT(\"Datos!D\"&Espectros!A21,TRUE)=0,\"\",INDIRECT(\"Datos!D\"&Espectros!A21,TRUE)))","v":""},{"$f":"IF(A21=\"\",\"\",IF(INDIRECT(\"Datos!E\"&Espectros!A21,TRUE)=0,\"\",INDIRECT(\"Datos!E\"&Espectros!A21,TRUE)))","v":""},null,null,null,null,"","","","","","","","","","","","","","","","","","","","","","","","","","","","","","","","","","","","","","","","","","","","","","","","","","","","","","","","","","","","","","","","","","","","","","","","","","","","","","","","","","","","","","","","","","","","","","","","","","","","","","","","","","","","","","","","","","","","","","","","","","","","","","","","","","","","","","","","","","","","","","","","","","","","","","","","","","","","","","","","","","","","","","","","","","","","","","","","","","","","","","","","","","","","","","","","","","","","","","","","","","","","","","","","","","","","","","","","","","","","","","","","","","","","","","","","","","","","","","","","","","","","","","","","","","","","","","","","","","","","","","","","","","","","","","","","","","","","","","","","","","","","","","","","","","","","","","","","","","","","","","","","","","","","","","","","","","","","","","","","","","","","","","","","","","","","","","","","","","","","","","","","","","","","","","","","","","","","","","","","","","","","","","","","","","","","","","","","","","","","","","","","","","","","","","",""]
[{"$f":"IF(Principal!M32=\"\",\"\",MATCH(Principal!M32,Datos!A:A,0))","v":""},null,{"$f":"IF(A22=\"\",\"\",IF(INDIRECT(\"Datos!D\"&Espectros!A22,TRUE)=0,\"\",INDIRECT(\"Datos!D\"&Espectros!A22,TRUE)))","v":""},{"$f":"IF(A22=\"\",\"\",IF(INDIRECT(\"Datos!E\"&Espectros!A22,TRUE)=0,\"\",INDIRECT(\"Datos!E\"&Espectros!A22,TRUE)))","v":""},null,null,null,null,"","","","","","","","","","","","","","","","","","","","","","","","","","","","","","","","","","","","","","","","","","","","","","","","","","","","","","","","","","","","","","","","","","","","","","","","","","","","","","","","","","","","","","","","","","","","","","","","","","","","","","","","","","","","","","","","","","","","","","","","","","","","","","","","","","","","","","","","","","","","","","","","","","","","","","","","","","","","","","","","","","","","","","","","","","","","","","","","","","","","","","","","","","","","","","","","","","","","","","","","","","","","","","","","","","","","","","","","","","","","","","","","","","","","","","","","","","","","","","","","","","","","","","","","","","","","","","","","","","","","","","","","","","","","","","","","","","","","","","","","","","","","","","","","","","","","","","","","","","","","","","","","","","","","","","","","","","","","","","","","","","","","","","","","","","","","","","","","","","","","","","","","","","","","","","","","","","","","","","","","","","","","","","","","","","","","","","","","","","","","","","","","","","","","","","",""]
[{"$f":"IF(Principal!M33=\"\",\"\",MATCH(Principal!M33,Datos!A:A,0))","v":""},null,{"$f":"IF(A23=\"\",\"\",IF(INDIRECT(\"Datos!D\"&Espectros!A23,TRUE)=0,\"\",INDIRECT(\"Datos!D\"&Espectros!A23,TRUE)))","v":""},{"$f":"IF(A23=\"\",\"\",IF(INDIRECT(\"Datos!E\"&Espectros!A23,TRUE)=0,\"\",INDIRECT(\"Datos!E\"&Espectros!A23,TRUE)))","v":""},null,null,null,null,"","","","","","","","","","","","","","","","","","","","","","","","","","","","","","","","","","","","","","","","","","","","","","","","","","","","","","","","","","","","","","","","","","","","","","","","","","","","","","","","","","","","","","","","","","","","","","","","","","","","","","","","","","","","","","","","","","","","","","","","","","","","","","","","","","","","","","","","","","","","","","","","","","","","","","","","","","","","","","","","","","","","","","","","","","","","","","","","","","","","","","","","","","","","","","","","","","","","","","","","","","","","","","","","","","","","","","","","","","","","","","","","","","","","","","","","","","","","","","","","","","","","","","","","","","","","","","","","","","","","","","","","","","","","","","","","","","","","","","","","","","","","","","","","","","","","","","","","","","","","","","","","","","","","","","","","","","","","","","","","","","","","","","","","","","","","","","","","","","","","","","","","","","","","","","","","","","","","","","","","","","","","","","","","","","","","","","","","","","","","","","","","","","","","","","",""]
[{"$f":"IF(Principal!M34=\"\",\"\",MATCH(Principal!M34,Datos!A:A,0))","v":""},null,{"$f":"IF(A24=\"\",\"\",IF(INDIRECT(\"Datos!D\"&Espectros!A24,TRUE)=0,\"\",INDIRECT(\"Datos!D\"&Espectros!A24,TRUE)))","v":""},{"$f":"IF(A24=\"\",\"\",IF(INDIRECT(\"Datos!E\"&Espectros!A24,TRUE)=0,\"\",INDIRECT(\"Datos!E\"&Espectros!A24,TRUE)))","v":""},null,null,null,null,"","","","","","","","","","","","","","","","","","","","","","","","","","","","","","","","","","","","","","","","","","","","","","","","","","","","","","","","","","","","","","","","","","","","","","","","","","","","","","","","","","","","","","","","","","","","","","","","","","","","","","","","","","","","","","","","","","","","","","","","","","","","","","","","","","","","","","","","","","","","","","","","","","","","","","","","","","","","","","","","","","","","","","","","","","","","","","","","","","","","","","","","","","","","","","","","","","","","","","","","","","","","","","","","","","","","","","","","","","","","","","","","","","","","","","","","","","","","","","","","","","","","","","","","","","","","","","","","","","","","","","","","","","","","","","","","","","","","","","","","","","","","","","","","","","","","","","","","","","","","","","","","","","","","","","","","","","","","","","","","","","","","","","","","","","","","","","","","","","","","","","","","","","","","","","","","","","","","","","","","","","","","","","","","","","","","","","","","","","","","","","","","","","","","","","",""]
[{"$f":"IF(Principal!M35=\"\",\"\",MATCH(Principal!M35,Datos!A:A,0))","v":""},null,{"$f":"IF(A25=\"\",\"\",IF(INDIRECT(\"Datos!D\"&Espectros!A25,TRUE)=0,\"\",INDIRECT(\"Datos!D\"&Espectros!A25,TRUE)))","v":""},{"$f":"IF(A25=\"\",\"\",IF(INDIRECT(\"Datos!E\"&Espectros!A25,TRUE)=0,\"\",INDIRECT(\"Datos!E\"&Espectros!A25,TRUE)))","v":""},null,null,null,null,"","","","","","","","","","","","","","","","","","","","","","","","","","","","","","","","","","","","","","","","","","","","","","","","","","","","","","","","","","","","","","","","","","","","","","","","","","","","","","","","","","","","","","","","","","","","","","","","","","","","","","","","","","","","","","","","","","","","","","","","","","","","","","","","","","","","","","","","","","","","","","","","","","","","","","","","","","","","","","","","","","","","","","","","","","","","","","","","","","","","","","","","","","","","","","","","","","","","","","","","","","","","","","","","","","","","","","","","","","","","","","","","","","","","","","","","","","","","","","","","","","","","","","","","","","","","","","","","","","","","","","","","","","","","","","","","","","","","","","","","","","","","","","","","","","","","","","","","","","","","","","","","","","","","","","","","","","","","","","","","","","","","","","","","","","","","","","","","","","","","","","","","","","","","","","","","","","","","","","","","","","","","","","","","","","","","","","","","","","","","","","","","","","","","","","",""]
[{"$f":"IF(Principal!M36=\"\",\"\",MATCH(Principal!M36,Datos!A:A,0))","v":""},null,{"$f":"IF(A26=\"\",\"\",IF(INDIRECT(\"Datos!D\"&Espectros!A26,TRUE)=0,\"\",INDIRECT(\"Datos!D\"&Espectros!A26,TRUE)))","v":""},{"$f":"IF(A26=\"\",\"\",IF(INDIRECT(\"Datos!E\"&Espectros!A26,TRUE)=0,\"\",INDIRECT(\"Datos!E\"&Espectros!A26,TRUE)))","v":""},null,null,null,null,"","","","","","","","","","","","","","","","","","","","","","","","","","","","","","","","","","","","","","","","","","","","","","","","","","","","","","","","","","","","","","","","","","","","","","","","","","","","","","","","","","","","","","","","","","","","","","","","","","","","","","","","","","","","","","","","","","","","","","","","","","","","","","","","","","","","","","","","","","","","","","","","","","","","","","","","","","","","","","","","","","","","","","","","","","","","","","","","","","","","","","","","","","","","","","","","","","","","","","","","","","","","","","","","","","","","","","","","","","","","","","","","","","","","","","","","","","","","","","","","","","","","","","","","","","","","","","","","","","","","","","","","","","","","","","","","","","","","","","","","","","","","","","","","","","","","","","","","","","","","","","","","","","","","","","","","","","","","","","","","","","","","","","","","","","","","","","","","","","","","","","","","","","","","","","","","","","","","","","","","","","","","","","","","","","","","","","","","","","","","","","","","","","","","","","",""]
[{"$f":"IF(Principal!M37=\"\",\"\",MATCH(Principal!M37,Datos!A:A,0))","v":""},null,{"$f":"IF(A27=\"\",\"\",IF(INDIRECT(\"Datos!D\"&Espectros!A27,TRUE)=0,\"\",INDIRECT(\"Datos!D\"&Espectros!A27,TRUE)))","v":""},{"$f":"IF(A27=\"\",\"\",IF(INDIRECT(\"Datos!E\"&Espectros!A27,TRUE)=0,\"\",INDIRECT(\"Datos!E\"&Espectros!A27,TRUE)))","v":""},null,null,null,null,"","","","","","","","","","","","","","","","","","","","","","","","","","","","","","","","","","","","","","","","","","","","","","","","","","","","","","","","","","","","","","","","","","","","","","","","","","","","","","","","","","","","","","","","","","","","","","","","","","","","","","","","","","","","","","","","","","","","","","","","","","","","","","","","","","","","","","","","","","","","","","","","","","","","","","","","","","","","","","","","","","","","","","","","","","","","","","","","","","","","","","","","","","","","","","","","","","","","","","","","","","","","","","","","","","","","","","","","","","","","","","","","","","","","","","","","","","","","","","","","","","","","","","","","","","","","","","","","","","","","","","","","","","","","","","","","","","","","","","","","","","","","","","","","","","","","","","","","","","","","","","","","","","","","","","","","","","","","","","","","","","","","","","","","","","","","","","","","","","","","","","","","","","","","","","","","","","","","","","","","","","","","","","","","","","","","","","","","","","","","","","","","","","","","","","",""]
[{"$f":"IF(Principal!M38=\"\",\"\",MATCH(Principal!M38,Datos!A:A,0))","v":""},null,{"$f":"IF(A28=\"\",\"\",IF(INDIRECT(\"Datos!D\"&Espectros!A28,TRUE)=0,\"\",INDIRECT(\"Datos!D\"&Espectros!A28,TRUE)))","v":""},{"$f":"IF(A28=\"\",\"\",IF(INDIRECT(\"Datos!E\"&Espectros!A28,TRUE)=0,\"\",INDIRECT(\"Datos!E\"&Espectros!A28,TRUE)))","v":""},null,null,null,null,"","","","","","","","","","","","","","","","","","","","","","","","","","","","","","","","","","","","","","","","","","","","","","","","","","","","","","","","","","","","","","","","","","","","","","","","","","","","","","","","","","","","","","","","","","","","","","","","","","","","","","","","","","","","","","","","","","","","","","","","","","","","","","","","","","","","","","","","","","","","","","","","","","","","","","","","","","","","","","","","","","","","","","","","","","","","","","","","","","","","","","","","","","","","","","","","","","","","","","","","","","","","","","","","","","","","","","","","","","","","","","","","","","","","","","","","","","","","","","","","","","","","","","","","","","","","","","","","","","","","","","","","","","","","","","","","","","","","","","","","","","","","","","","","","","","","","","","","","","","","","","","","","","","","","","","","","","","","","","","","","","","","","","","","","","","","","","","","","","","","","","","","","","","","","","","","","","","","","","","","","","","","","","","","","","","","","","","","","","","","","","","","","","","","","","",""]
[{"$f":"IF(Principal!M39=\"\",\"\",MATCH(Principal!M39,Datos!A:A,0))","v":""},{"$f":"IF(A29=\"\",\"\",INDIRECT(\"Datos!A\"&Espectros!A29,TRUE))","v":""},{"$f":"IF(A29=\"\",\"\",IF(INDIRECT(\"Datos!D\"&Espectros!A29,TRUE)=0,\"\",INDIRECT(\"Datos!D\"&Espectros!A29,TRUE)))","v":""},{"$f":"IF(A29=\"\",\"\",IF(INDIRECT(\"Datos!E\"&Espectros!A29,TRUE)=0,\"\",INDIRECT(\"Datos!E\"&Espectros!A29,TRUE)))","v":""},"","","",{"$f":"IF(C29=\"\",\"\",IF(C29>6500,0,ABS(6500-C29)/10000)*1.4)","v":""},{"$f":"IF($A29=\"\",\"\",IF($D29=\"\",($F29*EXP(1)^(-(((I$6-1.41)^2)/0.2)))+($G29*EXP(1)^(-(((I$6-$H29-4.5)^2)/3))),$F29*EXP(1)^(-(((I$6-$E29)^2)/0.2))))","v":""},{"$f":"IF($A29=\"\",\"\",IF($D29=\"\",($F29*EXP(1)^(-(((J$6-1.41)^2)/0.2)))+($G29*EXP(1)^(-(((J$6-$H29-4.5)^2)/3))),$F29*EXP(1)^(-(((J$6-$E29)^2)/0.2))))","v":""},"","","","","","","","","","","","","","","","","","","","","","","","","","","","","","","","","","","","","","","","","","","","","","","","","","","","","","","","","","","","","","",{"$f":"IF($A29=\"\",\"\",IF($D29=\"\",($F29*EXP(1)^(-(((BU$6-1.41)^2)/0.2)))+($G29*EXP(1)^(-(((BU$6-$H29-4.5)^2)/3))),$F29*EXP(1)^(-(((BU$6-$E29)^2)/0.2))))","v":""},"","","","","","","","","","","","","","","","","","","","","","","","","","","","","","","","","","","","","","","","","","","","","","","","","","","","","","","","","","","","","","","",{"$f":"IF($A29=\"\",\"\",IF($D29=\"\",($F29*EXP(1)^(-(((EG$6-1.41)^2)/0.2)))+($G29*EXP(1)^(-(((EG$6-$H29-4.5)^2)/3))),$F29*EXP(1)^(-(((EG$6-$E29)^2)/0.2))))","v":""},"","","","","","","","","","","","","","","","","","","","","","","","","","","","","","","","","","","","","","","","","","","","","","","","","","","","","","","","","","","","","","","",{"$f":"IF($A29=\"\",\"\",IF($D29=\"\",($F29*EXP(1)^(-(((GS$6-1.41)^2)/0.2)))+($G29*EXP(1)^(-(((GS$6-$H29-4.5)^2)/3))),$F29*EXP(1)^(-(((GS$6-$E29)^2)/0.2))))","v":""},"","","","","","","","","","","","","","","","","","","","","","","","","","","","","","","","","","","","","","","","","","","","","","","","","","","","","","","","","","","","","","","",{"$f":"IF($A29=\"\",\"\",IF($D29=\"\",($F29*EXP(1)^(-(((JE$6-1.41)^2)/0.2)))+($G29*EXP(1)^(-(((JE$6-$H29-4.5)^2)/3))),$F29*EXP(1)^(-(((JE$6-$E29)^2)/0.2))))","v":""},"","",{"$f":"IF($A29=\"\",\"\",IF($D29=\"\",($F29*EXP(1)^(-(((JH$6-1.41)^2)/0.2)))+($G29*EXP(1)^(-(((JH$6-$H29-4.5)^2)/3))),$F29*EXP(1)^(-(((JH$6-$E29)^2)/0.2))))","v":""},{"$f":"IF($A29=\"\",\"\",IF($D29=\"\",($F29*EXP(1)^(-(((JI$6-1.41)^2)/0.2)))+($G29*EXP(1)^(-(((JI$6-$H29-4.5)^2)/3))),$F29*EXP(1)^(-(((JI$6-$E29)^2)/0.2))))","v":""},"","","","","","","","","","","","","","","","","","","","","","","","","","","","","","","","","","","","","","","","","","","","","","","","","","","","","","","","","","","","","","","",{"$f":"IF($A29=\"\",\"\",IF($D29=\"\",($F29*EXP(1)^(-(((LU$6-1.41)^2)/0.2)))+($G29*EXP(1)^(-(((LU$6-$H29-4.5)^2)/3))),$F29*EXP(1)^(-(((LU$6-$E29)^2)/0.2))))","v":""},"","","","","","","","","","","","","","","","","","","","","","","","","","","","","","","","","","","","","","","","","","","","","","","","","","","","","","","","","","","","","","",{"$f":"IF($A29=\"\",\"\",IF($D29=\"\",($F29*EXP(1)^(-(((OF$6-1.41)^2)/0.2)))+($G29*EXP(1)^(-(((OF$6-$H29-4.5)^2)/3))),$F29*EXP(1)^(-(((OF$6-$E29)^2)/0.2))))","v":""},"","",{"$f":"IF($A29=\"\",\"\",IF($D29=\"\",($F29*EXP(1)^(-(((OI$6-1.41)^2)/0.2)))+($G29*EXP(1)^(-(((OI$6-$H29-4.5)^2)/3))),$F29*EXP(1)^(-(((OI$6-$E29)^2)/0.2))))","v":""}]
[]
["Espectro ponderado por \"radion flux\" para cada tipo de led",null,null,null,null,null,null,null,{"$f":"IF(G31=\"\",\"\",(G31-$C$2)*($F$3-$F$2) / ($C$3-$C$2)+$F$2)","v":""},null,null,{"$f":"IF($G31=\"\",\"\",$J$2*EXP(1)^(-(((I$6-$I31)^2)/0.2)))","v":""},"","","","","","","","","","","","","","","","","","","","","","","","","","","","","","","","","","","","","","","","","","","","","","","","","","","","","","","","","","","","","","","",{"$f":"IF($G31=\"\",\"\",$J$2*EXP(1)^(-(((BU$6-$I31)^2)/0.2)))","v":""},"","","","","","","","","","","","","","","","","","","","","","","","","","","","","","","","","","","","","","","","","","","","","","","","","","","","","","","","","","","","","","","",{"$f":"IF($G31=\"\",\"\",$J$2*EXP(1)^(-(((EG$6-$I31)^2)/0.2)))","v":""},"","","","","","","","","","","","","","","","","","","","","","","","","","","","","","","","","","","","","","","","","","","","","","","","","","","","","","","","","","","","","","","",{"$f":"IF($G31=\"\",\"\",$J$2*EXP(1)^(-(((GS$6-$I31)^2)/0.2)))","v":""},"","","","","","","","","","","","","","","","","","","","","","","","","","","","","","","","","","","","","","","","","","","","","","","","","","","","","","","","","","","","","","","",{"$f":"IF($G31=\"\",\"\",$J$2*EXP(1)^(-(((JE$6-$I31)^2)/0.2)))","v":""},"","","","","","","","","","","","","","","","","","","","","","","","","","","","","","","","","","","","","","","","","","","","","","","","","","","","","","","","","","","","","","","",{"$f":"IF($G31=\"\",\"\",$J$2*EXP(1)^(-(((LQ$6-$I31)^2)/0.2)))","v":""},"","","","","","","","","","","","","","","","","","","","","","","","","","","","","","","","","","","","","","","","","","","","","","","","","","","","","","","","","","","","","","","",{"$f":"IF($G31=\"\",\"\",$J$2*EXP(1)^(-(((OC$6-$I31)^2)/0.2)))","v":""}]
["FILA","Nombre","W/Led","Nº Led","Watios",{"$f":"I$7","v":390},{"$f":"J$7","v":391},392,393,394,395,396,397,398,399,400,401,402,403,404,405,406,407,408,409,410,411,412,413,414,415,416,417,418,419,420,421,422,423,424,425,426,427,428,429,430,431,432,433,434,435,436,437,438,439,440,441,442,443,444,445,446,447,448,449,450,451,452,453,454,{"$f":"BV$7","v":455},456,457,458,459,460,461,462,463,464,465,466,467,468,469,470,471,472,473,474,475,476,477,478,479,480,481,482,483,484,485,486,487,488,489,490,491,492,493,494,495,496,497,498,499,500,501,502,503,504,505,506,507,508,509,510,511,512,513,514,515,516,517,518,{"$f":"EH$7","v":519},520,521,522,523,524,525,526,527,528,529,530,531,532,533,534,535,536,537,538,539,540,541,542,543,544,545,546,547,548,549,550,551,552,553,554,555,556,557,558,559,560,561,562,563,564,565,566,567,568,569,570,571,572,573,574,575,576,577,578,579,580,581,582,{"$f":"GT$7","v":583},584,585,586,587,588,589,590,591,592,593,594,595,596,597,598,599,600,601,602,603,604,605,606,607,608,609,610,611,612,613,614,615,616,617,618,619,620,621,622,623,624,625,626,627,628,629,630,631,632,633,634,635,636,637,638,639,640,641,642,643,644,645,646,{"$f":"JF$7","v":647},648,649,650,651,652,653,654,655,656,657,658,659,660,661,662,663,664,665,666,667,668,669,670,671,672,673,674,675,676,677,678,679,680,681,682,683,684,685,686,687,688,689,690,691,692,693,694,695,696,697,698,699,700,701,702,703,704,705,706,707,708,709,710,{"$f":"LR$7","v":711},712,713,714,715,716,717,718,719,720,721,722,723,724,725,726,727,728,729,730,731,732,733,734,735,736,737,738,739,740,741,742,743,744,745,746,747,748,749,750,751,752,753,754,755,756,757,758,759,760,761,762,763,764,765,766,767,768,769,770,771,772,773,774,{"$f":"OD$7","v":775},776,777,778,779,780]
[null,null,null,null,{"$f":"SUM(E34:E54)","v":56.771666463772405},{"$f":"IF($E33=0,0,SUM(F34:F54)/$E33)","v":1.6496858859710133E-2},{"$f":"IF($E33=0,0,SUM(G34:G54)/$E33)","v":1.8964961980688866E-2},{"$f":"IF($E33=0,0,SUM(H34:H54)/$E33)","v":2.1676588071032798E-2},2.463382093840721E-2,2.7834961556485748E-2,3.1274194156506965E-2,3.4941360334779063E-2,3.8821867239828882E-2,4.2896754229029541E-2,4.7142939468648851E-2,5.1533663776768664E-2,5.603914360636475E-2,6.062743851380023E-2,6.5265530878469327E-2,6.9920607196154408E-2,7.456152116375997E-2,7.916040924376716E-2,8.3694419714055113E-2,8.8147506677066098E-2,9.2512231460053593E-2,9.6791505658595858E-2,0.10100020316666482,0.10516656333827253,0.10933330440291913,0.1135583658862032,0.11791520153535642,0.1224925505462869,0.12739362508781329,0.13273466645483872,0.13864284072272073,0.14525346737199704,0.1527066005986201,0.16114301222001257,0.17069965622183483,0.18150472674945164,0.19367245214255621,0.20729779563790915,0.22245125669557811,0.23917398360203301,0.25747341626206893,0.27731967638398758,0.29864290949393901,0.32133175886304804,0.34523311565824494,0.37015324335819283,0.39586031941594307,0.42208837575178765,0.44854255501874885,0.47490553527413543,0.50084491554885968,0.52602130266726532,0.55009679908716946,0.57274356549154826,0.59365212253716748,0.6125390646900557,0.6291538854258556,0.64328465600256846,0.65476235711381814,0.66346373056835772,0.6693125924911737,0.67227962569193989,0.67238074195201125,0.66967417043058319,0.66425648216202093,0.65625779958438046,{"$f":"IF($E33=0,0,SUM(BS34:BS54)/$E33)","v":0.6458364622088163},0.63317342418446521,0.61846664720623745,0.60192572474676365,0.5837669338015663,0.56420886182793828,0.5434687033975667,0.52175926744158208,0.49928668577793706,0.47624877026341655,0.45283393200449518,0.4292205532376358,0.40557669137126878,0.38205999488856246,0.35881772107062376,0.33598676383093928,0.31369362388808669,0.29205428035049014,0.2711739498732092,0.25114674445345353,0.23205525967675725,0.213970140393484,0.19694967961079982,0.18103950867748708,0.16627243304648934,0.15266845893050157,0.14023504327445338,0.12896758411046846,0.11885015204315601,0.10985644776101493,0.10195095631584335,9.5090257417054805E-2,8.9224442795412473E-2,8.4298587116015247E-2,8.0254217968116368E-2,7.7030732865685306E-2,7.456671648338975E-2,7.2801118909991039E-2,7.1674264831145473E-2,7.112867354891729E-2,7.1109679937737633E-2,7.1565856236977407E-2,7.2449243504795993E-2,7.3715409240472277E-2,7.5323353876069032E-2,7.7235293407222738E-2,7.9416348338412143E-2,8.1834170401453035E-2,8.4458538270475003E-2,8.7260951891142635E-2,9.021425224704821E-2,9.3292289603882778E-2,9.6469658717677514E-2,9.9721514391207564E-2,0.1030234753417503,0.10635161883500369,0.109682563173781,0.11299363012947025,0.11626307497979908,0.11947036815809607,0.12259650978706123,0.12562435668485789,0.12853894086584763,0.13132775913017392,{"$f":"IF($E33=0,0,SUM(EE34:EE54)/$E33)","v":0.1339810150040889},0.13649179695505204,0.13885618030473565,0.14107324439343413,0.14314500106884268,0.14507623521712518,0.14687426255648012,0.14854861401800346,0.1501106595204493,0.15157318662395697,0.15294995129816522,0.15425521880019952,0.15550331243028867,0.15670818678158366,0.15788304014495882,0.15903997813152676,0.1601897375274399,0.16134147610416844,0.16250263077927501,0.16367884334970401,0.16487395016736994,0.16609002972572298,0.16732750026557447,0.16858525823567549,0.16986084776389077,0.17115065117676173,0.17245009098668138,0.17375383456199611,0.17505599380725362,0.17635031350404221,0.17763034339508046,0.1788895905416491,0.18012164986682119,0.18132031205062099,0.18247964902269298,0.18359407817586598,0.18465840708943371,0.18566786100777635,0.18661809558343292,0.18750519748757793,0.18832567544399847,0.18907644408639068,0.18975480280424203,0.19035841145879773,0.19088526454321406,0.19133366505121385,0.19170219902293606,0.19198971146709723,0.19219528412263992,0.19231821532456789,0.19235800207842155,0.19231432432425175,0.19218703128076087,0.19197612969924585,0.19168177382033447,0.19130425680944732,0.19084400344485133,0.19030156384099564,0.18967760800597652,0.18897292105255997,0.18818839890489372,0.18732504436613986,0.18638396343453603,0.18536636177604954,{"$f":"IF($E33=0,0,SUM(GQ34:GQ54)/$E33)","v":0.18427354128037443},0.1831068966433366,0.18186791193283972,0.18055815710742196,0.17917928446655843,0.17773302502030844,0.17622118477310722,0.17464564092278226,0.17300833798159776,0.1713112838316827,0.16955654573298887,0.16774624630838961,0.16588255953816711,0.16396770680548653,0.16200395304613271,0.15999360307046717,0.15793899814399839,0.15584251293592222,0.15370655297328567,0.15153355277279479,0.14932597486333957,0.14708630996040456,0.14481707860864312,0.1425208346703834,0.14020017110429611,0.13785772854739708,0.13549620728122042,0.13311838322402925,0.13072712863823752,0.12832543826676512,0.12591646160290693,0.12350354194271057,0.12109026275270211,0.11868050169416544,0.11627849236337842,0.11388889342207456,0.11151686429392367,0.10916814598612597,0.1068491448626684,0.1045670163592655,0.1023297447129724,0.10014621381868719,9.802626337146518E-2,9.5980723573464821E-2,9.4021420956576132E-2,9.2161147386246353E-2,9.0413584165072058E-2,8.8793173443130299E-2,8.7314929955277329E-2,8.5994187517038856E-2,8.4846276767565648E-2,8.3886133361998627E-2,8.3127839153320504E-2,8.2584102780450058E-2,8.2265690354123469E-2,8.2180821408099958E-2,8.2334549711965591E-2,8.272815263311431E-2,8.3358556172538664E-2,8.4217825258397869E-2,8.5292750056674221E-2,8.6564558686683349E-2,8.8008784617759031E-2,8.9595313073443525E-2,{"$f":"IF($E33=0,0,SUM(JC34:JC54)/$E33)","v":9.1288624996680875E-2},9.3048249676962846E-2,9.4829428282833153E-2,9.6583980680748804E-2,9.8261357562462681E-2,9.9809849636919426E-2,0.10117791610214047,0.10231558643114826,0.10317588327066589,0.10371621045626678,0.1038996491521206,0.10369610711833614,0.10308327109471872,0.10204732006920604,0.10058336738481291,9.8695611675946926E-2,9.6397189828313024E-2,9.3709738758244482E-2,9.0662686010674204E-2,8.7292301212024123E-2,8.3640550599915764E-2,7.9753804631120973E-2,7.5681453655081915E-2,7.1474488635290143E-2,6.7184102905418805E-2,6.2860367152181837E-2,5.8551023581747547E-2,5.4300437045292221E-2,5.0148731358963153E-2,4.6131128787571661E-2,4.2277500302740897E-2,3.8612124364084982E-2,3.515364311473089E-2,3.1915197430239968E-2,2.8904716487472722E-2,2.6125333570279866E-2,2.3575897717812606E-2,2.125155045007009E-2,1.9144337981033568E-2,1.7243831789478591E-2,1.5537733855034328E-2,1.4012446958803347E-2,1.26535948770518E-2,1.1446481772941259E-2,1.0376484366554577E-2,9.4293743406448204E-3,8.5915717777881664E-3,7.8503331390175988E-3,7.1938793514056566E-3,6.6114709840085139E-3,6.0934383053991127E-3,5.6311743049876411E-3,5.2170986139553474E-3,4.844599776670404E-3,4.5079625962672603E-3,4.2022863985535022E-3,3.9233991056949894E-3,3.6677710509467952E-3,3.4324315492382002E-3,3.214890402470574E-3,3.0130657864078582E-3,2.8252193498985428E-3,2.6498988592416777E-3,2.4858883359077369E-3,{"$f":"IF($E33=0,0,SUM(LO34:LO54)/$E33)","v":2.3321653545442435E-3},2.1878649770647961E-3,2.0522496829464667E-3,1.924684600741865E-3,1.8046173371051768E-3,1.6915617245988135E-3,1.5850848572378131E-3,1.4847968441208574E-3,1.3903427794811965E-3,1.3013964967289321E-3,1.2176557407661151E-3,1.1388384545611709E-3,1.0646799312402603E-3,9.9493063116270044E-4,9.2935450455068028E-4,8.6772769459145434E-4,8.0983752411955417E-4,7.5548169174233324E-4,7.0446762136227572E-4,6.566119232248879E-4,6.1173993557825704E-4,5.6968532439007622E-4,5.3028972486575691E-4,4.9340241319766162E-4,4.5888000042077181E-4,4.265861427521737E-4,3.9639126458684615E-4,3.6817229159359269E-4,3.4181239224337562E-4,3.1720072671387431E-4,2.942322025279386E-4,2.7280723655791634E-4,2.5283152320481163E-4,2.3421580867123845E-4,2.1687567131164457E-4,2.0073130807736546E-4,1.8570732708822965E-4,1.7173254636378187E-4,1.5873979874064808E-4,1.4666574299134594E-4,1.3545068114612777E-4,1.2503838200464461E-4,1.1537591080920337E-4,1.0641346503679892E-4,9.810421625318163E-5,9.0404157959267354E-5,8.3271959348251334E-5,7.6668824880921251E-5,7.0558359576890721E-5,6.4906439910748337E-5,5.968109019444531E-5,5.48523643205466E-5,5.0392232735228646E-5,4.6274474505057741E-5,4.247457433757295E-5,3.8969624412488985E-5,3.5738230877859659E-5,3.2760424863761541E-5,3.0017577864918294E-5,2.7492321343135932E-5,2.5168470400421611E-5,2.3030951374153948E-5,2.106573320662948E-5,1.925976244268316E-5,{"$f":"IF($E33=0,0,SUM(OA34:OA54)/$E33)","v":1.7600901710823441E-5},1.6077871545406027E-5,1.4680195409753511E-5,1.3398147782774361E-5,1.2222705174515709E-5,1.1145499939166889E-5]
[{"$f":"IF(Principal!M18=\"\",\"\",MATCH(Principal!M18,Datos!A:A,0))","v":8},{"$f":"IF(A34=\"\",\"\",INDIRECT(\"Datos!A\"&Espectros!A8,TRUE))","v":"Blue (465-480) XP-E2"},{"$f":"IF(A34=\"\",\"\",INDIRECT(\"Datos!O\"&Espectros!A8,TRUE))","v":3.14},{"$f":"IF(B34=\"\",\"\",INDIRECT(ADDRESS(17+MATCH(B34,Principal!$M$18:$M$30,0),15+MATCH(\"X\",Principal!$P$17:$R$17,0),1,1,\"Principal\"),TRUE)/C34)","v":5.7324840764331206},{"$f":"IF(A34=\"\",\"\",INDIRECT(\"Datos!N\"&Espectros!A8,TRUE)*D34)","v":13.188777904073856},{"$f":"IF($E34=\"\",\"\",$E34*I8)","v":2.0060087185901089E-7},{"$f":"IF($E34=\"\",\"\",$E34*J8)","v":3.2523628071940131E-7},{"$f":"IF($E34=\"\",\"\",$E34*K8)","v":5.2385348048371997E-7},{"$f":"IF($E34=\"\",\"\",$E34*L8)","v":8.382341677549965E-7},{"$f":"IF($E34=\"\",\"\",$E34*M8)","v":1.332494923178054E-6},2.1043135158727657E-6,3.3014141184552091E-6,5.145578898522797E-6,7.9673364500660701E-6,1.2255661313763027E-5,1.8728587403150064E-5,2.8432691408274443E-5,4.2882055920922427E-5,6.4250705998811404E-5,9.5636767228205437E-5,1.4142186123460178E-4,2.0775567123931893E-4,3.0320328689838004E-4,4.3960193977038837E-4,6.3318405991685876E-4,9.0603510326348958E-4,1.2879670517987796E-3,1.8189014124668018E-3,2.5518682301969072E-3,3.5567390900646538E-3,4.9248209869587334E-3,6.7744426057068357E-3,9.2576629373125104E-3,1.2568221882153905E-2,1.6950830920349214E-2,2.2711866283262612E-2,3.0231474597804484E-2,3.997702923986296E-2,5.2517782758949617E-2,6.8540445810689382E-2,8.8865286500359311E-2,0.11446218811289453,0.14646593225855342,0.18618979536026384,0.23513636869748017,0.29500434816190119,0.3676899042328991,0.45528115221400184,0.56004421545877558,0.68439942820279454,0.83088637640276031,1.0021167383332623,1.2007142704325946,1.4292417901771046,1.6901156304152021,1.9855087627666379,2.3172445851214762,2.6866842032265725,3.094610862482345,3.5411159492623461,4.0254916222181132,4.5461355928060971,5.1004737935446851,5.6849066032394884,6.294783904603082,6.9244135129411042,7.5671064378086461,8.2152610494570837,8.8604865697337853,9.4937644675014941,{"$f":"IF($E34=\"\",\"\",$E34*BV8)","v":10.105644406447119},10.686469478232482,11.226623674372449,11.716793024161136,12.148230662900374,12.513015386786254,12.8042930650949,13.016490652377451,13.145493473333367,13.188777904073856,13.145493473333364,13.016490652377451,12.804293065094896,12.513015386786252,12.148230662900374,11.716793024161136,11.226623674372446,10.686469478232478,10.105644406447114,9.4937644675014941,8.8604865697337853,8.2152610494570784,7.5671064378086408,6.924413512941098,6.294783904603082,5.6849066032394884,5.1004737935446807,4.5461355928060918,4.0254916222181087,3.5411159492623461,3.094610862482345,2.6866842032265699,2.3172445851214722,1.9855087627666348,1.6901156304152021,1.4292417901771002,1.2007142704325924,1.002116738333261,0.83088637640276031,0.68439942820279454,0.56004421545877348,0.45528115221400084,0.36768990423289832,0.29500434816190119,0.23513636869748017,0.18618979536026334,0.14646593225855317,0.11446218811289433,8.8865286500359172E-2,6.8540445810689382E-2,5.2517782758949375E-2,3.9977029239862891E-2,3.0231474597804484E-2,2.2711866283262612E-2,1.6950830920349214E-2,1.2568221882153825E-2,9.2576629373124775E-3,6.7744426057068357E-3,4.9248209869587334E-3,3.5567390900646538E-3,2.5518682301968938E-3,1.8189014124667981E-3,1.2879670517987796E-3,9.0603510326348958E-4,{"$f":"IF($E34=\"\",\"\",$E34*EH8)","v":6.3318405991685876E-4},4.3960193977038594E-4,3.0320328689837836E-4,2.0775567123931893E-4,1.4142186123460178E-4,9.5636767228205437E-5,6.4250705998811079E-5,4.2882055920922278E-5,2.8432691408274443E-5,1.8728587403150064E-5,1.2255661313762939E-5,7.9673364500660413E-6,5.1455788985227691E-6,3.3014141184552091E-6,2.1043135158727657E-6,1.3324949231780443E-6,8.3823416775499343E-7,5.2385348048371817E-7,3.2523628071940131E-7,2.0060087185901089E-7,1.2291682238074145E-7,7.4822895512892132E-8,4.524831120474696E-8,2.7184097352519461E-8,1.6224530451663961E-8,9.6199770267882958E-9,5.6665746039162498E-9,3.3159797125668929E-9,1.9277370606819214E-9,1.1133415226612174E-9,6.3878350707589675E-10,3.6410249944860961E-10,2.0617609225526269E-10,1.1598387803397294E-10,6.4818895338919101E-11,3.5987386074519764E-11,1.9849229751440232E-11,1.0876312873152239E-11,5.9205820447136201E-12,3.2017822543167254E-12,1.7201402601339905E-12,9.1808016816668213E-13,4.8679042755441626E-13,2.5641777704016834E-13,1.3418343649490304E-13,6.9758055700327387E-14,3.6027531174981783E-14,1.848499408091052E-14,9.4221238160547365E-15,4.7711489626843726E-15,2.400169005504816E-15,1.1995140748210093E-15,5.955435854440114E-16,2.9374226019553727E-16,1.4393419763413279E-16,7.0065823065733174E-17,3.3883880615424547E-17,1.6278888019585087E-17,7.7696419665136759E-18,3.6840197963794666E-18,1.7353520051896362E-18,8.1207826448137196E-19,3.7753121805150169E-19,1.7436227620000227E-19,{"$f":"IF($E34=\"\",\"\",$E34*GT8)","v":8.0001267613335772E-20},3.6465811688938367E-20,1.6512756600458623E-20,7.4284456782188755E-21,3.3198694220403493E-21,1.4739702928777257E-21,6.5013139234793091E-22,2.8487754710306594E-22,1.2401093544728742E-22,5.3629830422746662E-23,2.3040799350152108E-23,9.8340709676307919E-24,4.1697864348760877E-24,1.7564628319358725E-24,7.3503631164022508E-25,3.055788571029655E-25,1.2620672239896388E-25,5.1782898037287004E-26,2.1107407465660648E-26,8.5472835943140632E-27,3.4384761130614925E-27,1.3741957068939624E-27,5.4560185870601081E-28,2.152027282632731E-28,8.4326559678792426E-29,3.2826582383015434E-29,1.2694968737360546E-29,4.8773315534454601E-30,1.8615624099389369E-30,7.0585842092967746E-31,2.6589016753496484E-31,9.9501959416968694E-32,3.6991817211452215E-32,1.366231762612233E-32,5.0128852930882914E-33,1.8272410117955264E-33,6.6168087095905567E-34,2.3803784104152719E-34,8.5072286150628558E-35,3.0204724779774168E-35,1.0653844162645296E-35,3.7332104681251935E-36,1.2995808043965523E-36,4.4943695438894546E-37,1.5441125322237901E-37,5.2702812811968926E-38,1.7870360739937732E-38,6.0197370659581644E-39,2.0144959705073846E-39,6.697303215525424E-40,2.2119647331108244E-40,7.257735103841429E-41,2.3657492205805762E-41,7.6609208653166641E-42,2.4645516535026229E-42,7.8766137868303938E-43,2.500839704159294E-43,7.8881804715360814E-44,2.4717952796358898E-44,7.6947202797016773E-45,2.3796761238094302E-45,7.3111811979969995E-46,2.2315258377324275E-46,6.7664514472683183E-47,{"$f":"IF($E34=\"\",\"\",$E34*JF8)","v":2.0382840124182599E-47},6.0997650068170237E-48,1.813452515474135E-48,5.3560417084688911E-49,1.5715434406123496E-49,4.5809284470585951E-50,1.3265551323004967E-50,3.8162935918050688E-51,1.0906940147948239E-51,3.0967686356645467E-52,8.7349267529873512E-53,2.4476789519644048E-53,6.8138774285523583E-54,1.8844250061990058E-54,5.1773565934372524E-55,1.4131295430234826E-55,3.8317798690322224E-56,1.032199881717459E-56,2.7623056800510565E-57,7.3438592697182166E-58,1.9396422401375534E-58,5.0893649984660716E-59,1.3266313071805788E-59,3.4354336345997451E-60,8.8380725555747064E-61,2.2588023961772491E-61,5.7351343356118348E-62,1.4466172120883583E-62,3.6250027402670419E-63,9.0241795622563519E-64,2.2317821272593622E-64,5.4832814759028615E-65,1.3383631279486248E-65,3.2452791844938675E-66,7.8176251608004697E-67,1.8708643520505012E-67,4.447894060469354E-68,1.050536744998653E-68,2.4649762443156377E-69,5.7459111601698384E-70,1.3306068459822491E-70,3.0611547022195924E-71,6.9962525912200655E-72,1.5885114929353848E-72,3.5831081748826472E-73,8.0292347640043588E-74,1.7874465778049124E-74,3.9530896456927683E-75,8.6853021880425725E-76,1.8957361064275993E-76,4.1106973976641188E-77,8.8551885384245526E-78,1.8950679839278031E-78,4.0289924605351315E-79,8.5096714518990804E-80,1.7855573711282092E-80,3.7220268607274173E-81,7.7077900226360648E-82,1.5857142353470367E-82,3.2408927025680781E-83,6.5803509857697771E-84,1.3273276539103018E-84,2.6598179007971583E-85,5.2950534006154901E-86,{"$f":"IF($E34=\"\",\"\",$E34*LR8)","v":1.0472092316731613E-86},2.0575066985440788E-87,4.0160002528851899E-88,7.787371315815397E-89,1.5001431827724245E-89,2.870907635217734E-90,5.4582120746040421E-91,1.0309230960060778E-91,1.9344023485367434E-92,3.6058863139732837E-93,6.6776234803018458E-94,1.2285037964935339E-94,2.2453071339992825E-95,4.0768026396092887E-96,7.3537404389730579E-97,1.3177759704008207E-97,2.3459543077817723E-98,4.1489881288029148E-99,7.2896976089285899E-100,1.2723937065128743E-100,2.2063692154770846E-101,3.8008396181899483E-102,6.5046746244966207E-103,1.1059010951804362E-103,1.8678916341482374E-104,3.1342363549879381E-105,5.2246414139617548E-106,8.6521872801109977E-107,1.4234427738666375E-107,2.3264771465364729E-108,3.7774806412887229E-109,6.0932694289689821E-110,9.7643467700429584E-111,1.5544640587257145E-111,2.4584583411036196E-112,3.8626886187004437E-113,6.0292212946136362E-114,9.3492640728039656E-115,1.4402514033492694E-115,2.2041637993218037E-116,3.3511518056077693E-117,5.0616139203090253E-118,7.5950145120289829E-119,1.1321732203457383E-119,1.676647733808787E-120,2.4666949934156544E-121,3.6052364758324948E-122,5.2347595559292007E-123,7.550998749143621E-124,1.0820734376026378E-124,1.5404717986910853E-125,2.1786900297758383E-126,3.0611303114163554E-127,4.2728029770066011E-128,5.9250032824484512E-129,8.1622332432657405E-130,1.1170537854574675E-130,1.5187414508197293E-131,2.0513430098556119E-132,2.7525638594003982E-133,3.6692829163760666E-134,4.8592548002346603E-135,6.3929723161665205E-136,8.3556579487571108E-137,{"$f":"IF($E34=\"\",\"\",$E34*OD8)","v":1.0849336029767912E-137},1.3994917603631217E-138,1.793420827942327E-139,2.2831726341021521E-140,2.8876195243857819E-141,3.6281552865110117E-142]
[{"$f":"IF(Principal!M19=\"\",\"\",MATCH(Principal!M19,Datos!A:A,0))","v":27},{"$f":"IF(A35=\"\",\"\",INDIRECT(\"Datos!A\"&Espectros!A9,TRUE))","v":"Blanco Frío (6000K) XP-G2"},{"$f":"IF(A35=\"\",\"\",INDIRECT(\"Datos!O\"&Espectros!A9,TRUE))","v":4.53},{"$f":"IF(B35=\"\",\"\",INDIRECT(ADDRESS(17+MATCH(B35,Principal!$M$18:$M$30,0),15+MATCH(\"X\",Principal!$P$17:$R$17,0),1,1,\"Principal\"),TRUE)/C35)","v":5.739514348785872},{"$f":"IF(A35=\"\",\"\",INDIRECT(\"Datos!N\"&Espectros!A9,TRUE)*D35)","v":18.2},{"$f":"IF($E35=\"\",\"\",$E35*I9)","v":1.0593652056515449E-2},{"$f":"IF($E35=\"\",\"\",$E35*J9)","v":1.1756121040230135E-2},1.3126059434539566E-2,1.4761647682847483E-2,1.6739077775724951E-2,1.9157623809684998E-2,2.2145878855106212E-2,2.586933604764181E-2,3.0539489528342571E-2,3.6424616826313816E-2,4.3862374933171772E-2,{"$f":"IF($E35=\"\",\"\",$E35*T9)","v":5.3274293900829293E-2},6.5182180599120815E-2,8.0226347980650578E-2,9.918545930393724E-2,0.12299762104431004,0.15278217329566712,0.18986141535544124,0.23578127283945111,0.29232967040727825,0.36155113394299632,0.44575592444588757,0.54752182293357277,0.66968656404595894,0.81532888007714888,0.98773619125317169,1.1903571847639152,1.4267378827805282,1.7004403203030147,2.0149436399999452,2.3735282547380034,2.7791447076935181,3.2342699391240037,3.7407547982446969,4.299667755411738,4.9111408006718369,5.5742243797378119,6.2867588360066291,7.0452701201700929,7.8448974311053714,8.6793599145949578,9.540968545395744,10.420687857524033,11.308250303783201,12.192323788159563,13.060730424984403,13.900711965200442,14.699234741440254,15.443324579651595,16.120420065418582,16.718730985828387,17.227587817076273,17.637767884231863,17.941784330388465,18.134125297437329,18.211432689675313,18.172612466162722,18.018871447904697,17.753678958435323,17.382655047352841,16.91339037486669,16.355205867872389,15.718862821914261,15.016236079097913,14.259964162281447,13.463090741426031,12.638711549464979,11.79963990105491,10.958102389120548,10.125474266131789,9.3120616078118044,8.5269347663104753,7.7778150074022436,7.0710137404203364,6.4114215184307453,5.8025421102142634,5.2465654939321427,4.7444726306751033,4.2961643480887712,3.9006065747819449,3.5559844663626881,3.2598585872514265,3.0093171815569955,2.8011195996635125,2.6318270648903761,2.497918093543066,2.3958869593174521,2.3223245698198705,2.273981963538545,2.2478173186634152,2.2410278824611503,2.2510685844874949,2.2756593007741164,2.3127828078003407,2.3606754271576511,2.417812238751738,2.4828885564589585,2.5547991380166128,2.6326163605093051,2.7155683506606172,2.8030178281268943,2.8944422093620172,2.9894153352648098,3.0875910307008838,3.188688578686881,3.2924800952875004,3.398779720570968,3.5074344929681573,3.6183167453760889,3.7313178475799136,3.8463431174732219,3.9633077299262967,4.0821334642274287,4.2027461465328937,4.325073660918255,4.4490444200843058,4.574586203585203,4.7016252869919901,4.8300857993237036,4.9598892582139973,5.0909542426235639,5.2231961715469239,5.356527164247507,5.4908559632701213,5.6260879060191833,5.7621249342432224,5.8988656335072243,6.036205296820591,6.1740360081546362,6.3122467427435032,6.4507234819090664,6.5893493407591315,6.7280047075384486,6.8665673937099694,7.004912794044972,7.1429140561318762,7.2804422587948121,7.4173665989591671,7.553554586522889,7.6888722467973416,7.8231843300753674,7.9563545278707108,8.0882456953551909,8.2187200794995992,8.3476395524027538,8.474865849271378,8.6002608104922356,8.7236866272174716,8.8450060898651746,8.964082838919504,9.0807816173990403,9.194968524348031,9.3065112686933631,9.415279422800344,9.521144675052712,9.6239810807771278,9.7236653108293254,9.8200768971585362,9.9130984746685797,10.002616018698221,10.088519077450067,10.170700998706234,10.249059150180679,10.323495132871777,10.39391498679505,10.460229388494534,10.522353839751958,10.580208846936017,10.633720090459095,10.682818583835925,10.727440821867784,10.767528917506754,10.803030726987148,10.833899962845576,10.860096294486706,10.88158543598886,10.898339220881962,10.910335663669402,10.917559007905851,10.919999760683762,10.91765471342293,10.910526948899397,10.89862583449214,10.881967001668203,10.860572311769257,10.834469808204318,10.803693655195028,10.768284063260756,10.728287201671035,10.683755098132144,10.634745526012896,10.58132187945183,10.523553036723676,10.461513212277323,10.395281797890034,10.324943193413871,10.250586627619107,10.172305969666875,10.090199531768228,10.004369863609991,9.9149235391485728,9.8219709363914625,9.7256260108024595,9.6260060629806095,9.5232315012743243,9.4174256000012821,9.3087142539513721,9.1972257298542761,9.0830904154949828,8.9664405671601344,8.84741005609499,8.7261341146456566,8.60274908275359,8.477392155459647,8.350201132062999,8.2213141675662094,8.0908695270217166,7.9590053433771253,7.8258593793968583,7.6915687942163942,7.5562699150621784,7.4200980146458999,7.2831870947157906,7.1456696762207184,7.0076765965144521,6.8693368139983599,6.7307772205708325,6.5921224622208472,6.4534947680719297,6.3150137881508623,6.17679644012353,6.0389567652079847,5.9016057934424486,5.7648514184539339,5.6287982818409024,5.4935476672518533,5.3591974042103612,5.2258417817064382,5.0935714715439682,4.9624734614046968,4.8326309975608197,4.7041235371406183,4.5770267098252564,4.4514122888293146,4.3273481709935595,4.2048983657953851,4.0841229930607632,3.9650782891411263,3.8478166212997413,3.7323865100345235,3.618832659048222,3.5071959925622083,3.3975136996570616,3.2898192853114203,3.184142627800421,3.0805100421063902,2.9789443489872176,2.8794649493420978,2.7820879035099813,2.6868260151331449,2.5936889192167438,2.5026831740148943,2.4138123563749665,2.3270771601739599,2.242475497484302,2.1600026021110046,2.0796511351477407,2.0014112922060678,1.9252709119796387,1.8512155858136949,1.779228767959506,1.7092918862033755,1.6413844525707031,1.5754841738168404,1.5115670614284376,1.4496075408713627,1.38957855983406,1.3314516952283852,1.2751972587233686,1.220784400601042,1.1681812117372192,1.1173548235241144,1.0682715055655632,1.0208967609895723,0.97519541923680941,0.93113172619736517,0.88866943158172396,0.84777187342524329,0.80840205963856382,0.77052274652919861,0.73409651423203159,0.69908583899862875,0.66545316230696427,0.63316095676451656,0.60217178878856148,0.57244837805791748,0.54395365374031468,0.51665080750902659,0.49050334337131141,0.46547512433964733,0.44153041598460385,0.4186339269155962,0.39675084624256041,0.37584687807790629,0.35588827314388455,0.33684185755574264,0.31867505885579889,0.30135592937778044,0.2848531670245199,0.26913613354535904,0.25417487040237757,0.23994011231691703,0.22640329858974093,0.21353658228964814,0.20131283740641778,0.18970566406464295,0.17868939189531935,0.16823908166201507,0.15833052523809146,0.14894024403076248,0.14004548594683075,0.1316242209937081,0.12365513560785894,0.11611762580111108,0.10899178921336176,0.10225841615814248,9.5898979745220811E-2,8.9895625162033116E-2,8.4231158193195627E-2,7.8889033054699104E-2,7.3853339616644892E-2,6.9108790085562033E-2,6.4640705214456043E-2,6.0435000105808961E-2,5.6478169669781274E-2,5.2757273796878536E-2,4.9259922301349741E-2,4.5974259688593401E-2,4.2888949796869268E-2,3.9993160360665247E-2,3.727654754015166E-2,3.4729240458283676E-2,3.2341825784294516E-2,3.0105332399560404E-2,2.8011216179122035E-2,2.6051344919528888E-2,2.421798344112008E-2,2.2503778890394323E-2,2.0901746265738007E-2,1.9405254187488587E-2,1.8008010931107321E-2,1.6704050740125206E-2,1.5487720433510052E-2,1.4353666320180486E-2,1.3296821431567022E-2,1.2312393081389759E-2,1.1395850760185837E-2,1.0542914370579417E-2,9.7495428078378261E-3,9.0119228889019992E-3,8.3264586318128522E-3,7.6897608862773921E-3,7.0986373150271048E-3,6.5500827246120445E-3,6.0412697433489529E-3,5.5695398432918817E-3,5.1323947023222925E-3,4.727487901755578E-3,4.3526169542309921E-3,4.0057156560893209E-3,3.6848467579426586E-3,3.3881949467024011E-3,3.1140601319497754E-3,2.8608510292063264E-3,2.6270790323860258E-3,2.4113523674826678E-3,2.212370519363942E-3,2.0289189234029593E-3,1.8598639135768574E-3,1.704147918597415E-3,1.5607848976073432E-3,1.4288560069760537E-3,1.3075054897568237E-3,1.1959367794215812E-3,1.0934088095674978E-3,9.9923252138850904E-4,9.1276756082316773E-4,8.3341915742552895E-4,7.6063517715599784E-4,6.9390334145263087E-4,6.3274860511837818E-4]
[{"$f":"IF(Principal!M20=\"\",\"\",MATCH(Principal!M20,Datos!A:A,0))","v":24},{"$f":"IF(A36=\"\",\"\",INDIRECT(\"Datos!A\"&Espectros!A10,TRUE))","v":"Royal Blue (440-450) XT-E"},{"$f":"IF(A36=\"\",\"\",INDIRECT(\"Datos!O\"&Espectros!A10,TRUE))","v":4.92},{"$f":"IF(B36=\"\",\"\",INDIRECT(ADDRESS(17+MATCH(B36,Principal!$M$18:$M$30,0),15+MATCH(\"X\",Principal!$P$17:$R$17,0),1,1,\"Principal\"),TRUE)/C36)","v":5.2845528455284549},{"$f":"IF(A36=\"\",\"\",INDIRECT(\"Datos!N\"&Espectros!A10,TRUE)*D36)","v":14.155052264808358},{"$f":"IF($E36=\"\",\"\",$E36*I10)","v":1.0264358444722931E-4},1.5178311832394397E-4,2.2297686761367985E-4,3.2541744232288008E-4,4.7180932747672462E-4,6.7957422033759188E-4,9.7241566532743357E-4,1.3823298160120995E-3,1.9521630241455838E-3,2.7388305750590809E-3,3.817323187814141E-3,5.2856374542248549E-3,7.2707713971818947E-3,9.9359245929192454E-3,1.348903127428081E-2,1.8192731681026888E-2,2.4375848665373106E-2,3.2446380254986841E-2,4.2905941884671402E-2,5.6365492329289793E-2,7.3562054025027607E-2,9.5375991929563447E-2,0.12284824771989519,0.15719674265598979,0.19983097021327675,0.25236360885582765,0.31661780924277855,0.39462866457485762,0.4886372756933543,0.60107579322977689,0.73454187694093243,0.89176117526896792,1.0755367108096505,1.2886844692277886,1.5339550325399018,1.8139417659544452,2.1309768436175882,2.4870172544650138,2.883523825506233,3.3213371865296608,3.8005554193214515,4.3204188226146982,4.8792077163721572,5.4741594443416499,6.1014106594783728,6.7559705541639392,7.4317299064192062,8.121509657650936,8.817151245544105,9.5096491425087404,10.189324075717,10.846033331006504,11.469412487713157,12.049141021549117,12.575222574770414,13.038269444600038,13.429780081109682,13.742398186442802,13.970142406589462,14.10859660501634,14.155052264808358,14.108596605016343,13.970142406589462,13.742398186442806,13.429780081109685,13.038269444600038,12.57522257477042,12.049141021549122,11.469412487713161,10.84603333100651,10.189324075717,9.5096491425087457,8.817151245544105,8.1215096576509431,7.4317299064192124,6.7559705541639454,6.1014106594783772,5.4741594443416499,4.8792077163721626,4.3204188226147027,3.8005554193214603,3.3213371865296608,2.8835238255062339,2.4870172544650178,2.1309768436175913,1.8139417659544492,1.5339550325399018,1.2886844692277895,1.0755367108096519,0.89176117526896992,0.73454187694093409,0.60107579322977689,0.48863727569335502,0.39462866457485846,0.31661780924277955,0.25236360885582831,0.19983097021327675,0.15719674265598993,0.12284824771989541,9.5375991929563669E-2,7.3562054025027607E-2,5.6365492329289793E-2,4.2905941884671478E-2,3.2446380254986931E-2,2.4375848665373175E-2,1.8192731681026888E-2,1.348903127428081E-2,9.9359245929192819E-3,7.2707713971819224E-3,5.2856374542248731E-3,3.817323187814141E-3,2.7388305750590809E-3,1.9521630241455875E-3,1.3823298160121043E-3,9.7241566532743531E-4,6.7957422033759188E-4,4.7180932747672462E-4,3.2541744232288187E-4,2.2297686761368104E-4,1.5178311832394505E-4,1.0264358444722931E-4,6.8958026898237963E-5,4.6023805025604178E-5,3.0515809413166081E-5,2.0100735296765716E-5,1.3153570990267347E-5,8.5510624776812791E-6,5.5225691698688073E-6,3.5432918602772963E-6,2.2584858138767347E-6,1.430120016984362E-6,8.9964730174545431E-7,5.6223354804226126E-7,3.4906468100982925E-7,2.1529787264469296E-7,1.3192230983631432E-7,8.0304786712811082E-8,4.8563423742215626E-8,2.9175737251417065E-8,1.7413218888486943E-8,1.0324783584260929E-8,6.0817355682435656E-9,3.5589246010375502E-9,2.0689725041417319E-9,1.1949103667128129E-9,6.8558391037609821E-10,3.9077842897410492E-10,2.2128156094931017E-10,1.2448142408546716E-10,6.9567844567777582E-11,3.8623997952177399E-11,2.1303481383293381E-11,1.1673164738055473E-11,6.3543528362185392E-12,3.4363604785845468E-12,1.8461661468631217E-12,9.8534321058428762E-13,5.2245507462164561E-13,2.7520419723714075E-13,1.4401437119282034E-13,7.4868871969142489E-14,3.866708427900297E-14,1.9839295136597707E-14,1.0112434679831314E-14,5.1207066660150496E-15,2.5760171233757154E-15,1.2873963414168739E-15,6.3917602064764099E-16,3.1526325454055057E-16,1.5447952077311927E-16,7.5199187876681987E-17,3.6366379397268217E-17,1.7471558957635466E-17,8.3388839295622474E-18,3.9539291010603141E-18,1.8624923787450836E-18,8.7157508909887459E-19,4.0519100116661779E-19,1.8713690916423969E-19,8.5862551674929681E-20,3.913747536654972E-20,1.7722561894331911E-20,7.9726899327796035E-21,3.5630992896471758E-21,1.5819605640651599E-21,6.9776319721290287E-22,3.0574906921957909E-22,1.3309658297619352E-22,5.7559014042712581E-23,2.4728880977184846E-23,1.0554563094102341E-23,4.4752853788315755E-24,1.8851498878880502E-24,7.8888866606703436E-25,3.2796705841689085E-25,1.3545324401706988E-25,5.557676635942427E-26,2.2653839349190233E-26,9.1734993855864124E-27,3.6903956868245858E-27,1.4748760040269232E-27,5.8557531879996238E-28,2.3096953245038737E-28,9.0504735787238303E-29,3.5231618326295847E-29,1.362506422387589E-29,5.2346687125951309E-30,1.9979495748995268E-30,7.5757306040680083E-31,2.8537058137840253E-31,1.0679195951604863E-31,3.9702018625743056E-32,1.4663285822444182E-32,5.3801537820448062E-33,1.9611136233007095E-33,7.1015884710259085E-34,2.5547765725163832E-34,9.1305097826912044E-35,3.2417670614484343E-35,1.1434396881972325E-35,4.0067237219543651E-36,1.39479444891495E-36,4.8236490335822138E-37,1.6572417668524868E-37,5.6564078588765722E-38,1.9179630751585414E-38,6.4607724391753774E-39,2.1620877959413238E-39,7.1879803980739842E-40,2.3740240856907638E-40,7.7894722669699784E-41,2.5390755766994805E-41,8.2221973888590688E-42,2.6451167589889932E-42,8.4536930285144294E-43,2.6840634496808222E-43,8.4661071451013033E-44,2.6528910885932136E-44,8.2584731136168569E-45,2.5540228329596308E-45,7.846834083327687E-46,2.3950183324881417E-46,7.2621947674000929E-47,2.1876186661229988E-47,6.5466636183075767E-48,1.9463149143149209E-48,5.7484515144087368E-49,1.6866823977234623E-49,4.9165496652602039E-50,1.4237450479822822E-50,4.0958939215412739E-51,1.1706035916766421E-51,3.3236530487264367E-52,9.3748901996155966E-53,2.6270078808306751E-53,7.3130954079804549E-54,2.0224871967568292E-54,5.5566750541016672E-55,1.5166623233729246E-55,4.112514799163822E-56,1.1078238923809379E-56,2.9646857015024019E-57,7.8819063103748988E-58,2.0817499152589961E-58,5.4622367646151075E-59,1.4238268038066455E-59,3.6871303015134158E-60,9.4855929680711735E-61,2.4242933049837774E-61,6.1553183211316792E-62,1.5526034628240259E-62,3.8905881668311207E-63,9.685335084101873E-64,2.3952933990391457E-64,5.8850134893912963E-65,1.4364181551312208E-65,3.4830442065610884E-66,8.3903826072945155E-67,2.0079330227753802E-67,4.7737685289872959E-68,1.1275042039310896E-68,2.6455724574010152E-69,6.1668847085537839E-70,1.4280936100206543E-70,3.2854298643697905E-71,7.5088322668576787E-72,1.7048936125314196E-72,3.8456242007275655E-73,8.6174957647737361E-74,1.9184036544861426E-74,4.2427123232524597E-75,9.3216298963850182E-76,2.0346270034980414E-76,4.4118671898155172E-77,9.5039629515190876E-78,2.0339099310768743E-78,4.3241761494654893E-79,9.1331315936992192E-80,1.9163760352901552E-80,3.9947207487919534E-81,8.2725004098277982E-82,1.7018914141736172E-82,3.478336349519966E-83,7.062459676084189E-84,1.4245741683026751E-84,2.8546891663877233E-85,5.6829949048960318E-86,1.1239329007082469E-86,2.2082497002310306E-87,4.310232069152835E-88,8.3579122176883008E-89,1.6100510078557399E-89,3.0812443669547155E-90,5.8581073811670744E-91,1.1064535631050807E-91,2.0761261235772117E-92,3.870071177670137E-93,7.166858829216266E-94,1.318509991855276E-94,2.4098093139084319E-95,4.3754891360444429E-96,7.8925114224074877E-97,1.4143226817526665E-97,2.5178303917940909E-98,4.4529632871538174E-99,7.8237765014713842E-100,1.3656154912986742E-100,2.3680186130733875E-101,4.079307714251102E-102,6.9812388945363758E-103,1.1869248171320343E-103,2.0047425090234907E-104,3.3638658363799428E-105,5.6074241917946802E-106,9.2860888283705995E-107,1.527731151938064E-107,2.4969262384753533E-108,4.0542373444796039E-109,6.5396921426641929E-110,1.0479730560856426E-110,1.668351696803689E-111,2.6385770207280999E-112,4.1456880749724385E-113,6.470951528797467E-114,1.0034236875513279E-114,1.5457712638085235E-115,2.3656516173462935E-116,3.5966735736017313E-117,5.432452506772804E-118,8.1514624138556695E-119,1.2151217666543679E-119,1.7994871453863075E-120,2.6474171304647188E-121,3.8693737292095268E-122,5.6182836383191159E-123,8.1042218409497257E-124,1.1613514288458073E-124,1.6533342953785133E-125,2.3383115148802323E-126,3.2854036865768537E-127,4.5858494165767318E-128,6.3590979954483363E-129,8.7602383629708173E-130,1.1988946080338919E-130,1.6300118759632207E-131,2.2016344295693258E-132,2.9542301474341674E-133,3.9381125251664412E-134,5.2152675680508856E-135,6.8613527288876312E-136,8.9678343082102112E-137,1.1644211439211238E-137,1.5020253700678062E-138,1.9248156074019637E-139,2.4504490257064196E-140,3.0991806508422724E-141,3.8939716840284823E-142,4.8605270480153843E-143,6.0272418355839117E-144,7.4250357392142251E-145,9.0870550159896255E-146,1.1048223326622496E-146,1.3344626083119272E-147,1.6012717885681148E-148,1.9088349278853758E-149,2.2605617351215346E-150,2.6595554453685736E-151,3.1084680186763511E-152,3.6093453329004776E-153,4.1634671932605567E-154,4.7711880667371477E-155]
[{"$f":"IF(Principal!M21=\"\",\"\",MATCH(Principal!M21,Datos!A:A,0))","v":10},{"$f":"IF(A37=\"\",\"\",INDIRECT(\"Datos!A\"&Espectros!A11,TRUE))","v":"Green (520-525) XP-E"},{"$f":"IF(A37=\"\",\"\",INDIRECT(\"Datos!O\"&Espectros!A11,TRUE))","v":3.16},{"$f":"IF(B37=\"\",\"\",INDIRECT(ADDRESS(17+MATCH(B37,Principal!$M$18:$M$30,0),15+MATCH(\"X\",Principal!$P$17:$R$17,0),1,1,\"Principal\"),TRUE)/C37)","v":2.5316455696202529},{"$f":"IF(A37=\"\",\"\",INDIRECT(\"Datos!N\"&Espectros!A11,TRUE)*D37)","v":1.2977022578042903},9.6761778770724193E-25,2.2670862725705794E-24,5.2768764878330632E-24,1.2201985058271405E-23,2.8030363295389765E-23,6.3969306470673315E-23,1.4503046384707224E-22,3.2665665279467651E-22,7.309176633889258E-22,1.6247632402975564E-21,3.5880326824507576E-21,7.8716789655668546E-21,1.7156276430339133E-20,3.714696824985687E-20,7.9903976319574404E-20,1.707489679179578E-19,3.6248702058137725E-19,7.6448947700917227E-19,1.6017518750568596E-18,3.3339850513537943E-18,6.8940865824446357E-18,1.4162323044909854E-17,2.8902601669449939E-17,5.8598170434945772E-17,1.1802550126213038E-16,2.3616325638430537E-16,4.6945447305497296E-16,9.2708448336436934E-16,1.8188204190539071E-15,3.5449083219793145E-15,6.8638039885704761E-15,1.3202902480114367E-14,2.5230080499225195E-14,4.7897465671914818E-14,9.0333972998910024E-14,1.6925221696442501E-13,3.150375334731392E-13,5.8255228367801156E-13,1.0701685838318511E-12,1.9530536075039694E-12,3.5409582677826142E-12,6.3778181300417229E-12,1.1412167335617475E-11,2.0286578663386182E-11,3.5825657164239025E-11,6.2852737790396425E-11,1.0954660228363089E-10,1.8967858540761273E-10,3.2627392705597733E-10,5.5755936683467486E-10,9.4655213686118295E-10,1.5964033932541442E-9,2.6747637095200104E-9,4.4521816986616895E-9,7.3621560048063488E-9,1.2094330428928303E-8,1.9738008041559093E-8,3.2001437804109566E-8,5.1544263564584923E-8,8.2477571460836677E-8,1.3111007577030962E-7,2.0705272471323176E-7,3.2484075375497192E-7,5.0629629241542786E-7,{"$f":"IF($E37=\"\",\"\",$E37*BU11)","v":7.8394151263578838E-7},1.2058887846494328E-6,1.842788644658687E-6,2.7976184074320661E-6,4.2193553635232289E-6,6.3219114649297589E-6,9.410125006564092E-6,1.3915123141950797E-5,2.044200043399262E-5,2.983351398010654E-5,4.3254381408527878E-5,6.2301783390103423E-5,8.9148805727617134E-5,1.2672878133617948E-4,1.7896976405618896E-4,2.5108961482493719E-4,3.4996330828893199E-4,4.845749439820511E-4,6.6656740516313044E-4,9.1090244927322745E-4,1.2366430029895645E-3,1.6678673124218102E-3,2.2347210916058491E-3,2.9746086504501526E-3,3.9335169249346165E-3,5.167457194052252E-3,6.7439979599603185E-3,8.7438490336788546E-3,1.1262441526249434E-2,1.4411431625110967E-2,1.8320038412694729E-2,2.3136108498450603E-2,2.9026784092977344E-2,3.6178637805970547E-2,4.4797128548305497E-2,5.5105230231118831E-2,6.7341090257073313E-2,8.1754589733718325E-2,9.8602703250985135E-2,0.11814359382281404,0.14062942840884177,0.16629796069753022,0.19536299898844944,0.22800395547399774,0.26435475537557557,0.30449246567633481,0.34842607828622935,0.39608594556066473,0.44731441123491944,0.50185820141152326,0.55936313342206079,0.61937166163593482,0.68132370679610776,0.74456110951390109,0.80833591177838005,0.87182250777279602,0.9341335242845592,0.9943391008777942,1.0514890515803825,1.1046372147378483,1.1528671475302377,1.1953182072088402,1.2312109914563476,1.2598710920007934,{"$f":"IF($E37=\"\",\"\",$E37*EG11)","v":1.2807501522230549},1.2934433110005565,1.2977022578042903,1.2934433110005568,1.2807501522230551,1.2598710920007938,1.2312109914563483,1.1953182072088402,1.1528671475302386,1.1046372147378491,1.0514890515803834,0.9943391008777942,0.9341335242845592,0.87182250777279702,0.80833591177838127,0.7445611095139022,0.68132370679610776,0.61937166163593482,0.55936313342206168,0.50185820141152426,0.44731441123492038,0.39608594556066473,0.34842607828622935,0.30449246567633553,0.26435475537557629,0.22800395547399835,0.19536299898844944,0.16629796069753022,0.14062942840884221,0.11814359382281445,9.8602703250985441E-2,8.1754589733718602E-2,6.7341090257073563E-2,5.5105230231118831E-2,4.4797128548305497E-2,3.6178637805970547E-2,2.9026784092977344E-2,2.3136108498450707E-2,1.8320038412694809E-2,1.4411431625111016E-2,1.1262441526249483E-2,8.7438490336788927E-3,6.7439979599603793E-3,5.167457194052252E-3,3.9335169249346165E-3,2.9746086504501526E-3,2.2347210916058491E-3,1.6678673124218201E-3,1.2366430029895721E-3,9.1090244927323233E-4,6.6656740516313402E-4,4.8457494398205402E-4,3.4996330828893573E-4,2.5108961482493719E-4,1.7896976405618896E-4,1.2672878133617948E-4,8.9148805727617446E-5,6.2301783390103654E-5,4.3254381408528116E-5,2.9833513980106757E-5,2.0442000433992765E-5,1.3915123141950922E-5,9.4101250065641767E-6,6.3219114649297589E-6,{"$f":"IF($E37=\"\",\"\",$E37*GS11)","v":4.2193553635232289E-6},2.7976184074320712E-6,1.8427886446586969E-6,1.2058887846494373E-6,7.8394151263579526E-7,5.0629629241543157E-7,3.2484075375497594E-7,2.070527247132347E-7,1.3111007577030917E-7,8.2477571460836677E-8,5.1544263564584923E-8,3.2001437804109798E-8,1.9738008041559162E-8,1.2094330428928344E-8,7.3621560048064025E-9,4.4521816986617218E-9,2.6747637095200365E-9,1.5964033932541556E-9,9.4655213686117634E-10,5.5755936683467486E-10,3.2627392705597733E-10,1.8967858540761477E-10,1.0954660228363168E-10,6.2852737790396865E-11,3.5825657164239413E-11,2.0286578663386399E-11,1.1412167335617597E-11,6.3778181300418134E-12,3.5409582677826142E-12,1.9530536075039694E-12,1.0701685838318511E-12,5.8255228367801782E-13,3.1503753347314365E-13,1.6925221696442622E-13,9.0333972998911312E-14,4.7897465671915506E-14,2.5230080499225551E-14,1.3202902480114648E-14,6.8638039885704761E-15,3.5449083219793145E-15,1.8188204190539071E-15,9.2708448336437585E-16,4.6945447305497642E-16,2.3616325638430705E-16,1.1802550126213205E-16,5.8598170434946191E-17,2.8902601669450143E-17,1.4162323044909854E-17,6.8940865824446357E-18,3.3339850513537943E-18,1.6017518750568596E-18,7.6448947700918854E-19,3.62487020581385E-19,1.7074896791795901E-19,7.9903976319576114E-20,3.7146968249857599E-20,1.71562764303395E-20,7.8716789655668546E-21,3.5880326824507576E-21,1.6247632402975564E-21,7.309176633889258E-22,3.2665665279467882E-22,1.4503046384707428E-22,6.396930647067422E-23,{"$f":"IF($E37=\"\",\"\",$E37*JE11)","v":2.8030363295390165E-23},1.2201985058271667E-23,5.2768764878332139E-24,2.2670862725705794E-24,9.6761778770724193E-25,4.1028375111457171E-25,1.7282615564012422E-25,7.2323477438271408E-26,3.0067256851545225E-26,1.2418038259376968E-26,5.0951486322233216E-27,2.0768512840088951E-27,8.4100508016054985E-28,3.3832689031390273E-28,1.3521320053091641E-28,5.3684182799553097E-29,2.1174749350099361E-29,8.2972636042521656E-30,3.2299527965573903E-30,1.249114187307601E-30,4.7990224833579895E-31,1.831673685000989E-31,6.9452535571751033E-32,2.6162110943691321E-32,9.7904383810623042E-33,3.6397886949599149E-33,1.3442959278874376E-33,4.9323998101031092E-34,1.7979033416183396E-34,6.5105710812238676E-35,2.3421597210082684E-35,8.3706389338880719E-36,2.9719766174061302E-36,1.0482789023150751E-36,3.6732710859042048E-37,1.2787150987989505E-37,4.4222092046228477E-38,1.5193206936571151E-38,5.1856631202807136E-39,1.7583439230432981E-39,5.9230858527609742E-40,1.9821517871324253E-40,6.5897731899046524E-41,2.1764500465617264E-41,7.1412069407061985E-42,2.3277654133502811E-42,7.5379192644608813E-43,2.4249815020675631E-43,7.7501490808067248E-44,2.460686921941176E-44,7.7615300540606936E-45,2.432108826567377E-45,7.5711760049101582E-46,2.3414687101195167E-46,7.1937949193354247E-47,2.1956970835633574E-47,6.6578111969956731E-48,2.0055578949013377E-48,6.0018288874035818E-49,1.7843362295341579E-49,5.2700466021402038E-50,1.5463111790595834E-50,4.5073783422739309E-51,1.3052563344452499E-51,{"$f":"IF($E37=\"\",\"\",$E37*LQ11)","v":3.7550202502084469E-52},1.0731821370165094E-52,3.0470477853433797E-53,8.5946812142506664E-54,2.4083797039019875E-54,6.7044757200003949E-55,1.8541692058154619E-55,5.0942304052948943E-56,1.3904407306647213E-56,3.770257884103268E-57,1.0156271693651889E-57,2.7179548733174252E-58,7.2259483210848126E-59,1.9084998873031132E-59,5.0076515787410966E-60,1.3053312862827628E-60,3.3802752738600539E-61,8.6961709367065102E-62,2.2225356972216339E-62,5.6430526241829599E-63,1.423390731089574E-63,3.5668007110337478E-64,8.8792898613859479E-65,2.195949258177392E-65,5.3952434434866325E-66,1.3168747442205898E-66,3.1931738903739553E-67,7.692107559643372E-68,1.8408262777338678E-68,4.376479918554439E-69,1.0336696211026647E-69,2.425399275769342E-70,5.6536564190621858E-71,1.3092429949462138E-71,3.012005659244497E-72,6.8839227181102326E-73,1.563006797084513E-73,3.5255787930634174E-74,7.9003196182959917E-75,1.7587478359202348E-75,3.8896199449490129E-76,8.5458534074290017E-77,1.8652986981851549E-77,4.0446971909741509E-78,8.7130121101263378E-79,1.8646413028731847E-79,3.9643040854436581E-80,8.3730425492198883E-81,1.7568889618168784E-81,3.6622670393761268E-82,7.5840359037106661E-83,1.560254451480776E-83,3.188857836574038E-84,6.474698712410972E-85,1.3060164526642139E-85,2.6171126091573398E-86,5.2100375054845019E-87,1.0303955333996408E-87,2.024471946960048E-88,3.951520477043223E-89,7.6623394619253659E-90,1.4760573037719932E-90,2.8248131458934042E-91,5.3705765494772709E-92,{"$f":"IF($E37=\"\",\"\",$E37*OC11)","v":1.014370883367773E-92},1.9033441259350183E-93,3.5479912127289061E-94,6.5704094270007825E-95,1.2087792834379006E-95,2.2092571111952151E-96,4.0113466376663295E-97]
[{"$f":"IF(Principal!M22=\"\",\"\",MATCH(Principal!M22,Datos!A:A,0))","v":23},{"$f":"IF(A38=\"\",\"\",INDIRECT(\"Datos!A\"&Espectros!A12,TRUE))","v":"UV (410-420) Semiled"},{"$f":"IF(A38=\"\",\"\",INDIRECT(\"Datos!O\"&Espectros!A12,TRUE))","v":2.38},{"$f":"IF(B38=\"\",\"\",INDIRECT(ADDRESS(17+MATCH(B38,Principal!$M$18:$M$30,0),15+MATCH(\"X\",Principal!$P$17:$R$17,0),1,1,\"Principal\"),TRUE)/C38)","v":3.3613445378151261},{"$f":"IF(A38=\"\",\"\",INDIRECT(\"Datos!N\"&Espectros!A12,TRUE)*D38)","v":3.0588235294117645},0.15873017877236528,{"$f":"IF($E38=\"\",\"\",$E38*J12)","v":0.19270434432165193},{"$f":"IF($E38=\"\",\"\",$E38*K12)","v":0.23241715651943157},{"$f":"IF($E38=\"\",\"\",$E38*L12)","v":0.27847713330324758},{"$f":"IF($E38=\"\",\"\",$E38*M12)","v":0.33147865926697556},{"$f":"IF($E38=\"\",\"\",$E38*N12)","v":0.3919821453770736},{"$f":"IF($E38=\"\",\"\",$E38*O12)","v":0.4604915607478573},{"$f":"IF($E38=\"\",\"\",$E38*P12)","v":0.53742979917662836},{"$f":"IF($E38=\"\",\"\",$E38*Q12)","v":0.62311253678704137},{"$f":"IF($E38=\"\",\"\",$E38*R12)","v":0.71772142873149203},{"$f":"IF($E38=\"\",\"\",$E38*S12)","v":0.82127766990701745},{"$f":"IF($E38=\"\",\"\",$E38*T12)","v":0.93361709333866816},{"$f":"IF($E38=\"\",\"\",$E38*U12)","v":1.0543680862861629},{"$f":"IF($E38=\"\",\"\",$E38*V12)","v":1.1829336549843226},{"$f":"IF($E38=\"\",\"\",$E38*W12)","v":1.3184789528623386},{"$f":"IF($E38=\"\",\"\",$E38*X12)","v":1.4599254957515688},{"$f":"IF($E38=\"\",\"\",$E38*Y12)","v":1.6059531167189178},{"$f":"IF($E38=\"\",\"\",$E38*Z12)","v":1.7550104634321471},{"$f":"IF($E38=\"\",\"\",$E38*AA12)","v":1.9053345185665196},{"$f":"IF($E38=\"\",\"\",$E38*AB12)","v":2.0549792405835365},{"$f":"IF($E38=\"\",\"\",$E38*AC12)","v":2.2018529955619983},{"$f":"IF($E38=\"\",\"\",$E38*AD12)","v":2.3437640026344413},{"$f":"IF($E38=\"\",\"\",$E38*AE12)","v":2.4784725714625333},{"$f":"IF($E38=\"\",\"\",$E38*AF12)","v":2.6037484974566381},{"$f":"IF($E38=\"\",\"\",$E38*AG12)","v":2.7174316265103893},{"$f":"IF($E38=\"\",\"\",$E38*AH12)","v":2.8174933312754535},{"$f":"IF($E38=\"\",\"\",$E38*AI12)","v":2.9020964768214434},{"$f":"IF($E38=\"\",\"\",$E38*AJ12)","v":2.9696514104538996},{"$f":"IF($E38=\"\",\"\",$E38*AK12)","v":3.0188655967557096},{"$f":"IF($E38=\"\",\"\",$E38*AL12)","v":3.0487847345992973},{"$f":"IF($E38=\"\",\"\",$E38*AM12)","v":3.0588235294117645},{"$f":"IF($E38=\"\",\"\",$E38*AN12)","v":3.0487847345992973},{"$f":"IF($E38=\"\",\"\",$E38*AO12)","v":3.0188655967557096},{"$f":"IF($E38=\"\",\"\",$E38*AP12)","v":2.9696514104539},{"$f":"IF($E38=\"\",\"\",$E38*AQ12)","v":2.9020964768214434},{"$f":"IF($E38=\"\",\"\",$E38*AR12)","v":2.8174933312754535},{"$f":"IF($E38=\"\",\"\",$E38*AS12)","v":2.7174316265103893},{"$f":"IF($E38=\"\",\"\",$E38*AT12)","v":2.6037484974566389},{"$f":"IF($E38=\"\",\"\",$E38*AU12)","v":2.4784725714625342},{"$f":"IF($E38=\"\",\"\",$E38*AV12)","v":2.3437640026344422},{"$f":"IF($E38=\"\",\"\",$E38*AW12)","v":2.2018529955619996},{"$f":"IF($E38=\"\",\"\",$E38*AX12)","v":2.054979240583537},{"$f":"IF($E38=\"\",\"\",$E38*AY12)","v":1.9053345185665203},{"$f":"IF($E38=\"\",\"\",$E38*AZ12)","v":1.7550104634321471},{"$f":"IF($E38=\"\",\"\",$E38*BA12)","v":1.6059531167189185},{"$f":"IF($E38=\"\",\"\",$E38*BB12)","v":1.4599254957515697},{"$f":"IF($E38=\"\",\"\",$E38*BC12)","v":1.3184789528623393},{"$f":"IF($E38=\"\",\"\",$E38*BD12)","v":1.1829336549843235},{"$f":"IF($E38=\"\",\"\",$E38*BE12)","v":1.0543680862861629},{"$f":"IF($E38=\"\",\"\",$E38*BF12)","v":0.9336170933386686},{"$f":"IF($E38=\"\",\"\",$E38*BG12)","v":0.82127766990701745},{"$f":"IF($E38=\"\",\"\",$E38*BH12)","v":0.71772142873149225},{"$f":"IF($E38=\"\",\"\",$E38*BI12)","v":0.62311253678704182},{"$f":"IF($E38=\"\",\"\",$E38*BJ12)","v":0.53742979917662836},{"$f":"IF($E38=\"\",\"\",$E38*BK12)","v":0.46049156074785774},{"$f":"IF($E38=\"\",\"\",$E38*BL12)","v":0.3919821453770736},{"$f":"IF($E38=\"\",\"\",$E38*BM12)","v":0.33147865926697573},{"$f":"IF($E38=\"\",\"\",$E38*BN12)","v":0.27847713330324769},{"$f":"IF($E38=\"\",\"\",$E38*BO12)","v":0.23241715651943157},{"$f":"IF($E38=\"\",\"\",$E38*BP12)","v":0.19270434432165218},{"$f":"IF($E38=\"\",\"\",$E38*BQ12)","v":0.15873017877236528},{"$f":"IF($E38=\"\",\"\",$E38*BR12)","v":0.12988894317699476},{"$f":"IF($E38=\"\",\"\",$E38*BS12)","v":0.10559164094041824},{"$f":"IF($E38=\"\",\"\",$E38*BT12)","v":8.527693306954108E-2},6.8419246119663185E-2,{"$f":"IF($E38=\"\",\"\",$E38*BV12)","v":5.4534291381927572E-2},{"$f":"IF($E38=\"\",\"\",$E38*BW12)","v":4.3182297186793776E-2},{"$f":"IF($E38=\"\",\"\",$E38*BX12)","v":3.3969291401237958E-2},{"$f":"IF($E38=\"\",\"\",$E38*BY12)","v":2.6546783695518092E-2},{"$f":"IF($E38=\"\",\"\",$E38*BZ12)","v":2.0610190820732052E-2},{"$f":"IF($E38=\"\",\"\",$E38*CA12)","v":1.5896327156843647E-2},{"$f":"IF($E38=\"\",\"\",$E38*CB12)","v":1.2180251330639966E-2},{"$f":"IF($E38=\"\",\"\",$E38*CC12)","v":9.2717216533840536E-3},{"$f":"IF($E38=\"\",\"\",$E38*CD12)","v":7.0114719120423349E-3},{"$f":"IF($E38=\"\",\"\",$E38*CE12)","v":5.2674775092420396E-3},{"$f":"IF($E38=\"\",\"\",$E38*CF12)","v":3.9313423002012128E-3},{"$f":"IF($E38=\"\",\"\",$E38*CG12)","v":2.9149003111293044E-3},{"$f":"IF($E38=\"\",\"\",$E38*CH12)","v":2.147094857914597E-3},{"$f":"IF($E38=\"\",\"\",$E38*CI12)","v":1.5711709296874952E-3},{"$f":"IF($E38=\"\",\"\",$E38*CJ12)","v":1.1421951618729666E-3},{"$f":"IF($E38=\"\",\"\",$E38*CK12)","v":8.2490108604435779E-4},{"$f":"IF($E38=\"\",\"\",$E38*CL12)","v":5.9184517650217791E-4},{"$f":"IF($E38=\"\",\"\",$E38*CM12)","v":4.2185094620595401E-4},{"$f":"IF($E38=\"\",\"\",$E38*CN12)","v":2.9871334188835588E-4},{"$f":"IF($E38=\"\",\"\",$E38*CO12)","v":2.1013330518510946E-4},{"$f":"IF($E38=\"\",\"\",$E38*CP12)","v":1.4685199151954044E-4},{"$f":"IF($E38=\"\",\"\",$E38*CQ12)","v":1.0195522031873469E-4},{"$f":"IF($E38=\"\",\"\",$E38*CR12)","v":7.0320795065725446E-5},{"$f":"IF($E38=\"\",\"\",$E38*CS12)","v":4.8183989462683204E-5},{"$f":"IF($E38=\"\",\"\",$E38*CT12)","v":3.2799439027931863E-5},{"$f":"IF($E38=\"\",\"\",$E38*CU12)","v":2.2180674813255433E-5},{"$f":"IF($E38=\"\",\"\",$E38*CV12)","v":1.4901423977256806E-5},{"$f":"IF($E38=\"\",\"\",$E38*CW12)","v":9.9454735377681733E-6},{"$f":"IF($E38=\"\",\"\",$E38*CX12)","v":6.5942869094239133E-6},{"$f":"IF($E38=\"\",\"\",$E38*CY12)","v":4.3436506580116712E-6},{"$f":"IF($E38=\"\",\"\",$E38*CZ12)","v":2.8424093170497834E-6},{"$f":"IF($E38=\"\",\"\",$E38*DA12)","v":1.8478343010594028E-6},{"$f":"IF($E38=\"\",\"\",$E38*DB12)","v":1.1933947119076437E-6},{"$f":"IF($E38=\"\",\"\",$E38*DC12)","v":7.6568452811262396E-7},{"$f":"IF($E38=\"\",\"\",$E38*DD12)","v":4.8804549916809084E-7},{"$f":"IF($E38=\"\",\"\",$E38*DE12)","v":3.0904052319963149E-7},{"$f":"IF($E38=\"\",\"\",$E38*DF12)","v":1.9440848986424056E-7},{"$f":"IF($E38=\"\",\"\",$E38*DG12)","v":1.214953624757673E-7},{"$f":"IF($E38=\"\",\"\",$E38*DH12)","v":7.5430824244570856E-8},{"$f":"IF($E38=\"\",\"\",$E38*DI12)","v":4.6524603820443608E-8},{"$f":"IF($E38=\"\",\"\",$E38*DJ12)","v":2.8507635142040152E-8},{"$f":"IF($E38=\"\",\"\",$E38*DK12)","v":1.7353392027540111E-8},{"$f":"IF($E38=\"\",\"\",$E38*DL12)","v":1.0494270203494279E-8},{"$f":"IF($E38=\"\",\"\",$E38*DM12)","v":6.3047051980473578E-9},{"$f":"IF($E38=\"\",\"\",$E38*DN12)","v":3.7628941711026857E-9},{"$f":"IF($E38=\"\",\"\",$E38*DO12)","v":2.2311249985376874E-9},{"$f":"IF($E38=\"\",\"\",$E38*DP12)","v":1.3142272813823183E-9},{"$f":"IF($E38=\"\",\"\",$E38*DQ12)","v":7.6906267143361488E-10},{"$f":"IF($E38=\"\",\"\",$E38*DR12)","v":4.4709278771853027E-10},{"$f":"IF($E38=\"\",\"\",$E38*DS12)","v":2.5821310136213076E-10},{"$f":"IF($E38=\"\",\"\",$E38*DT12)","v":1.4815065018574323E-10},{"$f":"IF($E38=\"\",\"\",$E38*DU12)","v":8.4444919804663073E-11},{"$f":"IF($E38=\"\",\"\",$E38*DV12)","v":4.7817643664905062E-11},{"$f":"IF($E38=\"\",\"\",$E38*DW12)","v":2.689970350119837E-11},{"$f":"IF($E38=\"\",\"\",$E38*DX12)","v":1.5033201988481635E-11},{"$f":"IF($E38=\"\",\"\",$E38*DY12)","v":8.3464187574774635E-12},{"$f":"IF($E38=\"\",\"\",$E38*DZ12)","v":4.6035570123332796E-12},{"$f":"IF($E38=\"\",\"\",$E38*EA12)","v":2.5225022342188224E-12},{"$f":"IF($E38=\"\",\"\",$E38*EB12)","v":1.3731382693607167E-12},{"$f":"IF($E38=\"\",\"\",$E38*EC12)","v":7.4257728553696308E-13},{"$f":"IF($E38=\"\",\"\",$E38*ED12)","v":3.9894564453625677E-13},{"$f":"IF($E38=\"\",\"\",$E38*EE12)","v":2.1292687167073177E-13},{"$f":"IF($E38=\"\",\"\",$E38*EF12)","v":1.1289946836059281E-13},5.9470008174727083E-14,{"$f":"IF($E38=\"\",\"\",$E38*EH12)","v":3.1120658471408528E-14},{"$f":"IF($E38=\"\",\"\",$E38*EI12)","v":1.6178722827402235E-14},{"$f":"IF($E38=\"\",\"\",$E38*EJ12)","v":8.3557294592556678E-15},{"$f":"IF($E38=\"\",\"\",$E38*EK12)","v":4.287154977282697E-15},{"$f":"IF($E38=\"\",\"\",$E38*EL12)","v":2.1852376494016818E-15},{"$f":"IF($E38=\"\",\"\",$E38*EM12)","v":1.1065545887219427E-15},{"$f":"IF($E38=\"\",\"\",$E38*EN12)","v":5.5666214731959004E-16},{"$f":"IF($E38=\"\",\"\",$E38*EO12)","v":2.7819877646053114E-16},{"$f":"IF($E38=\"\",\"\",$E38*EP12)","v":1.3812217820301025E-16},{"$f":"IF($E38=\"\",\"\",$E38*EQ12)","v":6.8126534816480402E-17},{"$f":"IF($E38=\"\",\"\",$E38*ER12)","v":3.3382115736007244E-17},{"$f":"IF($E38=\"\",\"\",$E38*ES12)","v":1.6250102151986772E-17},{"$f":"IF($E38=\"\",\"\",$E38*ET12)","v":7.8585606678709141E-18},{"$f":"IF($E38=\"\",\"\",$E38*EU12)","v":3.7755011168688571E-18},{"$f":"IF($E38=\"\",\"\",$E38*EV12)","v":1.8019837649200313E-18},{"$f":"IF($E38=\"\",\"\",$E38*EW12)","v":8.5442082033265732E-19},{"$f":"IF($E38=\"\",\"\",$E38*EX12)","v":4.0247364720929063E-19},{"$f":"IF($E38=\"\",\"\",$E38*EY12)","v":1.8834224984197805E-19},{"$f":"IF($E38=\"\",\"\",$E38*EZ12)","v":8.7559391875628677E-20},{"$f":"IF($E38=\"\",\"\",$E38*FA12)","v":4.0439185265044179E-20},{"$f":"IF($E38=\"\",\"\",$E38*FB12)","v":1.8554392343118532E-20},{"$f":"IF($E38=\"\",\"\",$E38*FC12)","v":8.4573782062680042E-21},{"$f":"IF($E38=\"\",\"\",$E38*FD12)","v":3.8297413750011248E-21},{"$f":"IF($E38=\"\",\"\",$E38*FE12)","v":1.7228513962976345E-21},{"$f":"IF($E38=\"\",\"\",$E38*FF12)","v":7.6996479708517427E-22},{"$f":"IF($E38=\"\",\"\",$E38*FG12)","v":3.4185237224410429E-22},{"$f":"IF($E38=\"\",\"\",$E38*FH12)","v":1.5078252242831298E-22},{"$f":"IF($E38=\"\",\"\",$E38*FI12)","v":6.6070575334414472E-23},{"$f":"IF($E38=\"\",\"\",$E38*FJ12)","v":2.8761388660079097E-23},{"$f":"IF($E38=\"\",\"\",$E38*FK12)","v":1.2438164352194648E-23},{"$f":"IF($E38=\"\",\"\",$E38*FL12)","v":5.343765715163899E-24},{"$f":"IF($E38=\"\",\"\",$E38*FM12)","v":2.2807789989702571E-24},{"$f":"IF($E38=\"\",\"\",$E38*FN12)","v":9.6708284515739301E-25},{"$f":"IF($E38=\"\",\"\",$E38*FO12)","v":4.0736980165562018E-25},{"$f":"IF($E38=\"\",\"\",$E38*FP12)","v":1.7047420021552107E-25},{"$f":"IF($E38=\"\",\"\",$E38*FQ12)","v":7.0871752105899447E-26},{"$f":"IF($E38=\"\",\"\",$E38*FR12)","v":2.9270649248300474E-26},{"$f":"IF($E38=\"\",\"\",$E38*FS12)","v":1.2009812288116532E-26},{"$f":"IF($E38=\"\",\"\",$E38*FT12)","v":4.8953614254814858E-27},{"$f":"IF($E38=\"\",\"\",$E38*FU12)","v":1.9823392554641324E-27},{"$f":"IF($E38=\"\",\"\",$E38*FV12)","v":7.9747279971287076E-28},{"$f":"IF($E38=\"\",\"\",$E38*FW12)","v":3.1871202872902709E-28},{"$f":"IF($E38=\"\",\"\",$E38*FX12)","v":1.2653938183197309E-28},{"$f":"IF($E38=\"\",\"\",$E38*FY12)","v":4.9911157318220191E-29},{"$f":"IF($E38=\"\",\"\",$E38*FZ12)","v":1.9557541022823453E-29},{"$f":"IF($E38=\"\",\"\",$E38*GA12)","v":7.6133454754988495E-30},{"$f":"IF($E38=\"\",\"\",$E38*GB12)","v":2.9442962313429696E-30},{"$f":"IF($E38=\"\",\"\",$E38*GC12)","v":1.1311811166229104E-30},{"$f":"IF($E38=\"\",\"\",$E38*GD12)","v":4.317451504912296E-31},{"$f":"IF($E38=\"\",\"\",$E38*GE12)","v":1.6370708204178965E-31},{"$f":"IF($E38=\"\",\"\",$E38*GF12)","v":6.1666903985394097E-32},{"$f":"IF($E38=\"\",\"\",$E38*GG12)","v":2.307711426342162E-32},{"$f":"IF($E38=\"\",\"\",$E38*GH12)","v":8.5793726837370423E-33},{"$f":"IF($E38=\"\",\"\",$E38*GI12)","v":3.1686498116077037E-33},{"$f":"IF($E38=\"\",\"\",$E38*GJ12)","v":1.1626195843364591E-33},{"$f":"IF($E38=\"\",\"\",$E38*GK12)","v":4.237851180327934E-34},{"$f":"IF($E38=\"\",\"\",$E38*GL12)","v":1.5346114945388696E-34},{"$f":"IF($E38=\"\",\"\",$E38*GM12)","v":5.5207218922330517E-35},{"$f":"IF($E38=\"\",\"\",$E38*GN12)","v":1.9730494551584952E-35},{"$f":"IF($E38=\"\",\"\",$E38*GO12)","v":7.0052679276099837E-36},{"$f":"IF($E38=\"\",\"\",$E38*GP12)","v":2.4709059050360908E-36},{"$f":"IF($E38=\"\",\"\",$E38*GQ12)","v":8.658294273512929E-37},{"$f":"IF($E38=\"\",\"\",$E38*GR12)","v":3.0140687573729186E-37},1.0423621817510368E-37,{"$f":"IF($E38=\"\",\"\",$E38*GT12)","v":3.5812019733584098E-38},{"$f":"IF($E38=\"\",\"\",$E38*GU12)","v":1.2223164653158224E-38},{"$f":"IF($E38=\"\",\"\",$E38*GV12)","v":4.1446053840602468E-39},{"$f":"IF($E38=\"\",\"\",$E38*GW12)","v":1.3961349195620395E-39},{"$f":"IF($E38=\"\",\"\",$E38*GX12)","v":4.6721445453941465E-40},{"$f":"IF($E38=\"\",\"\",$E38*GY12)","v":1.5532802817861527E-40},{"$f":"IF($E38=\"\",\"\",$E38*GZ12)","v":5.1301264007021134E-41},{"$f":"IF($E38=\"\",\"\",$E38*HA12)","v":1.6832591364671129E-41},{"$f":"IF($E38=\"\",\"\",$E38*HB12)","v":5.4867929638607138E-42},{"$f":"IF($E38=\"\",\"\",$E38*HC12)","v":1.7767684898654519E-42},{"$f":"IF($E38=\"\",\"\",$E38*HD12)","v":5.7159417210717464E-43},{"$f":"IF($E38=\"\",\"\",$E38*HE12)","v":1.8267933358559186E-43},{"$f":"IF($E38=\"\",\"\",$E38*HF12)","v":5.8001032286749829E-44},{"$f":"IF($E38=\"\",\"\",$E38*HG12)","v":1.8294759534261269E-44},{"$f":"IF($E38=\"\",\"\",$E38*HH12)","v":5.7327415900329594E-45},{"$f":"IF($E38=\"\",\"\",$E38*HI12)","v":1.7846074605989937E-45},{"$f":"IF($E38=\"\",\"\",$E38*HJ12)","v":5.5190931053886876E-46},{"$f":"IF($E38=\"\",\"\",$E38*HK12)","v":1.6956546875595646E-46},{"$f":"IF($E38=\"\",\"\",$E38*HL12)","v":5.1754937330755525E-47},{"$f":"IF($E38=\"\",\"\",$E38*HM12)","v":1.5693175704424109E-47},{"$f":"IF($E38=\"\",\"\",$E38*HN12)","v":4.7273152540408527E-48},{"$f":"IF($E38=\"\",\"\",$E38*HO12)","v":1.4146954981302776E-48},{"$f":"IF($E38=\"\",\"\",$E38*HP12)","v":4.2058720407219387E-49},{"$f":"IF($E38=\"\",\"\",$E38*HQ12)","v":1.2422065578430554E-49},{"$f":"IF($E38=\"\",\"\",$E38*HR12)","v":3.644821444868772E-50},{"$f":"IF($E38=\"\",\"\",$E38*HS12)","v":1.0624374617823463E-50},{"$f":"IF($E38=\"\",\"\",$E38*HT12)","v":3.0766292989811826E-51},{"$f":"IF($E38=\"\",\"\",$E38*HU12)","v":8.8509858295141341E-52},{"$f":"IF($E38=\"\",\"\",$E38*HV12)","v":2.5296055025784199E-52},{"$f":"IF($E38=\"\",\"\",$E38*HW12)","v":7.1822187292949652E-53},{"$f":"IF($E38=\"\",\"\",$E38*HX12)","v":2.025858625723992E-53},{"$f":"IF($E38=\"\",\"\",$E38*HY12)","v":5.6768095005997475E-54},{"$f":"IF($E38=\"\",\"\",$E38*HZ12)","v":1.5803168994562946E-54},{"$f":"IF($E38=\"\",\"\",$E38*IA12)","v":4.3704758623564054E-55},{"$f":"IF($E38=\"\",\"\",$E38*IB12)","v":1.2007647928675228E-55},{"$f":"IF($E38=\"\",\"\",$E38*IC12)","v":3.2774180653781047E-56},{"$f":"IF($E38=\"\",\"\",$E38*ID12)","v":8.8869025683582823E-57},{"$f":"IF($E38=\"\",\"\",$E38*IE12)","v":2.3939422653238907E-57},{"$f":"IF($E38=\"\",\"\",$E38*IF12)","v":6.4065114076701332E-58},{"$f":"IF($E38=\"\",\"\",$E38*IG12)","v":1.7032335895172491E-58},{"$f":"IF($E38=\"\",\"\",$E38*IH12)","v":4.498539110997324E-59},{"$f":"IF($E38=\"\",\"\",$E38*II12)","v":1.1803572340288271E-59},{"$f":"IF($E38=\"\",\"\",$E38*IJ12)","v":3.0768059685082906E-60},{"$f":"IF($E38=\"\",\"\",$E38*IK12)","v":7.9676716915527567E-61},{"$f":"IF($E38=\"\",\"\",$E38*IL12)","v":2.0497808427944867E-61},{"$f":"IF($E38=\"\",\"\",$E38*IM12)","v":5.2387552265814156E-62},{"$f":"IF($E38=\"\",\"\",$E38*IN12)","v":1.330128081441726E-62},{"$f":"IF($E38=\"\",\"\",$E38*IO12)","v":3.3550847535472608E-63},{"$f":"IF($E38=\"\",\"\",$E38*IP12)","v":8.4073321703945933E-64},{"$f":"IF($E38=\"\",\"\",$E38*IQ12)","v":2.092943939115097E-64},{"$f":"IF($E38=\"\",\"\",$E38*IR12)","v":5.1760881357118871E-65},{"$f":"IF($E38=\"\",\"\",$E38*IS12)","v":1.2717167973310513E-65},{"$f":"IF($E38=\"\",\"\",$E38*IT12)","v":3.1040151380529732E-66},{"$f":"IF($E38=\"\",\"\",$E38*IU12)","v":7.5266536454251877E-67},{"$f":"IF($E38=\"\",\"\",$E38*IV12)","v":1.8131123262445376E-67},{"$f":"IF($E38=\"\",\"\",$E38*IW12)","v":4.3390251485106224E-68},{"$f":"IF($E38=\"\",\"\",$E38*IX12)","v":1.0315832981228079E-68},{"$f":"IF($E38=\"\",\"\",$E38*IY12)","v":2.4364702609183834E-69},{"$f":"IF($E38=\"\",\"\",$E38*IZ12)","v":5.7169264585343365E-70},{"$f":"IF($E38=\"\",\"\",$E38*JA12)","v":1.3326275097260696E-70},{"$f":"IF($E38=\"\",\"\",$E38*JB12)","v":3.0860262857481629E-71},{"$f":"IF($E38=\"\",\"\",$E38*JC12)","v":7.0996206763228619E-72},{"$f":"IF($E38=\"\",\"\",$E38*JD12)","v":1.6226144832663751E-72},3.6841748088208376E-73,{"$f":"IF($E38=\"\",\"\",$E38*JF12)","v":8.3101676845839929E-74},{"$f":"IF($E38=\"\",\"\",$E38*JG12)","v":1.8621901436162065E-74},{"$f":"IF($E38=\"\",\"\",$E38*JH12)","v":4.1455574500707614E-75},{"$f":"IF($E38=\"\",\"\",$E38*JI12)","v":9.1682517592354343E-76},{"$f":"IF($E38=\"\",\"\",$E38*JJ12)","v":2.0143493874917655E-76},{"$f":"IF($E38=\"\",\"\",$E38*JK12)","v":4.3967092706178863E-77},{"$f":"IF($E38=\"\",\"\",$E38*JL12)","v":9.5337854755919335E-78},{"$f":"IF($E38=\"\",\"\",$E38*JM12)","v":2.0537504881588545E-78},{"$f":"IF($E38=\"\",\"\",$E38*JN12)","v":4.3951597192964743E-79},{"$f":"IF($E38=\"\",\"\",$E38*JO12)","v":9.3442902956920152E-80},{"$f":"IF($E38=\"\",\"\",$E38*JP12)","v":1.9736160130949096E-80},{"$f":"IF($E38=\"\",\"\",$E38*JQ12)","v":4.1411758842603038E-81},{"$f":"IF($E38=\"\",\"\",$E38*JR12)","v":8.6323565545659542E-82},{"$f":"IF($E38=\"\",\"\",$E38*JS12)","v":1.7876386767966711E-82},{"$f":"IF($E38=\"\",\"\",$E38*JT12)","v":3.6776872347695304E-83},{"$f":"IF($E38=\"\",\"\",$E38*JU12)","v":7.5164802432920892E-84},{"$f":"IF($E38=\"\",\"\",$E38*JV12)","v":1.5261559921213459E-84},{"$f":"IF($E38=\"\",\"\",$E38*JW12)","v":3.0784209792215936E-85},{"$f":"IF($E38=\"\",\"\",$E38*JX12)","v":6.1688153656717313E-86},{"$f":"IF($E38=\"\",\"\",$E38*JY12)","v":1.2280617695662392E-86},{"$f":"IF($E38=\"\",\"\",$E38*JZ12)","v":2.4287528847304804E-87},{"$f":"IF($E38=\"\",\"\",$E38*KA12)","v":4.771897705158068E-88},{"$f":"IF($E38=\"\",\"\",$E38*KB12)","v":9.3141579583763877E-89},{"$f":"IF($E38=\"\",\"\",$E38*KC12)","v":1.8060956660529263E-89},{"$f":"IF($E38=\"\",\"\",$E38*KD12)","v":3.4792255190934401E-90},{"$f":"IF($E38=\"\",\"\",$E38*KE12)","v":6.6583878273204974E-91},{"$f":"IF($E38=\"\",\"\",$E38*KF12)","v":1.2659025456150217E-91},{"$f":"IF($E38=\"\",\"\",$E38*KG12)","v":2.3909810643663679E-92},{"$f":"IF($E38=\"\",\"\",$E38*KH12)","v":4.4863864279842626E-93},{"$f":"IF($E38=\"\",\"\",$E38*KI12)","v":8.3629961636994233E-94},{"$f":"IF($E38=\"\",\"\",$E38*KJ12)","v":1.5487160350005223E-94},{"$f":"IF($E38=\"\",\"\",$E38*KK12)","v":2.8492225329878852E-95},{"$f":"IF($E38=\"\",\"\",$E38*KL12)","v":5.2074561738667733E-96},{"$f":"IF($E38=\"\",\"\",$E38*KM12)","v":9.4551746412776222E-97},{"$f":"IF($E38=\"\",\"\",$E38*KN12)","v":1.7055252918443828E-97},{"$f":"IF($E38=\"\",\"\",$E38*KO12)","v":3.0562681198159054E-98},{"$f":"IF($E38=\"\",\"\",$E38*KP12)","v":5.4408833689970802E-99},{"$f":"IF($E38=\"\",\"\",$E38*KQ12)","v":9.6225917245230557E-100},{"$f":"IF($E38=\"\",\"\",$E38*KR12)","v":1.690672079753396E-100},{"$f":"IF($E38=\"\",\"\",$E38*KS12)","v":2.9510147463735849E-101},{"$f":"IF($E38=\"\",\"\",$E38*KT12)","v":5.1171489276393484E-102},{"$f":"IF($E38=\"\",\"\",$E38*KU12)","v":8.8151440112193247E-103},{"$f":"IF($E38=\"\",\"\",$E38*KV12)","v":1.5086046589981669E-103},{"$f":"IF($E38=\"\",\"\",$E38*KW12)","v":2.5648747107154369E-104},{"$f":"IF($E38=\"\",\"\",$E38*KX12)","v":4.3321306359698218E-105},{"$f":"IF($E38=\"\",\"\",$E38*KY12)","v":7.2691161979560945E-106},{"$f":"IF($E38=\"\",\"\",$E38*KZ12)","v":1.2117313829986437E-106},{"$f":"IF($E38=\"\",\"\",$E38*LA12)","v":2.0066691717589554E-107},{"$f":"IF($E38=\"\",\"\",$E38*LB12)","v":3.3013371527998079E-108},{"$f":"IF($E38=\"\",\"\",$E38*LC12)","v":5.3957107233312112E-109},{"$f":"IF($E38=\"\",\"\",$E38*LD12)","v":8.760968416870751E-110},{"$f":"IF($E38=\"\",\"\",$E38*LE12)","v":1.4131890032523021E-110},{"$f":"IF($E38=\"\",\"\",$E38*LF12)","v":2.2646081287270582E-111},{"$f":"IF($E38=\"\",\"\",$E38*LG12)","v":3.6052098784574619E-112},{"$f":"IF($E38=\"\",\"\",$E38*LH12)","v":5.7018097313801167E-113},{"$f":"IF($E38=\"\",\"\",$E38*LI12)","v":8.9585880660120482E-114},{"$f":"IF($E38=\"\",\"\",$E38*LJ12)","v":1.3983345609524551E-114},{"$f":"IF($E38=\"\",\"\",$E38*LK12)","v":2.1683395638757466E-115},{"$f":"IF($E38=\"\",\"\",$E38*LL12)","v":3.3403207733690093E-116},{"$f":"IF($E38=\"\",\"\",$E38*LM12)","v":5.1120339891081415E-117},{"$f":"IF($E38=\"\",\"\",$E38*LN12)","v":7.7722000235204855E-118},{"$f":"IF($E38=\"\",\"\",$E38*LO12)","v":1.173921031110689E-118},{"$f":"IF($E38=\"\",\"\",$E38*LP12)","v":1.7614830778554056E-119},2.6258066599894081E-120,{"$f":"IF($E38=\"\",\"\",$E38*LR12)","v":3.8885858689952308E-121},{"$f":"IF($E38=\"\",\"\",$E38*LS12)","v":5.7209126885141698E-122},{"$f":"IF($E38=\"\",\"\",$E38*LT12)","v":8.3614890186014741E-123},{"$f":"IF($E38=\"\",\"\",$E38*LU12)","v":1.2140780455134079E-123},{"$f":"IF($E38=\"\",\"\",$E38*LV12)","v":1.7512746679359547E-124},{"$f":"IF($E38=\"\",\"\",$E38*LW12)","v":2.5096121229457159E-125},{"$f":"IF($E38=\"\",\"\",$E38*LX12)","v":3.5727581573540101E-126},{"$f":"IF($E38=\"\",\"\",$E38*LY12)","v":5.0529536359194399E-127},{"$f":"IF($E38=\"\",\"\",$E38*LZ12)","v":7.0995641076517913E-128},{"$f":"IF($E38=\"\",\"\",$E38*MA12)","v":9.9097508333737231E-129},{"$f":"IF($E38=\"\",\"\",$E38*MB12)","v":1.3741636703576672E-129},{"$f":"IF($E38=\"\",\"\",$E38*MC12)","v":1.8930359794243098E-130},{"$f":"IF($E38=\"\",\"\",$E38*MD12)","v":2.5907407247491506E-131},{"$f":"IF($E38=\"\",\"\",$E38*ME12)","v":3.5223597809051931E-132},{"$f":"IF($E38=\"\",\"\",$E38*MF12)","v":4.7576024943919637E-133},{"$f":"IF($E38=\"\",\"\",$E38*MG12)","v":6.383917570361996E-134},{"$f":"IF($E38=\"\",\"\",$E38*MH12)","v":8.5100295132072145E-135},{"$f":"IF($E38=\"\",\"\",$E38*MI12)","v":1.1269886434113427E-135},{"$f":"IF($E38=\"\",\"\",$E38*MJ12)","v":1.4826979638142965E-136},{"$f":"IF($E38=\"\",\"\",$E38*MK12)","v":1.9378962420378187E-137},{"$f":"IF($E38=\"\",\"\",$E38*ML12)","v":2.5162455966522847E-138},{"$f":"IF($E38=\"\",\"\",$E38*MM12)","v":3.2457884702829967E-139},{"$f":"IF($E38=\"\",\"\",$E38*MN12)","v":4.1594133031481502E-140},{"$f":"IF($E38=\"\",\"\",$E38*MO12)","v":5.2952762004912386E-141},{"$f":"IF($E38=\"\",\"\",$E38*MP12)","v":6.697147081725986E-142},{"$f":"IF($E38=\"\",\"\",$E38*MQ12)","v":8.4146437520276695E-143},{"$f":"IF($E38=\"\",\"\",$E38*MR12)","v":1.0503313037405483E-143},{"$f":"IF($E38=\"\",\"\",$E38*MS12)","v":1.3024515063059449E-144},{"$f":"IF($E38=\"\",\"\",$E38*MT12)","v":1.6045065465633754E-145},{"$f":"IF($E38=\"\",\"\",$E38*MU12)","v":1.9636591356905587E-146},{"$f":"IF($E38=\"\",\"\",$E38*MV12)","v":2.3874560713345483E-147},{"$f":"IF($E38=\"\",\"\",$E38*MW12)","v":2.883695198761914E-148},{"$f":"IF($E38=\"\",\"\",$E38*MX12)","v":3.460254142638136E-149},{"$f":"IF($E38=\"\",\"\",$E38*MY12)","v":4.1248799947532446E-150},{"$f":"IF($E38=\"\",\"\",$E38*MZ12)","v":4.8849409353787572E-151},{"$f":"IF($E38=\"\",\"\",$E38*NA12)","v":5.7471428730045063E-152},{"$f":"IF($E38=\"\",\"\",$E38*NB12)","v":6.7172165373011994E-153},{"$f":"IF($E38=\"\",\"\",$E38*NC12)","v":7.7995829499674743E-154},{"$f":"IF($E38=\"\",\"\",$E38*ND12)","v":8.997007694802703E-155},{"$f":"IF($E38=\"\",\"\",$E38*NE12)","v":1.0310256754099165E-155},{"$f":"IF($E38=\"\",\"\",$E38*NF12)","v":1.1737768698567313E-156},{"$f":"IF($E38=\"\",\"\",$E38*NG12)","v":1.3275359531268472E-157},{"$f":"IF($E38=\"\",\"\",$E38*NH12)","v":1.491597731765892E-158},{"$f":"IF($E38=\"\",\"\",$E38*NI12)","v":1.6649523730324032E-159},{"$f":"IF($E38=\"\",\"\",$E38*NJ12)","v":1.8462758679967698E-160},{"$f":"IF($E38=\"\",\"\",$E38*NK12)","v":2.0339302226111629E-161},{"$f":"IF($E38=\"\",\"\",$E38*NL12)","v":2.2259744955159182E-162},{"$f":"IF($E38=\"\",\"\",$E38*NM12)","v":2.4201874043859021E-163},{"$f":"IF($E38=\"\",\"\",$E38*NN12)","v":2.6141017430147151E-164},{"$f":"IF($E38=\"\",\"\",$E38*NO12)","v":2.8050503099485324E-165},{"$f":"IF($E38=\"\",\"\",$E38*NP12)","v":2.9902224735318061E-166},{"$f":"IF($E38=\"\",\"\",$E38*NQ12)","v":3.1667299198000353E-167},{"$f":"IF($E38=\"\",\"\",$E38*NR12)","v":3.3316795838419896E-168},{"$f":"IF($E38=\"\",\"\",$E38*NS12)","v":3.4822512876593556E-169},{"$f":"IF($E38=\"\",\"\",$E38*NT12)","v":3.6157772318668735E-170},{"$f":"IF($E38=\"\",\"\",$E38*NU12)","v":3.7298202437795682E-171},{"$f":"IF($E38=\"\",\"\",$E38*NV12)","v":3.822247592510623E-172},{"$f":"IF($E38=\"\",\"\",$E38*NW12)","v":3.8912972555568263E-173},{"$f":"IF($E38=\"\",\"\",$E38*NX12)","v":3.9356337634446245E-174},{"$f":"IF($E38=\"\",\"\",$E38*NY12)","v":3.9543911507959517E-175},{"$f":"IF($E38=\"\",\"\",$E38*NZ12)","v":3.9472010842340663E-176},{"$f":"IF($E38=\"\",\"\",$E38*OA12)","v":3.9142048908376156E-177},{"$f":"IF($E38=\"\",\"\",$E38*OB12)","v":3.8560489384029176E-178},3.7738635784780858E-179,3.6692266104447763E-180,3.5441129163062321E-181,3.4008325116641444E-182,3.2419597257746984E-183,3.0702565386793723E-184,2.8885932526975461E-185]
[{"$f":"IF(Principal!M23=\"\",\"\",MATCH(Principal!M23,Datos!A:A,0))","v":15},{"$f":"IF(A39=\"\",\"\",INDIRECT(\"Datos!A\"&Espectros!A13,TRUE))","v":"Photo Red (650-665) XP-E2"},{"$f":"IF(A39=\"\",\"\",INDIRECT(\"Datos!O\"&Espectros!A13,TRUE))","v":2.42},{"$f":"IF(B39=\"\",\"\",INDIRECT(ADDRESS(17+MATCH(B39,Principal!$M$18:$M$30,0),15+MATCH(\"X\",Principal!$P$17:$R$17,0),1,1,\"Principal\"),TRUE)/C39)","v":3.3057851239669422},{"$f":"IF(A39=\"\",\"\",INDIRECT(\"Datos!N\"&Espectros!A13,TRUE)*D39)","v":4.0141676505312871},3.3659467414256714E-104,1.9797781602509775E-103,1.1568325398430593E-102,6.7153575519375525E-102,3.8726875928703925E-101,2.2187096133352551E-100,1.2627958443316518E-99,7.1402020417771159E-99,4.0108141250876253E-98,2.2382018406276754E-97,1.240825298033436E-96,6.833869922111968E-96,3.7391032242007947E-95,2.03241728324E-94,1.0974960908677357E-93,5.8875927603644178E-93,3.13774192898865E-92,1.661274342397336E-91,8.7379624107511767E-91,4.5658712878848618E-90,2.3701827603727898E-89,1.2223193397378878E-88,6.2622760729755777E-88,3.1873107968715333E-87,1.6116149823114756E-86,8.0954847002049336E-86,4.0398858550315166E-85,2.0028111966354964E-84,9.8640577164263648E-84,4.8263173683062138E-83,2.3459612096732267E-82,1.1328449024927624E-81,5.4345646651127321E-81,2.5900237389175042E-80,1.2262736788007413E-79,5.7678737575001416E-79,2.69518613694446E-78,1.2511415867977791E-77,5.7699072709498195E-77,2.6434791253524668E-76,1.2031717184720013E-75,5.4403146992573343E-75,2.443796891767495E-74,1.0905632825559468E-73,4.8348311676919971E-73,2.1293959933881688E-72,9.3170028855567482E-72,4.0498664816148361E-71,1.7488391168414956E-70,7.5024600241414192E-70,3.1974384951658016E-69,1.3537715609730793E-68,5.6942070108050981E-68,2.3793908922199231E-67,9.8774085166101137E-67,4.0734736849391939E-66,1.6689045246965483E-65,6.7927048915663226E-65,2.7466206448290939E-64,1.1033144116084089E-63,4.402958376964665E-63,1.7455590570187035E-62,6.8749444214058047E-62,2.6899766759039738E-61,1.0456167100439023E-60,4.0377664376482432E-60,1.5490111735279771E-59,5.903541018428057E-59,2.2351943845721784E-58,8.4074189302364397E-58,3.1416279841912837E-57,1.1662495878010161E-56,4.3010345150044147E-56,1.5757925035814828E-55,5.735480538647722E-55,2.0738878573375225E-54,7.4498135758483662E-54,2.6585829753620641E-53,9.4253982960959268E-53,3.3196621117299222E-52,1.1615361478201729E-51,4.0375345899805256E-51,1.3942622216650652E-50,4.7831868021389069E-50,1.6301775280021237E-49,5.5194669865069987E-49,1.8565389109056867E-48,6.2037694506303089E-48,2.0594531734531689E-47,6.7919248426974608E-47,2.2252484093393614E-46,7.2428385589743482E-46,2.3419832717877999E-45,7.5232146013964472E-45,2.4008652735453216E-44,7.6116148991330049E-44,2.3973448100188925E-43,7.5011677294965704E-43,2.3316960020484772E-42,7.2004503067648108E-42,2.2089814296566875E-41,6.7323882018112268E-41,2.0384070540195502E-40,6.1313676033914727E-40,1.8321814174616848E-39,5.4390652801444531E-39,1.6040752814289017E-38,4.6996974402896225E-38,1.3679169490784202E-37,3.9554348872980363E-37,1.1362487717034041E-36,3.2426292187604684E-36,9.1931815052188056E-36,2.5892802313177969E-35,7.2449760551055861E-35,2.0139075557248813E-34,5.5614339801778821E-34,1.5257336294307362E-33,4.1582953208365568E-33,1.1258917017527952E-32,3.0284651812409196E-32,8.0926960547536055E-32,2.1483673921567774E-31,5.6658953996895648E-31,1.484476172482117E-30,3.8638707240855432E-30,9.9911762892524197E-30,2.566583123965116E-29,6.5499611592796465E-29,1.6606067273381267E-28,4.1825345700975176E-28,1.0465427259877157E-27,2.6014714595818826E-27,6.4243004811739133E-27,1.5760765376739757E-26,3.8412576663149745E-26,9.3006704016914635E-26,2.2371739107386064E-25,5.346011837184372E-25,1.2691260659817116E-24,2.9931211093560756E-24,7.0127522099825451E-24,1.6322902087840237E-23,3.7744261750807115E-23,8.6706004321341311E-23,1.978755289337138E-22,4.4862108608912062E-22,1.0104433128581137E-21,2.2609393040141939E-21,5.0258616718523525E-21,1.1098820732047287E-20,2.4349375111984635E-20,5.3069314965024453E-20,1.1490629485085952E-19,2.471660621393682E-19,5.2817584253694042E-19,1.1212769824545363E-18,2.364786613667596E-18,4.9546808771913734E-18,1.031297808107655E-17,2.1325399699955096E-17,4.3808152972964449E-17,8.9404089374093364E-17,1.8126105485727893E-16,3.6508694213556218E-16,7.3052111786105501E-16,1.4521581879059086E-15,2.867739899541738E-15,5.6261365381649764E-15,1.0965424637748031E-14,2.1231726896372779E-14,4.0840388240110187E-14,7.8043921362710604E-14,1.4816068638730055E-13,2.7942905236963714E-13,5.2354595981735636E-13,9.7450202306865554E-13,1.8020023605723502E-12,3.3103403219018802E-12,6.0413585349391696E-12,1.0953205979978937E-11,1.9728432361598369E-11,3.5301127562647944E-11,6.2752243298326965E-11,1.1081909828148047E-10,1.9442165972064207E-10,3.3885926025635844E-10,5.8673061325335514E-10,1.0092594316788319E-9,1.7246920548519025E-9,2.9279589709262777E-9,4.9381364791966042E-9,8.2738161939682448E-9,1.3771883066069599E-8,2.2773273526287768E-8,3.7411254908952887E-8,6.1055356026283321E-8,9.8989683982747931E-8,1.5944128487647129E-7,2.551269347505455E-7,4.0556130780444171E-7,6.4047384097528964E-7,1.0048262129895029E-6,1.5661205691640592E-6,2.4249573744717438E-6,3.7301620771382327E-6,5.7002771781189805E-6,8.6538412352352107E-6,1.3051684008786566E-5,1.9555496909577669E-5,2.9108232771913635E-5,4.3043492321643401E-5,6.3233007695556482E-5,9.2283669848309223E-5,1.337982865866603E-4,1.9271739873375212E-4,2.7576298791434113E-4,3.9200869950837522E-4,5.5360513783271224E-4,7.7669265284319427E-4,1.0825375255054919E-3,1.4989301688370148E-3,2.0618853813445014E-3,2.8176841973359306E-3,3.8252937513230576E-3,5.1591950084376708E-3,6.9126373634135988E-3,9.2013231431306158E-3,1.2167503214185723E-2,1.598443662952918E-2,2.0861132269220845E-2,2.7047248874723252E-2,3.4837982417603858E-2,4.4578717713912204E-2,5.6669166683241172E-2,7.1566661562878081E-2,8.9788221453921374E-2,0.11191096929024279,0.1385704487865802,0.17045638260898885,0.20830542941246755,0.25289054358803659,0.30500662171517423,0.36545223651184455,0.43500741316935693,0.5144075924710475,0.60431414520084648,0.70528204505515002,0.8177255613997565,0.9418830846580758,1.0777824294029981,1.2252081553667928,1.3836725862169692,1.5523922726839936,1.7302716255436179,1.9158953240950087,2.1075308815355847,2.3031424209058655,2.5004162921883717,2.6967986582900849,2.8895446177341646,3.0757778437987175,3.2525591370114983,3.4169617462763062,3.5661508494301248,3.697464230036354,3.8084909717618602,3.8971449351610965,3.9617298949341557,4.0009934987703071,4.0141676505312871,4.0009934987703071,3.9617298949341575,3.8971449351611001,3.8084909717618638,3.6974642300363576,3.5661508494301297,3.416961746276312,3.2525591370114983,3.0757778437987175,2.8895446177341646,2.6967986582900849,2.5004162921883784,2.3031424209058722,2.1075308815355918,1.9158953240950147,1.7302716255436241,1.5523922726839996,1.3836725862169692,1.2252081553667928,1.0777824294029981,0.9418830846580758,0.8177255613997606,0.70528204505515368,0.60431414520084981,0.51440759247105028,0.43500741316935959,0.36545223651184688,0.30500662171517423,0.25289054358803659,0.20830542941246755,0.17045638260898885,0.13857044878658117,0.11191096929024358,8.9788221453922054E-2,7.156666156287865E-2,5.6669166683241623E-2,4.4578717713912551E-2,3.4837982417603858E-2,2.7047248874723252E-2,2.0861132269220845E-2,1.598443662952934E-2,1.216750321418583E-2,9.201323143130706E-3,6.9126373634136734E-3,5.1591950084377254E-3,3.8252937513230988E-3,2.8176841973359627E-3,2.0618853813445235E-3,1.4989301688370319E-3,1.0825375255055034E-3,7.7669265284321216E-4,5.5360513783271224E-4,3.9200869950837522E-4,2.7576298791434113E-4,1.9271739873375212E-4,1.337982865866603E-4,9.2283669848309223E-5,6.3233007695556482E-5,4.3043492321643401E-5,2.9108232771913635E-5,1.9555496909577947E-5,1.3051684008786773E-5,8.6538412352353327E-6,5.7002771781190618E-6,3.7301620771382852E-6,2.4249573744717785E-6,1.5661205691640841E-6,1.004826212989519E-6,6.4047384097529875E-7,4.0556130780444753E-7,2.551269347505537E-7,1.5944128487647129E-7,9.8989683982747931E-8,6.1055356026283321E-8,3.7411254908952887E-8,2.2773273526287768E-8,1.3771883066069599E-8,8.2738161939682448E-9,4.9381364791966042E-9,2.9279589709263298E-9,1.7246920548519329E-9,1.0092594316788499E-9,5.8673061325336569E-10,3.3885926025636454E-10,1.9442165972064553E-10,1.1081909828148244E-10,6.2752243298328076E-11,3.5301127562648823E-11,1.9728432361598789E-11,1.0953205979979404E-11,6.0413585349391696E-12,3.3103403219018802E-12,1.8020023605723502E-12,9.7450202306865554E-13,5.2354595981735636E-13,2.7942905236963714E-13,1.4816068638730055E-13,7.8043921362710604E-14,4.0840388240110187E-14,2.1231726896373231E-14,1.0965424637748266E-14,5.6261365381650955E-15,2.8677398995417992E-15,1.4521581879059398E-15,7.3052111786107049E-16,3.6508694213557253E-16,1.812610548572828E-16,8.9404089374095274E-17,4.380815297296538E-17,2.1325399699956304E-17,1.031297808107655E-17,4.9546808771913734E-18,2.364786613667596E-18,1.1212769824545363E-18,5.2817584253694042E-19,2.471660621393682E-19,1.1490629485086137E-19,5.3069314965024838E-20,2.4349375111985156E-20,1.1098820732047365E-20]
[{"$f":"IF(Principal!M24=\"\",\"\",MATCH(Principal!M24,Datos!A:A,0))","v":22},{"$f":"IF(A40=\"\",\"\",INDIRECT(\"Datos!A\"&Espectros!A14,TRUE))","v":"UV (405-410) Semiled"},{"$f":"IF(A40=\"\",\"\",INDIRECT(\"Datos!O\"&Espectros!A14,TRUE))","v":2.38},{"$f":"IF(B40=\"\",\"\",INDIRECT(ADDRESS(17+MATCH(B40,Principal!$M$18:$M$30,0),15+MATCH(\"X\",Principal!$P$17:$R$17,0),1,1,\"Principal\"),TRUE)/C40)","v":3.3613445378151261},{"$f":"IF(A40=\"\",\"\",INDIRECT(\"Datos!N\"&Espectros!A14,TRUE)*D40)","v":2.8571428571428572},0.76712749386919266,0.87205992234930596,0.98484931136619647,1.1049380293809614,1.2315462746516357,1.3636666718558614,1.5000660980341547,1.6392954878212371,1.7797080667929035,1.9194861038417659,2.0566758749754936,2.1892301123508529,2.3150567975199494,2.4320727723496081,2.5382603104767374,2.6317245402023479,2.7107494563716781,2.7738502185558409,2.8198195134531354,2.8477659608894537,2.8571428571428572,2.8477659608894537,2.8198195134531354,2.7738502185558405,2.7107494563716781,2.631724540202347,2.5382603104767374,2.4320727723496072,2.315056797519949,2.189230112350852,2.0566758749754932,1.9194861038417654,1.7797080667929031,1.6392954878212365,1.500066098034154,1.3636666718558608,1.231546274651635,1.1049380293809612,0.98484931136619625,0.87205992234930552,0.76712749386919266,0.67039913672721796,0.58202819370218162,0.50199486736278454,0.43012947981942717,0.36613716875880531,0.30962292349113107,0.26011600363490162,0.21709294839727108,0.17999856337736719,0.14826445269946201,0.12132483703345655,9.8629554724566457E-2,7.9654278141878976E-2,6.3908087034850153E-2,5.093862381828395E-2,4.0335112756895261E-2,3.1729557902255213E-2,2.4796446309000391E-2,1.9251277140244195E-2,1.4848217673974809E-2,1.1377157836312036E-2,8.6603993465675377E-3,6.5491770606988849E-3,4.920171299841466E-3,3.6721329177703513E-3,2.722709081824066E-3,2.0055281639861696E-3,1.4675772420157922E-3,1.0668855907604634E-3,7.7051200344802377E-4,5.5282241761192552E-4,3.9403659810446256E-4,2.7901795670890389E-4,1.9627836198609126E-4,1.3716944262814166E-4,9.5232898099917377E-5,6.5684259127325978E-5,4.500702312448432E-5,3.063683865246383E-5,2.0718212737656173E-5,1.3918912506228886E-5,9.289728029783459E-6,6.1594987615498092E-6,4.0572561091317814E-6,2.6549977137278199E-6,1.7259990724181235E-6,1.1147093462873597E-6,7.1519983395135212E-7,4.5586667504711788E-7,2.8866422496669087E-7,1.8159034767538954E-7,1.1348467923560683E-7,7.0457363305368387E-8,4.3457047524590191E-8,2.6628010846960773E-8,1.6209212333416588E-8,9.8023402999671841E-9,5.8890103498244555E-9,3.5147912587222887E-9,2.0840178557769609E-9,1.2275749331593084E-9,7.1835524254788212E-10,4.1761414237445142E-10,2.4118806171188038E-10,1.383824754482217E-10,7.8877122894465509E-11,4.4664831994691544E-11,2.5126096676943536E-11,1.4042001857372956E-11,7.7961054328086203E-12,4.300025780750866E-12,2.3561834055890103E-12,1.2826016801720982E-12,6.9361614583122936E-13,3.7264153610529482E-13,1.9888773727485936E-13,1.0545554736978449E-13,5.5548908734635195E-14,2.9068746923843129E-14,1.5111993849771319E-14,7.804802242161888E-15,4.0044854183409811E-15,2.0411560461444283E-15,1.0335949455095071E-15,5.1995914859522147E-16,2.5985599999060602E-16,1.2901522139841619E-16,6.3634675378031151E-17,3.1181097116051162E-17,1.517866684526237E-17,7.3404138106486561E-18,3.5265669772950864E-18,1.6831716485516777E-18,7.9808538162942231E-19,3.7593692321746934E-19,1.7592407952272676E-19,8.1786245158554264E-20,3.7772865357458854E-20,1.7331025815000827E-20,7.8997488739865983E-21,3.5772309546713802E-21,1.6092567987395487E-21,7.191978873872507E-22,3.1931265539284468E-22,1.4084081765281983E-22,6.1714273664013514E-23,2.6865033363810147E-23,1.1618065603698297E-23,4.9914295141640467E-24,2.1303979660710892E-24,9.0331914108110063E-25,3.8051025429371657E-25,1.5923414305845603E-25,6.6198889329686296E-26,2.7340716330830111E-26,1.1217956532856103E-26,4.5725903424827067E-27,1.8516355682906732E-27,7.4489217555597825E-28,2.9769804881282755E-28,1.1819612588700783E-28,4.6620311780755125E-29,1.8268032823516414E-29,7.1113666529384869E-30,2.7501668094961807E-30,1.0565977462961251E-30,4.0327843727202773E-31,1.5291320850057278E-31,5.760095427207142E-32,2.1555546290009208E-32,8.0136997595346008E-33,2.959727846007196E-33,1.0859633480065827E-33,3.9584324211854334E-34,1.4334283190747685E-34,5.1567182509869173E-35,1.8429582822909022E-35,6.5433821301851494E-36,2.3079890321765685E-36,8.0874177280065822E-37,2.8153389491944846E-37,9.736350049322872E-38,3.34507876632379E-38,1.1417241708993947E-38,3.8713346993969342E-39,1.3040820677227843E-39,4.3640910588846426E-40,1.45086619727278E-40,4.7918763083481279E-41,1.5722750175792163E-41,5.1250263948149534E-42,1.6596189191050926E-42,5.339066442759324E-43,1.7063454236016824E-43,5.4176788399711382E-44,1.7088511652881406E-44,5.3547586280527649E-45,1.6669410346254339E-45,5.1551968566817419E-46,1.5838532795886044E-46,4.8342523880376045E-47,1.465846082281373E-47,4.4156241383898081E-48,1.3214188718799299E-48,3.9285617962787339E-49,1.1603028287545024E-49,3.4045035474048973E-50,9.9238664012636763E-51,2.8737746199274785E-51,8.2674043462494658E-52,2.3628183265842384E-52,6.7086658460447478E-53,1.8922855295224102E-53,5.3025143686920725E-54,1.4761201808108247E-54,4.0823126186845547E-55,1.1215934878432906E-55,3.0613245665619662E-56,8.300952948466528E-57,2.2360999181596783E-57,5.9841040621094659E-58,1.5909324737249033E-58,4.2019321366458523E-59,1.1025314823346189E-59,2.8739396409143376E-60,7.442330700900928E-61,1.91463045755529E-61,4.8933427940595649E-62,1.2424273288192652E-62,3.1338703741924966E-63,7.8530025767422043E-64,1.9549476354371786E-64,4.8348075992913235E-65,1.1878673381663668E-65,2.8993547992802497E-66,7.0303907677048463E-67,1.693566458580063E-67,4.0529355782791528E-68,9.6356681692789764E-69,2.2758238700885999E-69,5.3399862524771282E-70,1.2447619596342411E-70,2.8825520251493833E-71,6.6315138185433331E-72,1.5156289129411196E-72,3.44126218406342E-73,7.7622445405454885E-74,1.7394083759052478E-74,3.8722239918243383E-75,8.563751643241891E-76,1.8815351421626381E-76,4.1068163516760477E-77,8.9051842354430153E-78,1.9183383680604686E-78,4.1053689685736302E-79,8.7281832432288066E-80,1.8434874847589817E-80,3.8681313204629217E-81,8.0631901883308373E-82,1.6697723904144731E-82,3.4352023621473638E-83,7.0208881393387651E-84,1.4255303223111475E-84,2.8754481674047853E-85,5.7620802866164524E-86,1.1470906638805532E-86,2.2686153318911083E-87,4.4572670872358121E-88,8.7000376534284952E-89,1.687012435324162E-89,3.2498260343180486E-90,6.2193732452993669E-91,1.182436443706339E-91,2.2333339612213331E-92,4.1905807294358504E-93,7.8115898232357257E-94,1.4466028898356528E-94,2.661361706637036E-95,4.8641074151502834E-96,8.8317565330615156E-97,1.5930730747996983E-97,2.8547559360917801E-98,5.0821438062060643E-99,8.9881351273017562E-100,1.5791991953740514E-100,2.7564423455137885E-101,4.7797544928499408E-102,8.2339257247653041E-103,1.4091362199433427E-103,2.3957620924265073E-104,4.046495648982801E-105,6.7898338112776707E-106,1.1318370060976344E-106,1.874361314280343E-107,3.0836665712965242E-108,5.039949576737945E-109,8.1833221476265258E-110,1.3200117063345682E-110,2.115293307052747E-111,3.3675037326251022E-112,5.3258662326078027E-113,8.3679119297914755E-114,1.3061366778127327E-114,2.0253721201037195E-115,3.1200798432567673E-116,4.7749768030130993E-117,7.2597472747169376E-118,1.0965196444439879E-118,1.6453413364582528E-119,2.4526765505392788E-120,3.6321955919182095E-121,5.3437096541072496E-122,7.810182050342924E-123,1.1340289436114897E-123,1.6358060085116991E-124,2.3441431917626149E-125,3.3371916854409382E-126,4.7197918577274852E-127,6.6314609796751281E-128,9.256360668536422E-129,1.2835594723121797E-129,1.768220420341187E-130,2.4199226549853336E-131,3.290116278867302E-132,4.4439144178383944E-133,5.9629999283594295E-134,7.9489286661821121E-135,1.052681699889656E-135,1.3849376585077807E-136,1.8101228634418157E-137,2.3503392935761767E-138,3.031780439275327E-139,3.8851662721713494E-140,4.9461371103489588E-141,6.2555769444693277E-142,7.8598320760698008E-143,9.8107869030710552E-144,1.2165755828132455E-144,1.4987149061306256E-145,1.8341871047659066E-146,2.2300413853124904E-147,2.6935614493926908E-148,3.2321055178482575E-149,3.8529098852086369E-150,4.5628569176606994E-151,5.368210375882415E-152,6.2743231392359597E-153,7.2853247334852742E-154,8.4037983962428493E-155,9.6304596054755984E-156,1.0963849883277162E-156,1.2400061100635387E-157,1.3932506285725365E-158,1.5551752934918053E-159,1.7245433931837959E-160,1.899824933208229E-161,2.0792069463610224E-162,2.2606146084923263E-163,2.4417433863324263E-164,2.620101937864014E-165,2.7930649478041166E-166,2.9579345404722248E-167,3.1120084024892404E-168,3.2526523016592833E-169,3.3773743374574926E-170,3.4838980299032006E-171,3.5702312677290946E-172,3.6347282057392738E-173,3.6761414273927038E-174,3.6936620639298655E-175,3.6869460676911612E-176,3.6561254474856851E-177,3.6018039534532751E-178,3.5250374084685425E-179,3.4272995811846815E-180,3.3104351416047225E-181,3.1766017966093658E-182,3.0282041394598834E-183,2.8678220416235895E-184,2.6981365547174883E-185,2.521856272701291E-186,2.3416469374686792E-187,2.1600667716223781E-188,1.979509614956979E-189,1.8021574556981473E-190,1.6299434167446866E-191,1.4645257142249253E-192,1.3072725821339821E-193,1.1592576802840458E-194,1.021265095564623E-195]
[{"$f":"IF(Principal!M25=\"\",\"\",MATCH(Principal!M25,Datos!A:A,0))","v":""},{"$f":"IF(A41=\"\",\"\",INDIRECT(\"Datos!A\"&Espectros!A15,TRUE))","v":""},{"$f":"IF(A41=\"\",\"\",INDIRECT(\"Datos!O\"&Espectros!A15,TRUE))","v":""},{"$f":"IF(B41=\"\",\"\",INDIRECT(ADDRESS(17+MATCH(B41,Principal!$M$18:$M$30,0),15+MATCH(\"X\",Principal!$P$17:$R$17,0),1,1,\"Principal\"),TRUE)/C41)","v":""},{"$f":"IF(A41=\"\",\"\",INDIRECT(\"Datos!N\"&Espectros!A15,TRUE)*D41)","v":""},"","","","","","","","","","","","","","","","","","","","","","","","","","","","","","","","","","","","","","","","","","","","","","","","","","","","","","","","","","","","","","","","","","","","","","","","","","","","","","","","","","","","","","","","","","","","","","","","","","","","","","","","","","","","","","","","","","","","","","","","","","","","","","","","","","","","","","","","","","","","","","","","","","","","","","","","","","","","","","","","","","","","","","","","","","","","","","","","","","","","","","","","","","","","","","","","","","","","","","","","","","","","","","","","","","","","","","","","","","","","","","","","","","","","","","","","","","","","","","","","","","","","","","","","","","","","","","","","","","","","","","","","","","","","","","","","","","","","","","","","","","","","","","","","","","","","","","","","","","","","","","","","","","","","","","","","","","","","","","","","","","","","","","","","","","","","","","","","","","","","","","","","","","","","","","","","","","","","","","","","","","","","","","","","","","","","","","","","","","","","","","","","","","","","","","",""]
[{"$f":"IF(Principal!M26=\"\",\"\",MATCH(Principal!M26,Datos!A:A,0))","v":""},{"$f":"IF(A42=\"\",\"\",INDIRECT(\"Datos!A\"&Espectros!A16,TRUE))","v":""},{"$f":"IF(A42=\"\",\"\",INDIRECT(\"Datos!O\"&Espectros!A16,TRUE))","v":""},{"$f":"IF(B42=\"\",\"\",INDIRECT(ADDRESS(17+MATCH(B42,Principal!$M$18:$M$30,0),15+MATCH(\"X\",Principal!$P$17:$R$17,0),1,1,\"Principal\"),TRUE)/C42)","v":""},{"$f":"IF(A42=\"\",\"\",INDIRECT(\"Datos!N\"&Espectros!A16,TRUE)*D42)","v":""},"","","","","","","","","","","","","","","","","","","","","","","","","","","","","","","","","","","","","","","","","","","","","","","","","","","","","","","","","","","","","","","","","","","","","","","","","","","","","","","","","","","","","","","","","","","","","","","","","","","","","","","","","","","","","","","","","","","","","","","","","","","","","","","","","","","","","","","","","","","","","","","","","","","","","","","","","","","","","","","","","","","","","","","","","","","","","","","","","","","","","","","","","","","","","","","","","","","","","","","","","","","","","","","","","","","","","","","","","","","","","","","","","","","","","","","","","","","","","","","","","","","","","","","","","","","","","","","","","","","","","","","","","","","","","","","","","","","","","","","","","","","","","","","","","","","","","","","","","","","","","","","","","","","","","","","","","","","","","","","","","","","","","","","","","","","","","","","","","","","","","","","","","","","","","","","","","","","","","","","","","","","","","","","","","","","","","","","","","","","","","","","","","","","","","","",""]
[{"$f":"IF(Principal!M27=\"\",\"\",MATCH(Principal!M27,Datos!A:A,0))","v":""},{"$f":"IF(A43=\"\",\"\",INDIRECT(\"Datos!A\"&Espectros!A17,TRUE))","v":""},{"$f":"IF(A43=\"\",\"\",INDIRECT(\"Datos!O\"&Espectros!A17,TRUE))","v":""},{"$f":"IF(B43=\"\",\"\",INDIRECT(ADDRESS(17+MATCH(B43,Principal!$M$18:$M$30,0),15+MATCH(\"X\",Principal!$P$17:$R$17,0),1,1,\"Principal\"),TRUE)/C43)","v":""},{"$f":"IF(A43=\"\",\"\",INDIRECT(\"Datos!N\"&Espectros!A17,TRUE)*D43)","v":""},"","","","","","","","","","","","","","","","","","","","","","","","","","","","","","","","","","","","","","","","","","","","","","","","","","","","","","","","","","","","","","","","","","","","","","","","","","","","","","","","","","","","","","","","","","","","","","","","","","","","","","","","","","","","","","","","","","","","","","","","","","","","","","","","","","","","","","","","","","","","","","","","","","","","","","","","","","","","","","","","","","","","","","","","","","","","","","","","","","","","","","","","","","","","","","","","","","","","","","","","","","","","","","","","","","","","","","","","","","","","","","","","","","","","","","","","","","","","","","","","","","","","","","","","","","","","","","","","","","","","","","","","","","","","","","","","","","","","","","","","","","","","","","","","","","","","","","","","","","","","","","","","","","","","","","","","","","","","","","","","","","","","","","","","","","","","","","","","","","","","","","","","","","","","","","","","","","","","","","","","","","","","","","","","","","","","","","","","","","","","","","","","","","","","","","",""]
[{"$f":"IF(Principal!M28=\"\",\"\",MATCH(Principal!M28,Datos!A:A,0))","v":""},{"$f":"IF(A44=\"\",\"\",INDIRECT(\"Datos!A\"&Espectros!A18,TRUE))","v":""},{"$f":"IF(A44=\"\",\"\",INDIRECT(\"Datos!O\"&Espectros!A18,TRUE))","v":""},{"$f":"IF(B44=\"\",\"\",INDIRECT(ADDRESS(17+MATCH(B44,Principal!$M$18:$M$30,0),15+MATCH(\"X\",Principal!$P$17:$R$17,0),1,1,\"Principal\"),TRUE)/C44)","v":""},{"$f":"IF(A44=\"\",\"\",INDIRECT(\"Datos!N\"&Espectros!A18,TRUE)*D44)","v":""},"","","","","","","","","","","","","","","","","","","","","","","","","","","","","","","","","","","","","","","","","","","","","","","","","","","","","","","","","","","","","","","","","","","","","","","","","","","","","","","","","","","","","","","","","","","","","","","","","","","","","","","","","","","","","","","","","","","","","","","","","","","","","","","","","","","","","","","","","","","","","","","","","","","","","","","","","","","","","","","","","","","","","","","","","","","","","","","","","","","","","","","","","","","","","","","","","","","","","","","","","","","","","","","","","","","","","","","","","","","","","","","","","","","","","","","","","","","","","","","","","","","","","","","","","","","","","","","","","","","","","","","","","","","","","","","","","","","","","","","","","","","","","","","","","","","","","","","","","","","","","","","","","","","","","","","","","","","","","","","","","","","","","","","","","","","","","","","","","","","","","","","","","","","","","","","","","","","","","","","","","","","","","","","","","","","","","","","","","","","","","","","","","","","","","","",""]
[{"$f":"IF(Principal!M29=\"\",\"\",MATCH(Principal!M29,Datos!A:A,0))","v":""},{"$f":"IF(A45=\"\",\"\",INDIRECT(\"Datos!A\"&Espectros!A19,TRUE))","v":""},{"$f":"IF(A45=\"\",\"\",INDIRECT(\"Datos!O\"&Espectros!A19,TRUE))","v":""},{"$f":"IF(B45=\"\",\"\",INDIRECT(ADDRESS(17+MATCH(B45,Principal!$M$18:$M$30,0),15+MATCH(\"X\",Principal!$P$17:$R$17,0),1,1,\"Principal\"),TRUE)/C45)","v":""},{"$f":"IF(A45=\"\",\"\",INDIRECT(\"Datos!N\"&Espectros!A19,TRUE)*D45)","v":""},"","","","","","","","","","","","","","","","","","","","","","","","","","","","","","","","","","","","","","","","","","","","","","","","","","","","","","","","","","","","","","","","","","","","","","","","","","","","","","","","","","","","","","","","","","","","","","","","","","","","","","","","","","","","","","","","","","","","","","","","","","","","","","","","","","","","","","","","","","","","","","","","","","","","","","","","","","","","","","","","","","","","","","","","","","","","","","","","","","","","","","","","","","","","","","","","","","","","","","","","","","","","","","","","","","","","","","","","","","","","","","","","","","","","","","","","","","","","","","","","","","","","","","","","","","","","","","","","","","","","","","","","","","","","","","","","","","","","","","","","","","","","","","","","","","","","","","","","","","","","","","","","","","","","","","","","","","","","","","","","","","","","","","","","","","","","","","","","","","","","","","","","","","","","","","","","","","","","","","","","","","","","","","","","","","","","","","","","","","","","","","","","","","","","","","",""]
[{"$f":"IF(Principal!M30=\"\",\"\",MATCH(Principal!M30,Datos!A:A,0))","v":""},{"$f":"IF(A46=\"\",\"\",INDIRECT(\"Datos!A\"&Espectros!A20,TRUE))","v":""},{"$f":"IF(A46=\"\",\"\",INDIRECT(\"Datos!O\"&Espectros!A20,TRUE))","v":""},{"$f":"IF(B46=\"\",\"\",INDIRECT(ADDRESS(17+MATCH(B46,Principal!$M$18:$M$30,0),15+MATCH(\"X\",Principal!$P$17:$R$17,0),1,1,\"Principal\"),TRUE)/C46)","v":""},{"$f":"IF(A46=\"\",\"\",INDIRECT(\"Datos!N\"&Espectros!A20,TRUE)*D46)","v":""},"","","","","","","","","","","","","","","","","","","","","","","","","","","","","","","","","","","","","","","","","","","","","","","","","","","","","","","","","","","","","","","","","","","","","","","","","","","","","","","","","","","","","","","","","","","","","","","","","","","","","","","","","","","","","","","","","","","","","","","","","","","","","","","","","","","","","","","","","","","","","","","","","","","","","","","","","","","","","","","","","","","","","","","","","","","","","","","","","","","","","","","","","","","","","","","","","","","","","","","","","","","","","","","","","","","","","","","","","","","","","","","","","","","","","","","","","","","","","","","","","","","","","","","","","","","","","","","","","","","","","","","","","","","","","","","","","","","","","","","","","","","","","","","","","","","","","","","","","","","","","","","","","","","","","","","","","","","","","","","","","","","","","","","","","","","","","","","","","","","","","","","","","","","","","","","","","","","","","","","","","","","","","","","","","","","","","","","","","","","","","","","","","","","","","","",""]
[{"$f":"IF(Principal!M31=\"\",\"\",MATCH(Principal!M31,Datos!A:A,0))","v":""},null,{"$f":"IF(A47=\"\",\"\",INDIRECT(\"Datos!O\"&Espectros!A21,TRUE))","v":""},{"$f":"IF(B47=\"\",\"\",INDIRECT(ADDRESS(17+MATCH(B47,Principal!$M$18:$M$30,0),15+MATCH(\"X\",Principal!$P$17:$R$17,0),1,1,\"Principal\"),TRUE)/C47)","v":""},{"$f":"IF(A47=\"\",\"\",INDIRECT(\"Datos!N\"&Espectros!A21,TRUE)*D47)","v":""}]
[{"$f":"IF(Principal!M32=\"\",\"\",MATCH(Principal!M32,Datos!A:A,0))","v":""},null,{"$f":"IF(A48=\"\",\"\",INDIRECT(\"Datos!O\"&Espectros!A22,TRUE))","v":""},{"$f":"IF(B48=\"\",\"\",INDIRECT(ADDRESS(17+MATCH(B48,Principal!$M$18:$M$30,0),15+MATCH(\"X\",Principal!$P$17:$R$17,0),1,1,\"Principal\"),TRUE)/C48)","v":""},{"$f":"IF(A48=\"\",\"\",INDIRECT(\"Datos!N\"&Espectros!A22,TRUE)*D48)","v":""}]
[{"$f":"IF(Principal!M33=\"\",\"\",MATCH(Principal!M33,Datos!A:A,0))","v":""},null,{"$f":"IF(A49=\"\",\"\",INDIRECT(\"Datos!O\"&Espectros!A23,TRUE))","v":""},{"$f":"IF(B49=\"\",\"\",INDIRECT(ADDRESS(17+MATCH(B49,Principal!$M$18:$M$30,0),15+MATCH(\"X\",Principal!$P$17:$R$17,0),1,1,\"Principal\"),TRUE)/C49)","v":""},{"$f":"IF(A49=\"\",\"\",INDIRECT(\"Datos!N\"&Espectros!A23,TRUE)*D49)","v":""}]
[{"$f":"IF(Principal!M34=\"\",\"\",MATCH(Principal!M34,Datos!A:A,0))","v":""},null,{"$f":"IF(A50=\"\",\"\",INDIRECT(\"Datos!O\"&Espectros!A24,TRUE))","v":""},{"$f":"IF(B50=\"\",\"\",INDIRECT(ADDRESS(17+MATCH(B50,Principal!$M$18:$M$30,0),15+MATCH(\"X\",Principal!$P$17:$R$17,0),1,1,\"Principal\"),TRUE)/C50)","v":""},{"$f":"IF(A50=\"\",\"\",INDIRECT(\"Datos!N\"&Espectros!A24,TRUE)*D50)","v":""}]
[{"$f":"IF(Principal!M35=\"\",\"\",MATCH(Principal!M35,Datos!A:A,0))","v":""},null,{"$f":"IF(A51=\"\",\"\",INDIRECT(\"Datos!O\"&Espectros!A25,TRUE))","v":""},{"$f":"IF(B51=\"\",\"\",INDIRECT(ADDRESS(17+MATCH(B51,Principal!$M$18:$M$30,0),15+MATCH(\"X\",Principal!$P$17:$R$17,0),1,1,\"Principal\"),TRUE)/C51)","v":""},{"$f":"IF(A51=\"\",\"\",INDIRECT(\"Datos!N\"&Espectros!A25,TRUE)*D51)","v":""}]
[{"$f":"IF(Principal!M36=\"\",\"\",MATCH(Principal!M36,Datos!A:A,0))","v":""},null,{"$f":"IF(A52=\"\",\"\",INDIRECT(\"Datos!O\"&Espectros!A26,TRUE))","v":""},{"$f":"IF(B52=\"\",\"\",INDIRECT(ADDRESS(17+MATCH(B52,Principal!$M$18:$M$30,0),15+MATCH(\"X\",Principal!$P$17:$R$17,0),1,1,\"Principal\"),TRUE)/C52)","v":""},{"$f":"IF(A52=\"\",\"\",INDIRECT(\"Datos!N\"&Espectros!A26,TRUE)*D52)","v":""}]
[{"$f":"IF(Principal!M37=\"\",\"\",MATCH(Principal!M37,Datos!A:A,0))","v":""},null,{"$f":"IF(A53=\"\",\"\",INDIRECT(\"Datos!O\"&Espectros!A27,TRUE))","v":""},{"$f":"IF(B53=\"\",\"\",INDIRECT(ADDRESS(17+MATCH(B53,Principal!$M$18:$M$30,0),15+MATCH(\"X\",Principal!$P$17:$R$17,0),1,1,\"Principal\"),TRUE)/C53)","v":""},{"$f":"IF(A53=\"\",\"\",INDIRECT(\"Datos!N\"&Espectros!A27,TRUE)*D53)","v":""}]
[{"$f":"IF(Principal!M38=\"\",\"\",MATCH(Principal!M38,Datos!A:A,0))","v":""},null,{"$f":"IF(A54=\"\",\"\",INDIRECT(\"Datos!O\"&Espectros!A28,TRUE))","v":""},{"$f":"IF(B54=\"\",\"\",INDIRECT(ADDRESS(17+MATCH(B54,Principal!$M$18:$M$30,0),15+MATCH(\"X\",Principal!$P$17:$R$17,0),1,1,\"Principal\"),TRUE)/C54)","v":""},{"$f":"IF(A54=\"\",\"\",INDIRECT(\"Datos!N\"&Espectros!A28,TRUE)*D54)","v":""}]
[{"$f":"IF(Principal!M39=\"\",\"\",MATCH(Principal!M39,Datos!A:A,0))","v":""}]
["Espectro ponderado por \"lm flux\" para cada tipo de led",null,null,null,null,null,null,null,{"$f":"IF(G56=\"\",\"\",(G56-$C$2)*($F$3-$F$2) / ($C$3-$C$2)+$F$2)","v":""},null,null,{"$f":"IF($G56=\"\",\"\",$J$2*EXP(1)^(-(((I$6-$I56)^2)/0.2)))","v":""},{"$f":"IF($G56=\"\",\"\",$J$2*EXP(1)^(-(((J$6-$I56)^2)/0.2)))","v":""},{"$f":"IF($G56=\"\",\"\",$J$2*EXP(1)^(-(((K$6-$I56)^2)/0.2)))","v":""},{"$f":"IF($G56=\"\",\"\",$J$2*EXP(1)^(-(((L$6-$I56)^2)/0.2)))","v":""},{"$f":"IF($G56=\"\",\"\",$J$2*EXP(1)^(-(((M$6-$I56)^2)/0.2)))","v":""},{"$f":"IF($G56=\"\",\"\",$J$2*EXP(1)^(-(((N$6-$I56)^2)/0.2)))","v":""},{"$f":"IF($G56=\"\",\"\",$J$2*EXP(1)^(-(((O$6-$I56)^2)/0.2)))","v":""},{"$f":"IF($G56=\"\",\"\",$J$2*EXP(1)^(-(((P$6-$I56)^2)/0.2)))","v":""},{"$f":"IF($G56=\"\",\"\",$J$2*EXP(1)^(-(((Q$6-$I56)^2)/0.2)))","v":""},{"$f":"IF($G56=\"\",\"\",$J$2*EXP(1)^(-(((R$6-$I56)^2)/0.2)))","v":""},{"$f":"IF($G56=\"\",\"\",$J$2*EXP(1)^(-(((S$6-$I56)^2)/0.2)))","v":""},{"$f":"IF($G56=\"\",\"\",$J$2*EXP(1)^(-(((T$6-$I56)^2)/0.2)))","v":""},{"$f":"IF($G56=\"\",\"\",$J$2*EXP(1)^(-(((U$6-$I56)^2)/0.2)))","v":""},{"$f":"IF($G56=\"\",\"\",$J$2*EXP(1)^(-(((V$6-$I56)^2)/0.2)))","v":""},{"$f":"IF($G56=\"\",\"\",$J$2*EXP(1)^(-(((W$6-$I56)^2)/0.2)))","v":""},{"$f":"IF($G56=\"\",\"\",$J$2*EXP(1)^(-(((X$6-$I56)^2)/0.2)))","v":""},{"$f":"IF($G56=\"\",\"\",$J$2*EXP(1)^(-(((Y$6-$I56)^2)/0.2)))","v":""},{"$f":"IF($G56=\"\",\"\",$J$2*EXP(1)^(-(((Z$6-$I56)^2)/0.2)))","v":""},{"$f":"IF($G56=\"\",\"\",$J$2*EXP(1)^(-(((AA$6-$I56)^2)/0.2)))","v":""},{"$f":"IF($G56=\"\",\"\",$J$2*EXP(1)^(-(((AB$6-$I56)^2)/0.2)))","v":""},{"$f":"IF($G56=\"\",\"\",$J$2*EXP(1)^(-(((AC$6-$I56)^2)/0.2)))","v":""},{"$f":"IF($G56=\"\",\"\",$J$2*EXP(1)^(-(((AD$6-$I56)^2)/0.2)))","v":""},{"$f":"IF($G56=\"\",\"\",$J$2*EXP(1)^(-(((AE$6-$I56)^2)/0.2)))","v":""},{"$f":"IF($G56=\"\",\"\",$J$2*EXP(1)^(-(((AF$6-$I56)^2)/0.2)))","v":""},{"$f":"IF($G56=\"\",\"\",$J$2*EXP(1)^(-(((AG$6-$I56)^2)/0.2)))","v":""},{"$f":"IF($G56=\"\",\"\",$J$2*EXP(1)^(-(((AH$6-$I56)^2)/0.2)))","v":""},{"$f":"IF($G56=\"\",\"\",$J$2*EXP(1)^(-(((AI$6-$I56)^2)/0.2)))","v":""},{"$f":"IF($G56=\"\",\"\",$J$2*EXP(1)^(-(((AJ$6-$I56)^2)/0.2)))","v":""},{"$f":"IF($G56=\"\",\"\",$J$2*EXP(1)^(-(((AK$6-$I56)^2)/0.2)))","v":""},{"$f":"IF($G56=\"\",\"\",$J$2*EXP(1)^(-(((AL$6-$I56)^2)/0.2)))","v":""},{"$f":"IF($G56=\"\",\"\",$J$2*EXP(1)^(-(((AM$6-$I56)^2)/0.2)))","v":""},{"$f":"IF($G56=\"\",\"\",$J$2*EXP(1)^(-(((AN$6-$I56)^2)/0.2)))","v":""},{"$f":"IF($G56=\"\",\"\",$J$2*EXP(1)^(-(((AO$6-$I56)^2)/0.2)))","v":""},{"$f":"IF($G56=\"\",\"\",$J$2*EXP(1)^(-(((AP$6-$I56)^2)/0.2)))","v":""},{"$f":"IF($G56=\"\",\"\",$J$2*EXP(1)^(-(((AQ$6-$I56)^2)/0.2)))","v":""},{"$f":"IF($G56=\"\",\"\",$J$2*EXP(1)^(-(((AR$6-$I56)^2)/0.2)))","v":""},{"$f":"IF($G56=\"\",\"\",$J$2*EXP(1)^(-(((AS$6-$I56)^2)/0.2)))","v":""},{"$f":"IF($G56=\"\",\"\",$J$2*EXP(1)^(-(((AT$6-$I56)^2)/0.2)))","v":""},{"$f":"IF($G56=\"\",\"\",$J$2*EXP(1)^(-(((AU$6-$I56)^2)/0.2)))","v":""},{"$f":"IF($G56=\"\",\"\",$J$2*EXP(1)^(-(((AV$6-$I56)^2)/0.2)))","v":""},{"$f":"IF($G56=\"\",\"\",$J$2*EXP(1)^(-(((AW$6-$I56)^2)/0.2)))","v":""},{"$f":"IF($G56=\"\",\"\",$J$2*EXP(1)^(-(((AX$6-$I56)^2)/0.2)))","v":""},{"$f":"IF($G56=\"\",\"\",$J$2*EXP(1)^(-(((AY$6-$I56)^2)/0.2)))","v":""},{"$f":"IF($G56=\"\",\"\",$J$2*EXP(1)^(-(((AZ$6-$I56)^2)/0.2)))","v":""},{"$f":"IF($G56=\"\",\"\",$J$2*EXP(1)^(-(((BA$6-$I56)^2)/0.2)))","v":""},{"$f":"IF($G56=\"\",\"\",$J$2*EXP(1)^(-(((BB$6-$I56)^2)/0.2)))","v":""},{"$f":"IF($G56=\"\",\"\",$J$2*EXP(1)^(-(((BC$6-$I56)^2)/0.2)))","v":""},{"$f":"IF($G56=\"\",\"\",$J$2*EXP(1)^(-(((BD$6-$I56)^2)/0.2)))","v":""},{"$f":"IF($G56=\"\",\"\",$J$2*EXP(1)^(-(((BE$6-$I56)^2)/0.2)))","v":""},{"$f":"IF($G56=\"\",\"\",$J$2*EXP(1)^(-(((BF$6-$I56)^2)/0.2)))","v":""},{"$f":"IF($G56=\"\",\"\",$J$2*EXP(1)^(-(((BG$6-$I56)^2)/0.2)))","v":""},{"$f":"IF($G56=\"\",\"\",$J$2*EXP(1)^(-(((BH$6-$I56)^2)/0.2)))","v":""},{"$f":"IF($G56=\"\",\"\",$J$2*EXP(1)^(-(((BI$6-$I56)^2)/0.2)))","v":""},{"$f":"IF($G56=\"\",\"\",$J$2*EXP(1)^(-(((BJ$6-$I56)^2)/0.2)))","v":""},{"$f":"IF($G56=\"\",\"\",$J$2*EXP(1)^(-(((BK$6-$I56)^2)/0.2)))","v":""},{"$f":"IF($G56=\"\",\"\",$J$2*EXP(1)^(-(((BL$6-$I56)^2)/0.2)))","v":""},{"$f":"IF($G56=\"\",\"\",$J$2*EXP(1)^(-(((BM$6-$I56)^2)/0.2)))","v":""},{"$f":"IF($G56=\"\",\"\",$J$2*EXP(1)^(-(((BN$6-$I56)^2)/0.2)))","v":""},{"$f":"IF($G56=\"\",\"\",$J$2*EXP(1)^(-(((BO$6-$I56)^2)/0.2)))","v":""},{"$f":"IF($G56=\"\",\"\",$J$2*EXP(1)^(-(((BP$6-$I56)^2)/0.2)))","v":""},{"$f":"IF($G56=\"\",\"\",$J$2*EXP(1)^(-(((BQ$6-$I56)^2)/0.2)))","v":""},{"$f":"IF($G56=\"\",\"\",$J$2*EXP(1)^(-(((BR$6-$I56)^2)/0.2)))","v":""},{"$f":"IF($G56=\"\",\"\",$J$2*EXP(1)^(-(((BS$6-$I56)^2)/0.2)))","v":""},{"$f":"IF($G56=\"\",\"\",$J$2*EXP(1)^(-(((BT$6-$I56)^2)/0.2)))","v":""},{"$f":"IF($G56=\"\",\"\",$J$2*EXP(1)^(-(((BU$6-$I56)^2)/0.2)))","v":""},{"$f":"IF($G56=\"\",\"\",$J$2*EXP(1)^(-(((BV$6-$I56)^2)/0.2)))","v":""},{"$f":"IF($G56=\"\",\"\",$J$2*EXP(1)^(-(((BW$6-$I56)^2)/0.2)))","v":""},{"$f":"IF($G56=\"\",\"\",$J$2*EXP(1)^(-(((BX$6-$I56)^2)/0.2)))","v":""},{"$f":"IF($G56=\"\",\"\",$J$2*EXP(1)^(-(((BY$6-$I56)^2)/0.2)))","v":""},{"$f":"IF($G56=\"\",\"\",$J$2*EXP(1)^(-(((BZ$6-$I56)^2)/0.2)))","v":""},{"$f":"IF($G56=\"\",\"\",$J$2*EXP(1)^(-(((CA$6-$I56)^2)/0.2)))","v":""},{"$f":"IF($G56=\"\",\"\",$J$2*EXP(1)^(-(((CB$6-$I56)^2)/0.2)))","v":""},{"$f":"IF($G56=\"\",\"\",$J$2*EXP(1)^(-(((CC$6-$I56)^2)/0.2)))","v":""},{"$f":"IF($G56=\"\",\"\",$J$2*EXP(1)^(-(((CD$6-$I56)^2)/0.2)))","v":""},{"$f":"IF($G56=\"\",\"\",$J$2*EXP(1)^(-(((CE$6-$I56)^2)/0.2)))","v":""},{"$f":"IF($G56=\"\",\"\",$J$2*EXP(1)^(-(((CF$6-$I56)^2)/0.2)))","v":""},{"$f":"IF($G56=\"\",\"\",$J$2*EXP(1)^(-(((CG$6-$I56)^2)/0.2)))","v":""},{"$f":"IF($G56=\"\",\"\",$J$2*EXP(1)^(-(((CH$6-$I56)^2)/0.2)))","v":""},{"$f":"IF($G56=\"\",\"\",$J$2*EXP(1)^(-(((CI$6-$I56)^2)/0.2)))","v":""},{"$f":"IF($G56=\"\",\"\",$J$2*EXP(1)^(-(((CJ$6-$I56)^2)/0.2)))","v":""},{"$f":"IF($G56=\"\",\"\",$J$2*EXP(1)^(-(((CK$6-$I56)^2)/0.2)))","v":""},{"$f":"IF($G56=\"\",\"\",$J$2*EXP(1)^(-(((CL$6-$I56)^2)/0.2)))","v":""},{"$f":"IF($G56=\"\",\"\",$J$2*EXP(1)^(-(((CM$6-$I56)^2)/0.2)))","v":""},{"$f":"IF($G56=\"\",\"\",$J$2*EXP(1)^(-(((CN$6-$I56)^2)/0.2)))","v":""},{"$f":"IF($G56=\"\",\"\",$J$2*EXP(1)^(-(((CO$6-$I56)^2)/0.2)))","v":""},{"$f":"IF($G56=\"\",\"\",$J$2*EXP(1)^(-(((CP$6-$I56)^2)/0.2)))","v":""},{"$f":"IF($G56=\"\",\"\",$J$2*EXP(1)^(-(((CQ$6-$I56)^2)/0.2)))","v":""},{"$f":"IF($G56=\"\",\"\",$J$2*EXP(1)^(-(((CR$6-$I56)^2)/0.2)))","v":""},{"$f":"IF($G56=\"\",\"\",$J$2*EXP(1)^(-(((CS$6-$I56)^2)/0.2)))","v":""},{"$f":"IF($G56=\"\",\"\",$J$2*EXP(1)^(-(((CT$6-$I56)^2)/0.2)))","v":""},{"$f":"IF($G56=\"\",\"\",$J$2*EXP(1)^(-(((CU$6-$I56)^2)/0.2)))","v":""},{"$f":"IF($G56=\"\",\"\",$J$2*EXP(1)^(-(((CV$6-$I56)^2)/0.2)))","v":""},{"$f":"IF($G56=\"\",\"\",$J$2*EXP(1)^(-(((CW$6-$I56)^2)/0.2)))","v":""},{"$f":"IF($G56=\"\",\"\",$J$2*EXP(1)^(-(((CX$6-$I56)^2)/0.2)))","v":""},{"$f":"IF($G56=\"\",\"\",$J$2*EXP(1)^(-(((CY$6-$I56)^2)/0.2)))","v":""},{"$f":"IF($G56=\"\",\"\",$J$2*EXP(1)^(-(((CZ$6-$I56)^2)/0.2)))","v":""},{"$f":"IF($G56=\"\",\"\",$J$2*EXP(1)^(-(((DA$6-$I56)^2)/0.2)))","v":""},{"$f":"IF($G56=\"\",\"\",$J$2*EXP(1)^(-(((DB$6-$I56)^2)/0.2)))","v":""},{"$f":"IF($G56=\"\",\"\",$J$2*EXP(1)^(-(((DC$6-$I56)^2)/0.2)))","v":""},{"$f":"IF($G56=\"\",\"\",$J$2*EXP(1)^(-(((DD$6-$I56)^2)/0.2)))","v":""},{"$f":"IF($G56=\"\",\"\",$J$2*EXP(1)^(-(((DE$6-$I56)^2)/0.2)))","v":""},{"$f":"IF($G56=\"\",\"\",$J$2*EXP(1)^(-(((DF$6-$I56)^2)/0.2)))","v":""},{"$f":"IF($G56=\"\",\"\",$J$2*EXP(1)^(-(((DG$6-$I56)^2)/0.2)))","v":""},{"$f":"IF($G56=\"\",\"\",$J$2*EXP(1)^(-(((DH$6-$I56)^2)/0.2)))","v":""},{"$f":"IF($G56=\"\",\"\",$J$2*EXP(1)^(-(((DI$6-$I56)^2)/0.2)))","v":""},{"$f":"IF($G56=\"\",\"\",$J$2*EXP(1)^(-(((DJ$6-$I56)^2)/0.2)))","v":""},{"$f":"IF($G56=\"\",\"\",$J$2*EXP(1)^(-(((DK$6-$I56)^2)/0.2)))","v":""},{"$f":"IF($G56=\"\",\"\",$J$2*EXP(1)^(-(((DL$6-$I56)^2)/0.2)))","v":""},{"$f":"IF($G56=\"\",\"\",$J$2*EXP(1)^(-(((DM$6-$I56)^2)/0.2)))","v":""},{"$f":"IF($G56=\"\",\"\",$J$2*EXP(1)^(-(((DN$6-$I56)^2)/0.2)))","v":""},{"$f":"IF($G56=\"\",\"\",$J$2*EXP(1)^(-(((DO$6-$I56)^2)/0.2)))","v":""},{"$f":"IF($G56=\"\",\"\",$J$2*EXP(1)^(-(((DP$6-$I56)^2)/0.2)))","v":""},{"$f":"IF($G56=\"\",\"\",$J$2*EXP(1)^(-(((DQ$6-$I56)^2)/0.2)))","v":""},{"$f":"IF($G56=\"\",\"\",$J$2*EXP(1)^(-(((DR$6-$I56)^2)/0.2)))","v":""},{"$f":"IF($G56=\"\",\"\",$J$2*EXP(1)^(-(((DS$6-$I56)^2)/0.2)))","v":""},{"$f":"IF($G56=\"\",\"\",$J$2*EXP(1)^(-(((DT$6-$I56)^2)/0.2)))","v":""},{"$f":"IF($G56=\"\",\"\",$J$2*EXP(1)^(-(((DU$6-$I56)^2)/0.2)))","v":""},{"$f":"IF($G56=\"\",\"\",$J$2*EXP(1)^(-(((DV$6-$I56)^2)/0.2)))","v":""},{"$f":"IF($G56=\"\",\"\",$J$2*EXP(1)^(-(((DW$6-$I56)^2)/0.2)))","v":""},{"$f":"IF($G56=\"\",\"\",$J$2*EXP(1)^(-(((DX$6-$I56)^2)/0.2)))","v":""},{"$f":"IF($G56=\"\",\"\",$J$2*EXP(1)^(-(((DY$6-$I56)^2)/0.2)))","v":""},{"$f":"IF($G56=\"\",\"\",$J$2*EXP(1)^(-(((DZ$6-$I56)^2)/0.2)))","v":""},{"$f":"IF($G56=\"\",\"\",$J$2*EXP(1)^(-(((EA$6-$I56)^2)/0.2)))","v":""},{"$f":"IF($G56=\"\",\"\",$J$2*EXP(1)^(-(((EB$6-$I56)^2)/0.2)))","v":""},{"$f":"IF($G56=\"\",\"\",$J$2*EXP(1)^(-(((EC$6-$I56)^2)/0.2)))","v":""},{"$f":"IF($G56=\"\",\"\",$J$2*EXP(1)^(-(((ED$6-$I56)^2)/0.2)))","v":""},{"$f":"IF($G56=\"\",\"\",$J$2*EXP(1)^(-(((EE$6-$I56)^2)/0.2)))","v":""},{"$f":"IF($G56=\"\",\"\",$J$2*EXP(1)^(-(((EF$6-$I56)^2)/0.2)))","v":""},{"$f":"IF($G56=\"\",\"\",$J$2*EXP(1)^(-(((EG$6-$I56)^2)/0.2)))","v":""},{"$f":"IF($G56=\"\",\"\",$J$2*EXP(1)^(-(((EH$6-$I56)^2)/0.2)))","v":""},{"$f":"IF($G56=\"\",\"\",$J$2*EXP(1)^(-(((EI$6-$I56)^2)/0.2)))","v":""},{"$f":"IF($G56=\"\",\"\",$J$2*EXP(1)^(-(((EJ$6-$I56)^2)/0.2)))","v":""},{"$f":"IF($G56=\"\",\"\",$J$2*EXP(1)^(-(((EK$6-$I56)^2)/0.2)))","v":""},{"$f":"IF($G56=\"\",\"\",$J$2*EXP(1)^(-(((EL$6-$I56)^2)/0.2)))","v":""},{"$f":"IF($G56=\"\",\"\",$J$2*EXP(1)^(-(((EM$6-$I56)^2)/0.2)))","v":""},{"$f":"IF($G56=\"\",\"\",$J$2*EXP(1)^(-(((EN$6-$I56)^2)/0.2)))","v":""},{"$f":"IF($G56=\"\",\"\",$J$2*EXP(1)^(-(((EO$6-$I56)^2)/0.2)))","v":""},{"$f":"IF($G56=\"\",\"\",$J$2*EXP(1)^(-(((EP$6-$I56)^2)/0.2)))","v":""},{"$f":"IF($G56=\"\",\"\",$J$2*EXP(1)^(-(((EQ$6-$I56)^2)/0.2)))","v":""},{"$f":"IF($G56=\"\",\"\",$J$2*EXP(1)^(-(((ER$6-$I56)^2)/0.2)))","v":""},{"$f":"IF($G56=\"\",\"\",$J$2*EXP(1)^(-(((ES$6-$I56)^2)/0.2)))","v":""},{"$f":"IF($G56=\"\",\"\",$J$2*EXP(1)^(-(((ET$6-$I56)^2)/0.2)))","v":""},{"$f":"IF($G56=\"\",\"\",$J$2*EXP(1)^(-(((EU$6-$I56)^2)/0.2)))","v":""},{"$f":"IF($G56=\"\",\"\",$J$2*EXP(1)^(-(((EV$6-$I56)^2)/0.2)))","v":""},{"$f":"IF($G56=\"\",\"\",$J$2*EXP(1)^(-(((EW$6-$I56)^2)/0.2)))","v":""},{"$f":"IF($G56=\"\",\"\",$J$2*EXP(1)^(-(((EX$6-$I56)^2)/0.2)))","v":""},{"$f":"IF($G56=\"\",\"\",$J$2*EXP(1)^(-(((EY$6-$I56)^2)/0.2)))","v":""},{"$f":"IF($G56=\"\",\"\",$J$2*EXP(1)^(-(((EZ$6-$I56)^2)/0.2)))","v":""},{"$f":"IF($G56=\"\",\"\",$J$2*EXP(1)^(-(((FA$6-$I56)^2)/0.2)))","v":""},{"$f":"IF($G56=\"\",\"\",$J$2*EXP(1)^(-(((FB$6-$I56)^2)/0.2)))","v":""},{"$f":"IF($G56=\"\",\"\",$J$2*EXP(1)^(-(((FC$6-$I56)^2)/0.2)))","v":""},{"$f":"IF($G56=\"\",\"\",$J$2*EXP(1)^(-(((FD$6-$I56)^2)/0.2)))","v":""},{"$f":"IF($G56=\"\",\"\",$J$2*EXP(1)^(-(((FE$6-$I56)^2)/0.2)))","v":""},{"$f":"IF($G56=\"\",\"\",$J$2*EXP(1)^(-(((FF$6-$I56)^2)/0.2)))","v":""},{"$f":"IF($G56=\"\",\"\",$J$2*EXP(1)^(-(((FG$6-$I56)^2)/0.2)))","v":""},{"$f":"IF($G56=\"\",\"\",$J$2*EXP(1)^(-(((FH$6-$I56)^2)/0.2)))","v":""},{"$f":"IF($G56=\"\",\"\",$J$2*EXP(1)^(-(((FI$6-$I56)^2)/0.2)))","v":""},{"$f":"IF($G56=\"\",\"\",$J$2*EXP(1)^(-(((FJ$6-$I56)^2)/0.2)))","v":""},{"$f":"IF($G56=\"\",\"\",$J$2*EXP(1)^(-(((FK$6-$I56)^2)/0.2)))","v":""},{"$f":"IF($G56=\"\",\"\",$J$2*EXP(1)^(-(((FL$6-$I56)^2)/0.2)))","v":""},{"$f":"IF($G56=\"\",\"\",$J$2*EXP(1)^(-(((FM$6-$I56)^2)/0.2)))","v":""},{"$f":"IF($G56=\"\",\"\",$J$2*EXP(1)^(-(((FN$6-$I56)^2)/0.2)))","v":""},{"$f":"IF($G56=\"\",\"\",$J$2*EXP(1)^(-(((FO$6-$I56)^2)/0.2)))","v":""},{"$f":"IF($G56=\"\",\"\",$J$2*EXP(1)^(-(((FP$6-$I56)^2)/0.2)))","v":""},{"$f":"IF($G56=\"\",\"\",$J$2*EXP(1)^(-(((FQ$6-$I56)^2)/0.2)))","v":""},{"$f":"IF($G56=\"\",\"\",$J$2*EXP(1)^(-(((FR$6-$I56)^2)/0.2)))","v":""},{"$f":"IF($G56=\"\",\"\",$J$2*EXP(1)^(-(((FS$6-$I56)^2)/0.2)))","v":""},{"$f":"IF($G56=\"\",\"\",$J$2*EXP(1)^(-(((FT$6-$I56)^2)/0.2)))","v":""},{"$f":"IF($G56=\"\",\"\",$J$2*EXP(1)^(-(((FU$6-$I56)^2)/0.2)))","v":""},{"$f":"IF($G56=\"\",\"\",$J$2*EXP(1)^(-(((FV$6-$I56)^2)/0.2)))","v":""},{"$f":"IF($G56=\"\",\"\",$J$2*EXP(1)^(-(((FW$6-$I56)^2)/0.2)))","v":""},{"$f":"IF($G56=\"\",\"\",$J$2*EXP(1)^(-(((FX$6-$I56)^2)/0.2)))","v":""},{"$f":"IF($G56=\"\",\"\",$J$2*EXP(1)^(-(((FY$6-$I56)^2)/0.2)))","v":""},{"$f":"IF($G56=\"\",\"\",$J$2*EXP(1)^(-(((FZ$6-$I56)^2)/0.2)))","v":""},{"$f":"IF($G56=\"\",\"\",$J$2*EXP(1)^(-(((GA$6-$I56)^2)/0.2)))","v":""},{"$f":"IF($G56=\"\",\"\",$J$2*EXP(1)^(-(((GB$6-$I56)^2)/0.2)))","v":""},{"$f":"IF($G56=\"\",\"\",$J$2*EXP(1)^(-(((GC$6-$I56)^2)/0.2)))","v":""},{"$f":"IF($G56=\"\",\"\",$J$2*EXP(1)^(-(((GD$6-$I56)^2)/0.2)))","v":""},{"$f":"IF($G56=\"\",\"\",$J$2*EXP(1)^(-(((GE$6-$I56)^2)/0.2)))","v":""},{"$f":"IF($G56=\"\",\"\",$J$2*EXP(1)^(-(((GF$6-$I56)^2)/0.2)))","v":""},{"$f":"IF($G56=\"\",\"\",$J$2*EXP(1)^(-(((GG$6-$I56)^2)/0.2)))","v":""},{"$f":"IF($G56=\"\",\"\",$J$2*EXP(1)^(-(((GH$6-$I56)^2)/0.2)))","v":""},{"$f":"IF($G56=\"\",\"\",$J$2*EXP(1)^(-(((GI$6-$I56)^2)/0.2)))","v":""},{"$f":"IF($G56=\"\",\"\",$J$2*EXP(1)^(-(((GJ$6-$I56)^2)/0.2)))","v":""},{"$f":"IF($G56=\"\",\"\",$J$2*EXP(1)^(-(((GK$6-$I56)^2)/0.2)))","v":""},{"$f":"IF($G56=\"\",\"\",$J$2*EXP(1)^(-(((GL$6-$I56)^2)/0.2)))","v":""},{"$f":"IF($G56=\"\",\"\",$J$2*EXP(1)^(-(((GM$6-$I56)^2)/0.2)))","v":""},{"$f":"IF($G56=\"\",\"\",$J$2*EXP(1)^(-(((GN$6-$I56)^2)/0.2)))","v":""},{"$f":"IF($G56=\"\",\"\",$J$2*EXP(1)^(-(((GO$6-$I56)^2)/0.2)))","v":""},{"$f":"IF($G56=\"\",\"\",$J$2*EXP(1)^(-(((GP$6-$I56)^2)/0.2)))","v":""},{"$f":"IF($G56=\"\",\"\",$J$2*EXP(1)^(-(((GQ$6-$I56)^2)/0.2)))","v":""},{"$f":"IF($G56=\"\",\"\",$J$2*EXP(1)^(-(((GR$6-$I56)^2)/0.2)))","v":""},{"$f":"IF($G56=\"\",\"\",$J$2*EXP(1)^(-(((GS$6-$I56)^2)/0.2)))","v":""},{"$f":"IF($G56=\"\",\"\",$J$2*EXP(1)^(-(((GT$6-$I56)^2)/0.2)))","v":""},{"$f":"IF($G56=\"\",\"\",$J$2*EXP(1)^(-(((GU$6-$I56)^2)/0.2)))","v":""},{"$f":"IF($G56=\"\",\"\",$J$2*EXP(1)^(-(((GV$6-$I56)^2)/0.2)))","v":""},{"$f":"IF($G56=\"\",\"\",$J$2*EXP(1)^(-(((GW$6-$I56)^2)/0.2)))","v":""},{"$f":"IF($G56=\"\",\"\",$J$2*EXP(1)^(-(((GX$6-$I56)^2)/0.2)))","v":""},{"$f":"IF($G56=\"\",\"\",$J$2*EXP(1)^(-(((GY$6-$I56)^2)/0.2)))","v":""},{"$f":"IF($G56=\"\",\"\",$J$2*EXP(1)^(-(((GZ$6-$I56)^2)/0.2)))","v":""},{"$f":"IF($G56=\"\",\"\",$J$2*EXP(1)^(-(((HA$6-$I56)^2)/0.2)))","v":""},{"$f":"IF($G56=\"\",\"\",$J$2*EXP(1)^(-(((HB$6-$I56)^2)/0.2)))","v":""},{"$f":"IF($G56=\"\",\"\",$J$2*EXP(1)^(-(((HC$6-$I56)^2)/0.2)))","v":""},{"$f":"IF($G56=\"\",\"\",$J$2*EXP(1)^(-(((HD$6-$I56)^2)/0.2)))","v":""},{"$f":"IF($G56=\"\",\"\",$J$2*EXP(1)^(-(((HE$6-$I56)^2)/0.2)))","v":""},{"$f":"IF($G56=\"\",\"\",$J$2*EXP(1)^(-(((HF$6-$I56)^2)/0.2)))","v":""},{"$f":"IF($G56=\"\",\"\",$J$2*EXP(1)^(-(((HG$6-$I56)^2)/0.2)))","v":""},{"$f":"IF($G56=\"\",\"\",$J$2*EXP(1)^(-(((HH$6-$I56)^2)/0.2)))","v":""},{"$f":"IF($G56=\"\",\"\",$J$2*EXP(1)^(-(((HI$6-$I56)^2)/0.2)))","v":""},{"$f":"IF($G56=\"\",\"\",$J$2*EXP(1)^(-(((HJ$6-$I56)^2)/0.2)))","v":""},{"$f":"IF($G56=\"\",\"\",$J$2*EXP(1)^(-(((HK$6-$I56)^2)/0.2)))","v":""},{"$f":"IF($G56=\"\",\"\",$J$2*EXP(1)^(-(((HL$6-$I56)^2)/0.2)))","v":""},{"$f":"IF($G56=\"\",\"\",$J$2*EXP(1)^(-(((HM$6-$I56)^2)/0.2)))","v":""},{"$f":"IF($G56=\"\",\"\",$J$2*EXP(1)^(-(((HN$6-$I56)^2)/0.2)))","v":""},{"$f":"IF($G56=\"\",\"\",$J$2*EXP(1)^(-(((HO$6-$I56)^2)/0.2)))","v":""},{"$f":"IF($G56=\"\",\"\",$J$2*EXP(1)^(-(((HP$6-$I56)^2)/0.2)))","v":""},{"$f":"IF($G56=\"\",\"\",$J$2*EXP(1)^(-(((HQ$6-$I56)^2)/0.2)))","v":""},{"$f":"IF($G56=\"\",\"\",$J$2*EXP(1)^(-(((HR$6-$I56)^2)/0.2)))","v":""},{"$f":"IF($G56=\"\",\"\",$J$2*EXP(1)^(-(((HS$6-$I56)^2)/0.2)))","v":""},{"$f":"IF($G56=\"\",\"\",$J$2*EXP(1)^(-(((HT$6-$I56)^2)/0.2)))","v":""},{"$f":"IF($G56=\"\",\"\",$J$2*EXP(1)^(-(((HU$6-$I56)^2)/0.2)))","v":""},{"$f":"IF($G56=\"\",\"\",$J$2*EXP(1)^(-(((HV$6-$I56)^2)/0.2)))","v":""},{"$f":"IF($G56=\"\",\"\",$J$2*EXP(1)^(-(((HW$6-$I56)^2)/0.2)))","v":""},{"$f":"IF($G56=\"\",\"\",$J$2*EXP(1)^(-(((HX$6-$I56)^2)/0.2)))","v":""},{"$f":"IF($G56=\"\",\"\",$J$2*EXP(1)^(-(((HY$6-$I56)^2)/0.2)))","v":""},{"$f":"IF($G56=\"\",\"\",$J$2*EXP(1)^(-(((HZ$6-$I56)^2)/0.2)))","v":""},{"$f":"IF($G56=\"\",\"\",$J$2*EXP(1)^(-(((IA$6-$I56)^2)/0.2)))","v":""},{"$f":"IF($G56=\"\",\"\",$J$2*EXP(1)^(-(((IB$6-$I56)^2)/0.2)))","v":""},{"$f":"IF($G56=\"\",\"\",$J$2*EXP(1)^(-(((IC$6-$I56)^2)/0.2)))","v":""},{"$f":"IF($G56=\"\",\"\",$J$2*EXP(1)^(-(((ID$6-$I56)^2)/0.2)))","v":""},{"$f":"IF($G56=\"\",\"\",$J$2*EXP(1)^(-(((IE$6-$I56)^2)/0.2)))","v":""},{"$f":"IF($G56=\"\",\"\",$J$2*EXP(1)^(-(((IF$6-$I56)^2)/0.2)))","v":""},{"$f":"IF($G56=\"\",\"\",$J$2*EXP(1)^(-(((IG$6-$I56)^2)/0.2)))","v":""},{"$f":"IF($G56=\"\",\"\",$J$2*EXP(1)^(-(((IH$6-$I56)^2)/0.2)))","v":""},{"$f":"IF($G56=\"\",\"\",$J$2*EXP(1)^(-(((II$6-$I56)^2)/0.2)))","v":""},{"$f":"IF($G56=\"\",\"\",$J$2*EXP(1)^(-(((IJ$6-$I56)^2)/0.2)))","v":""},{"$f":"IF($G56=\"\",\"\",$J$2*EXP(1)^(-(((IK$6-$I56)^2)/0.2)))","v":""},{"$f":"IF($G56=\"\",\"\",$J$2*EXP(1)^(-(((IL$6-$I56)^2)/0.2)))","v":""},{"$f":"IF($G56=\"\",\"\",$J$2*EXP(1)^(-(((IM$6-$I56)^2)/0.2)))","v":""},{"$f":"IF($G56=\"\",\"\",$J$2*EXP(1)^(-(((IN$6-$I56)^2)/0.2)))","v":""},{"$f":"IF($G56=\"\",\"\",$J$2*EXP(1)^(-(((IO$6-$I56)^2)/0.2)))","v":""},{"$f":"IF($G56=\"\",\"\",$J$2*EXP(1)^(-(((IP$6-$I56)^2)/0.2)))","v":""},{"$f":"IF($G56=\"\",\"\",$J$2*EXP(1)^(-(((IQ$6-$I56)^2)/0.2)))","v":""},{"$f":"IF($G56=\"\",\"\",$J$2*EXP(1)^(-(((IR$6-$I56)^2)/0.2)))","v":""},{"$f":"IF($G56=\"\",\"\",$J$2*EXP(1)^(-(((IS$6-$I56)^2)/0.2)))","v":""},{"$f":"IF($G56=\"\",\"\",$J$2*EXP(1)^(-(((IT$6-$I56)^2)/0.2)))","v":""},{"$f":"IF($G56=\"\",\"\",$J$2*EXP(1)^(-(((IU$6-$I56)^2)/0.2)))","v":""},{"$f":"IF($G56=\"\",\"\",$J$2*EXP(1)^(-(((IV$6-$I56)^2)/0.2)))","v":""},{"$f":"IF($G56=\"\",\"\",$J$2*EXP(1)^(-(((IW$6-$I56)^2)/0.2)))","v":""},{"$f":"IF($G56=\"\",\"\",$J$2*EXP(1)^(-(((IX$6-$I56)^2)/0.2)))","v":""},{"$f":"IF($G56=\"\",\"\",$J$2*EXP(1)^(-(((IY$6-$I56)^2)/0.2)))","v":""},{"$f":"IF($G56=\"\",\"\",$J$2*EXP(1)^(-(((IZ$6-$I56)^2)/0.2)))","v":""},{"$f":"IF($G56=\"\",\"\",$J$2*EXP(1)^(-(((JA$6-$I56)^2)/0.2)))","v":""},{"$f":"IF($G56=\"\",\"\",$J$2*EXP(1)^(-(((JB$6-$I56)^2)/0.2)))","v":""},{"$f":"IF($G56=\"\",\"\",$J$2*EXP(1)^(-(((JC$6-$I56)^2)/0.2)))","v":""},{"$f":"IF($G56=\"\",\"\",$J$2*EXP(1)^(-(((JD$6-$I56)^2)/0.2)))","v":""},{"$f":"IF($G56=\"\",\"\",$J$2*EXP(1)^(-(((JE$6-$I56)^2)/0.2)))","v":""},{"$f":"IF($G56=\"\",\"\",$J$2*EXP(1)^(-(((JF$6-$I56)^2)/0.2)))","v":""},{"$f":"IF($G56=\"\",\"\",$J$2*EXP(1)^(-(((JG$6-$I56)^2)/0.2)))","v":""},{"$f":"IF($G56=\"\",\"\",$J$2*EXP(1)^(-(((JH$6-$I56)^2)/0.2)))","v":""},{"$f":"IF($G56=\"\",\"\",$J$2*EXP(1)^(-(((JI$6-$I56)^2)/0.2)))","v":""},{"$f":"IF($G56=\"\",\"\",$J$2*EXP(1)^(-(((JJ$6-$I56)^2)/0.2)))","v":""},{"$f":"IF($G56=\"\",\"\",$J$2*EXP(1)^(-(((JK$6-$I56)^2)/0.2)))","v":""},{"$f":"IF($G56=\"\",\"\",$J$2*EXP(1)^(-(((JL$6-$I56)^2)/0.2)))","v":""},{"$f":"IF($G56=\"\",\"\",$J$2*EXP(1)^(-(((JM$6-$I56)^2)/0.2)))","v":""},{"$f":"IF($G56=\"\",\"\",$J$2*EXP(1)^(-(((JN$6-$I56)^2)/0.2)))","v":""},{"$f":"IF($G56=\"\",\"\",$J$2*EXP(1)^(-(((JO$6-$I56)^2)/0.2)))","v":""},{"$f":"IF($G56=\"\",\"\",$J$2*EXP(1)^(-(((JP$6-$I56)^2)/0.2)))","v":""},{"$f":"IF($G56=\"\",\"\",$J$2*EXP(1)^(-(((JQ$6-$I56)^2)/0.2)))","v":""},{"$f":"IF($G56=\"\",\"\",$J$2*EXP(1)^(-(((JR$6-$I56)^2)/0.2)))","v":""},{"$f":"IF($G56=\"\",\"\",$J$2*EXP(1)^(-(((JS$6-$I56)^2)/0.2)))","v":""},{"$f":"IF($G56=\"\",\"\",$J$2*EXP(1)^(-(((JT$6-$I56)^2)/0.2)))","v":""},{"$f":"IF($G56=\"\",\"\",$J$2*EXP(1)^(-(((JU$6-$I56)^2)/0.2)))","v":""},{"$f":"IF($G56=\"\",\"\",$J$2*EXP(1)^(-(((JV$6-$I56)^2)/0.2)))","v":""},{"$f":"IF($G56=\"\",\"\",$J$2*EXP(1)^(-(((JW$6-$I56)^2)/0.2)))","v":""},{"$f":"IF($G56=\"\",\"\",$J$2*EXP(1)^(-(((JX$6-$I56)^2)/0.2)))","v":""},{"$f":"IF($G56=\"\",\"\",$J$2*EXP(1)^(-(((JY$6-$I56)^2)/0.2)))","v":""},{"$f":"IF($G56=\"\",\"\",$J$2*EXP(1)^(-(((JZ$6-$I56)^2)/0.2)))","v":""},{"$f":"IF($G56=\"\",\"\",$J$2*EXP(1)^(-(((KA$6-$I56)^2)/0.2)))","v":""},{"$f":"IF($G56=\"\",\"\",$J$2*EXP(1)^(-(((KB$6-$I56)^2)/0.2)))","v":""},{"$f":"IF($G56=\"\",\"\",$J$2*EXP(1)^(-(((KC$6-$I56)^2)/0.2)))","v":""},{"$f":"IF($G56=\"\",\"\",$J$2*EXP(1)^(-(((KD$6-$I56)^2)/0.2)))","v":""},{"$f":"IF($G56=\"\",\"\",$J$2*EXP(1)^(-(((KE$6-$I56)^2)/0.2)))","v":""},{"$f":"IF($G56=\"\",\"\",$J$2*EXP(1)^(-(((KF$6-$I56)^2)/0.2)))","v":""},{"$f":"IF($G56=\"\",\"\",$J$2*EXP(1)^(-(((KG$6-$I56)^2)/0.2)))","v":""},{"$f":"IF($G56=\"\",\"\",$J$2*EXP(1)^(-(((KH$6-$I56)^2)/0.2)))","v":""},{"$f":"IF($G56=\"\",\"\",$J$2*EXP(1)^(-(((KI$6-$I56)^2)/0.2)))","v":""},{"$f":"IF($G56=\"\",\"\",$J$2*EXP(1)^(-(((KJ$6-$I56)^2)/0.2)))","v":""},{"$f":"IF($G56=\"\",\"\",$J$2*EXP(1)^(-(((KK$6-$I56)^2)/0.2)))","v":""},{"$f":"IF($G56=\"\",\"\",$J$2*EXP(1)^(-(((KL$6-$I56)^2)/0.2)))","v":""},{"$f":"IF($G56=\"\",\"\",$J$2*EXP(1)^(-(((KM$6-$I56)^2)/0.2)))","v":""},{"$f":"IF($G56=\"\",\"\",$J$2*EXP(1)^(-(((KN$6-$I56)^2)/0.2)))","v":""},{"$f":"IF($G56=\"\",\"\",$J$2*EXP(1)^(-(((KO$6-$I56)^2)/0.2)))","v":""},{"$f":"IF($G56=\"\",\"\",$J$2*EXP(1)^(-(((KP$6-$I56)^2)/0.2)))","v":""},{"$f":"IF($G56=\"\",\"\",$J$2*EXP(1)^(-(((KQ$6-$I56)^2)/0.2)))","v":""},{"$f":"IF($G56=\"\",\"\",$J$2*EXP(1)^(-(((KR$6-$I56)^2)/0.2)))","v":""},{"$f":"IF($G56=\"\",\"\",$J$2*EXP(1)^(-(((KS$6-$I56)^2)/0.2)))","v":""},{"$f":"IF($G56=\"\",\"\",$J$2*EXP(1)^(-(((KT$6-$I56)^2)/0.2)))","v":""},{"$f":"IF($G56=\"\",\"\",$J$2*EXP(1)^(-(((KU$6-$I56)^2)/0.2)))","v":""},{"$f":"IF($G56=\"\",\"\",$J$2*EXP(1)^(-(((KV$6-$I56)^2)/0.2)))","v":""},{"$f":"IF($G56=\"\",\"\",$J$2*EXP(1)^(-(((KW$6-$I56)^2)/0.2)))","v":""},{"$f":"IF($G56=\"\",\"\",$J$2*EXP(1)^(-(((KX$6-$I56)^2)/0.2)))","v":""},{"$f":"IF($G56=\"\",\"\",$J$2*EXP(1)^(-(((KY$6-$I56)^2)/0.2)))","v":""},{"$f":"IF($G56=\"\",\"\",$J$2*EXP(1)^(-(((KZ$6-$I56)^2)/0.2)))","v":""},{"$f":"IF($G56=\"\",\"\",$J$2*EXP(1)^(-(((LA$6-$I56)^2)/0.2)))","v":""},{"$f":"IF($G56=\"\",\"\",$J$2*EXP(1)^(-(((LB$6-$I56)^2)/0.2)))","v":""},{"$f":"IF($G56=\"\",\"\",$J$2*EXP(1)^(-(((LC$6-$I56)^2)/0.2)))","v":""},{"$f":"IF($G56=\"\",\"\",$J$2*EXP(1)^(-(((LD$6-$I56)^2)/0.2)))","v":""},{"$f":"IF($G56=\"\",\"\",$J$2*EXP(1)^(-(((LE$6-$I56)^2)/0.2)))","v":""},{"$f":"IF($G56=\"\",\"\",$J$2*EXP(1)^(-(((LF$6-$I56)^2)/0.2)))","v":""},{"$f":"IF($G56=\"\",\"\",$J$2*EXP(1)^(-(((LG$6-$I56)^2)/0.2)))","v":""},{"$f":"IF($G56=\"\",\"\",$J$2*EXP(1)^(-(((LH$6-$I56)^2)/0.2)))","v":""},{"$f":"IF($G56=\"\",\"\",$J$2*EXP(1)^(-(((LI$6-$I56)^2)/0.2)))","v":""},{"$f":"IF($G56=\"\",\"\",$J$2*EXP(1)^(-(((LJ$6-$I56)^2)/0.2)))","v":""},{"$f":"IF($G56=\"\",\"\",$J$2*EXP(1)^(-(((LK$6-$I56)^2)/0.2)))","v":""},{"$f":"IF($G56=\"\",\"\",$J$2*EXP(1)^(-(((LL$6-$I56)^2)/0.2)))","v":""},{"$f":"IF($G56=\"\",\"\",$J$2*EXP(1)^(-(((LM$6-$I56)^2)/0.2)))","v":""},{"$f":"IF($G56=\"\",\"\",$J$2*EXP(1)^(-(((LN$6-$I56)^2)/0.2)))","v":""},{"$f":"IF($G56=\"\",\"\",$J$2*EXP(1)^(-(((LO$6-$I56)^2)/0.2)))","v":""},{"$f":"IF($G56=\"\",\"\",$J$2*EXP(1)^(-(((LP$6-$I56)^2)/0.2)))","v":""},{"$f":"IF($G56=\"\",\"\",$J$2*EXP(1)^(-(((LQ$6-$I56)^2)/0.2)))","v":""},{"$f":"IF($G56=\"\",\"\",$J$2*EXP(1)^(-(((LR$6-$I56)^2)/0.2)))","v":""},{"$f":"IF($G56=\"\",\"\",$J$2*EXP(1)^(-(((LS$6-$I56)^2)/0.2)))","v":""},{"$f":"IF($G56=\"\",\"\",$J$2*EXP(1)^(-(((LT$6-$I56)^2)/0.2)))","v":""},{"$f":"IF($G56=\"\",\"\",$J$2*EXP(1)^(-(((LU$6-$I56)^2)/0.2)))","v":""},{"$f":"IF($G56=\"\",\"\",$J$2*EXP(1)^(-(((LV$6-$I56)^2)/0.2)))","v":""},{"$f":"IF($G56=\"\",\"\",$J$2*EXP(1)^(-(((LW$6-$I56)^2)/0.2)))","v":""},{"$f":"IF($G56=\"\",\"\",$J$2*EXP(1)^(-(((LX$6-$I56)^2)/0.2)))","v":""},{"$f":"IF($G56=\"\",\"\",$J$2*EXP(1)^(-(((LY$6-$I56)^2)/0.2)))","v":""},{"$f":"IF($G56=\"\",\"\",$J$2*EXP(1)^(-(((LZ$6-$I56)^2)/0.2)))","v":""},{"$f":"IF($G56=\"\",\"\",$J$2*EXP(1)^(-(((MA$6-$I56)^2)/0.2)))","v":""},{"$f":"IF($G56=\"\",\"\",$J$2*EXP(1)^(-(((MB$6-$I56)^2)/0.2)))","v":""},{"$f":"IF($G56=\"\",\"\",$J$2*EXP(1)^(-(((MC$6-$I56)^2)/0.2)))","v":""},{"$f":"IF($G56=\"\",\"\",$J$2*EXP(1)^(-(((MD$6-$I56)^2)/0.2)))","v":""},{"$f":"IF($G56=\"\",\"\",$J$2*EXP(1)^(-(((ME$6-$I56)^2)/0.2)))","v":""},{"$f":"IF($G56=\"\",\"\",$J$2*EXP(1)^(-(((MF$6-$I56)^2)/0.2)))","v":""},{"$f":"IF($G56=\"\",\"\",$J$2*EXP(1)^(-(((MG$6-$I56)^2)/0.2)))","v":""},{"$f":"IF($G56=\"\",\"\",$J$2*EXP(1)^(-(((MH$6-$I56)^2)/0.2)))","v":""},{"$f":"IF($G56=\"\",\"\",$J$2*EXP(1)^(-(((MI$6-$I56)^2)/0.2)))","v":""},{"$f":"IF($G56=\"\",\"\",$J$2*EXP(1)^(-(((MJ$6-$I56)^2)/0.2)))","v":""},{"$f":"IF($G56=\"\",\"\",$J$2*EXP(1)^(-(((MK$6-$I56)^2)/0.2)))","v":""},{"$f":"IF($G56=\"\",\"\",$J$2*EXP(1)^(-(((ML$6-$I56)^2)/0.2)))","v":""},{"$f":"IF($G56=\"\",\"\",$J$2*EXP(1)^(-(((MM$6-$I56)^2)/0.2)))","v":""},{"$f":"IF($G56=\"\",\"\",$J$2*EXP(1)^(-(((MN$6-$I56)^2)/0.2)))","v":""},{"$f":"IF($G56=\"\",\"\",$J$2*EXP(1)^(-(((MO$6-$I56)^2)/0.2)))","v":""},{"$f":"IF($G56=\"\",\"\",$J$2*EXP(1)^(-(((MP$6-$I56)^2)/0.2)))","v":""},{"$f":"IF($G56=\"\",\"\",$J$2*EXP(1)^(-(((MQ$6-$I56)^2)/0.2)))","v":""},{"$f":"IF($G56=\"\",\"\",$J$2*EXP(1)^(-(((MR$6-$I56)^2)/0.2)))","v":""},{"$f":"IF($G56=\"\",\"\",$J$2*EXP(1)^(-(((MS$6-$I56)^2)/0.2)))","v":""},{"$f":"IF($G56=\"\",\"\",$J$2*EXP(1)^(-(((MT$6-$I56)^2)/0.2)))","v":""},{"$f":"IF($G56=\"\",\"\",$J$2*EXP(1)^(-(((MU$6-$I56)^2)/0.2)))","v":""},{"$f":"IF($G56=\"\",\"\",$J$2*EXP(1)^(-(((MV$6-$I56)^2)/0.2)))","v":""},{"$f":"IF($G56=\"\",\"\",$J$2*EXP(1)^(-(((MW$6-$I56)^2)/0.2)))","v":""},{"$f":"IF($G56=\"\",\"\",$J$2*EXP(1)^(-(((MX$6-$I56)^2)/0.2)))","v":""},{"$f":"IF($G56=\"\",\"\",$J$2*EXP(1)^(-(((MY$6-$I56)^2)/0.2)))","v":""},{"$f":"IF($G56=\"\",\"\",$J$2*EXP(1)^(-(((MZ$6-$I56)^2)/0.2)))","v":""},{"$f":"IF($G56=\"\",\"\",$J$2*EXP(1)^(-(((NA$6-$I56)^2)/0.2)))","v":""},{"$f":"IF($G56=\"\",\"\",$J$2*EXP(1)^(-(((NB$6-$I56)^2)/0.2)))","v":""},{"$f":"IF($G56=\"\",\"\",$J$2*EXP(1)^(-(((NC$6-$I56)^2)/0.2)))","v":""},{"$f":"IF($G56=\"\",\"\",$J$2*EXP(1)^(-(((ND$6-$I56)^2)/0.2)))","v":""},{"$f":"IF($G56=\"\",\"\",$J$2*EXP(1)^(-(((NE$6-$I56)^2)/0.2)))","v":""},{"$f":"IF($G56=\"\",\"\",$J$2*EXP(1)^(-(((NF$6-$I56)^2)/0.2)))","v":""},{"$f":"IF($G56=\"\",\"\",$J$2*EXP(1)^(-(((NG$6-$I56)^2)/0.2)))","v":""},{"$f":"IF($G56=\"\",\"\",$J$2*EXP(1)^(-(((NH$6-$I56)^2)/0.2)))","v":""},{"$f":"IF($G56=\"\",\"\",$J$2*EXP(1)^(-(((NI$6-$I56)^2)/0.2)))","v":""},{"$f":"IF($G56=\"\",\"\",$J$2*EXP(1)^(-(((NJ$6-$I56)^2)/0.2)))","v":""},{"$f":"IF($G56=\"\",\"\",$J$2*EXP(1)^(-(((NK$6-$I56)^2)/0.2)))","v":""},{"$f":"IF($G56=\"\",\"\",$J$2*EXP(1)^(-(((NL$6-$I56)^2)/0.2)))","v":""},{"$f":"IF($G56=\"\",\"\",$J$2*EXP(1)^(-(((NM$6-$I56)^2)/0.2)))","v":""},{"$f":"IF($G56=\"\",\"\",$J$2*EXP(1)^(-(((NN$6-$I56)^2)/0.2)))","v":""},{"$f":"IF($G56=\"\",\"\",$J$2*EXP(1)^(-(((NO$6-$I56)^2)/0.2)))","v":""},{"$f":"IF($G56=\"\",\"\",$J$2*EXP(1)^(-(((NP$6-$I56)^2)/0.2)))","v":""},{"$f":"IF($G56=\"\",\"\",$J$2*EXP(1)^(-(((NQ$6-$I56)^2)/0.2)))","v":""},{"$f":"IF($G56=\"\",\"\",$J$2*EXP(1)^(-(((NR$6-$I56)^2)/0.2)))","v":""},{"$f":"IF($G56=\"\",\"\",$J$2*EXP(1)^(-(((NS$6-$I56)^2)/0.2)))","v":""},{"$f":"IF($G56=\"\",\"\",$J$2*EXP(1)^(-(((NT$6-$I56)^2)/0.2)))","v":""},{"$f":"IF($G56=\"\",\"\",$J$2*EXP(1)^(-(((NU$6-$I56)^2)/0.2)))","v":""},{"$f":"IF($G56=\"\",\"\",$J$2*EXP(1)^(-(((NV$6-$I56)^2)/0.2)))","v":""},{"$f":"IF($G56=\"\",\"\",$J$2*EXP(1)^(-(((NW$6-$I56)^2)/0.2)))","v":""},{"$f":"IF($G56=\"\",\"\",$J$2*EXP(1)^(-(((NX$6-$I56)^2)/0.2)))","v":""},{"$f":"IF($G56=\"\",\"\",$J$2*EXP(1)^(-(((NY$6-$I56)^2)/0.2)))","v":""},{"$f":"IF($G56=\"\",\"\",$J$2*EXP(1)^(-(((NZ$6-$I56)^2)/0.2)))","v":""},{"$f":"IF($G56=\"\",\"\",$J$2*EXP(1)^(-(((OA$6-$I56)^2)/0.2)))","v":""},{"$f":"IF($G56=\"\",\"\",$J$2*EXP(1)^(-(((OB$6-$I56)^2)/0.2)))","v":""}]
["FILA","Nombre","lm/Led","Nº Led","Lumens",{"$f":"I$7","v":390},{"$f":"J$7","v":391},392,393,394,395,396,397,398,399,400,401,402,403,404,405,406,407,408,409,410,411,412,413,414,415,416,417,418,419,420,421,422,423,424,425,426,427,428,429,430,431,432,433,434,435,436,437,438,439,440,441,442,443,444,445,446,447,448,449,450,451,452,453,454,{"$f":"BV$7","v":455},456,457,458,459,460,461,462,463,464,465,466,467,468,469,470,471,472,473,474,475,476,477,478,479,480,481,482,483,484,485,486,487,488,489,490,491,492,493,494,495,496,497,498,499,500,501,502,503,504,505,506,507,508,509,510,511,512,513,514,515,516,517,518,{"$f":"EH$7","v":519},520,521,522,523,524,525,526,527,528,529,530,531,532,533,534,535,536,537,538,539,540,541,542,543,544,545,546,547,548,549,550,551,552,553,554,555,556,557,558,559,560,561,562,563,564,565,566,567,568,569,570,571,572,573,574,575,576,577,578,579,580,581,582,{"$f":"GT$7","v":583},584,585,586,587,588,589,590,591,592,593,594,595,596,597,598,599,600,601,602,603,604,605,606,607,608,609,610,611,612,613,614,615,616,617,618,619,620,621,622,623,624,625,626,627,628,629,630,631,632,633,634,635,636,637,638,639,640,641,642,643,644,645,646,{"$f":"JF$7","v":647},648,649,650,651,652,653,654,655,656,657,658,659,660,661,662,663,664,665,666,667,668,669,670,671,672,673,674,675,676,677,678,679,680,681,682,683,684,685,686,687,688,689,690,691,692,693,694,695,696,697,698,699,700,701,702,703,704,705,706,707,708,709,710,{"$f":"LR$7","v":711},712,713,714,715,716,717,718,719,720,721,722,723,724,725,726,727,728,729,730,731,732,733,734,735,736,737,738,739,740,741,742,743,744,745,746,747,748,749,750,751,752,753,754,755,756,757,758,759,760,761,762,763,764,765,766,767,768,769,770,771,772,773,774,{"$f":"OD$7","v":775},776,{"$f":"OF$7","v":777},{"$f":"OG$7","v":778},{"$f":"OH$7","v":779},{"$f":"OI$7","v":780}]
[null,null,null,null,{"$f":"SUM(E60:E80)","v":5011.1271179046998},{"$f":"IF($E58=0,0,SUM(F60:F80))","v":2.9316002600386488},3.3166635158853284,3.7609262153539857,4.2760528646939129,4.8767425970417682,5.5815932245207724,6.4141785850858515,7.4043746908422108,8.5899704653080526,10.018597030257034,11.750004896361343,13.858710312660026,16.437019727267337,19.598424157269218,23.481332748578016,28.253086642836497,34.114160501278107,41.302420138330675,50.09726169404361,60.823412240786141,73.854125961136461,89.61346701635658,108.57733355135962,131.27285108069083,158.27575223493531,190.20536804960068,227.71688790330694,271.4906044294184,322.21794867464939,380.58424031390962,447.24822670009183,522.81865942909371,607.8283518699933,702.70636708282916,807.74919163103834,923.09194389030972,1048.6808311077434,1184.2481927610036,1329.2915344091437,1483.0579537312315,1644.5352793742975,1812.4510783311446,1985.2804387501653,2161.2631080673491,2338.4301729416084,2514.6400253240213,2687.6228908914322,2855.0327287360237,3014.5048735962005,3163.7174132819955,3300.4540016256692,3422.6656245181525,3528.5287805226008,3616.4976176070636,3685.3477843032629,3734.2100984087792,3762.5925915659518,3770.3900280885537,3757.8805894349639,3725.7100259039294,3674.864167208143,3606.6312176496481,3522.5557077545873,3424.3863068173446,{"$f":"IF($E58=0,0,SUM(BR60:BR80))","v":3314.0199023805617},3193.4444150348331,3064.6827415107473,2929.7400165648869,2790.5560734772753,2648.9645893381289,2506.6599542116551,2365.1724340746114,2225.8517369140686,2089.8586674989779,1958.1641924002522,1831.5549500602726,1710.6440415014599,1595.8858289896868,1487.5934493746797,1385.9578069100726,1291.0669336117874,1202.9247771413213,1121.4686788640486,1046.5850202749104,978.12272796111677,915.90452171269669,859.73595653090854,809.41243994058982,764.72449763426152,725.46161289043857,691.41498113894329,662.37950547044602,638.15531832083752,618.54905633066483,603.37504695846565,592.45649386930222,585.62667963296303,582.73014392275502,583.62374699704401,588.17749425747741,596.27497936153077,607.81330087724496,622.7023200361898,640.86315325830662,662.22583071394854,686.72609876108038,714.30139686048346,744.88609554047491,778.40613804539419,814.77328130038188,853.87917862861627,895.58958425837397,939.73898528614336,986.12597802588982,1034.5097007162319,1084.6076122198358,1136.0948663339509,1188.6054743261038,1241.7353760723076,1295.0474555498465,1348.0784432866676,1400.3475514277541,1451.3665917093942,1500.651238514718,1547.7330239426344,1592.1715946243205,1633.5667251783768,1671.5695738030904,{"$f":"IF($E58=0,0,SUM(ED60:ED80))","v":1705.8926831532965},1736.3182742415595,1762.7044507876135,1784.9890226854027,1803.1907650592996,1817.4080475891396,1827.8148905221985,1834.6546219427016,1838.2314185827906,1838.9001036263544,1837.0546446393753,1833.115839510413,1827.5186963509457,1820.7000046991375,1813.0865617981965,1805.0844623868372,1797.0697877495743,1789.3809449596915,1782.3128159511323,1776.1127839159042,1770.9786167879038,1767.0581087708947,1764.4503145616386,1763.2081595560276,1763.3421741820757,1764.8250817198066,1767.5969656674517,1771.5707531789367,1776.6377729900382,1782.6731768445102,1789.541049848194,1797.0990745993049,1805.2026537841011,1813.7084339779597,1822.4772079000111,1831.3762020814909,1840.2807810681968,1849.0756175907081,1857.6553907052951,1865.9250811547977,1873.7999357744559,1881.2051714692097,1888.0754849775483,1894.3544281701008,1899.9937008088752,1904.9524042196992,1909.1962907908874,1912.6970360610637,1915.4315527258034,1917.3813593850289,1918.5320113765795,1918.8725966171046,1918.3952959559308,1917.095005051709,1914.9690130882166,1912.0167326238852,1908.2394743868006,1903.6402607571029,1898.2236719086027,1891.995719013461,1884.9637394676477,1877.1363097073265,1868.523171809745,1859.1351706729884,{"$f":"IF($E58=0,0,SUM(GP60:GP80))","v":1848.9841991250144},1838.0831488109948,1826.4458651435993,1814.0871049731072,1801.0224959461941,1787.2684967795051,1772.8423578830195,1757.7620819359568,1742.0463841513556,1725.7146520710307,1708.7869048163468,1691.2837517874427,1673.226350858886,1654.6363661674245,1635.5359256312315,1615.9475783832052,1595.894252346513,1575.3992122316888,1554.4860182937709,1533.178486257887,1511.5006489044704,1489.4767199028065,1467.1310605949207,1444.4881505610595,1421.5725629418253,1398.4089456471554,1375.0220097429865,1351.4365264637404,1327.6773344401433,1303.7693588405418,1279.7376441785098,1255.6074025143298,1231.4040786426622,1207.1534335800843,1182.881647208905,1158.6154402629784,1134.3822149261205,1110.2102121304197,1086.1286821787919,1062.1680635791165,1038.360162994346,1014.7383270396336,991.33759438072161,968.19481432879127,945.34871604108889,922.83991071115656,900.71080798002902,879.00542744827135,857.769086847072,837.04795034648566,816.88842381373104,797.33638869604636,778.43627261844131,760.2299626782501,742.75557658492789,726.04611690185197,710.12804423133196,695.01981565686356,680.73044443159063,667.25814502954972,654.58913349154568,642.69665577593673,631.5403159444503,621.06577101782932,{"$f":"IF($E58=0,0,SUM(JB60:JB80))","v":611.20484999231667},601.87614085286293,592.98607179100964,584.43049188445764,576.09673316778355,567.86611152221008,559.61679953012901,551.22698187440528,542.57818451159972,533.55865410062484,524.06665519271689,514.01355033480445,503.32653295775998,491.95089471499421,479.85172733866233,467.01498317378389,453.4478470229559,439.17840316545801,424.25461358775772,408.74265469374109,392.72468823570932,376.29616630078112,359.5627885898565,342.63724202119533,325.63585741114326,308.6753156320263,291.8695266730557,275.32679028409945,259.14732753312921,243.42125004449105,228.22700940514716,213.63034472687215,199.68372302742256,186.42624614552324,173.88398027953662,162.07065058771062,150.98863394742745,140.63017797907983,130.9787735637276,122.0106108660178,113.69605469315169,106.00108315254406,98.888643250123948,92.319887548639798,86.255266594459442,80.65546193457628,75.482153717043673,70.698624764800144,66.270209433923043,62.164600434353545,58.352030131412867,54.805344771894504,51.499990762515566,48.413931782735112,45.527514367260167,42.823297873874822,40.285862672175995,37.901608135565226,35.658549747888188,33.546122468523393,31.554995522510573,29.676902050969527,27.904485599668352,26.231164245774167,{"$f":"IF($E58=0,0,SUM(LN60:LN80))","v":24.651012253002435},23.158658479908169,21.749200313787192,20.418131628827997,19.161283136526752,17.974773475507195,16.854969446635096,15.798453911799093,14.802000019596525,13.862550581611057,12.977201586367979,12.143188995463072,11.357878111923352,10.618754941196553,9.9234190787972345,9.2695777554571883,8.6550407514687038,8.0777159581840188,7.5356054180588394,7.0268017170207955,6.5494846360813535,6.1019179946418696,5.682446637339738,5.2894935308065447,4.9215569474333964,4.5772077210367241,4.2550865648937313,3.9539014465327442,3.672425016351335,3.4094920889292495,3.1639971770543904,2.934892079176127,2.7211835213788289,2.5219308551294595,2.33624381206858,2.1632803170347326,2.0022443603734539,1.8523839304091811,1.7129890067673006,1.5833896150363798,1.462953943064359,1.3510865189921537,1.2472264509468438,1.1508457281458508,1.0614475830050063,0.9785649136965584,0.90175876646913333,0.83061687691957342,0.76475226929643836,0.70380191281642202,0.64742543388728224,0.59530388305399395,0.54713855541781886,0.50264986322058491,0.46157625923804313,0.42367320958611882,0.38871221451185795,0.35647987571616468,0.32677700873765941,0.29941779891561737,0.27422899944445905,0.2510491700322845,0.22972795468088555,0.21012539711421224,{"$f":"IF($E58=0,0,SUM(NZ60:NZ80))","v":0.19211129239596533},0.17556457329437244,0.16037272997298527,0.14643126161010778,0.1336431585758612,0.12191841382462767,0.11117356219136257]
["Espectro normalizado a 1 -->",null,null,null,{"$f":"MAX(F58:OF58)","v":3770.3900280885537},{"$f":"F58 / $E59","v":7.7753236089605831E-4},8.7966058980024206E-4,9.9748996452248581E-4,1.1341141984882958E-3,1.2934318626749853E-3,1.4803755534411995E-3,1.7011976313595332E-3,1.9638219483080776E-3,2.2782710545367225E-3,2.6571778929025246E-3,3.1163897657341712E-3,3.6756702116798969E-3,4.3595011669390312E-3,5.1979832354916563E-3,6.2278259208324322E-3,7.4934122020155437E-3,9.0479128809315013E-3,1.0954415811265408E-2,1.3287023708642961E-2,1.6131862164833203E-2,1.9587927352592148E-2,2.3767691498427616E-2,2.8797374473856292E-2,3.4816782906473269E-2,4.1978615224371144E-2,5.0447133222985864E-2,6.0396109210683134E-2,7.2005973495281594E-2,8.5460110565272682E-2,0.10094028402330874,0.11862120983988224,0.13866434388331522,0.16121100133986391,0.18637498026671659,0.21423491617935794,0.24482664578822969,0.27813590193462961,0.31409169447686369,0.35256074955275768,0.39334337898275373,0.43617113007484143,0.48070652235678368,0.5265451117683515,0.57322003611467975,0.62020909124011891,0.66694427011277913,0.71282357285831144,0.7572247718317402,0.79952069975223261,0.83909552850315638,0.87536142866866096,0.90777495140292308,0.93585245935721739,0.95918395462139827,0.97744470912777048,0.99040419441748939,0.9979319284040874,1,0.99668218975745282,0.98814976650909625,0.97466419649724179,0.95656714312871094,0.93426825381786582,0.90823131859209272,{"$f":"BR58 / $E59","v":0.87895943859703174},0.84697985917753704,0.81282910220946736,0.77703897865711125,0.74012397992999746,0.70257044220994147,0.66482775933991045,0.62730179542556908,0.59035052616094785,0.55428182546898408,0.51935321752189334,0.48577333814687662,0.45370479678694997,0.42326810146979438,0.39454630377558947,0.36759003619917308,0.34242264699238817,0.3190451831719805,0.29744102612975326,0.27758004144878606,0.25942216075109564,0.24292036497269912,0.22802308252622938,0.21467605046444799,0.2028237110583353,0.19241023010508554,0.18338022750645369,0.17567930652687611,0.16925445738152409,0.16405439536032457,0.16002987554694817,0.15713400721295018,0.15532257280286035,0.15455434042142779,0.15479134589503446,0.15599911146477896,0.15814676331080257,0.16120700944707927,0.16515594285927934,0.16997264168534845,0.17563854820867755,0.18213662078594683,0.18945026682626984,0.19756207978252696,0.20645241798499475,0.21609787720381846,0.22646972124035161,0.23753234482014698,0.24924184985778666,0.26154481915119498,0.27437737024800313,0.28766456630209453,0.30132025012539843,0.31524735252089614,0.32933870682387223,0.34347837913373302,0.35754349901304316,0.37140654971912224,0.38493805173922091,0.39800955002936178,0.41049679540110523,0.42228299533019181,0.43326200021978467,0.44334128865986672,{"$f":"ED58 / $E59","v":0.45244461990530993},0.46051423362208704,0.46751249543306228,0.47342291099531819,0.4782504599327751,0.48202123229953941,0.48478138253745384,0.48659544722825471,0.48754410150896377,0.48772145319899646,0.48723199216890911,0.48618732434950079,0.48470282457155478,0.48289434014394633,0.4808750681736137,0.47875271495504867,0.47662702647784727,0.47458775660587044,0.4727131152674669,0.47106871455851129,0.46970700739035304,0.46866719241423593,0.46797554136757274,0.4676460913646931,0.46768163533363261,0.4680749388185993,0.46881011049235061,0.46986405649843516,0.47120795454965886,0.47280869182339169,0.474630220352939,0.47663479406939946,0.47878406221524811,0.48104000394289231,0.48336569806385221,0.48572592979457085,0.48808764275274463,0.49042024931519357,0.49269581578197008,0.49488914071331547,0.49697774548921192,0.49894179579689535,0.50076397160819242,0.50242930149337028,0.50392497504352374,0.50524014492618385,0.50636572783393929,0.50729421142425668,0.50801947237720002,0.50853660897174324,0.50884179012885922,0.50893212169614743,0.50880552984288607,0.5084606607724359,0.50789679550978284,0.50711377825100123,0.50611195663335828,0.50489213226626772,0.50345551992426918,0.50180371391779643,0.49993866030439654,0.49786263376549511,0.49557821813914998,0.49308828975857971,{"$f":"GP58 / $E59","v":0.49039600289373247},0.4875047767254026,0.48441828339694049,0.4811404367873266,0.47767538173212415,0.47402748348705537,0.47020131728435111,0.46620165787651319,0.46203346899750525,0.45770189269938827,0.4532122385446255,0.44856997265210258,0.4437807066095889,0.43885018627801303,0.43378428052452356,0.42858896993275519,0.42327033555082139,0.41783454775111345,0.41228785529168105,0.40663657468751341,0.40088708002199563,0.39504579335467727,0.38911917591154382,0.38311372027826013,0.377035943854994,0.37089238387257678,0.36468959431236114,0.35843414511385924,0.35213262409173779,0.34579164201256496,0.33941784129619312,0.33301790879997517,0.32659859310813472,0.32016672667471113,0.31372925304721899,0.307293259220281,0.30086601292577936,0.29445500435222999,0.28806799139807254,0.28171304710287381,0.27539860737451494,0.26913351655400697,0.26292706775571772,0.25678903432163747,0.2507296881750839,0.24475980040160508,0.23889061907917669,0.23313381928656707,0.22750142039865534,0.22200566628668852,0.21665886492593522,0.21147318520261046,0.2064604104135824,0.20163165004540876,0.19699701385044166,0.19256525491871462,0.18834339125157834,0.1843363181207045,0.18054642606210569,0.17697324151046107,0.17361310862139051,0.17045893156622841,0.16749999635040874,0.1647218898816912,{"$f":"JB58 / $E59","v":0.16210653153625451},0.15963232884901077,0.15727446427913225,0.15500531444507931,0.15279499703637903,0.15061203411099008,0.14842411404685199,0.14619892843124685,0.14390505503927042,0.14151285414127807,0.13899534299861255,0.13632901278263512,0.13349455340378344,0.13047745486543069,0.12726845863793279,0.12386383893831349,0.12026550135261124,0.11648089452117107,0.11252273914028965,0.10840858681693424,0.10416022886491826,9.9802981521131692E-2,9.5364878941222253E-2,9.087580846242041E-2,8.6366623873188109E-2,8.1868271805427273E-2,7.7410963984811565E-2,7.3023424163807207E-2,6.8732233430106746E-2,6.4561291598762394E-2,6.053140595665369E-2,5.666001213014419E-2,5.2961025660428748E-2,4.944481731510264E-2,4.6118300489906949E-2,4.2985115433767034E-2,4.0045892552917933E-2,3.7298575725963838E-2,3.4738786329256477E-2,3.2360209409919481E-2,3.0154984987267042E-2,2.8114089620134772E-2,2.6227695944829554E-2,2.4485500667272484E-2,2.2877014301405742E-2,2.139180862820857E-2,2.0019720282177356E-2,1.8751010966534327E-2,1.7576486501456073E-2,1.6487578200462372E-2,1.5476390956029332E-2,1.4535722926171316E-2,1.365906189514938E-2,1.2840563289755771E-2,1.2075014528494526E-2,1.1357789924875392E-2,1.0684799814357512E-2,1.0052436976866268E-2,9.4575228244929699E-3,8.8972552490889176E-3,8.369159500060468E-3,7.8710430034779726E-3,7.4009546470753E-3,6.9571487433283882E-3,{"$f":"LN58 / $E59","v":6.5380536414954326E-3},6.1422447830015983E-3,5.7684218745966765E-3,5.4153897810883039E-3,5.0820427048075987E-3,4.7673512134286363E-3,4.4703516933445563E-3,4.1901378356361497E-3,3.9258538000909639E-3,3.6766887452858161E-3,3.4418724560829942E-3,3.2206718416394747E-3,3.0123881156351802E-3,2.8163545049952996E-3,2.6319343635194249E-3,2.4585195925092441E-3,2.2955292919275209E-3,2.1424085831987833E-3,1.9986275589316442E-3,1.8636803260863493E-3,1.7370841179000509E-3,1.6183784566540754E-3,1.5071243545115478E-3,1.4029035435063782E-3,1.3053177286086876E-3,1.2139878598600041E-3,1.1285534210504213E-3,1.0486717334485484E-3,9.7401727380790808E-4,9.0428100634929115E-4,8.3916972872390562E-4,7.7840543214676577E-4,7.2172467599018319E-4,6.6887797716990674E-4,6.1962921466057665E-4,5.7375504945609949E-4,5.3104436025376307E-4,4.9129769509502713E-4,4.5432673914526606E-4,4.1995379874243378E-4,3.8801130179256859E-4,3.58341314539574E-4,3.3079507468863662E-4,3.0523254081734523E-4,2.8152195796653972E-4,2.5953943926396763E-4,2.3916856339827825E-4,2.2029998772850166E-4,2.0283107678494976E-4,1.8666554589134195E-4,1.717131196147107E-4,1.5788920472924937E-4,1.4511457736249042E-4,1.3331508397697772E-4,1.2242135582775371E-4,1.1236853652535922E-4,1.0309602232555248E-4,9.4547214760401494E-5,8.6669285220691906E-5,7.9412951096576866E-5,7.2732263081939799E-5,6.658440324794648E-5,6.0929493492573505E-5,5.573041397543106E-5,{"$f":"NZ58 / $E59","v":5.0952631150830448E-5},4.6564035016657708E-5,4.2534785202126216E-5,3.8837165523786126E-5,3.5445446646169198E-5,3.2335756491069373E-5,2.9485958047614345E-5]
[{"$f":"IF(Principal!M18=\"\",\"\",MATCH(Principal!M18,Datos!A:A,0))","v":8},{"$f":"IF(A60=\"\",\"\",INDIRECT(\"Datos!A\"&Espectros!A8,TRUE))","v":"Blue (465-480) XP-E2"},{"$f":"IF(A60=\"\",\"\",INDIRECT(\"Datos!M\"&Espectros!A8,TRUE))","v":111.42857142857143},{"$f":"IF(B60=\"\",\"\",D34)","v":5.7324840764331206},{"$f":"IF(A60=\"\",\"\",C60*D60)","v":638.76251137397628},{"$f":"IF($E60=\"\",\"\",$E60*I8)","v":9.7155564847969139E-6},{"$f":"IF($E60=\"\",\"\",$E60*J8)","v":1.5751932815404014E-5},2.5371415548852315E-5,4.0597587282842011E-5,6.4535759849241068E-5,1.0191668977168048E-4,1.5989499472415577E-4,2.4921208952029641E-4,3.858762257444353E-4,5.9356955255953161E-4,9.070680855447485E-4,1.3770599142063585E-3,2.0768755022000035E-3,3.1118078278257097E-3,4.6319061598199471E-3,6.8493823993724858E-3,1.0062079692161779E-2,1.4684824811268496E-2,2.1290921804503857E-2,3.0666544179922227E-2,4.3881340800712119E-2,6.2379173761035189E-2,8.8093532442462819E-2,0.12359278253616975,0.17226096382818937,0.23852028175600165,0.32810166366085541,0.44836967233066588,0.60870757179633783,0.82096729562891568,1.0999873415569135,1.4641790753536996,1.9361784526402583,2.5435556691372816,3.3195696837994695,4.3039479466405881,5.5436641111204787,7.0936782316506868,9.0175952724014294,11.388189146635474,14.287731560020637,17.808058361655782,22.050301725046385,27.124215158435238,33.1470209538288,40.241717035322218,48.534792921937729,58.153323105637227,69.22143066585167,81.856144098306146,96.162705360903914,112.2294257607246,130.12222674488262,149.87904266958836,171.50429958476855,194.96371512395319,220.17968680862106,247.02754669599827,275.33295694441028,304.87070179707473,335.3650958025404,366.49217593965233,397.88377799000568,429.13351748309543,459.80460644356572,{"$f":"IF($E60=\"\",\"\",$E60*BV8)","v":489.43934358926714},517.57002288503327,543.73091916860642,567.47093565435341,588.36644179046095,606.03379566016508,620.14103612299368,630.41824791213401,636.66614794407519,638.76251137397628,636.66614794407508,630.41824791213401,620.14103612299357,606.03379566016497,588.36644179046095,567.47093565435341,543.73091916860619,517.57002288503304,489.43934358926685,459.80460644356572,429.13351748309543,397.8837779900054,366.49217593965204,335.36509580254011,304.87070179707473,275.33295694441028,247.02754669599807,220.1796868086208,194.96371512395299,171.50429958476855,149.87904266958836,130.12222674488248,112.22942576072442,96.162705360903772,81.856144098306146,69.221430665851457,58.153323105637121,48.534792921937665,40.241717035322218,33.1470209538288,27.124215158435131,22.050301725046335,17.808058361655743,14.287731560020637,11.388189146635474,9.0175952724014063,7.0936782316506743,5.543664111120469,4.303947946640581,3.3195696837994695,2.5435556691372696,1.936178452640255,1.4641790753536996,1.0999873415569135,0.82096729562891568,0.60870757179633406,0.44836967233066427,0.32810166366085541,0.23852028175600165,0.17226096382818937,0.12359278253616908,8.8093532442462638E-2,6.2379173761035189E-2,4.3881340800712119E-2,{"$f":"IF($E60=\"\",\"\",$E60*EH8)","v":3.0666544179922227E-2},2.1290921804503739E-2,1.4684824811268416E-2,1.0062079692161779E-2,6.8493823993724858E-3,4.6319061598199471E-3,3.1118078278256933E-3,2.0768755021999962E-3,1.3770599142063585E-3,9.070680855447485E-4,5.9356955255952738E-4,3.8587622574443395E-4,2.4921208952029505E-4,1.5989499472415577E-4,1.0191668977168048E-4,6.4535759849240607E-5,4.0597587282841862E-5,2.5371415548852227E-5,1.5751932815404014E-5,9.7155564847969139E-6,5.9531412785243081E-6,3.6238430121205232E-6,2.1914786275722811E-6,1.3165876641964229E-6,7.8579091198186198E-7,4.6591736775650525E-7,2.7444509652160334E-7,1.6060043957599146E-7,9.3364690428937858E-8,5.3921662204375798E-8,3.0937738141609018E-8,1.7634312188508084E-8,9.9855770892589242E-9,5.6173630150363815E-9,3.1393265298967333E-9,1.7429509598189972E-9,9.6134334333984316E-10,5.2676457029410349E-10,2.8674725461172384E-10,1.5506959693424297E-10,8.3310305205706631E-11,4.44647106901125E-11,2.3576367596684138E-11,1.2418896156596696E-11,6.498809025648958E-12,3.3785413001718042E-12,1.7448952783431991E-12,8.9527030690298362E-13,4.563348867494868E-13,2.3107759609798532E-13,1.1624564404899617E-13,5.809519490235924E-14,2.8843530389072252E-14,1.4226605769228415E-14,6.9710605654355435E-15,3.3934471736860457E-15,1.6410734060749542E-15,7.8842357263093962E-16,3.7630143225582089E-16,1.7842545793116384E-16,8.4047044617409321E-17,3.933079739648306E-17,1.8284695573663746E-17,8.4447616181324593E-18,{"$f":"IF($E60=\"\",\"\",$E60*GT8)","v":3.8746433509969999E-18},1.7661222004899973E-18,7.9975035992971618E-19,3.5977651997298188E-19,1.6078882705281846E-19,7.1387733785280292E-20,3.148734203575825E-20,1.3797267551636041E-20,6.0061316628644764E-21,2.5974146668140224E-21,1.1159183181347646E-21,4.7628642426175295E-22,2.0195224109520143E-22,8.5069489972671657E-23,3.5599480390775834E-23,1.4799879079439735E-23,6.112478619185715E-24,2.5079635305939084E-24,1.0222797517270036E-24,4.1396438501274683E-25,1.6653321886633297E-25,6.6555423651784051E-26,2.6424738972191674E-26,1.042275760193967E-26,4.0841270834741096E-27,1.5898660478862701E-27,6.1484621027591521E-28,2.36220260477662E-28,9.0159701581197254E-29,3.418632877942693E-29,1.2877665572927699E-29,4.8191062087854281E-30,1.7915978443291235E-30,6.6169711716467546E-31,2.427854364014785E-31,8.8497438206121445E-32,3.2046709553837634E-32,1.1528714051569476E-32,4.1202443126376219E-33,1.4628835208248327E-33,5.1598990464584427E-34,1.8080787404651656E-34,6.2941654214477199E-35,2.1767253931926275E-35,7.4784881973229314E-36,2.5525170954503116E-36,8.655022162345766E-37,2.9154955781571828E-37,9.7566621762322653E-38,3.2436562754314092E-38,1.0713048307198373E-38,3.51508618579802E-39,1.1457861557834702E-39,3.7103582204196657E-40,1.1936384212793137E-40,3.8148232081795572E-41,1.2112135495731651E-41,3.8204252166632949E-42,1.1971466741697581E-42,3.7267280455638674E-43,1.1525312717804401E-43,3.5409713448129407E-44,1.080778718599536E-44,3.2771463368202788E-45,{"$f":"IF($E60=\"\",\"\",$E60*JF8)","v":9.8718730737254055E-46},2.9542549301266351E-46,8.7829629967755219E-47,2.5940528209733303E-47,7.6113423257265454E-48,2.2186478387537273E-48,6.4248082267164812E-49,1.8483177869640525E-49,5.2824791887329151E-50,1.4998354853259275E-50,4.230523699760293E-51,1.1854665881598199E-51,3.3001158182458563E-52,9.1266989118361692E-53,2.507511555624172E-53,6.8441077889378973E-54,1.8558181432558923E-54,4.9991787979241508E-55,1.3378474686627275E-55,3.5567980782004639E-56,9.3941285347947623E-57,2.4648952248371989E-57,6.4251771589864669E-58,1.6638586471440453E-58,4.2804795579736849E-59,1.0939893762515021E-59,2.7776560026467347E-60,7.0062961868889565E-61,1.755671276711155E-61,4.3706154142576405E-62,1.0809028454466589E-62,2.6556779343719408E-63,6.481997035333551E-64,1.5717625219518473E-64,3.7862536749146623E-65,9.0610215794648569E-66,2.1542162595013451E-66,5.0879883974595159E-67,1.1938440602672474E-67,2.782875463895817E-68,6.4444315976273307E-69,1.4825868473303041E-69,3.3884442575941891E-70,7.6935224624596026E-71,1.7353807858161711E-71,3.8887410187432473E-72,8.6570103256709718E-73,1.914571227247072E-73,4.2064893942616934E-74,9.1814811429190617E-75,1.9909042462678333E-75,4.2887692177657606E-76,9.17824527369009E-77,1.9513326868619813E-77,4.1214274340789966E-78,8.6478604680413073E-79,1.8026622650346273E-79,3.7330580193343739E-80,7.6799747077313846E-81,1.5696380489859722E-81,3.1870136505173688E-82,6.4285497245804902E-83,1.288210306116272E-83,2.5645147963191628E-84,{"$f":"IF($E60=\"\",\"\",$E60*LR8)","v":5.0718724935912369E-85},9.9649729147750364E-86,1.9450402651932494E-86,3.7716010496737634E-87,7.2655346372333441E-88,1.3904458656688392E-88,2.6435362531269106E-89,4.9929950343228517E-90,9.3687505479744161E-91,1.7464127566597065E-91,3.2341249320529562E-92,5.949923305921185E-93,1.0874533138330231E-93,1.9744882440157755E-94,3.5615837532148141E-95,6.3822887488423136E-96,1.1361990292856564E-96,2.0094493182695445E-97,3.5305663539893214E-98,6.1624921227732146E-99,1.0685947942614473E-99,1.8408330760462558E-100,3.1503618675166449E-101,5.356130537845248E-102,9.0466240305284267E-103,1.5179819539862817E-103,2.5304126696832458E-104,4.1904510911617856E-105,6.8940571116247119E-106,1.1267657970923685E-106,1.8295197922400703E-107,2.9511089740348589E-108,4.7290952278697845E-109,7.5286229945954E-110,1.1906872914939138E-110,1.8707879537304504E-111,2.9200890058109633E-112,4.528061236665517E-113,6.9754651272814497E-114,1.067526661055916E-114,1.6230390403983154E-115,2.4514547464957941E-116,3.6784382745022076E-117,5.4833724155368583E-118,8.1203863233330659E-119,1.1946764895488181E-119,1.7460980252677489E-120,2.5353131159721835E-121,3.6571204394115051E-122,5.240727772666737E-123,7.4608552967501226E-124,1.0551891350715587E-124,1.482575034309535E-125,2.069415665386168E-126,2.869613852111943E-127,3.9531552072600461E-128,5.410145553502856E-129,7.3556102795067124E-130,9.935120768544292E-131,1.3331292833468257E-131,1.777117173140077E-132,2.3534476220463008E-133,3.0962618989568851E-134,4.0468351915164158E-135,{"$f":"IF($E60=\"\",\"\",$E60*OD8)","v":5.2545802041097957E-136},6.7780569056410169E-137,8.6859449779117418E-138,1.105792436772283E-138,1.3985398136998303E-139,1.7571981265608279E-140]
[{"$f":"IF(Principal!M19=\"\",\"\",MATCH(Principal!M19,Datos!A:A,0))","v":27},{"$f":"IF(A61=\"\",\"\",INDIRECT(\"Datos!A\"&Espectros!A9,TRUE))","v":"Blanco Frío (6000K) XP-G2"},{"$f":"IF(A61=\"\",\"\",INDIRECT(\"Datos!M\"&Espectros!A9,TRUE))","v":557.14285714285711},5.739514348785872,{"$f":"IF(A61=\"\",\"\",C61*D61)","v":3197.7294228949854},{"$f":"IF($E61=\"\",\"\",$E61*I9)","v":1.8612985097270014},2.0655436345856431,2.3062410143129388,2.5936129190028012,2.9410462371188588,3.3659833697243542,3.8910180445517057,4.5452273093572577,5.365770561811777,6.3997840078670034,7.7065937847172998,9.3602624775075114,11.452471250014469,14.095722715886707,17.426827557118315,21.610610536235036,26.843739057219519,33.358540338163749,41.426632611337531,51.362153200359735,63.524324114866225,78.319056869800491,96.199266091856273,117.66354010808845,143.25281039333603,173.54467477079646,209.14506557549529,250.67701684209845,298.76637604999581,354.02442654411794,417.02753495869763,488.29411001507953,568.25934867701096,657.2484440759705,755.44912583257997,862.88458452133898,979.38798400583255,1104.5798738760127,1237.8498656874065,1378.3439195076337,1524.9584929008574,1676.3426286004144,1830.9088004840169,1986.8530064763022,2142.1842038934219,2294.7627453006785,2442.3470137532872,2582.6470014694319,2713.3831536081998,2832.3484369569073,2937.4713179587648,3026.8771674819777,3098.9455669011249,3152.3610798087579,3186.1552759384413,3199.7381398267203,3192.9174491163049,3165.9052415564402,3119.3110752758371,3054.1223897227587,2971.672859484619,2873.6001660000138,2761.7950626420511,2638.3439522675071,2505.4674159975511,2365.4572190639055,2220.6142741322437,2073.1898731411516,1925.3322213619017,1779.0399440426174,1636.1238126983842,1498.1774829306146,1366.5575766485897,1242.3730048042216,1126.4830347290131,1019.5032765615005,921.81850819188878,833.60108391372262,754.83357920197363,685.33430831416786,624.78440414535669,572.7552592819103,528.73527990594596,492.15508576328779,462.41048578963222,438.8827573463962,420.95594635933071,408.03107727609563,399.53730944723719,394.94019654851189,393.74729655352007,395.51144206429831,399.83201662472641,406.35459523455097,414.76930062237415,424.80820521384766,436.24207641527846,448.87672380343241,462.54916457117133,477.12378103241008,492.48860340113021,508.55181405198294,525.23853707855824,542.48794971092696,560.25073013825454,578.48683928554533,597.16362167080115,616.25420203522151,635.73614934300792,655.59037732854267,675.8002504007552,696.35086483365126,717.22847729364184,738.42005547949202,759.91292866518859,781.69451900386503,803.7521374051579,826.07283052974537,848.64326789036545,871.44966018086177,894.47770177194661,917.7125318301122,941.13870976101623,964.74020168281618,988.50037543248243,1012.4020022322189,1036.4272636247317,1060.5577626526244,1084.7745385323728,1109.0580842771392,1133.38836687144,1157.7448497076457,1182.1065170698719,1206.4519005031707,1230.7591069412708,1255.0058484891795,1279.1694737712198,1303.2270007632001,1327.1551510311874,1350.9303853002491,1374.5289402754395,1397.9268666349403,1421.1000681121432,1444.0243415798727,1466.6754180461655,1489.029004467197,1511.0608262792141,1532.7466705477377,1554.0624296289668,1574.9841452352148,1595.488052793452,1615.5506259835706,1635.1486213409071,1654.2591228058448,1672.8595861019764,1690.9278828233903,1708.4423441111126,1725.3818037986346,1741.725640906765,1757.4538213687913,1772.546938868102,1786.9862546719967,1800.7537363474635,1813.832095247102,1826.2048226562461,1837.8562244955931,1848.7714544773003,1858.9365456165456,1868.3384400049765,1876.9650167572242,1884.8051180467792,1891.8485731529638,1898.0862204464511,1903.5099272468237,1908.11260749192,1911.8882371652273,1914.831867434322,1916.9396354602272,1918.2087728446554,1918.6376116892675,1918.225588248386,1916.9732441639701,1914.8822252790621,1911.9552780333374,1908.1962434518221,1903.6100487451833,1898.2026965473083,1891.9812518230817,1884.9538264863286,1877.1295617748056,1868.5186084358379,1859.1321047827241,1848.9821526883061,1838.0817915881225,1826.4449705712991,1814.0865186427936,1801.022113245687,1787.2682471370367,1772.8421937151907,1757.7619709005255,1742.0463036752458,1725.7145853911204,1708.7868379569124,1691.2836710197041,1673.2262402563347,1654.6362048927783,1635.5356845704532,1615.9472156792212,1595.8937072771289,1575.3983967168772,1554.4848050984574,1533.1766926664891,1511.4980142694508,1489.4728749962887,1467.1254861037842,1444.4801213455969,1421.5610738110868,1398.3926133788702,1374.9989448865949,1351.4041671146522,1327.6322326775012,1303.7069089119705,1279.6517398473479,1255.4900093373337,1231.244705428948,1206.9384860383657,1182.5936459983891,1158.232085536843,1133.8752802396955,1109.5442525471171,1085.2595448250559,1061.041194049247,1036.9087081328805,1012.8810439235185,988.97658688919751,965.21313250809692,941.60786937065404,918.17736399761714,894.93754737223378,871.903703179633,849.09045774146034,826.51177162897727,804.18093293321169,782.11055216625334,760.31255876356636,738.79819915312885,717.57803635342498,696.6619510587193,676.05914416673386,655.77814070075419,635.82679507537352,616.21229765250303,596.94118253198815,578.01933651910349,559.45200920942659,541.24382413005901,523.39879087489965,505.92031817066186,488.81122780956554,472.07376938411784,455.70963575912509,439.71997921602406,424.10542820481902,408.86610463929549,394.00164167179241,379.51120188462028,365.39349583620253,351.64680090118776,338.26898034511828,325.2575025757269,312.60946051457734,300.32159103451659,288.39029441031408,276.81165373184109,265.58145423124324,254.69520247773636,244.14814539590188,233.93528906567113,224.05141726454644,214.49110971500937,205.24876000248477,196.31859313168653,187.69468269161129,179.37096760189809,171.34126841571188,163.59930315672045,156.13870267012314,148.95302547003868,142.03577206786497,135.38039876847657,128.98033092331951,122.82897563160121,116.91973388282923,111.24601213594696,105.80123333222461,100.57884734089643,95.572340838276659,90.775246622750984,86.181152369604646,81.783708831131435,77.576637488847808,73.553737665937973,69.708893109248336,66.036078051260731,62.529362763488294,59.182918613659332,55.991022639888975,52.948061655779767,50.04853590105094,47.287062252867514,44.65837701352762,42.157338290578743,39.778927985763367,37.518253409452974,35.370548537416283,33.331174926886852,31.3956223089492,29.559508874255918,27.818581269025394,26.16871431814991,24.6059104920773,23.126299133912763,21.726135462929669,20.401799370380377,19.149794023161277,17.966744290523749,16.849395008621034,15.794609097262203,14.799365542796904,13.860757260590461,12.975988850066003,12.142374254795328,11.357334339612494,10.618394396209169,9.9231815881491627,9.2694223457145686,8.6549397204696117,8.0776507089027465,7.5355635539843275,7.0267750329591587,6.549467739180586,6.1019073652883868,5.6824399945374866,5.2894894065993405,4.9215544036840981,4.5772061623716107,4.2550856160908364,3.95390087275478,3.6724246716393307,3.4094918831916692,3.1639970550668357,2.9348920073202818,2.7211834793300533,2.5219308306845019,2.3362437979506865,2.1632803089345432,2.0022443557563978,1.8523839277947345,1.7129890052965497,1.5833896142144341,1.4629539426080156,1.3510865187404526,1.247226450808925,1.150845728070774,1.0614475829644057,0.97856491367474596,0.90175876645749153,0.83061687691340058,0.76475226929318685,0.70380191281472049,0.64742543388639762,0.5953038830535371,0.54713855541758449,0.50264986322046545,0.46157625923798262,0.4236732095860884,0.38871221451184274,0.35647987571615714,0.32677700873765569,0.29941779891561554,0.27422899944445817,0.25104917003228405,0.22972795468088536,0.21012539711421213,0.19211129239596528,0.17556457329437242,0.16037272997298527,0.14643126161010778,0.1336431585758612,0.12191841382462767,0.11117356219136257]
[{"$f":"IF(Principal!M20=\"\",\"\",MATCH(Principal!M20,Datos!A:A,0))","v":24},{"$f":"IF(A62=\"\",\"\",INDIRECT(\"Datos!A\"&Espectros!A10,TRUE))","v":"Royal Blue (440-450) XT-E"},{"$f":"IF(A62=\"\",\"\",INDIRECT(\"Datos!M\"&Espectros!A10,TRUE))","v":69.519642857142841},5.2845528455284549,367.38022648083614,2.66401159074339E-3,3.9393790529796422E-3,5.7871416220454473E-3,8.4458842980480297E-3,1.2245339285330913E-2,1.7637669314641859E-2,2.5238076177908211E-2,3.5876988044778034E-2,5.0666439128674481E-2,7.108360874508339E-2,9.9074806016528211E-2,0.13718343448695189,0.18870560084245891,0.25787698688462612,0.35009431769268418,0.47217415804937185,0.63265077626109367,0.84211335313792857,1.1135808156747617,1.4629099879143874,1.9092295501655667,2.4753884945398896,3.1884034213221599,4.0798842588935598,5.186413000915385,6.5498451042441515,8.217498621087076,10.242192360375855,12.68209185334532,15.600321137485631,19.064299874124963,23.144769542930796,27.914479792353671,33.446516714338024,39.812268914540617,47.079044593581671,55.307372999250887,64.548045822384978,74.838977367188775,86.201985339190827,98.639615353068962,112.13215012214188,126.63495707072298,142.07633421844318,158.35601225610168,175.3444597627709,192.88311799120407,210.78566165467242,228.84034342685175,246.81343384467186,264.45371706115901,281.49794907294279,297.67713170610728,312.72340607328579,326.37732670559137,338.39524516514939,348.55651222512068,356.67020253093654,362.58107602062296,366.1745162865941,367.38022648083614,366.17451628659421,362.58107602062296,356.67020253093659,348.5565122251208,338.39524516514939,326.37732670559149,312.7234060732859,297.67713170610739,281.49794907294296,264.45371706115901,246.81343384467203,228.84034342685175,210.78566165467259,192.88311799120424,175.34445976277107,158.35601225610182,142.07633421844318,126.63495707072312,112.13215012214199,98.639615353069189,86.201985339190827,74.838977367188804,64.548045822385077,55.307372999250973,47.079044593581777,39.812268914540617,33.446516714338053,27.914479792353706,23.144769542930845,19.064299874125005,15.600321137485631,12.682091853345337,10.242192360375876,8.2174986210871008,6.5498451042441683,5.186413000915385,4.0798842588935633,3.1884034213221657,2.4753884945398958,1.9092295501655667,1.4629099879143874,1.1135808156747635,0.8421133531379309,0.63265077626109545,0.47217415804937185,0.35009431769268418,0.25787698688462707,0.18870560084245963,0.13718343448695236,9.9074806016528211E-2,7.108360874508339E-2,5.0666439128674585E-2,3.5876988044778159E-2,2.5238076177908256E-2,1.7637669314641859E-2,1.2245339285330913E-2,8.4458842980480765E-3,5.7871416220454785E-3,3.9393790529796699E-3,2.66401159074339E-3,1.7897366301168681E-3,1.1945018356345309E-3,7.9200731750931252E-4,5.2169448389225738E-4,3.4138778148139876E-4,2.2193427554573995E-4,1.4333276023477504E-4,9.1962596941636948E-5,5.8616740813356781E-5,3.7117334920812137E-5,2.3349446069501523E-5,1.4592209505888849E-5,9.0596247309291089E-6,5.5878409866203622E-6,3.4239116294917019E-6,2.0842304343442989E-6,1.2604150998054645E-6,7.5722708462327852E-7,4.5194268303179015E-7,2.6796943314590814E-7,1.5784536493819351E-7,9.2368329095328581E-8,5.3698112372494516E-8,3.1012703657664348E-8,1.7793644809901252E-8,1.0142263345593919E-8,5.7431416328783963E-9,3.230790880714215E-9,1.8055638379120994E-9,1.0024472428508121E-9,5.5291055582199646E-10,3.0296531761149176E-10,1.6492087351121599E-10,8.9187299861183335E-11,4.7915396175685465E-11,2.5573597687504604E-11,1.355979900673019E-11,7.1426497350927508E-12,3.7377489899384595E-12,1.9431467030871244E-12,1.0035655053772432E-12,5.1490906597525691E-13,2.6245812968034194E-13,1.329028208097546E-13,6.6857948420093318E-14,3.3413084645133547E-14,1.6589174439888874E-14,8.1823425083454501E-15,4.0093614821455382E-15,1.9517197221514045E-15,9.4385301087669938E-16,4.5345684118647082E-16,2.1642739350785858E-16,1.0262027588891941E-16,4.8339127197949902E-17,2.2620859862472194E-17,1.0516327244278399E-17,4.8569513404486767E-18,2.2284766661711254E-18,1.0157740356634314E-18,4.5997137140549045E-19,2.0692319451536184E-19,9.2476678963502813E-20,4.1058204479747163E-20,1.8109746020463682E-20,7.9354113425249561E-21,3.4543887145641267E-21,1.4938866504645624E-21,6.4181337688185558E-22,2.7393313054433217E-22,1.1615155672219471E-22,4.8927180190246461E-23,2.0474816439103812E-23,8.512057034151985E-24,3.5155534952190318E-24,1.4424393940924976E-24,5.8795774646888329E-25,2.3808900305350975E-25,9.5780529655845316E-26,3.827893180851477E-26,1.5198021824134224E-26,5.9945832452173538E-27,2.348959912621983E-27,9.1440142204068249E-28,3.536249168664749E-28,1.3586059176669403E-28,5.1854783266942318E-29,1.966205120979811E-29,7.4065080690950597E-30,2.7716785172795264E-30,1.0304261914125353E-30,3.8057092023571635E-31,1.396365112591909E-31,5.089874297914662E-32,1.8431462717700643E-32,6.6306671163090219E-33,2.3697325089996756E-33,8.4136822312832675E-34,2.9676833667470975E-34,1.0399050747960359E-34,3.6200495127138617E-35,1.2519298701759281E-35,4.3012052816889444E-36,1.4680640956928257E-36,4.9778813652664792E-37,1.6768288788635775E-37,5.6114826655861122E-38,1.865568432516122E-38,6.1615421120018081E-39,2.0216796321693883E-39,6.5899167517658319E-40,2.133989110304483E-40,6.8651360362800339E-41,2.1940714886206352E-41,6.9662182773016065E-42,2.1972934484395925E-42,6.8853135313348266E-43,2.1434041119081192E-43,6.6287108606634263E-44,2.036567317986868E-44,6.2160305801397235E-45,1.8848300299310201E-45,5.6777454860556313E-46,1.6991210754955486E-46,5.0514657286129462E-47,1.4919531060496436E-47,4.377615495051474E-48,1.2760413001216333E-48,3.6951878975332159E-49,1.0630483083968223E-49,3.0381845618375573E-50,8.6262091226645938E-51,2.4331590024082321E-51,6.8181362539079342E-52,1.8980407821872476E-52,5.2491632704626751E-53,1.4421794435415467E-53,3.936345394082089E-54,1.0673620909749785E-54,2.8752461302854862E-55,7.6945452696793348E-56,2.0456699637947015E-56,5.4029737300631991E-57,1.4176689298882049E-57,3.6954000865997681E-58,9.5695779845479189E-59,2.4618907989331925E-59,6.2920108437548961E-60,1.5975513170665161E-60,4.0296270274134773E-61,1.0097632528193492E-61,2.5137318677278002E-62,6.2167444878661991E-63,1.5273964010366171E-63,3.728079679827571E-64,9.0398929337086489E-65,2.1776399018972188E-65,5.211389367311222E-66,1.2389838840133627E-66,2.9263244108827501E-67,6.8663187559385956E-68,1.600553257258049E-68,3.7064741554476068E-69,8.5270046699853547E-70,1.9488423265402419E-70,4.4248808819640467E-71,9.9809330505683229E-72,2.2365848507893758E-72,4.9790248448533347E-73,1.1011535563769434E-73,2.4193358233077679E-74,5.2806709248788167E-75,1.1450560104447194E-75,2.466658544437264E-76,5.2788098351169193E-77,1.1222966778322732E-77,2.3704129738286955E-78,4.9737623619920697E-79,1.0367898231414636E-79,2.1470447563667071E-80,4.4170889763462063E-81,9.0276741615441214E-82,1.8329907843308903E-82,3.6973397964127637E-83,7.4090602624426972E-84,1.4749644976167162E-84,2.9170554504981842E-85,5.7312912719796168E-86,1.118677631227927E-86,2.1692125369788214E-87,4.1787263857887878E-88,7.9970616299942691E-89,1.5204131897081025E-89,2.8716895776829266E-90,5.3883777411322955E-91,1.0044382734525074E-91,1.8600865405347896E-92,3.4220608328611832E-93,6.2544190933179449E-94,1.1356144503689748E-94,2.0484224145716394E-95,3.6707330882208705E-96,6.5347769988623839E-97,1.1557220915479018E-97,2.0305829531918831E-98,3.5443184461165788E-99,6.14595550837067E-100,1.0587435241567311E-100,1.8119107426879712E-101,3.0805446703844823E-102,5.2031087079195672E-103,8.730577391740504E-104,1.4553508747383915E-104,2.4101114945153056E-105,3.9650734317400517E-106,6.4805223593389325E-107,1.0522367603862364E-107,1.6973116987070648E-108,2.7199092697646771E-109,4.3300399938842943E-110,6.84816279959771E-111,1.0759718829783467E-111,1.6794707597840946E-112,2.6042858386707166E-113,4.0118947380886421E-114,6.13981220766057E-115,9.3348065929259341E-116,1.4099387236078136E-116,2.1156305548921008E-117,3.1537270331747464E-118,4.6703889371356225E-119,6.8711064204081311E-120,1.0042572576790405E-120,1.4581693354893434E-121,2.1033697366000919E-122,3.0141714984264083E-123,4.291063830225393E-124,6.0688537057201552E-125,8.5269367281415661E-126,1.1902113575783251E-126,1.6504402937386613E-127,2.273632264725446E-128,3.1116110656911631E-129,4.2305328228749428E-130,5.7141219985042289E-131,7.6674089246506384E-132,1.0220977247816983E-132,1.353570544611927E-133,1.7807954872554958E-134,2.3275117163528787E-135,3.0221386369328845E-136,3.8983566454739848E-137,4.9956664274510566E-138,6.3598954013184411E-139,8.0436134611960345E-140,1.0106414108727524E-140,1.2615011900419129E-141,1.5643103460074486E-142,1.9270937757556601E-143,2.3584542588499476E-144,2.8674558821916027E-145,3.4634642536127761E-146,4.1559408000496859E-147,4.9541901718337051E-148,5.8670619273344315E-149,6.9026102029095963E-150,8.0677178956726015E-151,9.3676948770099004E-152,1.0805862753388449E-152,1.2383141508409594E-153]
[{"$f":"IF(Principal!M21=\"\",\"\",MATCH(Principal!M21,Datos!A:A,0))","v":10},{"$f":"IF(A63=\"\",\"\",INDIRECT(\"Datos!A\"&Espectros!A11,TRUE))","v":"Green (520-525) XP-E"},{"$f":"IF(A63=\"\",\"\",INDIRECT(\"Datos!M\"&Espectros!A11,TRUE))","v":248.57142857142858},2.5316455696202529,629.29475587703428,4.6922689379287269E-22,1.0993781461576506E-21,2.5589157152448865E-21,5.9171086143075511E-21,1.3592764072833356E-20,3.1020635786823604E-20,7.0329622833360715E-20,1.5840561063972244E-19,3.5444390250719167E-19,7.8789643811749375E-19,1.7399446887008454E-18,3.8172132807723339E-18,8.3195931293643542E-18,1.8013679313403086E-17,3.8747835236651205E-17,8.2801297012455251E-17,1.7578083089052722E-16,3.7072388208605779E-16,7.767375367713227E-16,1.6167493709529949E-15,3.3431494064248761E-15,6.8677353141681327E-15,1.4015738627566353E-14,2.8416010789018244E-14,5.7234106327044861E-14,1.1452264791844118E-13,2.2765255761854796E-13,4.4957107851788342E-13,8.8200058581181092E-13,1.7190323925774284E-12,3.3284644681774796E-12,6.4024834996818578E-12,1.223482293648927E-11,2.3226918028281646E-11,4.3805653526361422E-11,8.2075477572558596E-11,1.5277115110712933E-10,2.8249707892397805E-10,5.1895685135757943E-10,9.4709428588689938E-10,1.7171168927958225E-9,3.0927953458011316E-9,5.5341023060609803E-9,9.8375705912358582E-9,1.7372935928654427E-8,3.0479178136696932E-8,5.3122433845401112E-8,9.1980836421713613E-8,1.5822001544725502E-7,2.7037726375913876E-7,4.5901152772809333E-7,7.7414389749073184E-7,1.2970731656575381E-6,2.1589964711320126E-6,3.5701303114107414E-6,5.8649036549001998E-6,9.5715522395932475E-6,1.5518457234346847E-5,2.4995359730374161E-5,3.9995848728503513E-5,6.3579209043296232E-5,1.0040607779518745E-4,1.5752502671839848E-4,2.4551826108101338E-4,{"$f":"IF($E63=\"\",\"\",$E63*BU11)","v":3.8015675772247275E-4},5.8477164834004917E-4,8.936234974543368E-4,1.3566490943160315E-3,2.0460919964333186E-3,3.0656845266883873E-3,4.5632519194331242E-3,6.7478606652261975E-3,9.9129392704560386E-3,1.446716593437306E-2,2.0975347176437419E-2,3.0212003819362843E-2,4.3230930361493357E-2,6.1454587933353504E-2,8.678780768376769E-2,0.12176088691705676,0.16970770708855173,0.23498492758521594,0.32323853178575673,0.44172392472606609,0.59968529143972926,0.80879889581270814,1.0836832989524239,1.4424769728627922,1.9074803624085428,2.5058550171117577,3.2703669307235566,4.2401547119018854,5.4614957693241362,6.9885355379650589,8.8839362274680518,11.219393094153649,14.0759584102075,17.544106831249291,21.723471546929776,26.722179295976446,32.655714898362554,39.645253199572011,47.815408887500205,57.291372952497198,68.195428718299624,80.642870081053303,94.737379099468754,110.56595812800569,128.19355152427781,147.65753138042498,168.96225814334116,192.07395758073307,216.9161774401494,243.36609761048993,271.25196429035981,300.35189987711374,330.39430513663643,361.06001883657592,391.98633369868975,422.77288869426184,452.98936993131116,482.18486018866861,509.8985857828747,535.67172454282456,559.05986585183791,579.6456582217827,597.05114608692645,610.94928864394456,{"$f":"IF($E63=\"\",\"\",$E63*EG11)","v":621.07417131752584},627.2294648034997,629.29475587703428,627.22946480349981,621.07417131752595,610.94928864394478,597.05114608692679,579.6456582217827,559.05986585183837,535.67172454282502,509.89858578287516,482.18486018866861,452.98936993131116,422.77288869426235,391.98633369869026,361.06001883657649,330.39430513663643,300.35189987711374,271.25196429036026,243.36609761049039,216.91617744014985,192.07395758073307,168.96225814334116,147.65753138042535,128.19355152427815,110.56595812800599,94.737379099468754,80.642870081053303,68.195428718299837,57.29137295249739,47.815408887500354,39.645253199572153,32.655714898362667,26.722179295976446,21.723471546929776,17.544106831249291,14.0759584102075,11.219393094153698,8.8839362274680909,6.9885355379650829,5.4614957693241601,4.2401547119019041,3.2703669307235859,2.5058550171117577,1.9074803624085428,1.4424769728627922,1.0836832989524239,0.80879889581271303,0.59968529143973304,0.44172392472606836,0.32323853178575851,0.23498492758521738,0.16970770708855354,0.12176088691705676,8.678780768376769E-2,6.1454587933353504E-2,4.3230930361493516E-2,3.0212003819362954E-2,2.0975347176437533E-2,1.4467165934373164E-2,9.912939270456108E-3,6.7478606652262582E-3,4.5632519194331641E-3,3.0656845266883873E-3,{"$f":"IF($E63=\"\",\"\",$E63*GS11)","v":2.0460919964333186E-3},1.3566490943160339E-3,8.9362349745434157E-4,5.8477164834005145E-4,3.8015675772247606E-4,2.4551826108101517E-4,1.5752502671840043E-4,1.0040607779518887E-4,6.3579209043296002E-5,3.9995848728503513E-5,2.4995359730374161E-5,1.5518457234346958E-5,9.5715522395932814E-6,5.8649036549002193E-6,3.5701303114107672E-6,2.1589964711320283E-6,1.297073165657551E-6,7.7414389749073746E-7,4.5901152772809011E-7,2.7037726375913876E-7,1.5822001544725502E-7,9.1980836421714605E-8,5.3122433845401495E-8,3.0479178136697143E-8,1.7372935928654612E-8,9.8375705912359641E-9,5.5341023060610399E-9,3.0927953458011755E-9,1.7171168927958225E-9,9.4709428588689938E-10,5.1895685135757943E-10,2.824970789239811E-10,1.527711511071315E-10,8.2075477572559178E-11,4.3805653526362049E-11,2.3226918028281979E-11,1.2234822936489442E-11,6.4024834996819943E-12,3.3284644681774796E-12,1.7190323925774284E-12,8.8200058581181092E-13,4.4957107851788665E-13,2.2765255761854963E-13,1.1452264791844198E-13,5.7234106327045681E-14,2.8416010789018449E-14,1.4015738627566454E-14,6.8677353141681327E-15,3.3431494064248761E-15,1.6167493709529949E-15,7.767375367713227E-16,3.7072388208606568E-16,1.7578083089053097E-16,8.280129701245583E-17,3.8747835236652031E-17,1.8013679313403441E-17,8.3195931293645298E-18,3.8172132807723339E-18,1.7399446887008454E-18,7.8789643811749375E-19,3.5444390250719167E-19,1.5840561063972354E-19,7.0329622833361714E-20,3.1020635786824037E-20,{"$f":"IF($E63=\"\",\"\",$E63*JE11)","v":1.3592764072833549E-20},5.9171086143076775E-21,2.5589157152449595E-21,1.0993781461576506E-21,4.6922689379287269E-22,1.9895889942798922E-22,8.3808587654565409E-23,3.5071823914140941E-23,1.4580514865019823E-23,6.0218792931196712E-24,2.4707904262240548E-24,1.0071274931544331E-24,4.0782859352225534E-25,1.640648589199208E-25,6.556893733345727E-26,2.6033070764987275E-26,1.0268271202343679E-26,4.0235920396100011E-27,1.5663010096345748E-27,6.0573294285107477E-28,2.3271899728547891E-28,8.8823352006752928E-29,3.3679618074809219E-29,1.2686792459924228E-29,4.7476772841285417E-30,1.765042731846911E-30,6.5188942431045492E-31,2.3918686399133001E-31,8.7185726745098112E-32,3.1571712344178891E-32,1.1357835135085392E-32,4.0591739382103412E-33,1.4412006210787542E-33,5.0834188809964924E-34,1.7812793476875255E-34,6.2008731286057485E-35,2.1444619095977567E-35,7.3676418397514461E-36,2.5146836169177253E-36,8.5267371860138624E-37,2.8722820225793783E-37,9.6120486613412665E-38,3.1955787129804617E-38,1.0554259210791776E-38,3.4629854817566558E-39,1.1288032818959516E-39,3.6553631889150138E-40,1.175946279797623E-40,3.7582797937556037E-41,1.1932609090569341E-41,3.7637987691156507E-42,1.1794025332673178E-42,3.6714903800610817E-43,1.1354484215982568E-43,3.4884869702333264E-44,1.0647593867323785E-44,3.228572383759111E-45,9.7255518997450543E-46,2.9104668823686183E-46,8.6527816778799879E-47,2.5556036987758481E-47,7.4985268006136357E-48,2.1857629795188967E-48,6.329579542625348E-49,{"$f":"IF($E63=\"\",\"\",$E63*LQ11)","v":1.8209219699335814E-49},5.2041821370341571E-50,1.4776048825465646E-50,4.1678187612265742E-51,1.1678955698131904E-51,3.2512014108997907E-52,8.9914227297609173E-53,2.4703451504396523E-53,6.7426642352124307E-54,1.8283111557381972E-54,4.9250808324026089E-55,1.3180178567178185E-55,3.5040791193436571E-56,9.2548885034989841E-57,2.4283604800789188E-57,6.3299430065709993E-58,1.6391968885529556E-58,4.2170341723370867E-59,1.0777742356536866E-59,2.7364855090450421E-60,6.9024486722726685E-61,1.7296486688015949E-61,4.3058340324818861E-62,1.0648816737679623E-62,2.616315403049972E-63,6.3859206971489037E-64,1.5484658146590417E-64,3.7301337188978595E-65,8.9267188686148425E-66,2.1222864069046033E-66,5.0125740936131503E-67,1.1761488707988267E-67,2.7416276072958251E-68,6.3489120553926726E-69,1.4606119043374335E-69,3.338220643693194E-70,7.5794888611019259E-71,1.7096589241202424E-71,3.8311019925002742E-72,8.5286958807279919E-73,1.8861933999041241E-73,4.144140692864544E-74,9.0453929771092692E-75,1.9613950088190944E-75,4.2252009625635634E-76,9.0422050700229319E-77,1.9224099801541925E-77,4.0603395233931993E-78,8.5196816425385854E-79,1.7759431554046646E-79,3.6777265307864121E-80,7.5661419115657243E-81,1.5463728306898476E-81,3.1397756466094515E-82,6.33326558390457E-83,1.2691164175586685E-83,2.5265034875345985E-84,4.996697060114876E-85,9.8172718123933584E-86,1.9162108249325694E-86,3.7156982752714667E-87,7.1578446831815244E-88,1.3698366388380882E-88,2.6043536861380122E-89,{"$f":"IF($E63=\"\",\"\",$E63*OC11)","v":4.9189887247153404E-90},9.2298866698966819E-91,1.720527378788628E-91,3.1861886434354879E-92,5.8617333791754089E-93,1.0713350509318953E-93,1.9452223250035327E-94]
[{"$f":"IF(Principal!M22=\"\",\"\",MATCH(Principal!M22,Datos!A:A,0))","v":23},{"$f":"IF(A64=\"\",\"\",INDIRECT(\"Datos!A\"&Espectros!A12,TRUE))","v":"UV (410-420) Semiled"},{"$f":"IF(A64=\"\",\"\",INDIRECT(\"Datos!M\"&Espectros!A12,TRUE))","v":2.4861200000000001},3.3613445378151261,8.3567058823529425,0.43365084840610207,{"$f":"IF($E64=\"\",\"\",$E64*J12)","v":0.52646826868675323},{"$f":"IF($E64=\"\",\"\",$E64*K12)","v":0.63496367161108724},{"$f":"IF($E64=\"\",\"\",$E64*L12)","v":0.7607995281844725},{"$f":"IF($E64=\"\",\"\",$E64*M12)","v":0.90559969711737753},{"$f":"IF($E64=\"\",\"\",$E64*N12)","v":1.0708952211701654},{"$f":"IF($E64=\"\",\"\",$E64*O12)","v":1.2580629439631463},{"$f":"IF($E64=\"\",\"\",$E64*P12)","v":1.4682582113505491},{"$f":"IF($E64=\"\",\"\",$E64*Q12)","v":1.7023434505021975},{"$f":"IF($E64=\"\",\"\",$E64*R12)","v":1.9608149432944368},{"$f":"IF($E64=\"\",\"\",$E64*S12)","v":2.2437305941859722},{"$f":"IF($E64=\"\",\"\",$E64*T12)","v":2.5506418990012421},{"$f":"IF($E64=\"\",\"\",$E64*U12)","v":2.8805336117337976},{"$f":"IF($E64=\"\",\"\",$E64*V12)","v":3.2317747454171699},{"$f":"IF($E64=\"\",\"\",$E64*W12)","v":3.6020844992199099},{"$f":"IF($E64=\"\",\"\",$E64*X12)","v":3.9885164543932872},{"$f":"IF($E64=\"\",\"\",$E64*Y12)","v":4.3874639148760846},{"$f":"IF($E64=\"\",\"\",$E64*Z12)","v":4.7946885860966271},{"$f":"IF($E64=\"\",\"\",$E64*AA12)","v":5.2053739047237331},{"$f":"IF($E64=\"\",\"\",$E64*AB12)","v":5.6142032852742236},{"$f":"IF($E64=\"\",\"\",$E64*AC12)","v":6.0154623838753816},{"$f":"IF($E64=\"\",\"\",$E64*AD12)","v":6.4031632551972955},{"$f":"IF($E64=\"\",\"\",$E64*AE12)","v":6.771187065235643},{"$f":"IF($E64=\"\",\"\",$E64*AF12)","v":7.1134408950515366},{"$f":"IF($E64=\"\",\"\",$E64*AG12)","v":7.4240232036263851},{"$f":"IF($E64=\"\",\"\",$E64*AH12)","v":7.6973917810445416},{"$f":"IF($E64=\"\",\"\",$E64*AI12)","v":7.9285275746761856},{"$f":"IF($E64=\"\",\"\",$E64*AJ12)","v":8.113087653360056},{"$f":"IF($E64=\"\",\"\",$E64*AK12)","v":8.2475408103366004},{"$f":"IF($E64=\"\",\"\",$E64*AL12)","v":8.329279894925282},{"$f":"IF($E64=\"\",\"\",$E64*AM12)","v":8.3567058823529425},{"$f":"IF($E64=\"\",\"\",$E64*AN12)","v":8.329279894925282},{"$f":"IF($E64=\"\",\"\",$E64*AO12)","v":8.2475408103366004},{"$f":"IF($E64=\"\",\"\",$E64*AP12)","v":8.1130876533600578},{"$f":"IF($E64=\"\",\"\",$E64*AQ12)","v":7.9285275746761856},{"$f":"IF($E64=\"\",\"\",$E64*AR12)","v":7.6973917810445416},{"$f":"IF($E64=\"\",\"\",$E64*AS12)","v":7.4240232036263851},{"$f":"IF($E64=\"\",\"\",$E64*AT12)","v":7.1134408950515384},{"$f":"IF($E64=\"\",\"\",$E64*AU12)","v":6.7711870652356447},{"$f":"IF($E64=\"\",\"\",$E64*AV12)","v":6.4031632551972981},{"$f":"IF($E64=\"\",\"\",$E64*AW12)","v":6.0154623838753851},{"$f":"IF($E64=\"\",\"\",$E64*AX12)","v":5.6142032852742245},{"$f":"IF($E64=\"\",\"\",$E64*AY12)","v":5.2053739047237348},{"$f":"IF($E64=\"\",\"\",$E64*AZ12)","v":4.7946885860966271},{"$f":"IF($E64=\"\",\"\",$E64*BA12)","v":4.3874639148760863},{"$f":"IF($E64=\"\",\"\",$E64*BB12)","v":3.9885164543932894},{"$f":"IF($E64=\"\",\"\",$E64*BC12)","v":3.6020844992199117},{"$f":"IF($E64=\"\",\"\",$E64*BD12)","v":3.2317747454171726},{"$f":"IF($E64=\"\",\"\",$E64*BE12)","v":2.8805336117337976},{"$f":"IF($E64=\"\",\"\",$E64*BF12)","v":2.5506418990012434},{"$f":"IF($E64=\"\",\"\",$E64*BG12)","v":2.2437305941859722},{"$f":"IF($E64=\"\",\"\",$E64*BH12)","v":1.9608149432944375},{"$f":"IF($E64=\"\",\"\",$E64*BI12)","v":1.7023434505021988},{"$f":"IF($E64=\"\",\"\",$E64*BJ12)","v":1.4682582113505491},{"$f":"IF($E64=\"\",\"\",$E64*BK12)","v":1.2580629439631477},{"$f":"IF($E64=\"\",\"\",$E64*BL12)","v":1.0708952211701654},{"$f":"IF($E64=\"\",\"\",$E64*BM12)","v":0.90559969711737787},{"$f":"IF($E64=\"\",\"\",$E64*BN12)","v":0.76079952818447283},{"$f":"IF($E64=\"\",\"\",$E64*BO12)","v":0.63496367161108724},{"$f":"IF($E64=\"\",\"\",$E64*BP12)","v":0.52646826868675389},{"$f":"IF($E64=\"\",\"\",$E64*BQ12)","v":0.43365084840610207},{"$f":"IF($E64=\"\",\"\",$E64*BR12)","v":0.35485659275954978},{"$f":"IF($E64=\"\",\"\",$E64*BS12)","v":0.28847636304922269},{"$f":"IF($E64=\"\",\"\",$E64*BT12)","v":0.23297658114598629},0.18692138039891987,{"$f":"IF($E64=\"\",\"\",$E64*BV12)","v":0.14898768405542615},{"$f":"IF($E64=\"\",\"\",$E64*BW12)","v":0.11797403591432062},{"$f":"IF($E64=\"\",\"\",$E64*BX12)","v":9.2804104108182128E-2},{"$f":"IF($E64=\"\",\"\",$E64*BY12)","v":7.2525813056155436E-2},{"$f":"IF($E64=\"\",\"\",$E64*BZ12)","v":5.630704132223998E-2},{"$f":"IF($E64=\"\",\"\",$E64*CA12)","v":4.3428765792496854E-2},{"$f":"IF($E64=\"\",\"\",$E64*CB12)","v":3.3276446635308397E-2},{"$f":"IF($E64=\"\",\"\",$E64*CC12)","v":2.5330343557045238E-2},{"$f":"IF($E64=\"\",\"\",$E64*CD12)","v":1.9155341263699662E-2},{"$f":"IF($E64=\"\",\"\",$E64*CE12)","v":1.4390748555249255E-2},{"$f":"IF($E64=\"\",\"\",$E64*CF12)","v":1.0740427164149717E-2},{"$f":"IF($E64=\"\",\"\",$E64*CG12)","v":7.9635076500052613E-3},{"$f":"IF($E64=\"\",\"\",$E64*CH12)","v":5.865863151822681E-3},{"$f":"IF($E64=\"\",\"\",$E64*CI12)","v":4.2924389799062377E-3},{"$f":"IF($E64=\"\",\"\",$E64*CJ12)","v":3.1204771822369456E-3},{"$f":"IF($E64=\"\",\"\",$E64*CK12)","v":2.2536297670731858E-3},{"$f":"IF($E64=\"\",\"\",$E64*CL12)","v":1.6169210222039504E-3},{"$f":"IF($E64=\"\",\"\",$E64*CM12)","v":1.1524967850346666E-3},{"$f":"IF($E64=\"\",\"\",$E64*CN12)","v":8.1608485003898843E-4},{"$f":"IF($E64=\"\",\"\",$E64*CO12)","v":5.7408418976571919E-4},{"$f":"IF($E64=\"\",\"\",$E64*CP12)","v":4.0119964083138457E-4},{"$f":"IF($E64=\"\",\"\",$E64*CQ12)","v":2.7854166191078323E-4},{"$f":"IF($E64=\"\",\"\",$E64*CR12)","v":1.9211641211956196E-4},{"$f":"IF($E64=\"\",\"\",$E64*CS12)","v":1.3163865921205056E-4},{"$f":"IF($E64=\"\",\"\",$E64*CT12)","v":8.9608067424309869E-5},{"$f":"IF($E64=\"\",\"\",$E64*CU12)","v":6.0597603589813855E-5},{"$f":"IF($E64=\"\",\"\",$E64*CV12)","v":4.0710690305865605E-5},{"$f":"IF($E64=\"\",\"\",$E64*CW12)","v":2.7171033705182655E-5},{"$f":"IF($E64=\"\",\"\",$E64*CX12)","v":1.8015591836546133E-5},{"$f":"IF($E64=\"\",\"\",$E64*CY12)","v":1.1866853597687889E-5},{"$f":"IF($E64=\"\",\"\",$E64*CZ12)","v":7.7654622541800099E-6},{"$f":"IF($E64=\"\",\"\",$E64*DA12)","v":5.0482833104942897E-6},{"$f":"IF($E64=\"\",\"\",$E64*DB12)","v":3.2603543529316835E-6},{"$f":"IF($E64=\"\",\"\",$E64*DC12)","v":2.091850130803689E-6},{"$f":"IF($E64=\"\",\"\",$E64*DD12)","v":1.3333403037272246E-6},{"$f":"IF($E64=\"\",\"\",$E64*DE12)","v":8.442987093813934E-7},{"$f":"IF($E64=\"\",\"\",$E64*DF12)","v":5.3112399430910529E-7},{"$f":"IF($E64=\"\",\"\",$E64*DG12)","v":3.3192533028379636E-7},{"$f":"IF($E64=\"\",\"\",$E64*DH12)","v":2.0607701183616762E-7},{"$f":"IF($E64=\"\",\"\",$E64*DI12)","v":1.2710521763745197E-7},{"$f":"IF($E64=\"\",\"\",$E64*DJ12)","v":7.7882859208053713E-8},{"$f":"IF($E64=\"\",\"\",$E64*DK12)","v":4.740946701923959E-8},{"$f":"IF($E64=\"\",\"\",$E64*DL12)","v":2.8670346195946377E-8},{"$f":"IF($E64=\"\",\"\",$E64*DM12)","v":1.7224454601065387E-8},{"$f":"IF($E64=\"\",\"\",$E64*DN12)","v":1.0280226875452538E-8},{"$f":"IF($E64=\"\",\"\",$E64*DO12)","v":6.0954334960049635E-9},{"$f":"IF($E64=\"\",\"\",$E64*DP12)","v":3.5904689327364945E-9},{"$f":"IF($E64=\"\",\"\",$E64*DQ12)","v":2.1010792183566363E-9},{"$f":"IF($E64=\"\",\"\",$E64*DR12)","v":1.2214574960470251E-9},{"$f":"IF($E64=\"\",\"\",$E64*DS12)","v":7.0543819292134136E-10},{"$f":"IF($E64=\"\",\"\",$E64*DT12)","v":4.0474757630745059E-10},{"$f":"IF($E64=\"\",\"\",$E64*DU12)","v":2.3070352090633955E-10},{"$f":"IF($E64=\"\",\"\",$E64*DV12)","v":1.3063780249252067E-10},{"$f":"IF($E64=\"\",\"\",$E64*DW12)","v":7.3489989965273966E-11},{"$f":"IF($E64=\"\",\"\",$E64*DX12)","v":4.1070707832531832E-11},{"$f":"IF($E64=\"\",\"\",$E64*DY12)","v":2.2802416045428436E-11},{"$f":"IF($E64=\"\",\"\",$E64*DZ12)","v":1.2576917757694523E-11},{"$f":"IF($E64=\"\",\"\",$E64*EA12)","v":6.8914761038858245E-12},{"$f":"IF($E64=\"\",\"\",$E64*EB12)","v":3.7514137518934788E-12},{"$f":"IF($E64=\"\",\"\",$E64*EC12)","v":2.0287211440869835E-12},{"$f":"IF($E64=\"\",\"\",$E64*ED12)","v":1.0899195008730538E-12},{"$f":"IF($E64=\"\",\"\",$E64*EE12)","v":5.8171621340443931E-13},{"$f":"IF($E64=\"\",\"\",$E64*EF12)","v":3.0844134756113962E-13},1.6247206233335445E-13,{"$f":"IF($E64=\"\",\"\",$E64*EH12)","v":8.5021638943888111E-14},{"$f":"IF($E64=\"\",\"\",$E64*EI12)","v":4.4200270764462913E-14},{"$f":"IF($E64=\"\",\"\",$E64*EJ12)","v":2.2827852882686492E-14},{"$f":"IF($E64=\"\",\"\",$E64*EK12)","v":1.1712507397936332E-14},{"$f":"IF($E64=\"\",\"\",$E64*EL12)","v":5.9700692581653964E-15},{"$f":"IF($E64=\"\",\"\",$E64*EM12)","v":3.0231071363883483E-15},{"$f":"IF($E64=\"\",\"\",$E64*EN12)","v":1.5208009864771202E-15},{"$f":"IF($E64=\"\",\"\",$E64*EO12)","v":7.6003905729017118E-16},{"$f":"IF($E64=\"\",\"\",$E64*EP12)","v":3.7734979085062413E-16},{"$f":"IF($E64=\"\",\"\",$E64*EQ12)","v":1.8612169311862452E-16},{"$f":"IF($E64=\"\",\"\",$E64*ER12)","v":9.1199940190771804E-17},{"$f":"IF($E64=\"\",\"\",$E64*ES12)","v":4.4395279079227873E-17},{"$f":"IF($E64=\"\",\"\",$E64*ET12)","v":2.1469587744623342E-17},{"$f":"IF($E64=\"\",\"\",$E64*EU12)","v":1.031466905128572E-17},{"$f":"IF($E64=\"\",\"\",$E64*EV12)","v":4.9230196457615269E-18},{"$f":"IF($E64=\"\",\"\",$E64*EW12)","v":2.3342776811488204E-18},{"$f":"IF($E64=\"\",\"\",$E64*EX12)","v":1.0995580041757822E-18},{"$f":"IF($E64=\"\",\"\",$E64*EY12)","v":5.1455102656828417E-19},{"$f":"IF($E64=\"\",\"\",$E64*EZ12)","v":2.3921225860421758E-19},{"$f":"IF($E64=\"\",\"\",$E64*FA12)","v":1.1047985414410072E-19},{"$f":"IF($E64=\"\",\"\",$E64*FB12)","v":5.0690599881399843E-20},{"$f":"IF($E64=\"\",\"\",$E64*FC12)","v":2.3105557259524193E-20},{"$f":"IF($E64=\"\",\"\",$E64*FD12)","v":1.0462853436503075E-20},{"$f":"IF($E64=\"\",\"\",$E64*FE12)","v":4.7068300146851379E-21},{"$f":"IF($E64=\"\",\"\",$E64*FF12)","v":2.1035438256366964E-21},{"$f":"IF($E64=\"\",\"\",$E64*FG12)","v":9.339406809708931E-22},{"$f":"IF($E64=\"\",\"\",$E64*FH12)","v":4.1193785127415115E-22},{"$f":"IF($E64=\"\",\"\",$E64*FI12)","v":1.8050481181362036E-22},{"$f":"IF($E64=\"\",\"\",$E64*FJ12)","v":7.8576113819336117E-23},{"$f":"IF($E64=\"\",\"\",$E64*FK12)","v":3.3981065010195786E-23},{"$f":"IF($E64=\"\",\"\",$E64*FL12)","v":1.4599167933827775E-23},{"$f":"IF($E64=\"\",\"\",$E64*FM12)","v":6.2310882251867437E-24},{"$f":"IF($E64=\"\",\"\",$E64*FN12)","v":2.6420703329699982E-24},{"$f":"IF($E64=\"\",\"\",$E64*FO12)","v":1.1129342981231547E-24},{"$f":"IF($E64=\"\",\"\",$E64*FP12)","v":4.6573551498880372E-25},{"$f":"IF($E64=\"\",\"\",$E64*FQ12)","v":1.9362162675331732E-25},{"$f":"IF($E64=\"\",\"\",$E64*FR12)","v":7.996741374635691E-26},{"$f":"IF($E64=\"\",\"\",$E64*FS12)","v":3.2810807171134372E-26},{"$f":"IF($E64=\"\",\"\",$E64*FT12)","v":1.3374127414415421E-26},{"$f":"IF($E64=\"\",\"\",$E64*FU12)","v":5.4157508459280108E-27},{"$f":"IF($E64=\"\",\"\",$E64*FV12)","v":2.1786956888155636E-27},{"$f":"IF($E64=\"\",\"\",$E64*FW12)","v":8.7072126248770223E-28},{"$f":"IF($E64=\"\",\"\",$E64*FX12)","v":3.4570559116495057E-28},{"$f":"IF($E64=\"\",\"\",$E64*FY12)","v":1.3635728179337759E-28},{"$f":"IF($E64=\"\",\"\",$E64*FZ12)","v":5.3431202074353689E-29},{"$f":"IF($E64=\"\",\"\",$E64*GA12)","v":2.0799659839062863E-29},{"$f":"IF($E64=\"\",\"\",$E64*GB12)","v":8.0438173040289952E-30},{"$f":"IF($E64=\"\",\"\",$E64*GC12)","v":3.0903868106137918E-30},{"$f":"IF($E64=\"\",\"\",$E64*GD12)","v":1.1795277511420397E-30},{"$f":"IF($E64=\"\",\"\",$E64*GE12)","v":4.4724774813816946E-31},{"$f":"IF($E64=\"\",\"\",$E64*GF12)","v":1.6847398168809673E-31},{"$f":"IF($E64=\"\",\"\",$E64*GG12)","v":6.3046676167667881E-32},{"$f":"IF($E64=\"\",\"\",$E64*GH12)","v":2.3438846171969605E-32},{"$f":"IF($E64=\"\",\"\",$E64*GI12)","v":8.6567512853122488E-33},{"$f":"IF($E64=\"\",\"\",$E64*GJ12)","v":3.1762767044072067E-33},{"$f":"IF($E64=\"\",\"\",$E64*GK12)","v":1.1577809424655919E-33},{"$f":"IF($E64=\"\",\"\",$E64*GL12)","v":4.1925586030801929E-34},{"$f":"IF($E64=\"\",\"\",$E64*GM12)","v":1.5082612209580701E-34},{"$f":"IF($E64=\"\",\"\",$E64*GN12)","v":5.3903711114930098E-35},{"$f":"IF($E64=\"\",\"\",$E64*GO12)","v":1.9138391978230477E-35},{"$f":"IF($E64=\"\",\"\",$E64*GP12)","v":6.7505149325586013E-36},{"$f":"IF($E64=\"\",\"\",$E64*GQ12)","v":2.3654459955237325E-36},{"$f":"IF($E64=\"\",\"\",$E64*GR12)","v":8.2344358451428157E-37},2.8477334805438332E-37,{"$f":"IF($E64=\"\",\"\",$E64*GT12)","v":9.7838437912151785E-38},{"$f":"IF($E64=\"\",\"\",$E64*GU12)","v":3.3393685832428278E-38},{"$f":"IF($E64=\"\",\"\",$E64*GV12)","v":1.1323061909252596E-38},{"$f":"IF($E64=\"\",\"\",$E64*GW12)","v":3.8142406002434928E-39},{"$f":"IF($E64=\"\",\"\",$E64*GX12)","v":1.2764298898016811E-39},{"$f":"IF($E64=\"\",\"\",$E64*GY12)","v":4.2435617298397698E-40},{"$f":"IF($E64=\"\",\"\",$E64*GZ12)","v":1.4015505326718175E-40},{"$f":"IF($E64=\"\",\"\",$E64*HA12)","v":4.5986639608281539E-41},{"$f":"IF($E64=\"\",\"\",$E64*HB12)","v":1.4989918377267473E-41},{"$f":"IF($E64=\"\",\"\",$E64*HC12)","v":4.8541315143124161E-42},{"$f":"IF($E64=\"\",\"\",$E64*HD12)","v":1.5615952781968013E-42},{"$f":"IF($E64=\"\",\"\",$E64*HE12)","v":4.9907993935583711E-43},{"$f":"IF($E64=\"\",\"\",$E64*HF12)","v":1.5845882020740057E-43},{"$f":"IF($E64=\"\",\"\",$E64*HG12)","v":4.9981283047601796E-44},{"$f":"IF($E64=\"\",\"\",$E64*HH12)","v":1.566185002397005E-44},{"$f":"IF($E64=\"\",\"\",$E64*HI12)","v":4.8755475823564524E-45},{"$f":"IF($E64=\"\",\"\",$E64*HJ12)","v":1.5078162363921899E-45},{"$f":"IF($E64=\"\",\"\",$E64*HK12)","v":4.6325286064127312E-46},{"$f":"IF($E64=\"\",\"\",$E64*HL12)","v":1.4139448878762412E-46},{"$f":"IF($E64=\"\",\"\",$E64*HM12)","v":4.2873756024486679E-47},{"$f":"IF($E64=\"\",\"\",$E64*HN12)","v":1.2915025274039612E-47},{"$f":"IF($E64=\"\",\"\",$E64*HO12)","v":3.8649481008919195E-48},{"$f":"IF($E64=\"\",\"\",$E64*HP12)","v":1.1490442415252339E-48},{"$f":"IF($E64=\"\",\"\",$E64*HQ12)","v":3.393708316027228E-49},{"$f":"IF($E64=\"\",\"\",$E64*HR12)","v":9.9576521873814868E-50},{"$f":"IF($E64=\"\",\"\",$E64*HS12)","v":2.902579145589371E-50},{"$f":"IF($E64=\"\",\"\",$E64*HT12)","v":8.4053512448165929E-51},{"$f":"IF($E64=\"\",\"\",$E64*HU12)","v":2.4180893286232617E-51},{"$f":"IF($E64=\"\",\"\",$E64*HV12)","v":6.9108822330442448E-52},{"$f":"IF($E64=\"\",\"\",$E64*HW12)","v":1.9621821568433849E-52},{"$f":"IF($E64=\"\",\"\",$E64*HX12)","v":5.5346457654779478E-53},{"$f":"IF($E64=\"\",\"\",$E64*HY12)","v":1.5509043555638515E-53},{"$f":"IF($E64=\"\",\"\",$E64*HZ12)","v":4.3174257693145977E-54},{"$f":"IF($E64=\"\",\"\",$E64*IA12)","v":1.1940140055957702E-54},{"$f":"IF($E64=\"\",\"\",$E64*IB12)","v":3.280489414114073E-55},{"$f":"IF($E64=\"\",\"\",$E64*IC12)","v":8.9539061546129829E-56},{"$f":"IF($E64=\"\",\"\",$E64*ID12)","v":2.4279017816754834E-56},{"$f":"IF($E64=\"\",\"\",$E64*IE12)","v":6.5402502688648709E-57},{"$f":"IF($E64=\"\",\"\",$E64*IF12)","v":1.7502589165754809E-57},{"$f":"IF($E64=\"\",\"\",$E64*IG12)","v":4.6532341665611263E-58},{"$f":"IF($E64=\"\",\"\",$E64*IH12)","v":1.2290008851244692E-58},{"$f":"IF($E64=\"\",\"\",$E64*II12)","v":3.2247359633667565E-59},{"$f":"IF($E64=\"\",\"\",$E64*IJ12)","v":8.4058339059646524E-60},{"$f":"IF($E64=\"\",\"\",$E64*IK12)","v":2.1767679061322136E-60},{"$f":"IF($E64=\"\",\"\",$E64*IL12)","v":5.6000012625145385E-61},{"$f":"IF($E64=\"\",\"\",$E64*IM12)","v":1.4312279279020432E-61},{"$f":"IF($E64=\"\",\"\",$E64*IN12)","v":3.6339099184987964E-62},{"$f":"IF($E64=\"\",\"\",$E64*IO12)","v":9.1660915466911185E-63},{"$f":"IF($E64=\"\",\"\",$E64*IP12)","v":2.2968831489518035E-63},{"$f":"IF($E64=\"\",\"\",$E64*IQ12)","v":5.7179228416624461E-64},{"$f":"IF($E64=\"\",\"\",$E64*IR12)","v":1.4141072786764879E-64},{"$f":"IF($E64=\"\",\"\",$E64*IS12)","v":3.4743302903084332E-65},{"$f":"IF($E64=\"\",\"\",$E64*IT12)","v":8.4801693571607246E-66},{"$f":"IF($E64=\"\",\"\",$E64*IU12)","v":2.0562817759301616E-66},{"$f":"IF($E64=\"\",\"\",$E64*IV12)","v":4.9534228753000781E-67},{"$f":"IF($E64=\"\",\"\",$E64*IW12)","v":1.1854216705731023E-67},{"$f":"IF($E64=\"\",\"\",$E64*IX12)","v":2.8182855704715118E-68},{"$f":"IF($E64=\"\",\"\",$E64*IY12)","v":6.6564367528290254E-69},{"$f":"IF($E64=\"\",\"\",$E64*IZ12)","v":1.5618643084715812E-69},{"$f":"IF($E64=\"\",\"\",$E64*JA12)","v":3.640738356571623E-70},{"$f":"IF($E64=\"\",\"\",$E64*JB12)","v":8.4310238126639839E-71},{"$f":"IF($E64=\"\",\"\",$E64*JC12)","v":1.9396163687714063E-71},{"$f":"IF($E64=\"\",\"\",$E64*JD12)","v":4.4329827682837378E-72},1.0065165577698531E-72,{"$f":"IF($E64=\"\",\"\",$E64*JF12)","v":2.2703378114283475E-73},{"$f":"IF($E64=\"\",\"\",$E64*JG12)","v":5.0875034723594769E-74},{"$f":"IF($E64=\"\",\"\",$E64*JH12)","v":1.1325662953593324E-74},{"$f":"IF($E64=\"\",\"\",$E64*JI12)","v":2.5047663806231214E-75},{"$f":"IF($E64=\"\",\"\",$E64*JJ12)","v":5.5032025266275042E-76},{"$f":"IF($E64=\"\",\"\",$E64*JK12)","v":1.2011809727328069E-76},{"$f":"IF($E64=\"\",\"\",$E64*JL12)","v":2.6046301919317168E-77},{"$f":"IF($E64=\"\",\"\",$E64*JM12)","v":5.6108463336499917E-78},{"$f":"IF($E64=\"\",\"\",$E64*JN12)","v":1.2007576353117972E-78},{"$f":"IF($E64=\"\",\"\",$E64*JO12)","v":2.5528601087830591E-79},{"$f":"IF($E64=\"\",\"\",$E64*JP12)","v":5.3919189477752939E-80},{"$f":"IF($E64=\"\",\"\",$E64*JQ12)","v":1.1313692515799153E-80},{"$f":"IF($E64=\"\",\"\",$E64*JR12)","v":2.3583598107074192E-81},{"$f":"IF($E64=\"\",\"\",$E64*JS12)","v":4.8838288650085066E-82},{"$f":"IF($E64=\"\",\"\",$E64*JT12)","v":1.004744152539036E-82},{"$f":"IF($E64=\"\",\"\",$E64*JU12)","v":2.0535024024673992E-83},{"$f":"IF($E64=\"\",\"\",$E64*JV12)","v":4.1694581704755182E-84},{"$f":"IF($E64=\"\",\"\",$E64*JW12)","v":8.4102461152333956E-85},{"$f":"IF($E64=\"\",\"\",$E64*JX12)","v":1.6853203579015173E-85},{"$f":"IF($E64=\"\",\"\",$E64*JY12)","v":3.3550647544549668E-86},{"$f":"IF($E64=\"\",\"\",$E64*JZ12)","v":6.6353528810836741E-87},{"$f":"IF($E64=\"\",\"\",$E64*KA12)","v":1.3036824530491845E-87},{"$f":"IF($E64=\"\",\"\",$E64*KB12)","v":2.5446279542284296E-88},{"$f":"IF($E64=\"\",\"\",$E64*KC12)","v":4.9342533596565959E-89},{"$f":"IF($E64=\"\",\"\",$E64*KD12)","v":9.5052441181632807E-90},{"$f":"IF($E64=\"\",\"\",$E64*KE12)","v":1.8190715544239605E-90},{"$f":"IF($E64=\"\",\"\",$E64*KF12)","v":3.4584457546202399E-91},{"$f":"IF($E64=\"\",\"\",$E64*KG12)","v":6.5321602678489193E-92},{"$f":"IF($E64=\"\",\"\",$E64*KH12)","v":1.2256807721253009E-92},{"$f":"IF($E64=\"\",\"\",$E64*KI12)","v":2.2847705519226828E-93},{"$f":"IF($E64=\"\",\"\",$E64*KJ12)","v":4.2310922076214282E-94},{"$f":"IF($E64=\"\",\"\",$E64*KK12)","v":7.7840759601229051E-95},{"$f":"IF($E64=\"\",\"\",$E64*KL12)","v":1.4226770267004028E-95},{"$f":"IF($E64=\"\",\"\",$E64*KM12)","v":2.5831537119970466E-96},{"$f":"IF($E64=\"\",\"\",$E64*KN12)","v":4.6594950973188545E-97},{"$f":"IF($E64=\"\",\"\",$E64*KO12)","v":8.3497245033370564E-98},{"$f":"IF($E64=\"\",\"\",$E64*KP12)","v":1.4864493364100027E-98},{"$f":"IF($E64=\"\",\"\",$E64*KQ12)","v":2.6288920591396997E-99},{"$f":"IF($E64=\"\",\"\",$E64*KR12)","v":4.6189161218862789E-100},{"$f":"IF($E64=\"\",\"\",$E64*KS12)","v":8.0621722870926362E-101},{"$f":"IF($E64=\"\",\"\",$E64*KT12)","v":1.3980050870310702E-101},{"$f":"IF($E64=\"\",\"\",$E64*KU12)","v":2.4082973438651201E-102},{"$f":"IF($E64=\"\",\"\",$E64*KV12)","v":4.1215079283829925E-103},{"$f":"IF($E64=\"\",\"\",$E64*KW12)","v":7.0072377096745757E-104},{"$f":"IF($E64=\"\",\"\",$E64*KX12)","v":1.1835380897469555E-104},{"$f":"IF($E64=\"\",\"\",$E64*KY12)","v":1.9859225452816055E-105},{"$f":"IF($E64=\"\",\"\",$E64*KZ12)","v":3.3104501383522956E-106},{"$f":"IF($E64=\"\",\"\",$E64*LA12)","v":5.4822201772454679E-107},{"$f":"IF($E64=\"\",\"\",$E64*LB12)","v":9.0192531014490771E-108},{"$f":"IF($E64=\"\",\"\",$E64*LC12)","v":1.4741081696140874E-108},{"$f":"IF($E64=\"\",\"\",$E64*LD12)","v":2.3934965714890898E-109},{"$f":"IF($E64=\"\",\"\",$E64*LE12)","v":3.8608323568852905E-110},{"$f":"IF($E64=\"\",\"\",$E64*LF12)","v":6.1869094076823249E-111},{"$f":"IF($E64=\"\",\"\",$E64*LG12)","v":9.8494333879457874E-112},{"$f":"IF($E64=\"\",\"\",$E64*LH12)","v":1.5577344186130484E-112},{"$f":"IF($E64=\"\",\"\",$E64*LI12)","v":2.4474862596344922E-113},{"$f":"IF($E64=\"\",\"\",$E64*LJ12)","v":3.820250020522108E-114},{"$f":"IF($E64=\"\",\"\",$E64*LK12)","v":5.9239036885085407E-115},{"$f":"IF($E64=\"\",\"\",$E64*LL12)","v":9.1257563528441352E-116},{"$f":"IF($E64=\"\",\"\",$E64*LM12)","v":1.3966076858243444E-116},{"$f":"IF($E64=\"\",\"\",$E64*LN12)","v":2.1233650464257973E-117},{"$f":"IF($E64=\"\",\"\",$E64*LO12)","v":3.2071522569944033E-118},{"$f":"IF($E64=\"\",\"\",$E64*LP12)","v":4.8123717687009694E-119},7.1737037950910644E-120,{"$f":"IF($E64=\"\",\"\",$E64*LR12)","v":1.0623616594094972E-120},{"$f":"IF($E64=\"\",\"\",$E64*LS12)","v":1.5629533465020715E-121},{"$f":"IF($E64=\"\",\"\",$E64*LT12)","v":2.2843587998819233E-122},{"$f":"IF($E64=\"\",\"\",$E64*LU12)","v":3.3168612203426309E-123},{"$f":"IF($E64=\"\",\"\",$E64*LV12)","v":4.7844823928010292E-124},{"$f":"IF($E64=\"\",\"\",$E64*LW12)","v":6.8562603198876971E-125},{"$f":"IF($E64=\"\",\"\",$E64*LX12)","v":9.7607752858911582E-126},{"$f":"IF($E64=\"\",\"\",$E64*LY12)","v":1.3804669333331912E-126},{"$f":"IF($E64=\"\",\"\",$E64*LZ12)","v":1.9396009142104699E-127},{"$f":"IF($E64=\"\",\"\",$E64*MA12)","v":2.7073439276777019E-128},{"$f":"IF($E64=\"\",\"\",$E64*MB12)","v":3.7542151474171477E-129},{"$f":"IF($E64=\"\",\"\",$E64*MC12)","v":5.171774295787215E-130},{"$f":"IF($E64=\"\",\"\",$E64*MD12)","v":7.0779036600146815E-131},{"$f":"IF($E64=\"\",\"\",$E64*ME12)","v":9.6230869214329905E-132},{"$f":"IF($E64=\"\",\"\",$E64*MF12)","v":1.2997770014678847E-132},{"$f":"IF($E64=\"\",\"\",$E64*MG12)","v":1.7440862802228976E-133},{"$f":"IF($E64=\"\",\"\",$E64*MH12)","v":2.3249400630082116E-134},{"$f":"IF($E64=\"\",\"\",$E64*MI12)","v":3.0789329737997893E-135},{"$f":"IF($E64=\"\",\"\",$E64*MJ12)","v":4.0507308371406592E-136},{"$f":"IF($E64=\"\",\"\",$E64*MK12)","v":5.2943325332473219E-137},{"$f":"IF($E64=\"\",\"\",$E64*ML12)","v":6.8743829700540432E-138},{"$f":"IF($E64=\"\",\"\",$E64*MM12)","v":8.8674941008131491E-139},{"$f":"IF($E64=\"\",\"\",$E64*MN12)","v":1.1363517144200748E-139},{"$f":"IF($E64=\"\",\"\",$E64*MO12)","v":1.4466694579742065E-140},{"$f":"IF($E64=\"\",\"\",$E64*MP12)","v":1.8296605827275396E-141},{"$f":"IF($E64=\"\",\"\",$E64*MQ12)","v":2.2988806730539595E-142},{"$f":"IF($E64=\"\",\"\",$E64*MR12)","v":2.8695051218191781E-143},{"$f":"IF($E64=\"\",\"\",$E64*MS12)","v":3.5582975152278426E-144},{"$f":"IF($E64=\"\",\"\",$E64*MT12)","v":4.3835118852111431E-145},{"$f":"IF($E64=\"\",\"\",$E64*MU12)","v":5.3647167587066073E-146},{"$f":"IF($E64=\"\",\"\",$E64*MV12)","v":6.522529986885988E-147},{"$f":"IF($E64=\"\",\"\",$E64*MW12)","v":7.8782552830175512E-148},{"$f":"IF($E64=\"\",\"\",$E64*MX12)","v":9.453414317687389E-149},{"$f":"IF($E64=\"\",\"\",$E64*MY12)","v":1.1269172145665866E-149},{"$f":"IF($E64=\"\",\"\",$E64*MZ12)","v":1.3345658635454768E-150},{"$f":"IF($E64=\"\",\"\",$E64*NA12)","v":1.5701194329048314E-151},{"$f":"IF($E64=\"\",\"\",$E64*NB12)","v":1.8351435579906881E-152},{"$f":"IF($E64=\"\",\"\",$E64*NC12)","v":2.1308460619311145E-153},{"$f":"IF($E64=\"\",\"\",$E64*ND12)","v":2.4579825022200988E-154},{"$f":"IF($E64=\"\",\"\",$E64*NE12)","v":2.8167621452198921E-155},{"$f":"IF($E64=\"\",\"\",$E64*NF12)","v":3.2067584084485906E-156},{"$f":"IF($E64=\"\",\"\",$E64*NG12)","v":3.6268282239425475E-157},{"$f":"IF($E64=\"\",\"\",$E64*NH12)","v":4.0750450031844178E-158},{"$f":"IF($E64=\"\",\"\",$E64*NI12)","v":4.5486498831245264E-159},{"$f":"IF($E64=\"\",\"\",$E64*NJ12)","v":5.0440256713671758E-160},{"$f":"IF($E64=\"\",\"\",$E64*NK12)","v":5.5566973681736982E-161},{"$f":"IF($E64=\"\",\"\",$E64*NL12)","v":6.0813623217494897E-162},{"$f":"IF($E64=\"\",\"\",$E64*NM12)","v":6.6119519887822861E-163},{"$f":"IF($E64=\"\",\"\",$E64*NN12)","v":7.1417259619162032E-164},{"$f":"IF($E64=\"\",\"\",$E64*NO12)","v":7.6633974467793925E-165},{"$f":"IF($E64=\"\",\"\",$E64*NP12)","v":8.1692877976888964E-166},{"$f":"IF($E64=\"\",\"\",$E64*NQ12)","v":8.6515061408936984E-167},{"$f":"IF($E64=\"\",\"\",$E64*NR12)","v":9.1021486230563177E-168},{"$f":"IF($E64=\"\",\"\",$E64*NS12)","v":9.5135105178853622E-169},{"$f":"IF($E64=\"\",\"\",$E64*NT12)","v":9.8783033974603E-170},{"$f":"IF($E64=\"\",\"\",$E64*NU12)","v":1.0189868906005784E-170},{"$f":"IF($E64=\"\",\"\",$E64*NV12)","v":1.0442380422739026E-171},{"$f":"IF($E64=\"\",\"\",$E64*NW12)","v":1.0631024102181252E-172},{"$f":"IF($E64=\"\",\"\",$E64*NX12)","v":1.0752151441730716E-173},{"$f":"IF($E64=\"\",\"\",$E64*NY12)","v":1.0803396623974542E-174},{"$f":"IF($E64=\"\",\"\",$E64*NZ12)","v":1.0783753362127471E-175},{"$f":"IF($E64=\"\",\"\",$E64*OA12)","v":1.0693607761768369E-176},{"$f":"IF($E64=\"\",\"\",$E64*OB12)","v":1.0534725699716774E-177},1.0310195296402133E-178,1.0024327099735131E-179,9.6825164873486289E-181,9.2910744218664458E-182,8.8570339708164792E-183,8.3879408636720465E-184,7.8916367663696973E-185]
[{"$f":"IF(Principal!M23=\"\",\"\",MATCH(Principal!M23,Datos!A:A,0))","v":15},{"$f":"IF(A65=\"\",\"\",INDIRECT(\"Datos!A\"&Espectros!A13,TRUE))","v":"Photo Red (650-665) XP-E2"},{"$f":"IF(A65=\"\",\"\",INDIRECT(\"Datos!M\"&Espectros!A13,TRUE))","v":50.590785714285708},3.3057851239669422,167.24226682408499,1.4023543908801773E-102,8.2483497490536464E-102,4.8197114107481371E-101,2.7978194168637422E-100,1.6134778318175914E-99,9.2438098620386722E-99,5.2611863262389598E-98,2.9748223766655993E-97,1.671025488935257E-96,9.3250203286070818E-96,5.1696504391967037E-95,2.8471952256495091E-94,1.5578225762987767E-93,8.4676601271628105E-93,4.5724979633822465E-92,2.4529477717506271E-91,1.307277419874541E-90,6.9213672927300196E-90,3.6404972791912622E-89,1.9022789546714697E-88,9.8748924345411523E-88,5.0925490651499613E-87,2.6090520802838149E-86,1.3279292973005869E-85,6.7144715008042998E-85,3.372821790646381E-84,1.6831376437817805E-83,8.3443122885424685E-83,4.109662366394716E-82,2.0107886051574175E-81,9.773978187861563E-81,4.7197717172555948E-80,2.2642026764259173E-79,1.0790815903451997E-78,5.1090240279875285E-78,2.4030692435872838E-77,1.1228954002351703E-76,5.2126311930755868E-76,2.4039164662958232E-75,1.1013527079955982E-74,5.0127743306698976E-74,2.2665983131515829E-73,1.0181590990170914E-72,4.5436138041128401E-72,2.0143357093955166E-71,8.8717025272531276E-71,3.8817429122095078E-70,1.687295872235189E-69,7.2861884124967228E-69,3.1257499198580392E-68,1.3321488002409279E-67,5.6402184544821391E-67,2.3723774669117275E-66,9.9132562742558649E-66,4.1152247102752716E-65,1.6971313413562162E-64,6.953156921243228E-64,2.8300446389732766E-63,1.1443245592551452E-62,4.5967388330841128E-62,1.8344045485947881E-61,7.2725226992570239E-61,2.8643080942903E-60,1.1207249824818726E-59,4.3563528990559096E-59,1.6822546309173873E-58,6.4536452522696094E-58,2.4595922945076809E-57,9.312490364443065E-57,3.5027829489044074E-56,1.3088964670536144E-55,4.8589456576553731E-55,1.7919400099862892E-54,6.5652243076715314E-54,2.3895732568168E-53,8.6404389800253182E-53,3.1038158301057047E-52,1.1076454250250966E-51,3.926903692102446E-51,1.3830708256100371E-50,4.8393080526631856E-50,1.6821580362235862E-49,5.8089146941231604E-49,1.9928191173751325E-48,6.7918086349152469E-48,2.2995755305884105E-47,7.7348980645063614E-47,2.5846764662161052E-46,8.580299756557936E-46,2.8297196472130429E-45,9.2710524478305808E-45,3.0175838288254822E-44,9.7574049052495083E-44,3.1343968993798014E-43,1.0002724989171873E-42,3.171227115425783E-42,9.9880576819817107E-42,3.125211511140156E-41,9.7145450533345695E-41,2.9999236113074228E-40,9.2032793303786551E-40,2.8049148965206114E-39,8.4926153091616508E-39,2.554511684600989E-38,7.6334174395706162E-38,2.2660777676665834E-37,6.683058845017232E-37,1.9580349445478651E-36,5.6991523849454214E-36,1.6479528370949808E-35,4.7339532575478918E-35,1.3509766114121737E-34,3.8301552105193104E-34,1.0787718227739335E-33,3.0184743738386398E-33,8.3905430494165726E-33,2.3170602391615106E-32,6.3566640202972749E-32,1.7324705795201344E-31,4.6908025970126698E-31,1.2617494484604041E-30,3.3716599572919942E-30,8.95074306594278E-30,2.3605820003726631E-29,6.1847730774122433E-29,1.6098044597757596E-28,4.1626237773912355E-28,1.0693155269375863E-27,2.7289103177906786E-27,6.9185858081088366E-27,1.7425693779397286E-26,4.3602109592826197E-26,1.0838510542055998E-25,2.6765563094714872E-25,6.566407678911084E-25,1.6003831815168078E-24,3.8749383094567139E-24,9.320737664310256E-24,2.2273089117261247E-23,5.2875599286996044E-23,1.2470240477910216E-22,2.9217229532450273E-22,6.8006106968568767E-22,1.5725391773238767E-21,3.6124322580400427E-21,8.2440881619653176E-21,1.8690900309731033E-20,4.2098099743607586E-20,9.4197514223143346E-20,2.0939247483438453E-19,4.6241016815928608E-19,1.0144680152906158E-18,2.2110268693878134E-18,4.7873409623713594E-18,1.0297679646912496E-17,2.2005390127616543E-17,4.6715762920003341E-17,9.8524104685233045E-17,2.0642686938642417E-16,4.2966960579189221E-16,8.8848012769922896E-16,1.8251790773126175E-15,3.7248425755928514E-15,7.551879328518812E-15,1.5210617270193924E-14,3.0435701333445129E-14,6.0501266582723858E-14,1.1947864743460741E-13,2.3440172658956737E-13,4.5685248668249619E-13,8.8457743768357895E-13,1.7015330952477104E-12,3.2515438957346116E-12,6.1728186769541019E-12,1.164185260887619E-11,2.1812495323870516E-11,4.060067778710939E-11,7.507682434852582E-11,1.3791870883139802E-10,2.5170112064117059E-10,4.5634342074386241E-10,8.219456774812727E-10,1.4707508776426011E-9,2.6144467125381961E-9,4.6170560917013202E-9,8.10018960894111E-9,1.411789336006066E-8,2.4444957539974535E-8,4.2048775702035167E-8,7.1855845081294806E-8,1.219875546057015E-7,2.057375801327681E-7,3.4471200408929891E-7,5.7377796418165767E-7,9.4880289492572711E-7,1.5586651132717038E-6,2.5437492981230415E-6,4.1242072037732261E-6,6.6428022518084218E-6,1.0629353482511976E-5,1.6896900767056453E-5,2.6684061636553487E-5,4.1864074511781657E-5,6.5249281273082189E-5,1.0103099909261626E-4,1.5540974261981017E-4,2.3749064807197107E-4,3.6054498738360453E-4,5.4377231085807462E-4,8.1474066774373433E-4,1.2127363019762375E-3,1.7933210205966286E-3,2.6344767996199694E-3,3.8448145368901064E-3,5.5744380140600267E-3,8.0291849834443138E-3,1.1489113365475194E-2,1.6332258447617435E-2,2.3064850857524286E-2,3.2359345995405998E-2,4.5101760925135299E-2,6.2449927624256538E-2,8.5904330642955953E-2,0.11739317671360687,0.15937321356137252,0.21494754163653865,0.28800121047190069,0.3833547261122508,0.50693468641261974,0.66595958329607419,0.86913735373254797,1.1268695298675948,1.4514548614646294,1.8572831161147239,2.3610074915238766,2.9816818206941891,3.7408466704347254,4.6625467135393848,5.7732606077952902,7.1017242686383018,8.678629105611634,10.536178717508367,12.707490880519304,15.225836529792977,18.123713854874914,21.431763525121248,25.177540231502864,29.384165843132713,34.068900064598054,39.241674956109406,44.903649356217102,51.045847377046684,57.647950959557583,64.677319256833215,72.08830673502375,79.821946887770338,87.806059117417064,95.95582268220106,104.17484398144411,112.35672250033979,120.38709740865849,128.14613230618596,135.51137132531002,142.36087723510974,148.57654283980727,154.04745221600461,158.67315935651436,162.36674943361675,165.0575526126417,166.69339213926727,167.24226682408499,166.69339213926727,165.05755261264179,162.36674943361689,158.6731593565145,154.04745221600476,148.57654283980747,142.36087723510997,135.51137132531002,128.14613230618596,120.38709740865849,112.35672250033979,104.17484398144438,95.955822682201344,87.806059117417362,79.821946887770594,72.088306735024005,64.677319256833471,57.647950959557583,51.045847377046684,44.903649356217102,39.241674956109406,34.068900064598225,29.384165843132866,25.177540231503002,21.431763525121362,18.123713854875028,15.225836529793074,12.707490880519304,10.536178717508367,8.678629105611634,7.1017242686383018,5.773260607795331,4.6625467135394176,3.7408466704347538,2.9816818206942131,2.3610074915238952,1.8572831161147385,1.4514548614646294,1.1268695298675948,0.86913735373254797,0.66595958329608074,0.50693468641262418,0.38335472611225457,0.28800121047190386,0.21494754163654092,0.15937321356137424,0.1173931767136082,8.5904330642956883E-2,6.2449927624257252E-2,4.5101760925135785E-2,3.2359345995406748E-2,2.3064850857524286E-2,1.6332258447617435E-2,1.1489113365475194E-2,8.0291849834443138E-3,5.5744380140600267E-3,3.8448145368901064E-3,2.6344767996199694E-3,1.7933210205966286E-3,1.2127363019762375E-3,8.1474066774374593E-4,5.4377231085808329E-4,3.6054498738360963E-4,2.3749064807197443E-4,1.5540974261981237E-4,1.0103099909261769E-4,6.5249281273083233E-5,4.1864074511782328E-5,2.668406163655387E-5,1.6896900767056693E-5,1.0629353482512317E-5,6.6428022518084218E-6,4.1242072037732261E-6,2.5437492981230415E-6,1.5586651132717038E-6,9.4880289492572711E-7,5.7377796418165767E-7,3.4471200408929891E-7,2.057375801327681E-7,1.2198755460570367E-7,7.1855845081296077E-8,4.2048775702035921E-8,2.4444957539974972E-8,1.4117893360060913E-8,8.1001896089412539E-9,4.6170560917014021E-9,2.6144467125382424E-9,1.4707508776426375E-9,8.2194567748129017E-10,4.5634342074388185E-10,2.5170112064117059E-10,1.3791870883139802E-10,7.507682434852582E-11,4.060067778710939E-11,2.1812495323870516E-11,1.164185260887619E-11,6.1728186769541019E-12,3.2515438957346116E-12,1.7015330952477104E-12,8.8457743768359783E-13,4.5685248668250588E-13,2.3440172658957232E-13,1.1947864743460996E-13,6.0501266582725158E-14,3.0435701333445779E-14,1.5210617270194356E-14,7.5518793285189729E-15,3.7248425755929311E-15,1.8251790773126566E-15,8.8848012769927945E-16,4.2966960579189221E-16,2.0642686938642417E-16,9.8524104685233045E-17,4.6715762920003341E-17,2.2005390127616543E-17,1.0297679646912496E-17,4.7873409623714365E-18,2.2110268693878295E-18,1.0144680152906374E-18,4.6241016815928936E-19]
[{"$f":"IF(Principal!M24=\"\",\"\",MATCH(Principal!M24,Datos!A:A,0))","v":22},{"$f":"IF(A66=\"\",\"\",INDIRECT(\"Datos!A\"&Espectros!A14,TRUE))","v":"UV (405-410) Semiled"},{"$f":"IF(A66=\"\",\"\",INDIRECT(\"Datos!M\"&Espectros!A14,TRUE))","v":0.70246549999999996},3.3613445378151261,2.3612285714285712,0.63397717475831683,0.72069648162713684,0.81390901639236568,0.91315393562130787,1.017786787760351,1.1269750476218394,1.2396996253983663,1.3547629700001047,1.470804137639659,1.5863209007979504,1.6996986433559971,1.8092454417501151,1.9132323891744119,2.0099379012528864,2.09769446838729,2.1749361117594259,2.2402446732292458,2.2923930361211036,2.3303834405030748,2.3534792230578709,2.3612285714285712,2.3534792230578709,2.3303834405030748,2.2923930361211031,2.2402446732292458,2.1749361117594255,2.09769446838729,2.0099379012528855,1.9132323891744112,1.8092454417501145,1.6996986433559966,1.5863209007979502,1.4708041376396588,1.3547629700001043,1.2396996253983659,1.126975047621839,1.0177867877603506,0.91315393562130753,0.81390901639236546,0.7206964816271364,0.63397717475831683,0.55403795856547466,0.48100556012129386,0.41486361823462597,0.35547190600716916,0.30258674037733946,0.25588167266077544,0.21496766888399169,0.17941212534395673,0.14875621273195758,0.12253019164441636,0.10026648506955949,8.151042291102345E-2,6.5828685084793032E-2,5.2815560368211209E-2,4.2097206882144397E-2,3.3334147235680948E-2,2.6222258537160772E-2,2.049252712314719E-2,1.5909832967012011E-2,1.2271012532303E-2,9.4024245506633547E-3,7.1572138319838099E-3,5.4124363982733792E-3,4.066177167327982E-3,3.0347608072329511E-3,2.2501284664918626E-3,1.6574286405630898E-3,1.2128498601191111E-3,8.8170625877216971E-4,6.3677423500955023E-4,4.5686903058702352E-4,3.2564366577147097E-4,2.3058880996293941E-4,1.6221032669616538E-4,1.133609424711751E-4,7.8703323976714713E-5,5.4283442270595996E-5,3.7195154120767572E-5,2.5319202567555678E-5,1.7122152552781191E-5,1.1503006862522737E-5,7.6773099356539436E-6,5.0903945615076087E-6,3.3530381662697775E-6,2.1941697605560819E-6,1.4264174134185098E-6,9.2122924505226253E-7,5.910625987724158E-7,3.7674189625918961E-7,2.3856077543922231E-7,1.5007171102937217E-7,9.3787143460682553E-8,5.8228078756455587E-8,3.5914207785747066E-8,2.2006187004253788E-8,1.3395779348705469E-8,8.1009480941018789E-9,4.8668548234054244E-9,2.904728939945861E-9,1.7222948765497536E-9,1.0145047520108471E-9,5.9367032309884611E-10,3.4512885568251783E-10,1.9932504984054928E-10,1.1436342918467385E-10,6.518642067367313E-11,3.6912357105372931E-11,2.0764960076726445E-11,1.1604731594988732E-11,6.4429354128360278E-12,3.5536703059859381E-12,1.9472206518809253E-12,1.0599805065446269E-12,5.7322519139930277E-13,3.0796214468349877E-13,1.64366792716062E-13,8.7151628012810997E-14,4.5907284645564562E-14,2.4023284520271674E-14,1.248900507726651E-14,6.4501227169898491E-15,3.3094268842795369E-15,1.6868725912151397E-15,8.5419387081742189E-16,4.2970983917354885E-16,2.1475279407223649E-16,1.0662204942029307E-16,5.2589604772666279E-17,2.576899408961816E-17,1.254410564093018E-17,6.0663381855343685E-18,2.9144607470459779E-18,1.3910235455125629E-18,6.595617019400034E-19,3.1068555145461312E-19,1.4538893703996707E-19,6.7590606586383986E-20,3.1216629117364718E-20,1.4322879664291133E-20,6.5285894619287435E-21,2.9563309778690686E-21,1.3299380961823252E-21,5.9436671007344559E-22,2.638895577963086E-22,1.1639507693281987E-22,5.1002527184150686E-23,2.2202069522853618E-23,9.6015179568643833E-24,4.1250670933905926E-24,1.7606247911001298E-24,7.4653003776365389E-25,3.1446508945595615E-25,1.3159587284779979E-25,5.4708748108732636E-26,2.2595188197287927E-26,9.2708558174482677E-27,3.7789258367379828E-27,1.530247182702461E-27,6.1560124064472707E-28,2.4602659848038503E-28,9.768082431679988E-29,3.8528424264969457E-29,1.5097250366338668E-29,5.8770467429879535E-30,2.2728203563719285E-30,8.7320407547150667E-31,3.3328139891472182E-31,1.2637206290112835E-31,4.7603156639067981E-32,1.7814150120452307E-32,6.6227618922721787E-33,2.4460078837757267E-33,8.9747268969308015E-34,3.2713673058402774E-34,1.1846281657329609E-34,4.2616666641631175E-35,1.5230760132336701E-35,5.4076472938489125E-36,1.9073913758616813E-36,6.6836846329564794E-37,2.3266805677827976E-37,8.0464117712619004E-38,2.7644734448529695E-38,9.4355510655638668E-39,3.1993871356226083E-39,1.0777325432281406E-39,3.6066157737940348E-40,1.1990393514121435E-40,3.9601503375081427E-41,1.2993752427779916E-41,4.2354755634669214E-42,1.3715588633160215E-42,4.4123646802895873E-43,1.4101750484271383E-43,4.4773323237173473E-44,1.4122458685290779E-44,4.4253331729816465E-45,1.3776100792454973E-45,4.2604093382674912E-46,1.3089438658504102E-46,3.995171201045917E-47,1.2114191777797949E-47,3.6492042566894888E-48,1.0920601982877304E-48,3.2466813252986338E-49,9.5890906676758321E-50,2.8135838666818291E-50,8.2013809099963387E-51,2.3749735591466659E-51,6.8324309738709456E-52,1.9527039496390119E-52,5.5442427151467607E-53,1.5638415301632055E-53,4.3821569497181891E-54,1.2199100010274897E-54,3.3737456174594762E-55,9.2691850615833061E-56,2.5299704615438052E-56,6.8601565452011922E-57,1.8479800553647026E-57,4.9454431200491256E-58,1.3147943242604717E-58,3.472602775688231E-59,9.1116509294579905E-60,2.3751099374408359E-60,6.1505653611455528E-61,1.582308049037418E-61,4.0440052852946461E-62,1.0267792173561053E-62,2.5899244933439049E-63,6.4899569194970583E-64,1.6156273743543474E-64,3.9956300442823283E-65,9.8168920428083026E-66,2.3961137867691768E-66,5.8101258421543151E-67,1.3996141283643212E-67,3.3494675499572401E-68,7.9632052451372228E-69,1.8808091209573215E-69,4.4131248386346726E-70,1.0287086263005257E-70,2.3822274701442046E-71,5.4804819650587665E-72,1.2525612025219294E-72,2.8439623067755319E-73,6.414951755643007E-74,1.4374992640993738E-74,3.2001220735633874E-75,7.0773412705243947E-76,1.5549570875374689E-76,3.393996237515636E-77,7.3595114076971712E-78,1.585372377516213E-78,3.392800076698305E-79,7.2132324777015815E-80,1.5235133620293649E-80,3.196739767170172E-81,6.663662267342253E-82,1.3799499966102329E-82,2.8389542881494455E-83,5.8022725849937354E-84,1.1781010242676015E-84,2.3763566289883364E-85,4.7619560112684349E-86,9.4799013735080556E-87,1.8748517687347686E-87,3.6836192389042918E-88,7.1899721179229105E-89,1.3941976869249471E-89,2.6857537295414646E-90,5.139876631112755E-91,9.7720095017222966E-92,1.845694185572146E-92,3.4632216322276694E-93,6.4557321776167001E-94,1.1955160262468785E-94,2.1994291552160455E-95,4.0198442911026479E-96,7.2988285516180272E-97,1.3165633812067145E-97,2.3592559482643294E-98,4.2000361057628776E-99,7.4280645132559895E-100,1.3050975910329773E-100,2.2780066476029601E-101,3.9501325055259766E-102,6.8047632367177891E-103,1.1645524462477765E-103,1.9799296660440382E-104,3.3441453991888557E-105,5.6113223566542048E-106,9.353840569492679E-107,1.549028420960704E-107,2.5484345645165859E-108,4.1651655287035399E-109,6.7629429224629894E-110,1.090897274466077E-110,1.7481418477476014E-111,2.7830061097533629E-112,4.4014556306140658E-113,6.9154934561375682E-114,1.0794305346447766E-114,1.6738282812173167E-115,2.5785275848626896E-116,3.9461840793141151E-117,5.9996729402443182E-118,9.0619672975784477E-119,1.3597594406891936E-119,2.0269654816621758E-120,3.0017554030289657E-121,4.416201969443854E-122,6.4545687518649026E-123,9.3719553986884325E-124,1.3518791596143233E-124,1.9372702579683775E-125,2.7579553245989544E-126,3.9005775849817251E-127,5.4804382974329158E-128,7.649734147298554E-129,1.0607720547029546E-129,1.4613104019825671E-130,1.9998966797595287E-131,2.7190507963443039E-132,3.6725841923341841E-133,4.9280020307940827E-134,6.5692331175928822E-135,8.6996773723980827E-136,1.1445540291205851E-136,1.4959398380342195E-137,1.9423909023901594E-138,2.5055543084303081E-139,3.2108179623105679E-140,4.0876360921056897E-141,5.169796454217786E-142,6.4956010226263654E-143,8.1079286203050112E-144,1.0054145589043503E-144,1.2385829598735327E-145,1.5158272489916881E-146,1.8429731020638012E-147,2.2260399886216012E-148,2.6711089631153355E-149,3.1841603164329736E-150,3.7708818424623312E-151,4.4364501009405041E-152,5.1852888719587736E-153,6.0208109194942344E-154,6.9451511086069779E-155,7.9589007317531989E-156,9.0608544590367443E-157,1.0247782495398102E-157,1.1514241169712013E-158,1.2852435178004324E-159,1.4252143964288845E-160,1.5700723195512767E-161,1.7183189966811396E-162,1.8682397308963131E-163,2.0179299867667067E-164,2.1653308445089569E-165,2.3082726648137561E-166,2.4445258422824604E-167,2.5718571040691827E-168,2.6880894416602812E-169,2.7911634737049953E-170,2.8791978488529021E-171,2.9505462265893556E-172,3.0038484310691077E-173,3.0380735598401516E-174,3.0525531394935583E-175,3.047002838722006E-176,3.0215317535655946E-177,2.9766388412523901E-178,2.9131966654806572E-179,2.8324231928784559E-180,2.7358429140763905E-181,2.6252390227718783E-182,2.5025987469738311E-183,2.370054169858983E-184,2.2298209929151736E-185,2.0841376794485276E-186,1.9352072785322404E-187,1.7851439820718817E-188,1.6359261310888959E-189,1.4893569861126195E-190,1.3470341379003113E-191,1.2103279860069049E-192,1.0803692800529867E-193,9.5804532471714383E-195,8.4400411292747121E-196]
[{"$f":"IF(Principal!M25=\"\",\"\",MATCH(Principal!M25,Datos!A:A,0))","v":""},{"$f":"IF(A67=\"\",\"\",INDIRECT(\"Datos!A\"&Espectros!A15,TRUE))","v":""},{"$f":"IF(A67=\"\",\"\",INDIRECT(\"Datos!M\"&Espectros!A15,TRUE))","v":""},"","","","","","","","","","","","","","","","","","","","","","","","","","","","","","","","","","","","","","","","","","","","","","","","","","","","","","","","","","","","","","","","","","","","","","","","","","","","","","","","","","","","","","","","","","","","","","","","","","","","","","","","","","","","","","","","","","","","","","","","","","","","","","","","","","","","","","","","","","","","","","","","","","","","","","","","","","","","","","","","","","","","","","","","","","","","","","","","","","","","","","","","","","","","","","","","","","","","","","","","","","","","","","","","","","","","","","","","","","","","","","","","","","","","","","","","","","","","","","","","","","","","","","","","","","","","","","","","","","","","","","","","","","","","","","","","","","","","","","","","","","","","","","","","","","","","","","","","","","","","","","","","","","","","","","","","","","","","","","","","","","","","","","","","","","","","","","","","","","","","","","","","","","","","","","","","","","","","","","","","","","","","","","","","","","","","","","","","","","","","","","","","","","","","","","","","",""]
[{"$f":"IF(Principal!M26=\"\",\"\",MATCH(Principal!M26,Datos!A:A,0))","v":""},{"$f":"IF(A68=\"\",\"\",INDIRECT(\"Datos!A\"&Espectros!A16,TRUE))","v":""},{"$f":"IF(A68=\"\",\"\",INDIRECT(\"Datos!M\"&Espectros!A16,TRUE))","v":""},"","","","","","","","","","","","","","","","","","","","","","","","","","","","","","","","","","","","","","","","","","","","","","","","","","","","","","","","","","","","","","","","","","","","","","","","","","","","","","","","","","","","","","","","","","","","","","","","","","","","","","","","","","","","","","","","","","","","","","","","","","","","","","","","","","","","","","","","","","","","","","","","","","","","","","","","","","","","","","","","","","","","","","","","","","","","","","","","","","","","","","","","","","","","","","","","","","","","","","","","","","","","","","","","","","","","","","","","","","","","","","","","","","","","","","","","","","","","","","","","","","","","","","","","","","","","","","","","","","","","","","","","","","","","","","","","","","","","","","","","","","","","","","","","","","","","","","","","","","","","","","","","","","","","","","","","","","","","","","","","","","","","","","","","","","","","","","","","","","","","","","","","","","","","","","","","","","","","","","","","","","","","","","","","","","","","","","","","","","","","","","","","","","","","","","","","",""]
[{"$f":"IF(Principal!M27=\"\",\"\",MATCH(Principal!M27,Datos!A:A,0))","v":""},{"$f":"IF(A69=\"\",\"\",INDIRECT(\"Datos!A\"&Espectros!A17,TRUE))","v":""},{"$f":"IF(A69=\"\",\"\",INDIRECT(\"Datos!M\"&Espectros!A17,TRUE))","v":""},"","","","","","","","","","","","","","","","","","","","","","","","","","","","","","","","","","","","","","","","","","","","","","","","","","","","","","","","","","","","","","","","","","","","","","","","","","","","","","","","","","","","","","","","","","","","","","","","","","","","","","","","","","","","","","","","","","","","","","","","","","","","","","","","","","","","","","","","","","","","","","","","","","","","","","","","","","","","","","","","","","","","","","","","","","","","","","","","","","","","","","","","","","","","","","","","","","","","","","","","","","","","","","","","","","","","","","","","","","","","","","","","","","","","","","","","","","","","","","","","","","","","","","","","","","","","","","","","","","","","","","","","","","","","","","","","","","","","","","","","","","","","","","","","","","","","","","","","","","","","","","","","","","","","","","","","","","","","","","","","","","","","","","","","","","","","","","","","","","","","","","","","","","","","","","","","","","","","","","","","","","","","","","","","","","","","","","","","","","","","","","","","","","","","","","","","",""]
[{"$f":"IF(Principal!M28=\"\",\"\",MATCH(Principal!M28,Datos!A:A,0))","v":""},{"$f":"IF(A70=\"\",\"\",INDIRECT(\"Datos!A\"&Espectros!A18,TRUE))","v":""},{"$f":"IF(A70=\"\",\"\",INDIRECT(\"Datos!M\"&Espectros!A18,TRUE))","v":""},"",{"$f":"IF(A70=\"\",\"\",C70*D70)","v":""},"","","","","","","","","","","","","","","","","","","","","","","","","","","","","","","","","","","","","","","","","","","","","","","","","","","","","","","","","","","","","","","","","","","","","","","","","","","","","","","","","","","","","","","","","","","","","","","","","","","","","","","","","","","","","","","","","","","","","","","","","","","","","","","","","","","","","","","","","","","","","","","","","","","","","","","","","","","","","","","","","","","","","","","","","","","","","","","","","","","","","","","","","","","","","","","","","","","","","","","","","","","","","","","","","","","","","","","","","","","","","","","","","","","","","","","","","","","","","","","","","","","","","","","","","","","","","","","","","","","","","","","","","","","","","","","","","","","","","","","","","","","","","","","","","","","","","","","","","","","","","","","","","","","","","","","","","","","","","","","","","","","","","","","","","","","","","","","","","","","","","","","","","","","","","","","","","","","","","","","","","","","","","","","","","","","","","","","","","","","","","","","","","","","","","","",""]
[{"$f":"IF(Principal!M29=\"\",\"\",MATCH(Principal!M29,Datos!A:A,0))","v":""},{"$f":"IF(A71=\"\",\"\",INDIRECT(\"Datos!A\"&Espectros!A19,TRUE))","v":""},{"$f":"IF(A71=\"\",\"\",INDIRECT(\"Datos!M\"&Espectros!A19,TRUE))","v":""},"",{"$f":"IF(A71=\"\",\"\",C71*D71)","v":""},"","","","","","","","","","","","","","","","","","","","","","","","","","","","","","","","","","","","","","","","","","","","","","","","","","","","","","","","","","","","","","","","","","","","","","","","","","","","","","","","","","","","","","","","","","","","","","","","","","","","","","","","","","","","","","","","","","","","","","","","","","","","","","","","","","","","","","","","","","","","","","","","","","","","","","","","","","","","","","","","","","","","","","","","","","","","","","","","","","","","","","","","","","","","","","","","","","","","","","","","","","","","","","","","","","","","","","","","","","","","","","","","","","","","","","","","","","","","","","","","","","","","","","","","","","","","","","","","","","","","","","","","","","","","","","","","","","","","","","","","","","","","","","","","","","","","","","","","","","","","","","","","","","","","","","","","","","","","","","","","","","","","","","","","","","","","","","","","","","","","","","","","","","","","","","","","","","","","","","","","","","","","","","","","","","","","","","","","","","","","","","","","","","","","","","",""]
[{"$f":"IF(Principal!M30=\"\",\"\",MATCH(Principal!M30,Datos!A:A,0))","v":""},{"$f":"IF(A72=\"\",\"\",INDIRECT(\"Datos!A\"&Espectros!A20,TRUE))","v":""},{"$f":"IF(A72=\"\",\"\",INDIRECT(\"Datos!M\"&Espectros!A20,TRUE))","v":""},"","","","","","","","","","","","","","","","","","","","","","","","","","","","","","","","","","","","","","","","","","","","","","","","","","","","","","","","","","","","","","","","","","","","","","","","","","","","","","","","","","","","","","","","","","","","","","","","","","","","","","","","","","","","","","","","","","","","","","","","","","","","","","","","","","","","","","","","","","","","","","","","","","","","","","","","","","","","","","","","","","","","","","","","","","","","","","","","","","","","","","","","","","","","","","","","","","","","","","","","","","","","","","","","","","","","","","","","","","","","","","","","","","","","","","","","","","","","","","","","","","","","","","","","","","","","","","","","","","","","","","","","","","","","","","","","","","","","","","","","","","","","","","","","","","","","","","","","","","","","","","","","","","","","","","","","","","","","","","","","","","","","","","","","","","","","","","","","","","","","","","","","","","","","","","","","","","","","","","","","","","","","","","","","","","","","","","","","","","","","","","","","","","","","","","","","",""]
[{"$f":"IF(Principal!M31=\"\",\"\",MATCH(Principal!M31,Datos!A:A,0))","v":""},null,{"$f":"IF(A73=\"\",\"\",INDIRECT(\"Datos!M\"&Espectros!A21,TRUE))","v":""},"",null,"","","","","","","","","","","","","","","","","","","","","","","","","","","","","","","","","","","","","","","","","","","","","","","","","","","","","","","","","","","","","","","","","","","","","","","","","","","","","","","","","","","","","","","","","","","","","","","","","","","","","","","","","","","","","","","","","","","","","","","","","","","","","","","","","","","","","","","","","","","","","","","","","","","","","","","","","","","","","","","","","","","","","","","","","","","","","","","","","","","","","","","","","","","","","","","","","","","","","","","","","","","","","","","","","","","","","","","","","","","","","","","","","","","","","","","","","","","","","","","","","","","","","","","","","","","","","","","","","","","","","","","","","","","","","","","","","","","","","","","","","","","","","","","","","","","","","","","","","","","","","","","","","","","","","","","","","","","","","","","","","","","","","","","","","","","","","","","","","","","","","","","","","","","","","","","","","","","","","","","","","","","","","","","","","","","","","","","","","","","","","","","","","","","","","","",""]
[{"$f":"IF(Principal!M32=\"\",\"\",MATCH(Principal!M32,Datos!A:A,0))","v":""},null,{"$f":"IF(A74=\"\",\"\",INDIRECT(\"Datos!M\"&Espectros!A22,TRUE))","v":""},"",null,"","","","","","","","","","","","","","","","","","","","","","","","","","","","","","","","","","","","","","","","","","","","","","","","","","","","","","","","","","","","","","","","","","","","","","","","","","","","","","","","","","","","","","","","","","","","","","","","","","","","","","","","","","","","","","","","","","","","","","","","","","","","","","","","","","","","","","","","","","","","","","","","","","","","","","","","","","","","","","","","","","","","","","","","","","","","","","","","","","","","","","","","","","","","","","","","","","","","","","","","","","","","","","","","","","","","","","","","","","","","","","","","","","","","","","","","","","","","","","","","","","","","","","","","","","","","","","","","","","","","","","","","","","","","","","","","","","","","","","","","","","","","","","","","","","","","","","","","","","","","","","","","","","","","","","","","","","","","","","","","","","","","","","","","","","","","","","","","","","","","","","","","","","","","","","","","","","","","","","","","","","","","","","","","","","","","","","","","","","","","","","","","","","","","","","",""]
[{"$f":"IF(Principal!M33=\"\",\"\",MATCH(Principal!M33,Datos!A:A,0))","v":""},null,{"$f":"IF(A75=\"\",\"\",INDIRECT(\"Datos!M\"&Espectros!A23,TRUE))","v":""},"",null,"","","","","","","","","","","","","","","","","","","","","","","","","","","","","","","","","","","","","","","","","","","","","","","","","","","","","","","","","","","","","","","","","","","","","","","","","","","","","","","","","","","","","","","","","","","","","","","","","","","","","","","","","","","","","","","","","","","","","","","","","","","","","","","","","","","","","","","","","","","","","","","","","","","","","","","","","","","","","","","","","","","","","","","","","","","","","","","","","","","","","","","","","","","","","","","","","","","","","","","","","","","","","","","","","","","","","","","","","","","","","","","","","","","","","","","","","","","","","","","","","","","","","","","","","","","","","","","","","","","","","","","","","","","","","","","","","","","","","","","","","","","","","","","","","","","","","","","","","","","","","","","","","","","","","","","","","","","","","","","","","","","","","","","","","","","","","","","","","","","","","","","","","","","","","","","","","","","","","","","","","","","","","","","","","","","","","","","","","","","","","","","","","","","","","","",""]
[{"$f":"IF(Principal!M34=\"\",\"\",MATCH(Principal!M34,Datos!A:A,0))","v":""},null,{"$f":"IF(A76=\"\",\"\",INDIRECT(\"Datos!M\"&Espectros!A24,TRUE))","v":""},"",null,"","","","","","","","","","","","","","","","","","","","","","","","","","","","","","","","","","","","","","","","","","","","","","","","","","","","","","","","","","","","","","","","","","","","","","","","","","","","","","","","","","","","","","","","","","","","","","","","","","","","","","","","","","","","","","","","","","","","","","","","","","","","","","","","","","","","","","","","","","","","","","","","","","","","","","","","","","","","","","","","","","","","","","","","","","","","","","","","","","","","","","","","","","","","","","","","","","","","","","","","","","","","","","","","","","","","","","","","","","","","","","","","","","","","","","","","","","","","","","","","","","","","","","","","","","","","","","","","","","","","","","","","","","","","","","","","","","","","","","","","","","","","","","","","","","","","","","","","","","","","","","","","","","","","","","","","","","","","","","","","","","","","","","","","","","","","","","","","","","","","","","","","","","","","","","","","","","","","","","","","","","","","","","","","","","","","","","","","","","","","","","","","","",{"$f":"IF($E76=\"\",\"\",$E76*OD24)","v":""},{"$f":"IF($E76=\"\",\"\",$E76*OE24)","v":""},{"$f":"IF($E76=\"\",\"\",$E76*OF24)","v":""},{"$f":"IF($E76=\"\",\"\",$E76*OG24)","v":""},{"$f":"IF($E76=\"\",\"\",$E76*OH24)","v":""},{"$f":"IF($E76=\"\",\"\",$E76*OI24)","v":""}]
[{"$f":"IF(Principal!M35=\"\",\"\",MATCH(Principal!M35,Datos!A:A,0))","v":""},null,{"$f":"IF(A77=\"\",\"\",INDIRECT(\"Datos!M\"&Espectros!A25,TRUE))","v":""},"",null,"","","","","","","","","","","","","","","","","","","","","","","","","","","","","","","","","","","","","","","","","","","","","","","","","","","","","","","","","","","","","","","","","","","","","","","","","","","","","","","","","","","","","","","","","","","","","","","","","","","","","","","","","","","","","","","","","","","","","","","","","","","","","","","","","","","","","","","","","","","","","","","","","","","","","","","","","","","","","","","","","","","","","","","","","","","","","","","","","","","","","","","","","","","","","","","","","","","","","","","","","","","","","","","","","","","","","","","","","","","","","","","","","","","","","","","","","","","","","","","","","","","","","","","","","","","","","","","","","","","","","","","","","","","","","","","","","","","","","","","","","","","","","","","","","","","","","","","","","","","","","","","","","","","","","","","","","","","","","","","","","","","","","","","","","","","","","","","","","","","","","","","","","","","","","","","","","","","","","","","","","","","","","","","","","","","","","","","","","","","","","","","","","","","","","","",""]
[{"$f":"IF(Principal!M36=\"\",\"\",MATCH(Principal!M36,Datos!A:A,0))","v":""},null,{"$f":"IF(A78=\"\",\"\",INDIRECT(\"Datos!M\"&Espectros!A26,TRUE))","v":""},"",null,"","","","","","","","","","","","","","","","","","","","","","","","","","","","","","","","","","","","","","","","","","","","","","","","","","","","","","","","","","","","","","","","","","","","","","","","","","","","","","","","","","","","","","","","","","","","","","","","","","","","","","","","","","","","","","","","","","","","","","","","","","","","","","","","","","","","","","","","","","","","","","","","","","","","","","","","","","","","","","","","","","","","","","","","","","","","","","","","","","","","","","","","","","","","","","","","","","","","","","","","","","","","","","","","","","","","","","","","","","","","","","","","","","","","","","","","","","","","","","","","","","","","","","","","","","","","","","","","","","","","","","","","","","","","","","","","","","","","","","","","","","","","","","","","","","","","","","","","","","","","","","","","","","","","","","","","","","","","","","","","","","","","","","","","","","","","","","","","","","","","","","","","","","","","","","","","","","","","","","","","","","","","","","","","","","","","","","","","","","","","","","","","","","","","","","",""]
[{"$f":"IF(Principal!M37=\"\",\"\",MATCH(Principal!M37,Datos!A:A,0))","v":""},null,{"$f":"IF(A79=\"\",\"\",INDIRECT(\"Datos!M\"&Espectros!A27,TRUE))","v":""},"",null,"","","","","","","","","","","","","","","","","","","","","","","","","","","","","","","","","","","","","","","","","","","","","","","","","","","","","","","","","","","","","","","","","","","","","","","","","","","","","","","","","","","","","","","","","","","","","","","","","","","","","","","","","","","","","","","","","","","","","","","","","","","","","","","","","","","","","","","","","","","","","","","","","","","","","","","","","","","","","","","","","","","","","","","","","","","","","","","","","","","","","","","","","","","","","","","","","","","","","","","","","","","","","","","","","","","","","","","","","","","","","","","","","","","","","","","","","","","","","","","","","","","","","","","","","","","","","","","","","","","","","","","","","","","","","","","","","","","","","","","","","","","","","","","","","","","","","","","","","","","","","","","","","","","","","","","","","","","","","","","","","","","","","","","","","","","","","","","","","","","","","","","","","","","","","","","","","","","","","","","","","","","","","","","","","","","","","","","","","","","","","","","","","","","","","","",""]
[{"$f":"IF(Principal!M38=\"\",\"\",MATCH(Principal!M38,Datos!A:A,0))","v":""},null,{"$f":"IF(A80=\"\",\"\",INDIRECT(\"Datos!M\"&Espectros!A28,TRUE))","v":""},"",null,"","","","","","","","","","","","","","","","","","","","","","","","","","","","","","","","","","","","","","","","","","","","","","","","","","","","","","","","","","","","","","","","","","","","","","","","","","","","","","","","","","","","","","","","","","","","","","","","","","","","","","","","","","","","","","","","","","","","","","","","","","","","","","","","","","","","","","","","","","","","","","","","","","","","","","","","","","","","","","","","","","","","","","","","","","","","","","","","","","","","","","","","","","","","","","","","","","","","","","","","","","","","","","","","","","","","","","","","","","","","","","","","","","","","","","","","","","","","","","","","","","","","","","","","","","","","","","","","","","","","","","","","","","","","","","","","","","","","","","","","","","","","","","","","","","","","","","","","","","","","","","","","","","","","","","","","","","","","","","","","","","","","","","","","","","","","","","","","","","","","","","","","","","","","","","","","","","","","","","","","","","","","","","","","","","","","","","","","","","","","","","","","","","","","","","",""]

{"sheet":"CRI","index":4,"n_rows":56,"n_cols":216,"rows_kept":56,"cut":false,"hidden":false,"merged":[[5,0,5,1],[20,0,21,0],[20,7,21,7],[20,6,21,6],[20,5,21,5],[20,4,21,4],[20,2,21,2],[20,1,21,1],[39,6,40,6],[39,7,40,7],[20,3,21,3],[39,3,40,3],[39,0,40,0],[39,1,40,1],[39,2,40,2],[39,4,40,4],[39,5,40,5]]}
[]
[]
["WEB DE REFENCIA:","https://www.waveformlighting.com/tech/color-rendering-index-calculator"]
[]
[]
["CALCULOS "]
["N",{"$f":"(B13-0.332)/(0.1858-C13)","v":0.2756332771160685},null,"CRI8",{"$f":"SUM(B23:B30/8)","v":75.987136621900561},null,{"$f":"_xlfn.CONCAT(\"CRI8 \",ROUND(E7,1),\" | CRI15 \",ROUND(CRI!$E$8,1))","v":"CRI8 76 | CRI15 66,4"}]
["CCT",{"$f":"437*(B7^3)+3601*(B7^2)+6861*B7+5517","v":7690.8523853650477},null,"CRI15",{"$f":"SUM(B23:B37)/15","v":66.354675722865323}]
["DC",{"$f":"SQRT(((L41-L22)^2)+((K41-K22)^2))","v":2.4175397126777387E-3}]
["Max. Espectro referencia",{"$f":"MAX($G$14:$GY$14)","v":346134010325057.44}]
[null,null,null,null,null,null,null,null,null,null,null,0,{"$f":"L11+1","v":1},{"$f":"M11+1","v":2},3,4,5,6,7,8,9,10,11,12,13,14,15,16,17,18,19,20,21,22,23,24,25,26,27,28,29,30,31,32,33,34,35,36,37,38,39,40,41,42,43,44,45,46,47,48,49,50,51,52,53,54,55,56,57,58,59,60,61,62,63,64,65,{"$f":"BY11+1","v":66},67,68,69,70,71,72,73,74,75,76,77,78,79,80,81,82,83,84,85,86,87,88,89,90,91,92,93,94,95,96,97,98,99,100,101,102,103,104,105,106,107,108,109,110,111,112,113,114,115,116,117,118,119,120,121,122,123,124,125,126,127,128,129,{"$f":"EK11+1","v":130},131,132,133,134,135,136,137,138,139,140,141,142,143,144,145,146,147,148,149,150,151,152,153,154,155,156,157,158,159,160,161,162,163,164,165,166,167,168,169,170,171,172,173,174,175,176,177,178,179,180,181,182,183,184,185,186,187,188,189,190,191,192,193,{"$f":"GW11+1","v":194},195]
["Nombre","X","Y","XX","YY","ZZ",{"$f":"380","v":380},{"$f":"G12+2","v":382},{"$f":"H12+2","v":384},386,388,390,392,394,396,398,400,402,404,406,408,410,412,414,416,418,420,422,424,426,428,430,432,434,436,438,440,442,444,446,448,450,452,454,456,458,460,462,464,466,468,470,472,474,476,478,480,482,484,486,488,490,492,494,496,498,500,502,504,506,508,510,{"$f":"BT12+2","v":512},514,516,518,520,522,524,526,528,530,532,534,536,538,540,542,544,546,548,550,552,554,556,558,560,562,564,566,568,570,572,574,576,578,580,{"$f":"DC12+2","v":582},{"$f":"DD12+2","v":584},586,588,590,592,594,596,598,600,602,604,606,608,610,612,614,616,618,620,622,624,626,628,630,632,634,636,638,640,642,644,646,648,650,652,654,656,658,660,662,664,666,668,670,{"$f":"EV12+2","v":672},{"$f":"EW12+2","v":674},676,678,680,682,684,686,688,690,692,694,696,698,700,702,704,706,708,710,712,714,716,718,720,722,724,726,728,730,732,{"$f":"GA12+2","v":734},{"$f":"GB12+2","v":736},738,740,742,{"$f":"GF12+2","v":744},{"$f":"GG12+2","v":746},748,750,752,754,756,758,760,762,764,766,768,770,772,774,776,778,780]
["Espectro problema normalizado",{"$f":"IF(SUM(D13:F13)=0,0,D13/SUM(D13:F13))","v":0.29924735858315704},{"$f":"IF(SUM(D13:F13)=0,0,E13/SUM(D13:F13))","v":0.30462687663670929},{"$f":"SUMPRODUCT($G13:$GY13,Otros!$C26:$GU26)","v":22.337434733980491},{"$f":"SUMPRODUCT($G13:$GY13,Otros!$C27:$GU27)","v":22.738990938153638},{"$f":"SUMPRODUCT($G13:$GY13,Otros!$C28:$GU28)","v":29.568960805932985},0,0,0,0,0,{"$f":"INDIRECT(ADDRESS(59,5+MATCH(L12,Espectros!$F$57:$OF$57,0),1,1,\"Espectros\"))","v":7.7753236089605831E-4},{"$f":"INDIRECT(ADDRESS(59,5+MATCH(M12,Espectros!$F$57:$OF$57,0),1,1,\"Espectros\"))","v":9.9748996452248581E-4},{"$f":"INDIRECT(ADDRESS(59,5+MATCH(N12,Espectros!$F$57:$OF$57,0),1,1,\"Espectros\"))","v":1.2934318626749853E-3},{"$f":"INDIRECT(ADDRESS(59,5+MATCH(O12,Espectros!$F$57:$OF$57,0),1,1,\"Espectros\"))","v":1.7011976313595332E-3},{"$f":"INDIRECT(ADDRESS(59,5+MATCH(P12,Espectros!$F$57:$OF$57,0),1,1,\"Espectros\"))","v":2.2782710545367225E-3},{"$f":"INDIRECT(ADDRESS(59,5+MATCH(Q12,Espectros!$F$57:$OF$57,0),1,1,\"Espectros\"))","v":3.1163897657341712E-3},{"$f":"INDIRECT(ADDRESS(59,5+MATCH(R12,Espectros!$F$57:$OF$57,0),1,1,\"Espectros\"))","v":4.3595011669390312E-3},{"$f":"INDIRECT(ADDRESS(59,5+MATCH(S12,Espectros!$F$57:$OF$57,0),1,1,\"Espectros\"))","v":6.2278259208324322E-3},{"$f":"INDIRECT(ADDRESS(59,5+MATCH(T12,Espectros!$F$57:$OF$57,0),1,1,\"Espectros\"))","v":9.0479128809315013E-3},{"$f":"INDIRECT(ADDRESS(59,5+MATCH(U12,Espectros!$F$57:$OF$57,0),1,1,\"Espectros\"))","v":1.3287023708642961E-2},{"$f":"INDIRECT(ADDRESS(59,5+MATCH(V12,Espectros!$F$57:$OF$57,0),1,1,\"Espectros\"))","v":1.9587927352592148E-2},{"$f":"INDIRECT(ADDRESS(59,5+MATCH(W12,Espectros!$F$57:$OF$57,0),1,1,\"Espectros\"))","v":2.8797374473856292E-2},{"$f":"INDIRECT(ADDRESS(59,5+MATCH(X12,Espectros!$F$57:$OF$57,0),1,1,\"Espectros\"))","v":4.1978615224371144E-2},{"$f":"INDIRECT(ADDRESS(59,5+MATCH(Y12,Espectros!$F$57:$OF$57,0),1,1,\"Espectros\"))","v":6.0396109210683134E-2},{"$f":"INDIRECT(ADDRESS(59,5+MATCH(Z12,Espectros!$F$57:$OF$57,0),1,1,\"Espectros\"))","v":8.5460110565272682E-2},{"$f":"INDIRECT(ADDRESS(59,5+MATCH(AA12,Espectros!$F$57:$OF$57,0),1,1,\"Espectros\"))","v":0.11862120983988224},{"$f":"INDIRECT(ADDRESS(59,5+MATCH(AB12,Espectros!$F$57:$OF$57,0),1,1,\"Espectros\"))","v":0.16121100133986391},{"$f":"INDIRECT(ADDRESS(59,5+MATCH(AC12,Espectros!$F$57:$OF$57,0),1,1,\"Espectros\"))","v":0.21423491617935794},{"$f":"INDIRECT(ADDRESS(59,5+MATCH(AD12,Espectros!$F$57:$OF$57,0),1,1,\"Espectros\"))","v":0.27813590193462961},{"$f":"INDIRECT(ADDRESS(59,5+MATCH(AE12,Espectros!$F$57:$OF$57,0),1,1,\"Espectros\"))","v":0.35256074955275768},{"$f":"INDIRECT(ADDRESS(59,5+MATCH(AF12,Espectros!$F$57:$OF$57,0),1,1,\"Espectros\"))","v":0.43617113007484143},{"$f":"INDIRECT(ADDRESS(59,5+MATCH(AG12,Espectros!$F$57:$OF$57,0),1,1,\"Espectros\"))","v":0.5265451117683515},{"$f":"INDIRECT(ADDRESS(59,5+MATCH(AH12,Espectros!$F$57:$OF$57,0),1,1,\"Espectros\"))","v":0.62020909124011891},{"$f":"INDIRECT(ADDRESS(59,5+MATCH(AI12,Espectros!$F$57:$OF$57,0),1,1,\"Espectros\"))","v":0.71282357285831144},{"$f":"INDIRECT(ADDRESS(59,5+MATCH(AJ12,Espectros!$F$57:$OF$57,0),1,1,\"Espectros\"))","v":0.79952069975223261},{"$f":"INDIRECT(ADDRESS(59,5+MATCH(AK12,Espectros!$F$57:$OF$57,0),1,1,\"Espectros\"))","v":0.87536142866866096},{"$f":"INDIRECT(ADDRESS(59,5+MATCH(AL12,Espectros!$F$57:$OF$57,0),1,1,\"Espectros\"))","v":0.93585245935721739},{"$f":"INDIRECT(ADDRESS(59,5+MATCH(AM12,Espectros!$F$57:$OF$57,0),1,1,\"Espectros\"))","v":0.97744470912777048},{"$f":"INDIRECT(ADDRESS(59,5+MATCH(AN12,Espectros!$F$57:$OF$57,0),1,1,\"Espectros\"))","v":0.9979319284040874},{"$f":"INDIRECT(ADDRESS(59,5+MATCH(AO12,Espectros!$F$57:$OF$57,0),1,1,\"Espectros\"))","v":0.99668218975745282},{"$f":"INDIRECT(ADDRESS(59,5+MATCH(AP12,Espectros!$F$57:$OF$57,0),1,1,\"Espectros\"))","v":0.97466419649724179},{"$f":"INDIRECT(ADDRESS(59,5+MATCH(AQ12,Espectros!$F$57:$OF$57,0),1,1,\"Espectros\"))","v":0.93426825381786582},{"$f":"INDIRECT(ADDRESS(59,5+MATCH(AR12,Espectros!$F$57:$OF$57,0),1,1,\"Espectros\"))","v":0.87895943859703174},{"$f":"INDIRECT(ADDRESS(59,5+MATCH(AS12,Espectros!$F$57:$OF$57,0),1,1,\"Espectros\"))","v":0.81282910220946736},{"$f":"INDIRECT(ADDRESS(59,5+MATCH(AT12,Espectros!$F$57:$OF$57,0),1,1,\"Espectros\"))","v":0.74012397992999746},{"$f":"INDIRECT(ADDRESS(59,5+MATCH(AU12,Espectros!$F$57:$OF$57,0),1,1,\"Espectros\"))","v":0.66482775933991045},{"$f":"INDIRECT(ADDRESS(59,5+MATCH(AV12,Espectros!$F$57:$OF$57,0),1,1,\"Espectros\"))","v":0.59035052616094785},{"$f":"INDIRECT(ADDRESS(59,5+MATCH(AW12,Espectros!$F$57:$OF$57,0),1,1,\"Espectros\"))","v":0.51935321752189334},{"$f":"INDIRECT(ADDRESS(59,5+MATCH(AX12,Espectros!$F$57:$OF$57,0),1,1,\"Espectros\"))","v":0.45370479678694997},{"$f":"INDIRECT(ADDRESS(59,5+MATCH(AY12,Espectros!$F$57:$OF$57,0),1,1,\"Espectros\"))","v":0.39454630377558947},{"$f":"INDIRECT(ADDRESS(59,5+MATCH(AZ12,Espectros!$F$57:$OF$57,0),1,1,\"Espectros\"))","v":0.34242264699238817},{"$f":"INDIRECT(ADDRESS(59,5+MATCH(BA12,Espectros!$F$57:$OF$57,0),1,1,\"Espectros\"))","v":0.29744102612975326},{"$f":"INDIRECT(ADDRESS(59,5+MATCH(BB12,Espectros!$F$57:$OF$57,0),1,1,\"Espectros\"))","v":0.25942216075109564},{"$f":"INDIRECT(ADDRESS(59,5+MATCH(BC12,Espectros!$F$57:$OF$57,0),1,1,\"Espectros\"))","v":0.22802308252622938},{"$f":"INDIRECT(ADDRESS(59,5+MATCH(BD12,Espectros!$F$57:$OF$57,0),1,1,\"Espectros\"))","v":0.2028237110583353},{"$f":"INDIRECT(ADDRESS(59,5+MATCH(BE12,Espectros!$F$57:$OF$57,0),1,1,\"Espectros\"))","v":0.18338022750645369},{"$f":"INDIRECT(ADDRESS(59,5+MATCH(BF12,Espectros!$F$57:$OF$57,0),1,1,\"Espectros\"))","v":0.16925445738152409},{"$f":"INDIRECT(ADDRESS(59,5+MATCH(BG12,Espectros!$F$57:$OF$57,0),1,1,\"Espectros\"))","v":0.16002987554694817},{"$f":"INDIRECT(ADDRESS(59,5+MATCH(BH12,Espectros!$F$57:$OF$57,0),1,1,\"Espectros\"))","v":0.15532257280286035},{"$f":"INDIRECT(ADDRESS(59,5+MATCH(BI12,Espectros!$F$57:$OF$57,0),1,1,\"Espectros\"))","v":0.15479134589503446},{"$f":"INDIRECT(ADDRESS(59,5+MATCH(BJ12,Espectros!$F$57:$OF$57,0),1,1,\"Espectros\"))","v":0.15814676331080257},{"$f":"INDIRECT(ADDRESS(59,5+MATCH(BK12,Espectros!$F$57:$OF$57,0),1,1,\"Espectros\"))","v":0.16515594285927934},{"$f":"INDIRECT(ADDRESS(59,5+MATCH(BL12,Espectros!$F$57:$OF$57,0),1,1,\"Espectros\"))","v":0.17563854820867755},{"$f":"INDIRECT(ADDRESS(59,5+MATCH(BM12,Espectros!$F$57:$OF$57,0),1,1,\"Espectros\"))","v":0.18945026682626984},{"$f":"INDIRECT(ADDRESS(59,5+MATCH(BN12,Espectros!$F$57:$OF$57,0),1,1,\"Espectros\"))","v":0.20645241798499475},{"$f":"INDIRECT(ADDRESS(59,5+MATCH(BO12,Espectros!$F$57:$OF$57,0),1,1,\"Espectros\"))","v":0.22646972124035161},{"$f":"INDIRECT(ADDRESS(59,5+MATCH(BP12,Espectros!$F$57:$OF$57,0),1,1,\"Espectros\"))","v":0.24924184985778666},{"$f":"INDIRECT(ADDRESS(59,5+MATCH(BQ12,Espectros!$F$57:$OF$57,0),1,1,\"Espectros\"))","v":0.27437737024800313},{"$f":"INDIRECT(ADDRESS(59,5+MATCH(BR12,Espectros!$F$57:$OF$57,0),1,1,\"Espectros\"))","v":0.30132025012539843},{"$f":"INDIRECT(ADDRESS(59,5+MATCH(BS12,Espectros!$F$57:$OF$57,0),1,1,\"Espectros\"))","v":0.32933870682387223},{"$f":"INDIRECT(ADDRESS(59,5+MATCH(BT12,Espectros!$F$57:$OF$57,0),1,1,\"Espectros\"))","v":0.35754349901304316},{"$f":"INDIRECT(ADDRESS(59,5+MATCH(BU12,Espectros!$F$57:$OF$57,0),1,1,\"Espectros\"))","v":0.38493805173922091},{"$f":"INDIRECT(ADDRESS(59,5+MATCH(BV12,Espectros!$F$57:$OF$57,0),1,1,\"Espectros\"))","v":0.41049679540110523},{"$f":"INDIRECT(ADDRESS(59,5+MATCH(BW12,Espectros!$F$57:$OF$57,0),1,1,\"Espectros\"))","v":0.43326200021978467},{"$f":"INDIRECT(ADDRESS(59,5+MATCH(BX12,Espectros!$F$57:$OF$57,0),1,1,\"Espectros\"))","v":0.45244461990530993},{"$f":"INDIRECT(ADDRESS(59,5+MATCH(BY12,Espectros!$F$57:$OF$57,0),1,1,\"Espectros\"))","v":0.46751249543306228},{"$f":"INDIRECT(ADDRESS(59,5+MATCH(BZ12,Espectros!$F$57:$OF$57,0),1,1,\"Espectros\"))","v":0.4782504599327751},{"$f":"INDIRECT(ADDRESS(59,5+MATCH(CA12,Espectros!$F$57:$OF$57,0),1,1,\"Espectros\"))","v":0.48478138253745384},{"$f":"INDIRECT(ADDRESS(59,5+MATCH(CB12,Espectros!$F$57:$OF$57,0),1,1,\"Espectros\"))","v":0.48754410150896377},{"$f":"INDIRECT(ADDRESS(59,5+MATCH(CC12,Espectros!$F$57:$OF$57,0),1,1,\"Espectros\"))","v":0.48723199216890911},{"$f":"INDIRECT(ADDRESS(59,5+MATCH(CD12,Espectros!$F$57:$OF$57,0),1,1,\"Espectros\"))","v":0.48470282457155478},{"$f":"INDIRECT(ADDRESS(59,5+MATCH(CE12,Espectros!$F$57:$OF$57,0),1,1,\"Espectros\"))","v":0.4808750681736137},{"$f":"INDIRECT(ADDRESS(59,5+MATCH(CF12,Espectros!$F$57:$OF$57,0),1,1,\"Espectros\"))","v":0.47662702647784727},{"$f":"INDIRECT(ADDRESS(59,5+MATCH(CG12,Espectros!$F$57:$OF$57,0),1,1,\"Espectros\"))","v":0.4727131152674669},{"$f":"INDIRECT(ADDRESS(59,5+MATCH(CH12,Espectros!$F$57:$OF$57,0),1,1,\"Espectros\"))","v":0.46970700739035304},{"$f":"INDIRECT(ADDRESS(59,5+MATCH(CI12,Espectros!$F$57:$OF$57,0),1,1,\"Espectros\"))","v":0.46797554136757274},{"$f":"INDIRECT(ADDRESS(59,5+MATCH(CJ12,Espectros!$F$57:$OF$57,0),1,1,\"Espectros\"))","v":0.46768163533363261},{"$f":"INDIRECT(ADDRESS(59,5+MATCH(CK12,Espectros!$F$57:$OF$57,0),1,1,\"Espectros\"))","v":0.46881011049235061},{"$f":"INDIRECT(ADDRESS(59,5+MATCH(CL12,Espectros!$F$57:$OF$57,0),1,1,\"Espectros\"))","v":0.47120795454965886},{"$f":"INDIRECT(ADDRESS(59,5+MATCH(CM12,Espectros!$F$57:$OF$57,0),1,1,\"Espectros\"))","v":0.474630220352939},{"$f":"INDIRECT(ADDRESS(59,5+MATCH(CN12,Espectros!$F$57:$OF$57,0),1,1,\"Espectros\"))","v":0.47878406221524811},{"$f":"INDIRECT(ADDRESS(59,5+MATCH(CO12,Espectros!$F$57:$OF$57,0),1,1,\"Espectros\"))","v":0.48336569806385221},{"$f":"INDIRECT(ADDRESS(59,5+MATCH(CP12,Espectros!$F$57:$OF$57,0),1,1,\"Espectros\"))","v":0.48808764275274463},{"$f":"INDIRECT(ADDRESS(59,5+MATCH(CQ12,Espectros!$F$57:$OF$57,0),1,1,\"Espectros\"))","v":0.49269581578197008},{"$f":"INDIRECT(ADDRESS(59,5+MATCH(CR12,Espectros!$F$57:$OF$57,0),1,1,\"Espectros\"))","v":0.49697774548921192},{"$f":"INDIRECT(ADDRESS(59,5+MATCH(CS12,Espectros!$F$57:$OF$57,0),1,1,\"Espectros\"))","v":0.50076397160819242},{"$f":"INDIRECT(ADDRESS(59,5+MATCH(CT12,Espectros!$F$57:$OF$57,0),1,1,\"Espectros\"))","v":0.50392497504352374},{"$f":"INDIRECT(ADDRESS(59,5+MATCH(CU12,Espectros!$F$57:$OF$57,0),1,1,\"Espectros\"))","v":0.50636572783393929},{"$f":"INDIRECT(ADDRESS(59,5+MATCH(CV12,Espectros!$F$57:$OF$57,0),1,1,\"Espectros\"))","v":0.50801947237720002},{"$f":"INDIRECT(ADDRESS(59,5+MATCH(CW12,Espectros!$F$57:$OF$57,0),1,1,\"Espectros\"))","v":0.50884179012885922},{"$f":"INDIRECT(ADDRESS(59,5+MATCH(CX12,Espectros!$F$57:$OF$57,0),1,1,\"Espectros\"))","v":0.50880552984288607},{"$f":"INDIRECT(ADDRESS(59,5+MATCH(CY12,Espectros!$F$57:$OF$57,0),1,1,\"Espectros\"))","v":0.50789679550978284},{"$f":"INDIRECT(ADDRESS(59,5+MATCH(CZ12,Espectros!$F$57:$OF$57,0),1,1,\"Espectros\"))","v":0.50611195663335828},{"$f":"INDIRECT(ADDRESS(59,5+MATCH(DA12,Espectros!$F$57:$OF$57,0),1,1,\"Espectros\"))","v":0.50345551992426918},{"$f":"INDIRECT(ADDRESS(59,5+MATCH(DB12,Espectros!$F$57:$OF$57,0),1,1,\"Espectros\"))","v":0.49993866030439654},{"$f":"INDIRECT(ADDRESS(59,5+MATCH(DC12,Espectros!$F$57:$OF$57,0),1,1,\"Espectros\"))","v":0.49557821813914998},{"$f":"INDIRECT(ADDRESS(59,5+MATCH(DD12,Espectros!$F$57:$OF$57,0),1,1,\"Espectros\"))","v":0.49039600289373247},{"$f":"INDIRECT(ADDRESS(59,5+MATCH(DE12,Espectros!$F$57:$OF$57,0),1,1,\"Espectros\"))","v":0.48441828339694049},{"$f":"INDIRECT(ADDRESS(59,5+MATCH(DF12,Espectros!$F$57:$OF$57,0),1,1,\"Espectros\"))","v":0.47767538173212415},{"$f":"INDIRECT(ADDRESS(59,5+MATCH(DG12,Espectros!$F$57:$OF$57,0),1,1,\"Espectros\"))","v":0.47020131728435111},{"$f":"INDIRECT(ADDRESS(59,5+MATCH(DH12,Espectros!$F$57:$OF$57,0),1,1,\"Espectros\"))","v":0.46203346899750525},{"$f":"INDIRECT(ADDRESS(59,5+MATCH(DI12,Espectros!$F$57:$OF$57,0),1,1,\"Espectros\"))","v":0.4532122385446255},{"$f":"INDIRECT(ADDRESS(59,5+MATCH(DJ12,Espectros!$F$57:$OF$57,0),1,1,\"Espectros\"))","v":0.4437807066095889},{"$f":"INDIRECT(ADDRESS(59,5+MATCH(DK12,Espectros!$F$57:$OF$57,0),1,1,\"Espectros\"))","v":0.43378428052452356},{"$f":"INDIRECT(ADDRESS(59,5+MATCH(DL12,Espectros!$F$57:$OF$57,0),1,1,\"Espectros\"))","v":0.42327033555082139},{"$f":"INDIRECT(ADDRESS(59,5+MATCH(DM12,Espectros!$F$57:$OF$57,0),1,1,\"Espectros\"))","v":0.41228785529168105},{"$f":"INDIRECT(ADDRESS(59,5+MATCH(DN12,Espectros!$F$57:$OF$57,0),1,1,\"Espectros\"))","v":0.40088708002199563},{"$f":"INDIRECT(ADDRESS(59,5+MATCH(DO12,Espectros!$F$57:$OF$57,0),1,1,\"Espectros\"))","v":0.38911917591154382},{"$f":"INDIRECT(ADDRESS(59,5+MATCH(DP12,Espectros!$F$57:$OF$57,0),1,1,\"Espectros\"))","v":0.377035943854994},{"$f":"INDIRECT(ADDRESS(59,5+MATCH(DQ12,Espectros!$F$57:$OF$57,0),1,1,\"Espectros\"))","v":0.36468959431236114},{"$f":"INDIRECT(ADDRESS(59,5+MATCH(DR12,Espectros!$F$57:$OF$57,0),1,1,\"Espectros\"))","v":0.35213262409173779},{"$f":"INDIRECT(ADDRESS(59,5+MATCH(DS12,Espectros!$F$57:$OF$57,0),1,1,\"Espectros\"))","v":0.33941784129619312},{"$f":"INDIRECT(ADDRESS(59,5+MATCH(DT12,Espectros!$F$57:$OF$57,0),1,1,\"Espectros\"))","v":0.32659859310813472},{"$f":"INDIRECT(ADDRESS(59,5+MATCH(DU12,Espectros!$F$57:$OF$57,0),1,1,\"Espectros\"))","v":0.31372925304721899},{"$f":"INDIRECT(ADDRESS(59,5+MATCH(DV12,Espectros!$F$57:$OF$57,0),1,1,\"Espectros\"))","v":0.30086601292577936},{"$f":"INDIRECT(ADDRESS(59,5+MATCH(DW12,Espectros!$F$57:$OF$57,0),1,1,\"Espectros\"))","v":0.28806799139807254},{"$f":"INDIRECT(ADDRESS(59,5+MATCH(DX12,Espectros!$F$57:$OF$57,0),1,1,\"Espectros\"))","v":0.27539860737451494},{"$f":"INDIRECT(ADDRESS(59,5+MATCH(DY12,Espectros!$F$57:$OF$57,0),1,1,\"Espectros\"))","v":0.26292706775571772},{"$f":"INDIRECT(ADDRESS(59,5+MATCH(DZ12,Espectros!$F$57:$OF$57,0),1,1,\"Espectros\"))","v":0.2507296881750839},{"$f":"INDIRECT(ADDRESS(59,5+MATCH(EA12,Espectros!$F$57:$OF$57,0),1,1,\"Espectros\"))","v":0.23889061907917669},{"$f":"INDIRECT(ADDRESS(59,5+MATCH(EB12,Espectros!$F$57:$OF$57,0),1,1,\"Espectros\"))","v":0.22750142039865534},{"$f":"INDIRECT(ADDRESS(59,5+MATCH(EC12,Espectros!$F$57:$OF$57,0),1,1,\"Espectros\"))","v":0.21665886492593522},{"$f":"INDIRECT(ADDRESS(59,5+MATCH(ED12,Espectros!$F$57:$OF$57,0),1,1,\"Espectros\"))","v":0.2064604104135824},{"$f":"INDIRECT(ADDRESS(59,5+MATCH(EE12,Espectros!$F$57:$OF$57,0),1,1,\"Espectros\"))","v":0.19699701385044166},{"$f":"INDIRECT(ADDRESS(59,5+MATCH(EF12,Espectros!$F$57:$OF$57,0),1,1,\"Espectros\"))","v":0.18834339125157834},{"$f":"INDIRECT(ADDRESS(59,5+MATCH(EG12,Espectros!$F$57:$OF$57,0),1,1,\"Espectros\"))","v":0.18054642606210569},{"$f":"INDIRECT(ADDRESS(59,5+MATCH(EH12,Espectros!$F$57:$OF$57,0),1,1,\"Espectros\"))","v":0.17361310862139051},{"$f":"INDIRECT(ADDRESS(59,5+MATCH(EI12,Espectros!$F$57:$OF$57,0),1,1,\"Espectros\"))","v":0.16749999635040874},{"$f":"INDIRECT(ADDRESS(59,5+MATCH(EJ12,Espectros!$F$57:$OF$57,0),1,1,\"Espectros\"))","v":0.16210653153625451},{"$f":"INDIRECT(ADDRESS(59,5+MATCH(EK12,Espectros!$F$57:$OF$57,0),1,1,\"Espectros\"))","v":0.15727446427913225},{"$f":"INDIRECT(ADDRESS(59,5+MATCH(EL12,Espectros!$F$57:$OF$57,0),1,1,\"Espectros\"))","v":0.15279499703637903},{"$f":"INDIRECT(ADDRESS(59,5+MATCH(EM12,Espectros!$F$57:$OF$57,0),1,1,\"Espectros\"))","v":0.14842411404685199},{"$f":"INDIRECT(ADDRESS(59,5+MATCH(EN12,Espectros!$F$57:$OF$57,0),1,1,\"Espectros\"))","v":0.14390505503927042},{"$f":"INDIRECT(ADDRESS(59,5+MATCH(EO12,Espectros!$F$57:$OF$57,0),1,1,\"Espectros\"))","v":0.13899534299861255},{"$f":"INDIRECT(ADDRESS(59,5+MATCH(EP12,Espectros!$F$57:$OF$57,0),1,1,\"Espectros\"))","v":0.13349455340378344},{"$f":"INDIRECT(ADDRESS(59,5+MATCH(EQ12,Espectros!$F$57:$OF$57,0),1,1,\"Espectros\"))","v":0.12726845863793279},{"$f":"INDIRECT(ADDRESS(59,5+MATCH(ER12,Espectros!$F$57:$OF$57,0),1,1,\"Espectros\"))","v":0.12026550135261124},{"$f":"INDIRECT(ADDRESS(59,5+MATCH(ES12,Espectros!$F$57:$OF$57,0),1,1,\"Espectros\"))","v":0.11252273914028965},{"$f":"INDIRECT(ADDRESS(59,5+MATCH(ET12,Espectros!$F$57:$OF$57,0),1,1,\"Espectros\"))","v":0.10416022886491826},{"$f":"INDIRECT(ADDRESS(59,5+MATCH(EU12,Espectros!$F$57:$OF$57,0),1,1,\"Espectros\"))","v":9.5364878941222253E-2},{"$f":"INDIRECT(ADDRESS(59,5+MATCH(EV12,Espectros!$F$57:$OF$57,0),1,1,\"Espectros\"))","v":8.6366623873188109E-2},{"$f":"INDIRECT(ADDRESS(59,5+MATCH(EW12,Espectros!$F$57:$OF$57,0),1,1,\"Espectros\"))","v":7.7410963984811565E-2},{"$f":"INDIRECT(ADDRESS(59,5+MATCH(EX12,Espectros!$F$57:$OF$57,0),1,1,\"Espectros\"))","v":6.8732233430106746E-2},{"$f":"INDIRECT(ADDRESS(59,5+MATCH(EY12,Espectros!$F$57:$OF$57,0),1,1,\"Espectros\"))","v":6.053140595665369E-2},{"$f":"INDIRECT(ADDRESS(59,5+MATCH(EZ12,Espectros!$F$57:$OF$57,0),1,1,\"Espectros\"))","v":5.2961025660428748E-2},{"$f":"INDIRECT(ADDRESS(59,5+MATCH(FA12,Espectros!$F$57:$OF$57,0),1,1,\"Espectros\"))","v":4.6118300489906949E-2},{"$f":"INDIRECT(ADDRESS(59,5+MATCH(FB12,Espectros!$F$57:$OF$57,0),1,1,\"Espectros\"))","v":4.0045892552917933E-2},{"$f":"INDIRECT(ADDRESS(59,5+MATCH(FC12,Espectros!$F$57:$OF$57,0),1,1,\"Espectros\"))","v":3.4738786329256477E-2},{"$f":"INDIRECT(ADDRESS(59,5+MATCH(FD12,Espectros!$F$57:$OF$57,0),1,1,\"Espectros\"))","v":3.0154984987267042E-2},{"$f":"INDIRECT(ADDRESS(59,5+MATCH(FE12,Espectros!$F$57:$OF$57,0),1,1,\"Espectros\"))","v":2.6227695944829554E-2},{"$f":"INDIRECT(ADDRESS(59,5+MATCH(FF12,Espectros!$F$57:$OF$57,0),1,1,\"Espectros\"))","v":2.2877014301405742E-2},{"$f":"INDIRECT(ADDRESS(59,5+MATCH(FG12,Espectros!$F$57:$OF$57,0),1,1,\"Espectros\"))","v":2.0019720282177356E-2},{"$f":"INDIRECT(ADDRESS(59,5+MATCH(FH12,Espectros!$F$57:$OF$57,0),1,1,\"Espectros\"))","v":1.7576486501456073E-2},{"$f":"INDIRECT(ADDRESS(59,5+MATCH(FI12,Espectros!$F$57:$OF$57,0),1,1,\"Espectros\"))","v":1.5476390956029332E-2},{"$f":"INDIRECT(ADDRESS(59,5+MATCH(FJ12,Espectros!$F$57:$OF$57,0),1,1,\"Espectros\"))","v":1.365906189514938E-2},{"$f":"INDIRECT(ADDRESS(59,5+MATCH(FK12,Espectros!$F$57:$OF$57,0),1,1,\"Espectros\"))","v":1.2075014528494526E-2},{"$f":"INDIRECT(ADDRESS(59,5+MATCH(FL12,Espectros!$F$57:$OF$57,0),1,1,\"Espectros\"))","v":1.0684799814357512E-2},{"$f":"INDIRECT(ADDRESS(59,5+MATCH(FM12,Espectros!$F$57:$OF$57,0),1,1,\"Espectros\"))","v":9.4575228244929699E-3},{"$f":"INDIRECT(ADDRESS(59,5+MATCH(FN12,Espectros!$F$57:$OF$57,0),1,1,\"Espectros\"))","v":8.369159500060468E-3},{"$f":"INDIRECT(ADDRESS(59,5+MATCH(FO12,Espectros!$F$57:$OF$57,0),1,1,\"Espectros\"))","v":7.4009546470753E-3},{"$f":"INDIRECT(ADDRESS(59,5+MATCH(FP12,Espectros!$F$57:$OF$57,0),1,1,\"Espectros\"))","v":6.5380536414954326E-3},{"$f":"INDIRECT(ADDRESS(59,5+MATCH(FQ12,Espectros!$F$57:$OF$57,0),1,1,\"Espectros\"))","v":5.7684218745966765E-3},{"$f":"INDIRECT(ADDRESS(59,5+MATCH(FR12,Espectros!$F$57:$OF$57,0),1,1,\"Espectros\"))","v":5.0820427048075987E-3},{"$f":"INDIRECT(ADDRESS(59,5+MATCH(FS12,Espectros!$F$57:$OF$57,0),1,1,\"Espectros\"))","v":4.4703516933445563E-3},{"$f":"INDIRECT(ADDRESS(59,5+MATCH(FT12,Espectros!$F$57:$OF$57,0),1,1,\"Espectros\"))","v":3.9258538000909639E-3},{"$f":"INDIRECT(ADDRESS(59,5+MATCH(FU12,Espectros!$F$57:$OF$57,0),1,1,\"Espectros\"))","v":3.4418724560829942E-3},{"$f":"INDIRECT(ADDRESS(59,5+MATCH(FV12,Espectros!$F$57:$OF$57,0),1,1,\"Espectros\"))","v":3.0123881156351802E-3},{"$f":"INDIRECT(ADDRESS(59,5+MATCH(FW12,Espectros!$F$57:$OF$57,0),1,1,\"Espectros\"))","v":2.6319343635194249E-3},{"$f":"INDIRECT(ADDRESS(59,5+MATCH(FX12,Espectros!$F$57:$OF$57,0),1,1,\"Espectros\"))","v":2.2955292919275209E-3},{"$f":"INDIRECT(ADDRESS(59,5+MATCH(FY12,Espectros!$F$57:$OF$57,0),1,1,\"Espectros\"))","v":1.9986275589316442E-3},{"$f":"INDIRECT(ADDRESS(59,5+MATCH(FZ12,Espectros!$F$57:$OF$57,0),1,1,\"Espectros\"))","v":1.7370841179000509E-3},{"$f":"INDIRECT(ADDRESS(59,5+MATCH(GA12,Espectros!$F$57:$OF$57,0),1,1,\"Espectros\"))","v":1.5071243545115478E-3},{"$f":"INDIRECT(ADDRESS(59,5+MATCH(GB12,Espectros!$F$57:$OF$57,0),1,1,\"Espectros\"))","v":1.3053177286086876E-3},{"$f":"INDIRECT(ADDRESS(59,5+MATCH(GC12,Espectros!$F$57:$OF$57,0),1,1,\"Espectros\"))","v":1.1285534210504213E-3},{"$f":"INDIRECT(ADDRESS(59,5+MATCH(GD12,Espectros!$F$57:$OF$57,0),1,1,\"Espectros\"))","v":9.7401727380790808E-4},{"$f":"INDIRECT(ADDRESS(59,5+MATCH(GE12,Espectros!$F$57:$OF$57,0),1,1,\"Espectros\"))","v":8.3916972872390562E-4},{"$f":"INDIRECT(ADDRESS(59,5+MATCH(GF12,Espectros!$F$57:$OF$57,0),1,1,\"Espectros\"))","v":7.2172467599018319E-4},{"$f":"INDIRECT(ADDRESS(59,5+MATCH(GG12,Espectros!$F$57:$OF$57,0),1,1,\"Espectros\"))","v":6.1962921466057665E-4},{"$f":"INDIRECT(ADDRESS(59,5+MATCH(GH12,Espectros!$F$57:$OF$57,0),1,1,\"Espectros\"))","v":5.3104436025376307E-4},{"$f":"INDIRECT(ADDRESS(59,5+MATCH(GI12,Espectros!$F$57:$OF$57,0),1,1,\"Espectros\"))","v":4.5432673914526606E-4},{"$f":"INDIRECT(ADDRESS(59,5+MATCH(GJ12,Espectros!$F$57:$OF$57,0),1,1,\"Espectros\"))","v":3.8801130179256859E-4},{"$f":"INDIRECT(ADDRESS(59,5+MATCH(GK12,Espectros!$F$57:$OF$57,0),1,1,\"Espectros\"))","v":3.3079507468863662E-4},{"$f":"INDIRECT(ADDRESS(59,5+MATCH(GL12,Espectros!$F$57:$OF$57,0),1,1,\"Espectros\"))","v":2.8152195796653972E-4},{"$f":"INDIRECT(ADDRESS(59,5+MATCH(GM12,Espectros!$F$57:$OF$57,0),1,1,\"Espectros\"))","v":2.3916856339827825E-4},{"$f":"INDIRECT(ADDRESS(59,5+MATCH(GN12,Espectros!$F$57:$OF$57,0),1,1,\"Espectros\"))","v":2.0283107678494976E-4},{"$f":"INDIRECT(ADDRESS(59,5+MATCH(GO12,Espectros!$F$57:$OF$57,0),1,1,\"Espectros\"))","v":1.717131196147107E-4},{"$f":"INDIRECT(ADDRESS(59,5+MATCH(GP12,Espectros!$F$57:$OF$57,0),1,1,\"Espectros\"))","v":1.4511457736249042E-4},{"$f":"INDIRECT(ADDRESS(59,5+MATCH(GQ12,Espectros!$F$57:$OF$57,0),1,1,\"Espectros\"))","v":1.2242135582775371E-4},{"$f":"INDIRECT(ADDRESS(59,5+MATCH(GR12,Espectros!$F$57:$OF$57,0),1,1,\"Espectros\"))","v":1.0309602232555248E-4},{"$f":"INDIRECT(ADDRESS(59,5+MATCH(GS12,Espectros!$F$57:$OF$57,0),1,1,\"Espectros\"))","v":8.6669285220691906E-5},{"$f":"INDIRECT(ADDRESS(59,5+MATCH(GT12,Espectros!$F$57:$OF$57,0),1,1,\"Espectros\"))","v":7.2732263081939799E-5},{"$f":"INDIRECT(ADDRESS(59,5+MATCH(GU12,Espectros!$F$57:$OF$57,0),1,1,\"Espectros\"))","v":6.0929493492573505E-5},{"$f":"INDIRECT(ADDRESS(59,5+MATCH(GV12,Espectros!$F$57:$OF$57,0),1,1,\"Espectros\"))","v":5.0952631150830448E-5},{"$f":"INDIRECT(ADDRESS(59,5+MATCH(GW12,Espectros!$F$57:$OF$57,0),1,1,\"Espectros\"))","v":4.2534785202126216E-5},{"$f":"INDIRECT(ADDRESS(59,5+MATCH(GX12,Espectros!$F$57:$OF$57,0),1,1,\"Espectros\"))","v":3.5445446646169198E-5},{"$f":"INDIRECT(ADDRESS(59,5+MATCH(GY12,Espectros!$F$57:$OF$57,0),1,1,\"Espectros\"))","v":2.9485958047614345E-5}]
["Espectro referencia",{"$f":"IF(SUM(D14:F14)=0,0,D14/SUM(D14:F14))","v":0.2983015544476077},{"$f":"IF(SUM(D14:F14)=0,0,E14/SUM(D14:F14))","v":0.30815010461246106},{"$f":"SUMPRODUCT($G14:$GY14,Otros!$C26:$GU26)","v":1.2919407743357104E+16},{"$f":"SUMPRODUCT($G14:$GY14,Otros!$C27:$GU27)","v":1.3345947375362256E+16},{"$f":"SUMPRODUCT($G14:$GY14,Otros!$C28:$GU28)","v":1.7044535663717748E+16},{"$f":"(3.74183*(10^-16) * ((G$12*(10^-9))^(-5)))/(EXP((1.4388*(10^-2))/((G$12*(10^-9)) * $B$8))-1)","v":346134010325057.44},346037186306883.13,345895948088643.06,345711302220185.06,345484247538572.81,{"$f":"(3.74183*(10^-16) * ((L$12*(10^-9))^(-5)))/(EXP((1.4388*(10^-2))/((L$12*(10^-9)) * $B$8))-1)","v":345215774637893.31},{"$f":"(3.74183*(10^-16) * ((M$12*(10^-9))^-5))/(EXP((1.4388*(10^-2))/((M$12*(10^-9)) * $B$8))-1)","v":344906865376385.38},344558492419362.88,344171618816459.69,343747197611745.63,343286171485317.31,342789472424986,342258021426736.63,341692728222666.38,341094491035143.38,340464196355975.69,339802718749406.56,339110920677798.19,338389652348896.94,337639751583619.19,336862043703318.56,336057341435548.56,335226444837353.88,334370141235168.38,333489205180429.63,332584398420051.44,331656469880925.25,330706155667662.31,329734179072810.13,328741250598815.06,327728067991019.25,326695316281028.69,325643667839797.94,324573782439815.19,323486307325793.31,322381877293300.94,321261114774788.19,320124629932492.06,318973020757717.63,317806873176031.94,316626761157910.69,315433246834410.75,314226880617455.88,313008201324344.06,311777736306108.19,310536001579368.81,309283501961347.5,308020731207718.06,306748172152992.75,305466296853154.06,304175566730259.19,302876432718755.94,301569335413269.25,300254705217622.13,298932962494869.88,297604517718146.38,296269771622121,294929115354885.25,293582930630092,292231589879186.5,290875456403574.63,289514884526582.88,288150219745075,286781798880600.31,285409950229951.56,{"$f":"(3.74183*(10^-16) * ((BT$12*(10^-9))^-5))/(EXP((1.4388*(10^-2))/((BT$12*(10^-9)) * $B$8))-1)","v":284034993715024.38},282657241031871.81,281276995798863.03,279894553703847.72,278510202650252.31,277124222902024.5,275736887227358.56,274348461041133.78,272959202546005.81,271569362872097.53,270179186215237.38,268788909973696.97,267398764883393.25,266008975151508.19,264619758588501.41,263231326738478.19,261843885007892.22,260457632792555.28,259072763602936.34,257689465187732.88,256307919655696.66,254928303595707.66,253550788195081.56,252175539356106.38,250802717810803.22,249432479233907.13,248064974354068.72,246700349063276.25,245338744524500.41,243980297277567.91,242625139343268.38,241273398325700,239925197512865.66,238580655975526.44,237239888664324.63,235903006505185.53,234570116493015.41,233241321783703.72,231916721784448.25,230596412242415.81,229280485331754.69,227969029738977.31,226662130746726.34,225359870315946.69,224062327166475.63,222769576856075.63,221481691857923.59,220198741636578.56,218920792722447.25,217647908784765.06,216380150703115.06,215117576637504.22,213860242097014.94,212608200007056.94,211361500775235.44,210120192355859.38,208884320313107.97,207653927882878.56,206429056033334.72,205209743524175.13,203996026964646.09,202787940870315.16,201585517718628.75,200388788003273.06,{"$f":"(3.74183*(10^-16) * ((EF$12*(10^-9))^-5))/(EXP((1.4388*(10^-2))/((EF$12*(10^-9)) * $B$8))-1)","v":199197780287358},198012521255446.53,196833035764446.59,195659346893388,194491475992101.84,193329442728823.94,192173265136740.91,191022959659497.19,189878541195684.5,188740023142329.28,187607417437399.84,186480734601350.09,185359983777717.69,184245172772795.94,183136308094396.44,182033394989720.31,180936437482354.28,179845438408411.34,178760399451829.75,177681321178849.16,176608203071679.38,175541043561377.97,174479840059953.59,173424588991709.09,172375285823840.53,171331925096309.59,170294500450998.66,169263004660170.81,168237429654242.59,167217766548888.06,166204005671485.78,165196136586924.28,164194148122777.97,163198028393868.03,162207764826220.69,161223344180436.09,160244752574480.22,159271975505912.69,158304997873561.03,157343803998656.59,156388377645440.28,155438702041252,154494759896114.16,153556533421820.72,152624004350542.53,151697153952959.44,150775963055930.13,149860412059709.41,148950480954723.78,148046149337914.66,147147396428658.41,146254201084274.25,145366541815127.72,144484396799340.09,143607743897111.25,142736560664667.03,141870824367836.88,141010511995272.59,140155600271315.03,139306065668517.34,138461884419832.7,137623032530473.97,136789485789452.97,135961219780807.58,{"$f":"(3.74183*(10^-16) * ((GR$12*(10^-9))^-5))/(EXP((1.4388*(10^-2))/((GR$12*(10^-9)) * $B$8))-1)","v":135138209894522.19},134320431337150.63,133507859142147.33,132700468179913.19,131898233167565.16,131101128678431.91,130309129151287.02,129522208899321.61]
["Espectro referencia normalizado",{"$f":"IF(SUM(D15:F15)=0,0,D15/SUM(D15:F15))","v":0.29830155444760759},0.30815010461246062,{"$f":"SUMPRODUCT($G15:$GY15,Otros!$C26:$GU26)","v":37.324872326831951},{"$f":"SUMPRODUCT($G15:$GY15,Otros!$C27:$GU27)","v":38.557168545295347},{"$f":"SUMPRODUCT($G15:$GY15,Otros!$C28:$GU28)","v":49.242591468290257},{"$f":"G14/$B$10","v":1},0.99972027014021714,0.99931222523845376,0.99877877327201858,0.99812279993556707,{"$f":"L14/$B$10","v":0.99734716710934646},{"$f":"M14/$B$10","v":0.99645471143526276},0.99544824299636148,0.99433054409546506,0.99310436812877667,0.99177243855041664,0.99033744792391087,0.98880205705680058,0.98716889421464182,0.98544055441075729,0.98361959876824245,0.98170855395080914,0.97970991165917554,0.97762612818980799,0.97545962405294639,0.97321278364691322,0.97088795498585712,0.96848744947813659,0.96601354175268273,0.96346846953076648,0.960854433540693,0.95817359747302433,0.95542808797405754,0.95261999467533953,0.94975137025711898,0.94682423054367582,0.94384055462861416,0.94080228502822694,0.93771132786115163,0.93456955305260103,0.93137879456153216,0.92814085062918006,0.92485748404746548,0.92153042244582473,0.91816135859511971,0.91475195072730286,0.91130382286960088,0.90781856519202697,0.90429773436708905,0.90074285394063136,0.89715541471276339,0.89353687512792135,0.88988866167312808,0.88621216928357571,0.88250876175469739,0.87877977215993686,0.87502650327346354,0.87125022799713581,0.86745218979103023,0.86363360310689885,0.85979565382397238,0.85593949968652749,0.85206627074269525,0.84817706978399998,0.84427297278516289,0.8403550293437243,0.83642426311906459,0.83248167227043257,0.8285282298936214,0.82456488445593834,0.82059256022915705,0.81661215772014417,0.81262455409889767,0.80863060362371308,0.80463113806326336,{"$f":"BY14/$B$10","v":0.80062696711535153},0.79661887882214077,0.79260763998166717,0.7885939965554597,0.78457867407211557,0.78056237802667749,0.7765457942756766,0.77252958942773864,0.76851441122961839,0.76450088894759205,0.76048963374409628,0.75648123904955877,0.75247628092933505,0.74847531844570514,0.74447889401487732,0.74048753375894982,0.73650174785281075,0.73252203086593493,0.72854886209906433,0.72458270591575857,0.72062401206880233,0.71667321602147316,0.71273073926366792,0.70879698962289395,0.70487236157014421,0.70095723652066733,0.69705198312964989,0.69315695758284435,0.68927250388216199,0.68539895412626628,0.68153662878619459,0.67768583697605611,0.67384687671883148,0.67002003520732689,0.66620558906032012,0.66240380457394354,0.65861493796835979,0.65483923562976654,0.65107693434779579,0.647328261548343,0.64359343552189741,0.63987266564741274,0.63616615261178189,0.63247408862497168,0.62879665763086967,0.62513403551390567,0.62148639030150621,0.61785388236243222,0.61423666460107385,0.61063488264774679,0.60704867504506044,0.60347817343040888,0.59992350271465367,0.59638478125704952,0.59286212103647629,0.58935562781903938,0.58586540132209275,0.58239153537474708,0.57893411807492201,0.57549323194299695,0.57206895407212732,0.56866135627527326,0.56527050522900835,0.56189646261415693,{"$f":"EK14/$B$10","v":0.55853928525332308},0.5551990252453648,0.55187573009686586,0.54856944285066911,0.54528020221151308,0.54200804266883829,0.5387529946168087,0.53551508447160256,0.53229433478602606,0.52909076436150138,0.52590438835747799,0.52273521839831716,0.51958326267770372,0.51644852606062697,0.51333101018298399,0.51023071354885086,0.50714763162546739,0.50408175693598578,0.50103307915002215,0.49800158517205928,0.49498725922774911,0.49199008294814378,0.48901003545191779,0.4860470934256052,0.48310123120190474,0.48017242083608647,0.47726063218054521,0.47436583295753521,0.47148798883012782,0.46862706347142824,0.46578301863208954,0.46295581420615961,0.46014540829529871,0.45735175727139737,0.45457481583763948,0.45181453708803304,0.44907087256544992,0.44634377231820355,0.44363318495519827,0.44093905769968117,0.43826133644162657,0.43559996578878546,0.43295488911642688,0.43032604861580376,0.42771338534136893,0.42511683925676941,0.42253634927964945,0.41997185332528503,0.4174232883490806,0.41489059038794823,0.41237369460060253,0.40987253530678697,0.40738704602546394,0.40491715951198698,0.40246280779428123,0.40002392220805449,0.39760043343106038,0.39519227151643604,0.39279936592513753,0.39042164555749009,0.38805903878387782,0.38571147347459139,0.38337887702885087,0.38106117640303067,{"$f":"GW14/$B$10","v":0.37875829813809314},0.3764701683862634,0.37419671293695234]
[null,null,null,null,null,null,null,null,0]
[]
[]
[]
[]
["TCS espectro","Ri","EUC","V","U","W","v'","u'","c","d","v","u","XX","YY","ZZ",{"$f":"G12","v":380},382,384,386,388,390,392,394,396,398,400,402,404,406,408,410,412,414,416,418,420,422,424,426,428,430,432,434,436,438,440,442,444,446,448,450,452,454,456,458,460,462,464,466,468,470,472,474,476,478,480,482,484,486,488,490,492,494,496,498,500,502,504,506,{"$f":"BS12","v":508},510,512,514,516,518,520,522,524,526,528,530,532,534,536,538,540,542,544,546,548,550,552,554,556,558,560,562,564,566,568,570,572,574,576,578,580,582,584,586,588,590,592,594,596,598,600,602,604,606,608,610,612,614,616,618,620,622,624,626,628,630,632,634,{"$f":"EE12","v":636},638,640,642,644,646,648,650,652,654,656,658,660,662,664,666,668,670,672,674,676,678,680,682,684,686,688,690,692,694,696,698,700,702,704,706,708,710,712,714,716,718,720,722,724,726,728,730,732,734,736,738,740,742,744,746,748,750,752,754,756,758,760,762,{"$f":"GQ12","v":764},766,768,770,772,774,776,778,780]
[null,null,null,null,null,null,null,null,{"$f":"(4-L22-10*K22)/K22","v":2.6007276124394223},{"$f":"(1.708*K22-1.481*L22+0.404)/K22","v":2.0769201072241046},{"$f":"6*E13/(D13+15*E13+3*F13)","v":0.30175877004785168},{"$f":"4*D13/(D13+15 *E13+3*F13)","v":0.19761993396227723}]
[1,{"$f":"100-4.6*C23","v":74.503785370256026},{"$f":"SQRT((F42-F23)^2+(E42-E23)^2+(D42-D23)^2)","v":5.5426553542921706},{"$f":"13*F23*(G23-K$41)","v":10.149796446367333},{"$f":"13*F23*(H23-L$41)","v":25.015792327812768},{"$f":"25*N23^(1/3)-17","v":60.415450565385427},{"$f":"5.52/(16.518+1.481*(I$41/I$22)*I23-(J$41/J$22)*J23)","v":0.31596201929641721},{"$f":"(10.872+0.404*(I$41/I$22)*I23-4*(J$41/J$22)*J23)/(16.518+1.481*(I$41/I$22)*I23-(J$41/J$22)*J23)","v":0.22742015027453996},1.9752684060480021,{"$f":"(1.708*K23-1.481*L23+0.404)/K23","v":1.9128591653951834},{"$f":"6*N23/(M23+15*N23+3*O23)","v":0.31487954127146378},{"$f":"4*M23/(M23+15*N23+3*O23)","v":0.22923297770095188},{"$f":"SUMPRODUCT($P23:$HH23,Otros!$C$26:$GU$26)*(100/$E$13)","v":32.425510492781008},{"$f":"SUMPRODUCT($P23:$HH23,Otros!$C$27:$GU$27)*(100/$E$13)","v":29.693603924590768},{"$f":"SUMPRODUCT($P23:$HH23,Otros!$C$28:$GU$28)*(100/$E$13)","v":29.326418846973539},{"$f":"G$13*Otros!B7","v":0},{"$f":"H$13*Otros!C7","v":0},{"$f":"I$13*Otros!D7","v":0},{"$f":"J$13*Otros!E7","v":0},{"$f":"K$13*Otros!F7","v":0},{"$f":"L$13*Otros!G7","v":1.9593815494580669E-4},{"$f":"M$13*Otros!H7","v":2.5296345500290242E-4},{"$f":"N$13*Otros!I7","v":3.3008381135465621E-4},{"$f":"O$13*Otros!J7","v":4.355065936280405E-4},{"$f":"P$13*Otros!K7","v":5.8323738996140097E-4},{"$f":"Q$13*Otros!L7","v":7.9779578002794785E-4},{"$f":"R$13*Otros!M7","v":1.1125446978028407E-3},{"$f":"S$13*Otros!N7","v":1.5843589142597709E-3},{"$f":"T$13*Otros!O7","v":2.2945507066042285E-3},{"$f":"U$13*Otros!P7","v":3.358959593544941E-3},{"$f":"V$13*Otros!Q7","v":4.936157692853221E-3},{"$f":"W$13*Otros!R7","v":7.2108625682536153E-3},{"$f":"X$13*Otros!S7","v":1.0444279467823541E-2},{"$f":"Y$13*Otros!T7","v":1.4929918196880871E-2},{"$f":"Z$13*Otros!U7","v":2.098900315483097E-2},{"$f":"AA$13*Otros!V7","v":2.8943575200931264E-2},{"$f":"AB$13*Otros!W7","v":3.9077546724783009E-2},{"$f":"AC$13*Otros!X7","v":5.1587767815989387E-2},{"$f":"AD$13*Otros!Y7","v":6.6585734923150328E-2},{"$f":"AE$13*Otros!Z7","v":8.3979970543466884E-2},{"$f":"AF$13*Otros!AA7","v":0.10337255782773741},{"$f":"AG$13*Otros!AB7","v":0.1237381012655626},{"$f":"AH$13*Otros!AC7","v":0.1445087182589477},{"$f":"AI$13*Otros!AD7","v":0.16508993947398493},{"$f":"AJ$13*Otros!AE7","v":0.18452937750281528},{"$f":"AK$13*Otros!AF7","v":0.20133312859379202},{"$f":"AL$13*Otros!AG7","v":0.21374870171718843},{"$f":"AM$13*Otros!AH7","v":0.22168446003017836},{"$f":"AN$13*Otros!AI7","v":0.22533302943364295},{"$f":"AO$13*Otros!AJ7","v":0.22465216557132986},{"$f":"AP$13*Otros!AK7","v":0.21929944421187941},{"$f":"AQ$13*Otros!AL7","v":0.20908923520443837},{"$f":"AR$13*Otros!AM7","v":0.19565637103169925},{"$f":"AS$13*Otros!AN7","v":0.18012292904961796},{"$f":"AT$13*Otros!AO7","v":0.16341937476854343},{"$f":"AU$13*Otros!AP7","v":0.14626210705478029},{"$f":"AV$13*Otros!AQ7","v":0.12940483533447977},{"$f":"AW$13*Otros!AR7","v":0.11342674270678151},{"$f":"AX$13*Otros!AS7","v":9.8726163780840315E-2},{"$f":"AY$13*Otros!AT7","v":8.5537638658547799E-2},{"$f":"AZ$13*Otros!AU7","v":7.3963291750355847E-2},{"$f":"BA$13*Otros!AV7","v":6.4009308823122904E-2},{"$f":"BB$13*Otros!AW7","v":5.5620111265034911E-2},{"$f":"BC$13*Otros!AX7","v":4.879693966061309E-2},{"$f":"BD$13*Otros!AY7","v":4.340427416648375E-2},{"$f":"BE$13*Otros!AZ7","v":3.9243368686381092E-2},{"$f":"BF$13*Otros!BA7","v":3.6220453879646154E-2},{"$f":"BG$13*Otros!BB7","v":3.4246393367046907E-2},{"$f":"BH$13*Otros!BC7","v":3.3301159608933262E-2},{"$f":"BI$13*Otros!BD7","v":3.3311097636611414E-2},{"$f":"BJ$13*Otros!BE7","v":3.4159700875133356E-2},{"$f":"BK$13*Otros!BF7","v":3.5805808411891758E-2},{"$f":"BL$13*Otros!BG7","v":3.8218948090208232E-2},{"$f":"BM$13*Otros!BH7","v":4.1489608434953092E-2},{"$f":"BN$13*Otros!BI7","v":4.5625984374683841E-2},{"$f":"BO$13*Otros!BJ7","v":5.0502747836598409E-2},{"$f":"BP$13*Otros!BK7","v":5.5780325998172654E-2},{"$f":"BQ$13*Otros!BL7","v":6.16251573577015E-2},{"$f":"BR$13*Otros!BM7","v":6.7857320328239726E-2},{"$f":"BS$13*Otros!BN7","v":7.429881225946558E-2},{"$f":"BT$13*Otros!BO7","v":8.0804830776947764E-2},{"$f":"BU$13*Otros!BP7","v":8.699599969306393E-2},{"$f":"BV$13*Otros!BQ7","v":9.2772275760649781E-2},{"$f":"BW$13*Otros!BR7","v":9.7830559649627377E-2},{"$f":"BX$13*Otros!BS7","v":0.10198101732665685},{"$f":"BY$13*Otros!BT7","v":0.10519031147243901},{"$f":"BZ$13*Otros!BU7","v":0.10760635348487439},{"$f":"CA$13*Otros!BV7","v":0.10907581107092712},{"$f":"CB$13*Otros!BW7","v":0.10989244048012042},{"$f":"CC$13*Otros!BX7","v":0.11021187662860725},{"$f":"CD$13*Otros!BY7","v":0.11002754117774294},{"$f":"CE$13*Otros!BZ7","v":0.10973569055721864},{"$f":"CF$13*Otros!CA7","v":0.10933823987401817},{"$f":"CG$13*Otros!CB7","v":0.10929127224983834},{"$f":"CH$13*Otros!CC7","v":0.10972355692638647},{"$f":"CI$13*Otros!CD7","v":0.11044222776274716},{"$f":"CJ$13*Otros!CE7","v":0.11205651982593838},{"$f":"CK$13*Otros!CF7","v":0.11401461887173966},{"$f":"CL$13*Otros!CG7","v":0.11619988159194589},{"$f":"CM$13*Otros!CH7","v":0.11856262904416416},{"$f":"CN$13*Otros!CI7","v":0.12113236774045777},{"$f":"CO$13*Otros!CJ7","v":0.12403163812318448},{"$f":"CP$13*Otros!CK7","v":0.12700040464426415},{"$f":"CQ$13*Otros!CL7","v":0.13007169536644012},{"$f":"CR$13*Otros!CM7","v":0.1331900357911088},{"$f":"CS$13*Otros!CN7","v":0.13620780027742835},{"$f":"CT$13*Otros!CO7","v":0.13928486310202995},{"$f":"CU$13*Otros!CP7","v":0.14218749637577016},{"$f":"CV$13*Otros!CQ7","v":0.1452935690998792},{"$f":"CW$13*Otros!CR7","v":0.14858180271762689},{"$f":"CX$13*Otros!CS7","v":0.15162404789318004},{"$f":"CY$13*Otros!CT7","v":0.15541641942599355},{"$f":"CZ$13*Otros!CU7","v":0.15891915438287449},{"$f":"DA$13*Otros!CV7","v":0.16241475072756922},{"$f":"DB$13*Otros!CW7","v":0.16587964748899878},{"$f":"DC$13*Otros!CX7","v":0.16899217238545017},{"$f":"DD$13*Otros!CY7","v":0.17232515541685758},{"$f":"DE$13*Otros!CZ7","v":0.17526253493301308},{"$f":"DF$13*Otros!DA7","v":0.17750417185165732},{"$f":"DG$13*Otros!DB7","v":0.17905266162188091},{"$f":"DH$13*Otros!DC7","v":0.18019305290902704},{"$f":"DI$13*Otros!DD7","v":0.1801971860453431},{"$f":"DJ$13*Otros!DE7","v":0.17981994231820542},{"$f":"DK$13*Otros!DF7","v":0.1787191235761037},{"$f":"DL$13*Otros!DG7","v":0.17692700026024333},{"$f":"DM$13*Otros!DH7","v":0.17481005064367275},{"$f":"DN$13*Otros!DI7","v":0.17174002508142294},{"$f":"DO$13*Otros!DJ7","v":0.16841077933451618},{"$f":"DP$13*Otros!DK7","v":0.16453848589831938},{"$f":"DQ$13*Otros!DL7","v":0.16017166982198899},{"$f":"DR$13*Otros!DM7","v":0.1556426198485481},{"$f":"DS$13*Otros!DN7","v":0.15083728867202822},{"$f":"DT$13*Otros!DO7","v":0.14592425140071458},{"$f":"DU$13*Otros!DP7","v":0.14067619706637299},{"$f":"DV$13*Otros!DQ7","v":0.13514901300626009},{"$f":"DW$13*Otros!DR7","v":0.12963059612913264},{"$f":"DX$13*Otros!DS7","v":0.12403953276148154},{"$f":"DY$13*Otros!DT7","v":0.11852752214427754},{"$f":"DZ$13*Otros!DU7","v":0.11307908936696284},{"$f":"EA$13*Otros!DV7","v":0.10773966920470869},{"$f":"EB$13*Otros!DW7","v":0.10260314059979356},{"$f":"EC$13*Otros!DX7","v":9.7713148081596785E-2},{"$f":"ED$13*Otros!DY7","v":9.3113645096525671E-2},{"$f":"EE$13*Otros!DZ7","v":8.8845653246549194E-2},{"$f":"EF$13*Otros!EA7","v":8.4942869454461833E-2},{"$f":"EG$13*Otros!EB7","v":8.142643815400967E-2},{"$f":"EH$13*Otros!EC7","v":7.8299511988247125E-2},{"$f":"EI$13*Otros!ED7","v":7.5542498354034343E-2},{"$f":"EJ$13*Otros!EE7","v":7.307762441654353E-2},{"$f":"EK$13*Otros!EF7","v":7.0836418711321167E-2},{"$f":"EL$13*Otros!EG7","v":6.8757748666370563E-2},{"$f":"EM$13*Otros!EH7","v":6.6790851321083394E-2},{"$f":"EN$13*Otros!EI7","v":6.4757274767671694E-2},{"$f":"EO$13*Otros!EJ7","v":6.2575703417975373E-2},{"$f":"EP$13*Otros!EK7","v":6.0152645763744815E-2},{"$f":"EQ$13*Otros!EL7","v":5.7398074845707692E-2},{"$f":"ER$13*Otros!EM7","v":5.4239741110027669E-2},{"$f":"ES$13*Otros!EN7","v":5.0747755352270635E-2},{"$f":"ET$13*Otros!EO7","v":4.7017927309624105E-2},{"$f":"EU$13*Otros!EP7","v":4.31239982572207E-2},{"$f":"EV$13*Otros!EQ7","v":3.9124080614554212E-2},{"$f":"EW$13*Otros!ER7","v":3.5098131070713565E-2},{"$f":"EX$13*Otros!ES7","v":3.1190687530582441E-2},{"$f":"EY$13*Otros!ET7","v":2.7493364585512107E-2},{"$f":"EZ$13*Otros!EU7","v":2.4076082265230909E-2},{"$f":"FA$13*Otros!EV7","v":2.0983826722907661E-2},{"$f":"FB$13*Otros!EW7","v":1.8252917825619993E-2},{"$f":"FC$13*Otros!EX7","v":1.5861729837938508E-2},{"$f":"FD$13*Otros!EY7","v":1.3786859136178491E-2},{"$f":"FE$13*Otros!EZ7","v":1.2001793664354004E-2},{"$f":"FF$13*Otros!FA7","v":1.047767255004383E-2},{"$f":"FG$13*Otros!FB7","v":9.1850476654629712E-3},{"$f":"FH$13*Otros!FC7","v":8.0781531960692123E-3},{"$f":"FI$13*Otros!FD7","v":7.1253303961559041E-3},{"$f":"FJ$13*Otros!FE7","v":6.2995593460428937E-3},{"$f":"FK$13*Otros!FF7","v":5.578656712164471E-3},{"$f":"FL$13*Otros!FG7","v":4.9406514341589136E-3},{"$f":"FM$13*Otros!FH7","v":4.3769415631753463E-3},{"$f":"FN$13*Otros!FI7","v":3.8765946804280088E-3},{"$f":"FO$13*Otros!FJ7","v":3.4310825743841091E-3},{"$f":"FP$13*Otros!FK7","v":3.033656889653881E-3},{"$f":"FQ$13*Otros!FL7","v":2.6788551185626965E-3},{"$f":"FR$13*Otros!FM7","v":2.3621334491945719E-3},{"$f":"FS$13*Otros!FN7","v":2.0796076077438876E-3},{"$f":"FT$13*Otros!FO7","v":1.8278775293223528E-3},{"$f":"FU$13*Otros!FP7","v":1.6039125645346754E-3},{"$f":"FV$13*Otros!FQ7","v":1.403772861885994E-3},{"$f":"FW$13*Otros!FR7","v":1.226481413400052E-3},{"$f":"FX$13*Otros!FS7","v":1.0697166500382247E-3},{"$f":"FY$13*Otros!FT7","v":9.3136044246214624E-4},{"$f":"FZ$13*Otros!FU7","v":8.094811989414238E-4},{"$f":"GA$13*Otros!FV7","v":7.0231994920238127E-4},{"$f":"GB$13*Otros!FW7","v":6.0827806153164845E-4},{"$f":"GC$13*Otros!FX7","v":5.2613160489370641E-4},{"$f":"GD$13*Otros!FY7","v":4.544764599587699E-4},{"$f":"GE$13*Otros!FZ7","v":3.9189226331406393E-4},{"$f":"GF$13*Otros!GA7","v":3.3704542368741556E-4},{"$f":"GG$13*Otros!GB7","v":2.8936684324648934E-4},{"$f":"GH$13*Otros!GC7","v":2.4799771623850738E-4},{"$f":"GI$13*Otros!GD7","v":2.1217058718083927E-4},{"$f":"GJ$13*Otros!GE7","v":1.8120127793712953E-4},{"$f":"GK$13*Otros!GF7","v":1.5448129987959331E-4},{"$f":"GL$13*Otros!GG7","v":1.3147075437037404E-4},{"$f":"GM$13*Otros!GH7","v":1.1169171910699595E-4},{"$f":"GN$13*Otros!GI7","v":9.4722112858571547E-5},{"$f":"GO$13*Otros!GJ7","v":8.0190026860069903E-5},{"$f":"GP$13*Otros!GK7","v":6.7768507628283029E-5},{"$f":"GQ$13*Otros!GL7","v":5.7170773171560985E-5},{"$f":"GR$13*Otros!GM7","v":4.8145842426033006E-5},{"$f":"GS$13*Otros!GN7","v":4.0474556198063124E-5},{"$f":"GT$13*Otros!GO7","v":3.3965966859265885E-5},{"$f":"GU$13*Otros!GP7","v":2.8454073461031829E-5},{"$f":"GV$13*Otros!GQ7","v":2.3794878747437822E-5},{"$f":"GW$13*Otros!GR7","v":1.9863744689392944E-5},{"$f":"GX$13*Otros!GS7","v":1.6553023583761018E-5},{"$f":"GY$13*Otros!GT7","v":1.3769942408235899E-5}]
[2,{"$f":"100-4.6*C24","v":79.345371538960336},{"$f":"SQRT((F43-F24)^2+(E43-E24)^2+(D43-D24)^2)","v":4.4901366219651448},{"$f":"13*F24*(G24-K$41)","v":28.980120969281472},{"$f":"13*F24*(H24-L$41)","v":10.318049509074335},{"$f":"25*N24^(1/3)-17","v":60.099776296157941},{"$f":"5.52/(16.518+1.481*(I$41/I$22)*I24-(J$41/J$22)*J24)","v":0.34013126042255015},{"$f":"(10.872+0.404*(I$41/I$22)*I24-4*(J$41/J$22)*J24)/(16.518+1.481*(I$41/I$22)*I24-(J$41/J$22)*J24)","v":0.2087754708177921},1.1672102048394641,1.9786627608162275,{"$f":"6*N24/(M24+15*N24+3*O24)","v":0.33931695939476597},{"$f":"4*M24/(M24+15*N24+3*O24)","v":0.210776188371671},{"$f":"SUMPRODUCT($P24:$HH24,Otros!$C$26:$GU$26)*(100/$E$13)","v":27.330436428229692},{"$f":"SUMPRODUCT($P24:$HH24,Otros!$C$27:$GU$27)*(100/$E$13)","v":29.331841385568513},{"$f":"SUMPRODUCT($P24:$HH24,Otros!$C$28:$GU$28)*(100/$E$13)","v":17.11821229598409},{"$f":"G$13*Otros!B8","v":0},{"$f":"H$13*Otros!C8","v":0},{"$f":"I$13*Otros!D8","v":0},{"$f":"J$13*Otros!E8","v":0},{"$f":"K$13*Otros!F8","v":0},{"$f":"L$13*Otros!G8","v":6.9200380119749182E-5},{"$f":"M$13*Otros!H8","v":9.3564558672209162E-5},{"$f":"N$13*Otros!I8","v":1.2753238165975355E-4},{"$f":"O$13*Otros!J8","v":1.7522335603003191E-4},{"$f":"P$13*Otros!K8","v":2.437750028354293E-4},{"$f":"Q$13*Otros!L8","v":3.4591926399649299E-4},{"$f":"R$13*Otros!M8","v":4.9262363186411049E-4},{"$f":"S$13*Otros!N8","v":7.161999808957297E-4},{"$f":"T$13*Otros!O8","v":1.0531770593404269E-3},{"$f":"U$13*Otros!P8","v":1.557239178652955E-3},{"$f":"V$13*Otros!Q8","v":2.3113754276058735E-3},{"$f":"W$13*Otros!R8","v":3.4211280874941277E-3},{"$f":"X$13*Otros!S8","v":5.0206423808347887E-3},{"$f":"Y$13*Otros!T8","v":7.2596123271241129E-3},{"$f":"Z$13*Otros!U8","v":1.0306489334171885E-2},{"$f":"AA$13*Otros!V8","v":1.4353166390625751E-2},{"$f":"AB$13*Otros!W8","v":1.9571015562659479E-2},{"$f":"AC$13*Otros!X8","v":2.60938127906458E-2},{"$f":"AD$13*Otros!Y8","v":3.3932580036024812E-2},{"$f":"AE$13*Otros!Z8","v":4.3012411445436438E-2},{"$f":"AF$13*Otros!AA8","v":5.3212877869130655E-2},{"$f":"AG$13*Otros!AB8","v":6.4238503635738881E-2},{"$f":"AH$13*Otros!AC8","v":7.5665509131294509E-2},{"$f":"AI$13*Otros!AD8","v":8.7107040603285654E-2},{"$f":"AJ$13*Otros!AE8","v":9.8021237789623725E-2},{"$f":"AK$13*Otros!AF8","v":0.1076694557262453},{"$f":"AL$13*Otros!AG8","v":0.11548419348468063},{"$f":"AM$13*Otros!AH8","v":0.12100765499001798},{"$f":"AN$13*Otros!AI8","v":0.12434231827914929},{"$f":"AO$13*Otros!AJ8","v":0.12538261947148757},{"$f":"AP$13*Otros!AK8","v":0.12378235295514971},{"$f":"AQ$13*Otros!AL8","v":0.11902577553639612},{"$f":"AR$13*Otros!AM8","v":0.11233101625270066},{"$f":"AS$13*Otros!AN8","v":0.10452982254413749},{"$f":"AT$13*Otros!AO8","v":9.6068092594913668E-2},{"$f":"AU$13*Otros!AP8","v":8.7092436473528267E-2},{"$f":"AV$13*Otros!AQ8","v":7.804433955847731E-2},{"$f":"AW$13*Otros!AR8","v":6.9281719217420573E-2},{"$f":"AX$13*Otros!AS8","v":6.1159406606880858E-2},{"$f":"AY$13*Otros!AT8","v":5.3816115834990401E-2},{"$f":"AZ$13*Otros!AU8","v":4.7254325284949571E-2},{"$f":"BA$13*Otros!AV8","v":4.1641743658165462E-2},{"$f":"BB$13*Otros!AW8","v":3.6837946826655581E-2},{"$f":"BC$13*Otros!AX8","v":3.2926533116787525E-2},{"$f":"BD$13*Otros!AY8","v":2.9855650267786957E-2},{"$f":"BE$13*Otros!AZ8","v":2.7507034125968052E-2},{"$f":"BF$13*Otros!BA8","v":2.5997484653802097E-2},{"$f":"BG$13*Otros!BB8","v":2.5156696435980255E-2},{"$f":"BH$13*Otros!BC8","v":2.5162256794063378E-2},{"$f":"BI$13*Otros!BD8","v":2.600494611036579E-2},{"$f":"BJ$13*Otros!BE8","v":2.7517536816079647E-2},{"$f":"BK$13*Otros!BF8","v":2.9794132091813995E-2},{"$f":"BL$13*Otros!BG8","v":3.2809280805380966E-2},{"$f":"BM$13*Otros!BH8","v":3.6639681604200586E-2},{"$f":"BN$13*Otros!BI8","v":4.1331774080595948E-2},{"$f":"BO$13*Otros!BJ8","v":4.6879232296752782E-2},{"$f":"BP$13*Otros!BK8","v":5.3387604239537902E-2},{"$f":"BQ$13*Otros!BL8","v":6.0747149772907898E-2},{"$f":"BR$13*Otros!BM8","v":6.8821545128640998E-2},{"$f":"BS$13*Otros!BN8","v":7.746046384497475E-2},{"$f":"BT$13*Otros!BO8","v":8.6525526761156449E-2},{"$f":"BU$13*Otros!BP8","v":9.4848735948544038E-2},{"$f":"BV$13*Otros!BQ8","v":0.1029525962865972},{"$f":"BW$13*Otros!BR8","v":0.11022185285591322},{"$f":"BX$13*Otros!BS8","v":0.11636875623964571},{"$f":"BY$13*Otros!BT8","v":0.1215532488125962},{"$f":"BZ$13*Otros!BU8","v":0.12511032031841396},{"$f":"CA$13*Otros!BV8","v":0.12759445988385784},{"$f":"CB$13*Otros!BW8","v":0.1290041692592718},{"$f":"CC$13*Otros!BX8","v":0.12950626351849603},{"$f":"CD$13*Otros!BY8","v":0.12941565416060513},{"$f":"CE$13*Otros!BZ8","v":0.12877834325689375},{"$f":"CF$13*Otros!CA8","v":0.12802201931194979},{"$f":"CG$13*Otros!CB8","v":0.12744345587610909},{"$f":"CH$13*Otros!CC8","v":0.12719665760130761},{"$f":"CI$13*Otros!CD8","v":0.1272893472519798},{"$f":"CJ$13*Otros!CE8","v":0.12795769542728189},{"$f":"CK$13*Otros!CF8","v":0.12901654240749488},{"$f":"CL$13*Otros!CG8","v":0.13061884500116544},{"$f":"CM$13*Otros!CH8","v":0.13270660961068176},{"$f":"CN$13*Otros!CI8","v":0.13501710554469995},{"$f":"CO$13*Otros!CJ8","v":0.13766255080858511},{"$f":"CP$13*Otros!CK8","v":0.14037400605568937},{"$f":"CQ$13*Otros!CL8","v":0.14337448239255329},{"$f":"CR$13*Otros!CM8","v":0.14660843491931752},{"$f":"CS$13*Otros!CN8","v":0.14972842751084953},{"$f":"CT$13*Otros!CO8","v":0.1526892674381877},{"$f":"CU$13*Otros!CP8","v":0.15545427844501936},{"$f":"CV$13*Otros!CQ8","v":0.15829886759273551},{"$f":"CW$13*Otros!CR8","v":0.16120107911282261},{"$f":"CX$13*Otros!CS8","v":0.16383538060940933},{"$f":"CY$13*Otros!CT8","v":0.16496487918157746},{"$f":"CZ$13*Otros!CU8","v":0.16580227699308817},{"$f":"DA$13*Otros!CV8","v":0.16624101267899369},{"$f":"DB$13*Otros!CW8","v":0.1662795984172423},{"$f":"DC$13*Otros!CX8","v":0.16601870307661526},{"$f":"DD$13*Otros!CY8","v":0.16506729457403035},{"$f":"DE$13*Otros!CZ8","v":0.16383026344484528},{"$f":"DF$13*Otros!DA8","v":0.16212302455988292},{"$f":"DG$13*Otros!DB8","v":0.15996248814013625},{"$f":"DH$13*Otros!DC8","v":0.15755341292814931},{"$f":"DI$13*Otros!DD8","v":0.15454537334371732},{"$f":"DJ$13*Otros!DE8","v":0.15132922095386983},{"$f":"DK$13*Otros!DF8","v":0.14800719651496744},{"$f":"DL$13*Otros!DG8","v":0.14458914662416059},{"$f":"DM$13*Otros!DH8","v":0.14100244650975494},{"$f":"DN$13*Otros!DI8","v":0.13710338136752251},{"$f":"DO$13*Otros!DJ8","v":0.133078758161748},{"$f":"DP$13*Otros!DK8","v":0.12894629279840797},{"$f":"DQ$13*Otros!DL8","v":0.12472384125482752},{"$f":"DR$13*Otros!DM8","v":0.12042935743937433},{"$f":"DS$13*Otros!DN8","v":0.11594513458677957},{"$f":"DT$13*Otros!DO8","v":0.11143543996849557},{"$f":"DU$13*Otros!DP8","v":0.10698167528910169},{"$f":"DV$13*Otros!DQ8","v":0.10259531040769077},{"$f":"DW$13*Otros!DR8","v":9.8231185066742749E-2},{"$f":"DX$13*Otros!DS8","v":9.3690606228809981E-2},{"$f":"DY$13*Otros!DT8","v":8.9237446796290587E-2},{"$f":"DZ$13*Otros!DU8","v":8.4997364291353447E-2},{"$f":"EA$13*Otros!DV8","v":8.0983919867840898E-2},{"$f":"EB$13*Otros!DW8","v":7.7122981515144171E-2},{"$f":"EC$13*Otros!DX8","v":7.3360691663921673E-2},{"$f":"ED$13*Otros!DY8","v":6.9824910801873571E-2},{"$f":"EE$13*Otros!DZ8","v":6.6584990681449283E-2},{"$f":"EF$13*Otros!EA8","v":6.3660066243033483E-2},{"$f":"EG$13*Otros!EB8","v":6.1024692008991729E-2},{"$f":"EH$13*Otros!EC8","v":5.8611785470581441E-2},{"$f":"EI$13*Otros!ED8","v":5.6480998769357825E-2},{"$f":"EJ$13*Otros!EE8","v":5.459747982141052E-2},{"$f":"EK$13*Otros!EF8","v":5.2907129783500081E-2},{"$f":"EL$13*Otros!EG8","v":5.1339119004223353E-2},{"$f":"EM$13*Otros!EH8","v":4.9811132674123529E-2},{"$f":"EN$13*Otros!EI8","v":4.8236974449163444E-2},{"$f":"EO$13*Otros!EJ8","v":4.6535640835935477E-2},{"$f":"EP$13*Otros!EK8","v":4.4640578658225176E-2},{"$f":"EQ$13*Otros!EL8","v":4.2507665185069557E-2},{"$f":"ER$13*Otros!EM8","v":4.0072465050690065E-2},{"$f":"ES$13*Otros!EN8","v":3.7402558490232274E-2},{"$f":"ET$13*Otros!EO8","v":3.458119598315286E-2},{"$f":"EU$13*Otros!EP8","v":3.166113980848579E-2},{"$f":"EV$13*Otros!EQ8","v":2.8673719125898455E-2},{"$f":"EW$13*Otros!ER8","v":2.5669475657363515E-2},{"$f":"EX$13*Otros!ES8","v":2.2764115712051353E-2},{"$f":"EY$13*Otros!ET8","v":2.0035895371652374E-2},{"$f":"EZ$13*Otros!EU8","v":1.7530099493601917E-2},{"$f":"FA$13*Otros!EV8","v":1.5265157462159201E-2},{"$f":"FB$13*Otros!EW8","v":1.3239172077994668E-2},{"$f":"FC$13*Otros!EX8","v":1.1470747245920489E-2},{"$f":"FD$13*Otros!EY8","v":9.9451140488006698E-3},{"$f":"FE$13*Otros!EZ8","v":8.6394030442268552E-3},{"$f":"FF$13*Otros!FA8","v":7.526537705162489E-3},{"$f":"FG$13*Otros!FB8","v":6.5784800847234794E-3},{"$f":"FH$13*Otros!FC8","v":5.7686028697778828E-3},{"$f":"FI$13*Otros!FD8","v":5.0762562335776211E-3},{"$f":"FJ$13*Otros!FE8","v":4.4801723016089966E-3},{"$f":"FK$13*Otros!FF8","v":3.9606047653462043E-3},{"$f":"FL$13*Otros!FG8","v":3.500340419183521E-3},{"$f":"FM$13*Otros!FH8","v":3.0945014681740997E-3},{"$f":"FN$13*Otros!FI8","v":2.7350413246197609E-3},{"$f":"FO$13*Otros!FJ8","v":2.415671596805378E-3},{"$f":"FP$13*Otros!FK8","v":2.1314054871275109E-3},{"$f":"FQ$13*Otros!FL8","v":1.8781981623686779E-3},{"$f":"FR$13*Otros!FM8","v":1.652680287603431E-3},{"$f":"FS$13*Otros!FN8","v":1.4519702299983118E-3},{"$f":"FT$13*Otros!FO8","v":1.2735469727495087E-3},{"$f":"FU$13*Otros!FP8","v":1.1151666757708901E-3},{"$f":"FV$13*Otros!FQ8","v":9.7601374946579842E-4},{"$f":"FW$13*Otros!FR8","v":8.5274673378029373E-4},{"$f":"FX$13*Otros!FS8","v":7.4375149058451676E-4},{"$f":"FY$13*Otros!FT8","v":6.4755532909385272E-4},{"$f":"FZ$13*Otros!FU8","v":5.6281525419961647E-4},{"$f":"GA$13*Otros!FV8","v":4.8770544111993686E-4},{"$f":"GB$13*Otros!FW8","v":4.2187868988632779E-4},{"$f":"GC$13*Otros!FX8","v":3.6429704431507599E-4},{"$f":"GD$13*Otros!FY8","v":3.1402316907566956E-4},{"$f":"GE$13*Otros!FZ8","v":2.7021265264909761E-4},{"$f":"GF$13*Otros!GA8","v":2.3210665579844291E-4},{"$f":"GG$13*Otros!GB8","v":1.9902490374897722E-4},{"$f":"GH$13*Otros!GC8","v":1.7035903076940718E-4},{"$f":"GI$13*Otros!GD8","v":1.4556628722214325E-4},{"$f":"GJ$13*Otros!GE8","v":1.2416361657362196E-4},{"$f":"GK$13*Otros!GF8","v":1.055897878406128E-4},{"$f":"GL$13*Otros!GG8","v":8.963659141654625E-5},{"$f":"GM$13*Otros!GH8","v":7.5959935735293174E-5},{"$f":"GN$13*Otros!GI8","v":6.4256885125472092E-5},{"$f":"GO$13*Otros!GJ8","v":5.4261345798248584E-5},{"$f":"GP$13*Otros!GK8","v":4.5798160615601979E-5},{"$f":"GQ$13*Otros!GL8","v":3.8587211356907963E-5},{"$f":"GR$13*Otros!GM8","v":3.2475247032549029E-5},{"$f":"GS$13*Otros!GN8","v":2.7300824844517951E-5},{"$f":"GT$13*Otros!GO8","v":2.2910662870811036E-5},{"$f":"GU$13*Otros!GP8","v":1.9168418652763624E-5},{"$f":"GV$13*Otros!GQ8","v":1.6009316707590924E-5},{"$f":"GW$13*Otros!GR8","v":1.3355922553467632E-5},{"$f":"GX$13*Otros!GS8","v":1.1129870246897129E-5},{"$f":"GY$13*Otros!GT8","v":9.2585908269509047E-6}]
[3,81.045369900026117,4.1205717608638865,44.103612865559285,-10.783920070381859,61.982613931215965,0.35777341274449848,{"$f":"(10.872+0.404*(I$41/I$22)*I25-4*(J$41/J$22)*J25)/(16.518+1.481*(I$41/I$22)*I25-(J$41/J$22)*J25)","v":0.18218585710007623},0.68324592999572964,2.0745950301487719,0.35715921325607841,{"$f":"4*M25/(M25+15*N25+3*O25)","v":0.1843802886215235},{"$f":"SUMPRODUCT($P25:$HH25,Otros!$C$26:$GU$26)*(100/$E$13)","v":24.418465787529016},{"$f":"SUMPRODUCT($P25:$HH25,Otros!$C$27:$GU$27)*(100/$E$13)","v":31.533667345162762},{"$f":"SUMPRODUCT($P25:$HH25,Otros!$C$28:$GU$28)*(100/$E$13)","v":10.77262493571085},{"$f":"G$13*Otros!B9","v":0},{"$f":"H$13*Otros!C9","v":0},{"$f":"I$13*Otros!D9","v":0},{"$f":"J$13*Otros!E9","v":0},{"$f":"K$13*Otros!F9","v":0},{"$f":"L$13*Otros!G9","v":5.4427265262724085E-5},{"$f":"M$13*Otros!H9","v":7.0622289488191992E-5},{"$f":"N$13*Otros!I9","v":9.2609721367528951E-5},{"$f":"O$13*Otros!J9","v":1.2282646898415829E-4},{"$f":"P$13*Otros!K9","v":1.6540247855936606E-4},{"$f":"Q$13*Otros!L9","v":2.2749645289859449E-4},{"$f":"R$13*Otros!M9","v":3.1824358518654924E-4},{"$f":"S$13*Otros!N9","v":4.5463129222076754E-4},{"$f":"T$13*Otros!O9","v":6.6230722288418593E-4},{"$f":"U$13*Otros!P9","v":9.7792494495612184E-4},{"$f":"V$13*Otros!Q9","v":1.449506624091819E-3},{"$f":"W$13*Otros!R9","v":2.1310057110653655E-3},{"$f":"X$13*Otros!S9","v":3.1064175266034646E-3},{"$f":"Y$13*Otros!T9","v":4.4693120815905516E-3},{"$f":"Z$13*Otros!U9","v":6.3240481818301782E-3},{"$f":"AA$13*Otros!V9","v":8.7779695281512849E-3},{"$f":"AB$13*Otros!W9","v":1.1865129698613983E-2},{"$f":"AC$13*Otros!X9","v":1.5681995864329001E-2},{"$f":"AD$13*Otros!Y9","v":2.0303920841227962E-2},{"$f":"AE$13*Otros!Z9","v":2.573693471735131E-2},{"$f":"AF$13*Otros!AA9","v":3.1840492495463425E-2},{"$f":"AG$13*Otros!AB9","v":3.8437793159089656E-2},{"$f":"AH$13*Otros!AC9","v":4.5275263660528677E-2},{"$f":"AI$13*Otros!AD9","v":5.2036120818656731E-2},{"$f":"AJ$13*Otros!AE9","v":5.8365011081912978E-2},{"$f":"AK$13*Otros!AF9","v":6.3901384292812252E-2},{"$f":"AL$13*Otros!AG9","v":6.8317229533076868E-2},{"$f":"AM$13*Otros!AH9","v":7.1353463766327244E-2},{"$f":"AN$13*Otros!AI9","v":7.3048617159179194E-2},{"$f":"AO$13*Otros!AJ9","v":7.335580916614852E-2},{"$f":"AP$13*Otros!AK9","v":7.2125150540795893E-2},{"$f":"AQ$13*Otros!AL9","v":6.9509558084049211E-2},{"$f":"AR$13*Otros!AM9","v":6.5746166007057974E-2},{"$f":"AS$13*Otros!AN9","v":6.1287314306593836E-2},{"$f":"AT$13*Otros!AO9","v":5.6397447270665806E-2},{"$f":"AU$13*Otros!AP9","v":5.1191737469173104E-2},{"$f":"AV$13*Otros!AQ9","v":4.6165411145786123E-2},{"$f":"AW$13*Otros!AR9","v":4.1236645471238328E-2},{"$f":"AX$13*Otros!AS9","v":3.6750088539742952E-2},{"$f":"AY$13*Otros!AT9","v":3.2747343213373928E-2},{"$f":"AZ$13*Otros!AU9","v":2.9105924994352998E-2},{"$f":"BA$13*Otros!AV9","v":2.6353274915096137E-2},{"$f":"BB$13*Otros!AW9","v":2.391872322125102E-2},{"$f":"BC$13*Otros!AX9","v":2.2118239005044251E-2},{"$f":"BD$13*Otros!AY9","v":2.0890842239008535E-2},{"$f":"BE$13*Otros!AZ9","v":1.9988444798203452E-2},{"$f":"BF$13*Otros!BA9","v":1.959966616478049E-2},{"$f":"BG$13*Otros!BB9","v":1.9619662742055847E-2},{"$f":"BH$13*Otros!BC9","v":2.0254063493492989E-2},{"$f":"BI$13*Otros!BD9","v":2.1546955348588796E-2},{"$f":"BJ$13*Otros!BE9","v":2.3405720969998781E-2},{"$f":"BK$13*Otros!BF9","v":2.6028576594622422E-2},{"$f":"BL$13*Otros!BG9","v":2.9366765260490885E-2},{"$f":"BM$13*Otros!BH9","v":3.3570587281615015E-2},{"$f":"BN$13*Otros!BI9","v":3.873047361398501E-2},{"$f":"BO$13*Otros!BJ9","v":4.484100480558962E-2},{"$f":"BP$13*Otros!BK9","v":5.1642911290533396E-2},{"$f":"BQ$13*Otros!BL9","v":5.9375262921667879E-2},{"$f":"BR$13*Otros!BM9","v":6.7797056278214654E-2},{"$f":"BS$13*Otros!BN9","v":7.673591868996224E-2},{"$f":"BT$13*Otros!BO9","v":8.6167983262143394E-2},{"$f":"BU$13*Otros!BP9","v":9.5695599662370318E-2},{"$f":"BV$13*Otros!BQ9","v":0.10516927898176315},{"$f":"BW$13*Otros!BR9","v":0.11420786325793524},{"$f":"BX$13*Otros!BS9","v":0.12252200307035792},{"$f":"BY$13*Otros!BT9","v":0.12996847373039133},{"$f":"BZ$13*Otros!BU9","v":0.13754483227666614},{"$f":"CA$13*Otros!BV9","v":0.1440770268901313},{"$f":"CB$13*Otros!BW9","v":0.15084614500687341},{"$f":"CC$13*Otros!BX9","v":0.15796061186116034},{"$f":"CD$13*Otros!BY9","v":0.16431425752975709},{"$f":"CE$13*Otros!BZ9","v":0.16897949895620784},{"$f":"CF$13*Otros!CA9","v":0.17339691223264084},{"$f":"CG$13*Otros!CB9","v":0.17698379035613962},{"$f":"CH$13*Otros!CC9","v":0.17999172523198328},{"$f":"CI$13*Otros!CD9","v":0.18344641221608851},{"$f":"CJ$13*Otros!CE9","v":0.18464070962971815},{"$f":"CK$13*Otros!CF9","v":0.18639889993175859},{"$f":"CL$13*Otros!CG9","v":0.18810621545622383},{"$f":"CM$13*Otros!CH9","v":0.18966223605303442},{"$f":"CN$13*Otros!CI9","v":0.19151362488609924},{"$f":"CO$13*Otros!CJ9","v":0.1919928552709621},{"$f":"CP$13*Otros!CK9","v":0.19250176630168248},{"$f":"CQ$13*Otros!CL9","v":0.19234844648128113},{"$f":"CR$13*Otros!CM9","v":0.19143582756244443},{"$f":"CS$13*Otros!CN9","v":0.19029030921111312},{"$f":"CT$13*Otros!CO9","v":0.18846794066627787},{"$f":"CU$13*Otros!CP9","v":0.18634258784288965},{"$f":"CV$13*Otros!CQ9","v":0.18380144510607097},{"$f":"CW$13*Otros!CR9","v":0.18084237221179655},{"$f":"CX$13*Otros!CS9","v":0.17757312991516722},{"$f":"CY$13*Otros!CT9","v":0.1738022834234477},{"$f":"CZ$13*Otros!CU9","v":0.16974995025482836},{"$f":"DA$13*Otros!CV9","v":0.16543548384711484},{"$f":"DB$13*Otros!CW9","v":0.16088026088595481},{"$f":"DC$13*Otros!CX9","v":0.15610713871383225},{"$f":"DD$13*Otros!CY9","v":0.15133620649300583},{"$f":"DE$13*Otros!CZ9","v":0.14639120524255542},{"$f":"DF$13*Otros!DA9","v":0.14148744806905519},{"$f":"DG$13*Otros!DB9","v":0.13664050280283244},{"$f":"DH$13*Otros!DC9","v":0.131679538664289},{"$f":"DI$13*Otros!DD9","v":0.12680878434478621},{"$f":"DJ$13*Otros!DE9","v":0.12186218203499312},{"$f":"DK$13*Otros!DF9","v":0.11729526945383116},{"$f":"DL$13*Otros!DG9","v":0.11309783365917947},{"$f":"DM$13*Otros!DH9","v":0.1088439937970038},{"$f":"DN$13*Otros!DI9","v":0.10471170530174526},{"$f":"DO$13*Otros!DJ9","v":0.10054839505554293},{"$f":"DP$13*Otros!DK9","v":9.6521201626878467E-2},{"$f":"DQ$13*Otros!DL9","v":9.263115695533973E-2},{"$f":"DR$13*Otros!DM9","v":8.8737421271117917E-2},{"$f":"DS$13*Otros!DN9","v":8.4854460324048281E-2},{"$f":"DT$13*Otros!DO9","v":8.0996451090817406E-2},{"$f":"DU$13*Otros!DP9","v":7.7114650399006432E-2},{"$f":"DV$13*Otros!DQ9","v":7.3230787546134699E-2},{"$f":"DW$13*Otros!DR9","v":6.9424385926935478E-2},{"$f":"DX$13*Otros!DS9","v":6.5710107719559263E-2},{"$f":"DY$13*Otros!DT9","v":6.2103373403900528E-2},{"$f":"DZ$13*Otros!DU9","v":5.8620601095334617E-2},{"$f":"EA$13*Otros!DV9","v":5.5279289254921482E-2},{"$f":"EB$13*Otros!DW9","v":5.2097825271292073E-2},{"$f":"EC$13*Otros!DX9","v":4.9181562338187296E-2},{"$f":"ED$13*Otros!DY9","v":4.6453592343056044E-2},{"$f":"EE$13*Otros!DZ9","v":4.3969733491418583E-2},{"$f":"EF$13*Otros!EA9","v":4.1736895501349756E-2},{"$f":"EG$13*Otros!EB9","v":3.9720213733663252E-2},{"$f":"EH$13*Otros!EC9","v":3.798654816636024E-2},{"$f":"EI$13*Otros!ED9","v":3.6447999205848937E-2},{"$f":"EJ$13*Otros!EE9","v":3.5144696037059976E-2},{"$f":"EK$13*Otros!EF9","v":3.4034194070004221E-2},{"$f":"EL$13*Otros!EG9","v":3.3003719359857867E-2},{"$f":"EM$13*Otros!EH9","v":3.2059608634120031E-2},{"$f":"EN$13*Otros!EI9","v":3.108349188848241E-2},{"$f":"EO$13*Otros!EJ9","v":3.0106391293499474E-2},{"$f":"EP$13*Otros!EK9","v":2.9075113731344034E-2},{"$f":"EQ$13*Otros!EL9","v":2.7871792441707281E-2},{"$f":"ER$13*Otros!EM9","v":2.6578675798927084E-2},{"$f":"ES$13*Otros!EN9","v":2.5092570828284592E-2},{"$f":"ET$13*Otros!EO9","v":2.3456883540379593E-2},{"$f":"EU$13*Otros!EP9","v":2.1705046447022185E-2},{"$f":"EV$13*Otros!EQ9","v":1.9864323490833266E-2},{"$f":"EW$13*Otros!ER9","v":1.8052236801258056E-2},{"$f":"EX$13*Otros!ES9","v":1.6248299982877235E-2},{"$f":"EY$13*Otros!ET9","v":1.4563856273170878E-2},{"$f":"EZ$13*Otros!EU9","v":1.3017820107333386E-2},{"$f":"FA$13*Otros!EV9","v":1.1575693422966644E-2},{"$f":"FB$13*Otros!EW9","v":1.0339849457163409E-2},{"$f":"FC$13*Otros!EX9","v":9.2196738917846698E-3},{"$f":"FD$13*Otros!EY9","v":8.2262799045264481E-3},{"$f":"FE$13*Otros!EZ9","v":7.3542459429302067E-3},{"$f":"FF$13*Otros!FA9","v":6.5885801188048532E-3},{"$f":"FG$13*Otros!FB9","v":5.9578687559759804E-3},{"$f":"FH$13*Otros!FC9","v":5.3994966532473054E-3},{"$f":"FI$13*Otros!FD9","v":4.9153017676349152E-3},{"$f":"FJ$13*Otros!FE9","v":4.4910995511251162E-3},{"$f":"FK$13*Otros!FF9","v":4.1055049396881392E-3},{"$f":"FL$13*Otros!FG9","v":3.7439538549508722E-3},{"$f":"FM$13*Otros!FH9","v":3.4122742350770636E-3},{"$f":"FN$13*Otros!FI9","v":3.1032843426224217E-3},{"$f":"FO$13*Otros!FJ9","v":2.8153231477474443E-3},{"$f":"FP$13*Otros!FK9","v":2.549840920183219E-3},{"$f":"FQ$13*Otros!FL9","v":2.3004466435891545E-3},{"$f":"FR$13*Otros!FM9","v":2.0714406064795774E-3},{"$f":"FS$13*Otros!FN9","v":1.8587722340926665E-3},{"$f":"FT$13*Otros!FO9","v":1.6622064989585141E-3},{"$f":"FU$13*Otros!FP9","v":1.4834470285717705E-3},{"$f":"FV$13*Otros!FQ9","v":1.3176185617788279E-3},{"$f":"FW$13*Otros!FR9","v":1.1680524705299207E-3},{"$f":"FX$13*Otros!FS9","v":1.0320699696506133E-3},{"$f":"FY$13*Otros!FT9","v":9.0897581380211176E-4},{"$f":"FZ$13*Otros!FU9","v":7.9905869423402341E-4},{"$f":"GA$13*Otros!FV9","v":7.0051139997696736E-4},{"$f":"GB$13*Otros!FW9","v":6.1297720535463966E-4},{"$f":"GC$13*Otros!FX9","v":5.3470861089368964E-4},{"$f":"GD$13*Otros!FY9","v":4.6499584651589531E-4},{"$f":"GE$13*Otros!FZ9","v":4.036406395161986E-4},{"$f":"GF$13*Otros!GA9","v":3.4917039824405063E-4},{"$f":"GG$13*Otros!GB9","v":3.0151157585383659E-4},{"$f":"GH$13*Otros!GC9","v":2.5968069216409013E-4},{"$f":"GI$13*Otros!GD9","v":2.2307442892032563E-4},{"$f":"GJ$13*Otros!GE9","v":1.912895717837363E-4},{"$f":"GK$13*Otros!GF9","v":1.6361124394099967E-4},{"$f":"GL$13*Otros!GG9","v":1.39691195542997E-4},{"$f":"GM$13*Otros!GH9","v":1.1901027714698326E-4},{"$f":"GN$13*Otros!GI9","v":1.0117214110033294E-4},{"$f":"GO$13*Otros!GJ9","v":8.5856559807355351E-5},{"$f":"GP$13*Otros!GK9","v":7.2673380343135202E-5},{"$f":"GQ$13*Otros!GL9","v":6.1406552083201259E-5},{"$f":"GR$13*Otros!GM9","v":5.1816060820822676E-5},{"$f":"GS$13*Otros!GN9","v":4.3663985894184588E-5},{"$f":"GT$13*Otros!GO9","v":3.6729792856379597E-5},{"$f":"GU$13*Otros!GP9","v":3.0891253200734765E-5},{"$f":"GV$13*Otros!GQ9","v":2.5934889255772699E-5},{"$f":"GW$13*Otros!GR9","v":2.174378219532692E-5},{"$f":"GX$13*Otros!GS9","v":1.8204781397472498E-5},{"$f":"GY$13*Otros!GT9","v":1.5214754352569002E-5}]
[4,77.564918087941351,4.8771917200127506,23.80923581841418,-28.502620557686669,60.273673415305737,0.33342500509191764,{"$f":"(10.872+0.404*(I$41/I$22)*I26-4*(J$41/J$22)*J26)/(16.518+1.481*(I$41/I$22)*I26-(J$41/J$22)*J26)","v":0.15919326088746469},1.54688844004398,2.2035854241190722,0.33242285692610657,{"$f":"4*M26/(M26+15*N26+3*O26)","v":0.1615503561535461},{"$f":"SUMPRODUCT($P26:$HH26,Otros!$C$26:$GU$26)*(100/$E$13)","v":21.526972179737655},{"$f":"SUMPRODUCT($P26:$HH26,Otros!$C$27:$GU$27)*(100/$E$13)","v":29.530761649557352},{"$f":"SUMPRODUCT($P26:$HH26,Otros!$C$28:$GU$28)*(100/$E$13)","v":22.840396910697187},{"$f":"G$13*Otros!B10","v":0},{"$f":"H$13*Otros!C10","v":0},{"$f":"I$13*Otros!D10","v":0},{"$f":"J$13*Otros!E10","v":0},{"$f":"K$13*Otros!F10","v":0},{"$f":"L$13*Otros!G10","v":7.2310509563333427E-5},{"$f":"M$13*Otros!H10","v":9.755451853029911E-5},{"$f":"N$13*Otros!I10","v":1.3270610911045349E-4},{"$f":"O$13*Otros!J10","v":1.8236838608174196E-4},{"$f":"P$13*Otros!K10","v":2.5425504968629826E-4},{"$f":"Q$13*Otros!L10","v":3.6150121282516387E-4},{"$f":"R$13*Otros!M10","v":5.1442113769880563E-4},{"$f":"S$13*Otros!N10","v":7.4733911049989186E-4},{"$f":"T$13*Otros!O10","v":1.1002262063212706E-3},{"$f":"U$13*Otros!P10","v":1.6316465114213556E-3},{"$f":"V$13*Otros!Q10","v":2.4289029917214265E-3},{"$f":"W$13*Otros!R10","v":3.5939123343372652E-3},{"$f":"X$13*Otros!S10","v":5.2725140721810154E-3},{"$f":"Y$13*Otros!T10","v":7.6340682042303487E-3},{"$f":"Z$13*Otros!U10","v":1.0870526063902685E-2},{"$f":"AA$13*Otros!V10","v":1.5183514859504928E-2},{"$f":"AB$13*Otros!W10","v":2.0828461373110417E-2},{"$f":"AC$13*Otros!X10","v":2.7936233069788274E-2},{"$f":"AD$13*Otros!Y10","v":3.6658311874984181E-2},{"$f":"AE$13*Otros!Z10","v":4.7031603990337872E-2},{"$f":"AF$13*Otros!AA10","v":5.8883102560103595E-2},{"$f":"AG$13*Otros!AB10","v":7.1926062267556809E-2},{"$f":"AH$13*Otros!AC10","v":8.5712896409384426E-2},{"$f":"AI$13*Otros!AD10","v":9.9795300200163611E-2},{"$f":"AJ$13*Otros!AE10","v":0.11353193936481702},{"$f":"AK$13*Otros!AF10","v":0.12605204572828718},{"$f":"AL$13*Otros!AG10","v":0.13738314103363952},{"$f":"AM$13*Otros!AH10","v":0.14622572848551446},{"$f":"AN$13*Otros!AI10","v":0.15268358504582538},{"$f":"AO$13*Otros!AJ10","v":0.15647910379192009},{"$f":"AP$13*Otros!AK10","v":0.15692093563605594},{"$f":"AQ$13*Otros!AL10","v":0.15452796918147499},{"$f":"AR$13*Otros!AM10","v":0.149247312673776},{"$f":"AS$13*Otros!AN10","v":0.14208252706621491},{"$f":"AT$13*Otros!AO10","v":0.13351836597937156},{"$f":"AU$13*Otros!AP10","v":0.12365796323722335},{"$f":"AV$13*Otros!AQ10","v":0.11429186186475949},{"$f":"AW$13*Otros!AR10","v":0.10449386736540493},{"$f":"AX$13*Otros!AS10","v":9.5187266365902093E-2},{"$f":"AY$13*Otros!AT10","v":8.6563459048364336E-2},{"$f":"AZ$13*Otros!AU10","v":7.8414786161256897E-2},{"$f":"BA$13*Otros!AV10","v":7.1088405245011033E-2},{"$f":"BB$13*Otros!AW10","v":6.4596118027022809E-2},{"$f":"BC$13*Otros!AX10","v":5.9149187607303907E-2},{"$f":"BD$13*Otros!AY10","v":5.4802966727962199E-2},{"$f":"BE$13*Otros!AZ10","v":5.1529843929313493E-2},{"$f":"BF$13*Otros!BA10","v":4.9388450663928732E-2},{"$f":"BG$13*Otros!BB10","v":4.8425040340506514E-2},{"$f":"BH$13*Otros!BC10","v":4.8584900772734724E-2},{"$f":"BI$13*Otros!BD10","v":4.9904729916559115E-2},{"$f":"BJ$13*Otros!BE10","v":5.2504725419186458E-2},{"$f":"BK$13*Otros!BF10","v":5.6153020572154981E-2},{"$f":"BL$13*Otros!BG10","v":6.1122214776619783E-2},{"$f":"BM$13*Otros!BH10","v":6.7368514883421562E-2},{"$f":"BN$13*Otros!BI10","v":7.4900937244956098E-2},{"$f":"BO$13*Otros!BJ10","v":8.3793796858930097E-2},{"$f":"BP$13*Otros!BK10","v":9.3515542066641547E-2},{"$f":"BQ$13*Otros!BL10","v":0.1043731516423404},{"$f":"BR$13*Otros!BM10","v":0.11582750414820316},{"$f":"BS$13*Otros!BN10","v":0.12751994728220331},{"$f":"BT$13*Otros!BO10","v":0.13944196461508684},{"$f":"BU$13*Otros!BP10","v":0.1507417410610789},{"$f":"BV$13*Otros!BQ10","v":0.16140733995171458},{"$f":"BW$13*Otros!BR10","v":0.17079188048663912},{"$f":"BX$13*Otros!BS10","v":0.17853464701463531},{"$f":"BY$13*Otros!BT10","v":0.18466743569605962},{"$f":"BZ$13*Otros!BU10","v":0.18833503112152683},{"$f":"CA$13*Otros!BV10","v":0.19032517078420438},{"$f":"CB$13*Otros!BW10","v":0.19043472604940126},{"$f":"CC$13*Otros!BX10","v":0.18894856656310294},{"$f":"CD$13*Otros!BY10","v":0.1866105874600486},{"$f":"CE$13*Otros!BZ10","v":0.18359810102868571},{"$f":"CF$13*Otros!CA10","v":0.18045099222451297},{"$f":"CG$13*Otros!CB10","v":0.17726741822530009},{"$f":"CH$13*Otros!CC10","v":0.17426129974182097},{"$f":"CI$13*Otros!CD10","v":0.1717470236818992},{"$f":"CJ$13*Otros!CE10","v":0.16920721566370828},{"$f":"CK$13*Otros!CF10","v":0.16717768540157221},{"$f":"CL$13*Otros!CG10","v":0.16558247522875011},{"$f":"CM$13*Otros!CH10","v":0.16431698228618749},{"$f":"CN$13*Otros!CI10","v":0.16326536521539961},{"$f":"CO$13*Otros!CJ10","v":0.16212085513061603},{"$f":"CP$13*Otros!CK10","v":0.16097130457985517},{"$f":"CQ$13*Otros!CL10","v":0.15963344431335832},{"$f":"CR$13*Otros!CM10","v":0.15803892306556938},{"$f":"CS$13*Otros!CN10","v":0.15623835914175604},{"$f":"CT$13*Otros!CO10","v":0.15399947237330083},{"$f":"CU$13*Otros!CP10","v":0.15150462576791465},{"$f":"CV$13*Otros!CQ10","v":0.14874810151204418},{"$f":"CW$13*Otros!CR10","v":0.14573228869290528},{"$f":"CX$13*Otros!CS10","v":0.14246554835600811},{"$f":"CY$13*Otros!CT10","v":0.13875740453327268},{"$f":"CZ$13*Otros!CU10","v":0.13482822524712665},{"$f":"DA$13*Otros!CV10","v":0.13079774407632513},{"$f":"DB$13*Otros!CW10","v":0.12668445652113408},{"$f":"DC$13*Otros!CX10","v":0.12240781988037004},{"$f":"DD$13*Otros!CY10","v":0.11759696149391706},{"$f":"DE$13*Otros!CZ10","v":0.11267569271812836},{"$f":"DF$13*Otros!DA10","v":0.10795463627146006},{"$f":"DG$13*Otros!DB10","v":0.10344428980255724},{"$f":"DH$13*Otros!DC10","v":9.8875162365466118E-2},{"$f":"DI$13*Otros!DD10","v":9.4086860721864257E-2},{"$f":"DJ$13*Otros!DE10","v":8.9288678169849284E-2},{"$f":"DK$13*Otros!DF10","v":8.4761448414491902E-2},{"$f":"DL$13*Otros!DG10","v":8.0506017821766238E-2},{"$f":"DM$13*Otros!DH10","v":7.6273253228960988E-2},{"$f":"DN$13*Otros!DI10","v":7.2560561483981212E-2},{"$f":"DO$13*Otros!DJ10","v":6.8874094136343253E-2},{"$f":"DP$13*Otros!DK10","v":6.5528847041997962E-2},{"$f":"DQ$13*Otros!DL10","v":6.2507796465138696E-2},{"$f":"DR$13*Otros!DM10","v":5.9510413471503688E-2},{"$f":"DS$13*Otros!DN10","v":5.6682779496464254E-2},{"$f":"DT$13*Otros!DO10","v":5.3888767862842232E-2},{"$f":"DU$13*Otros!DP10","v":5.1200614097306141E-2},{"$f":"DV$13*Otros!DQ10","v":4.861994768880594E-2},{"$f":"DW$13*Otros!DR10","v":4.6090878623691607E-2},{"$f":"DX$13*Otros!DS10","v":4.3623139408123172E-2},{"$f":"DY$13*Otros!DT10","v":4.1226964224096538E-2},{"$f":"DZ$13*Otros!DU10","v":3.9013539480043054E-2},{"$f":"EA$13*Otros!DV10","v":3.6980267833456551E-2},{"$f":"EB$13*Otros!DW10","v":3.5035218741392919E-2},{"$f":"EC$13*Otros!DX10","v":3.3192138106653279E-2},{"$f":"ED$13*Otros!DY10","v":3.1464566547029962E-2},{"$f":"EE$13*Otros!DZ10","v":2.9904146702497043E-2},{"$f":"EF$13*Otros!EA10","v":2.8515189435488961E-2},{"$f":"EG$13*Otros!EB10","v":2.7262510335377958E-2},{"$f":"EH$13*Otros!EC10","v":2.6076688914932856E-2},{"$f":"EI$13*Otros!ED10","v":2.5024499454751065E-2},{"$f":"EJ$13*Otros!EE10","v":2.412145189259467E-2},{"$f":"EK$13*Otros!EF10","v":2.3339530499023226E-2},{"$f":"EL$13*Otros!EG10","v":2.2613659561384093E-2},{"$f":"EM$13*Otros!EH10","v":2.1966768878934093E-2},{"$f":"EN$13*Otros!EI10","v":2.1297948145812023E-2},{"$f":"EO$13*Otros!EJ10","v":2.0571310763794655E-2},{"$f":"EP$13*Otros!EK10","v":1.9757193903759948E-2},{"$f":"EQ$13*Otros!EL10","v":1.8835731878414051E-2},{"$f":"ER$13*Otros!EM10","v":1.784740040072751E-2},{"$f":"ES$13*Otros!EN10","v":1.6743383584075098E-2},{"$f":"ET$13*Otros!EO10","v":1.5561538192418787E-2},{"$f":"EU$13*Otros!EP10","v":1.4323804816971583E-2},{"$f":"EV$13*Otros!EQ10","v":1.3041360204851403E-2},{"$f":"EW$13*Otros!ER10","v":1.178194871848832E-2},{"$f":"EX$13*Otros!ES10","v":1.0543524608178376E-2},{"$f":"EY$13*Otros!ET10","v":9.3702616420899901E-3},{"$f":"EZ$13*Otros!EU10","v":8.2831044132910571E-3},{"$f":"FA$13*Otros!EV10","v":7.2866914774052981E-3},{"$f":"FB$13*Otros!EW10","v":6.3913244514457014E-3},{"$f":"FC$13*Otros!EX10","v":5.5998923562761444E-3},{"$f":"FD$13*Otros!EY10","v":4.9032005589296204E-3},{"$f":"FE$13*Otros!EZ10","v":4.2960965957630813E-3},{"$f":"FF$13*Otros!FA10","v":3.7747073597319478E-3},{"$f":"FG$13*Otros!FB10","v":3.3272775108978761E-3},{"$f":"FH$13*Otros!FC10","v":2.9423038403437467E-3},{"$f":"FI$13*Otros!FD10","v":2.6062242369953395E-3},{"$f":"FJ$13*Otros!FE10","v":2.311113272659275E-3},{"$f":"FK$13*Otros!FF10","v":2.0527524698440696E-3},{"$f":"FL$13*Otros!FG10","v":1.82068988836652E-3},{"$f":"FM$13*Otros!FH10","v":1.6153448984233994E-3},{"$f":"FN$13*Otros!FI10","v":1.4294524426103281E-3},{"$f":"FO$13*Otros!FJ10","v":1.2611226718616312E-3},{"$f":"FP$13*Otros!FK10","v":1.1114691190542236E-3},{"$f":"FQ$13*Otros!FL10","v":9.760169811817576E-4},{"$f":"FR$13*Otros!FM10","v":8.5581599148959963E-4},{"$f":"FS$13*Otros!FN10","v":7.4923094380454757E-4},{"$f":"FT$13*Otros!FO10","v":6.5483241385517284E-4},{"$f":"FU$13*Otros!FP10","v":5.7135082770977711E-4},{"$f":"FV$13*Otros!FQ10","v":4.9764651670293177E-4},{"$f":"FW$13*Otros!FR10","v":4.3269000936259344E-4},{"$f":"FX$13*Otros!FS10","v":3.7646680387611346E-4},{"$f":"FY$13*Otros!FT10","v":3.2777491966478966E-4},{"$f":"FZ$13*Otros!FU10","v":2.8488179533560837E-4},{"$f":"GA$13*Otros!FV10","v":2.4777124388169846E-4},{"$f":"GB$13*Otros!FW10","v":2.1511636167471172E-4},{"$f":"GC$13*Otros!FX10","v":1.8688844652594978E-4},{"$f":"GD$13*Otros!FY10","v":1.6246608127115907E-4},{"$f":"GE$13*Otros!FZ10","v":1.4098051442561614E-4},{"$f":"GF$13*Otros!GA10","v":1.2240450504793506E-4},{"$f":"GG$13*Otros!GB10","v":1.0608052154989072E-4},{"$f":"GH$13*Otros!GC10","v":9.1870674323900998E-5},{"$f":"GI$13*Otros!GD10","v":7.9507179350421555E-5},{"$f":"GJ$13*Otros!GE10","v":6.8678000417284638E-5},{"$f":"GK$13*Otros!GF10","v":5.90800003393905E-5},{"$f":"GL$13*Otros!GG10","v":5.0730256825570458E-5},{"$f":"GM$13*Otros!GH10","v":4.3480844825806985E-5},{"$f":"GN$13*Otros!GI10","v":3.7199219482359785E-5},{"$f":"GO$13*Otros!GJ10","v":3.1766927128721479E-5},{"$f":"GP$13*Otros!GK10","v":2.707838013584071E-5},{"$f":"GQ$13*Otros!GL10","v":2.303969916678325E-5},{"$f":"GR$13*Otros!GM10","v":1.9547005832924748E-5},{"$f":"GS$13*Otros!GN10","v":1.6536499620108017E-5},{"$f":"GT$13*Otros!GO10","v":1.3964594511732441E-5},{"$f":"GU$13*Otros!GP10","v":1.1747206345368172E-5},{"$f":"GV$13*Otros!GQ10","v":9.864429390800774E-6},{"$f":"GW$13*Otros!GR10","v":8.2772692003337611E-6},{"$f":"GX$13*Otros!GS10","v":6.9402184533199286E-6},{"$f":"GY$13*Otros!GT10","v":5.8087337353800265E-6}]
[5,75.739135147170487,5.2741010549629399,-7.3159339125965204,-20.313104716753401,61.199855755900728,0.29384342714342671,0.17003729748545612,3.0892163413589366,2.2168428519026526,0.29243039861049208,{"$f":"4*M27/(M27+15*N27+3*O27)","v":0.17231524779743937},{"$f":"SUMPRODUCT($P27:$HH27,Otros!$C$26:$GU$26)*(100/$E$13)","v":27.051433351505562},{"$f":"SUMPRODUCT($P27:$HH27,Otros!$C$27:$GU$27)*(100/$E$13)","v":30.605383791553564},{"$f":"SUMPRODUCT($P27:$HH27,Otros!$C$28:$GU$28)*(100/$E$13)","v":47.27332587121461},{"$f":"G$13*Otros!B11","v":0},{"$f":"H$13*Otros!C11","v":0},{"$f":"I$13*Otros!D11","v":0},{"$f":"J$13*Otros!E11","v":0},{"$f":"K$13*Otros!F11","v":0},{"$f":"L$13*Otros!G11","v":2.4103503187777807E-4},{"$f":"M$13*Otros!H11","v":3.100198809735886E-4},{"$f":"N$13*Otros!I11","v":4.030333684095254E-4},{"$f":"O$13*Otros!J11","v":5.3111390051044621E-4},{"$f":"P$13*Otros!K11","v":7.1218753164817945E-4},{"$f":"Q$13*Otros!L11","v":9.7542999667479553E-4},{"$f":"R$13*Otros!M11","v":1.3680114661854682E-3},{"$f":"S$13*Otros!N11","v":1.9592740346938832E-3},{"$f":"T$13*Otros!O11","v":2.8573308877981683E-3},{"$f":"U$13*Otros!P11","v":4.2173013251232761E-3},{"$f":"V$13*Otros!Q11","v":6.2485488254768956E-3},{"$f":"W$13*Otros!R11","v":9.2209193065287843E-3},{"$f":"X$13*Otros!S11","v":1.3491926933112887E-2},{"$f":"Y$13*Otros!T11","v":1.9495864053208516E-2},{"$f":"Z$13*Otros!U11","v":2.7723259867374461E-2},{"$f":"AA$13*Otros!V11","v":3.8670514407801608E-2},{"$f":"AB$13*Otros!W11","v":5.281272403893942E-2},{"$f":"AC$13*Otros!X11","v":7.0526134406244639E-2},{"$f":"AD$13*Otros!Y11","v":9.2007356359975478E-2},{"$f":"AE$13*Otros!Z11","v":0.11719119315133664},{"$f":"AF$13*Otros!AA11","v":0.14568115744499704},{"$f":"AG$13*Otros!AB11","v":0.17691915755416612},{"$f":"AH$13*Otros!AC11","v":0.2096306728391602},{"$f":"AI$13*Otros!AD11","v":0.24264514420096919},{"$f":"AJ$13*Otros!AE11","v":0.27439550415496622},{"$f":"AK$13*Otros!AF11","v":0.30287505431935668},{"$f":"AL$13*Otros!AG11","v":0.32605099684005451},{"$f":"AM$13*Otros!AH11","v":0.34288760396202189},{"$f":"AN$13*Otros!AI11","v":0.35286872988368534},{"$f":"AO$13*Otros!AJ11","v":0.35561620530545918},{"$f":"AP$13*Otros!AK11","v":0.35087911073900702},{"$f":"AQ$13*Otros!AL11","v":0.33969993708817597},{"$f":"AR$13*Otros!AM11","v":0.32275390585283009},{"$f":"AS$13*Otros!AN11","v":0.30188472856059617},{"$f":"AT$13*Otros!AO11","v":0.27843464124966505},{"$f":"AU$13*Otros!AP11","v":0.25329937630850591},{"$f":"AV$13*Otros!AQ11","v":0.22799337320335805},{"$f":"AW$13*Otros!AR11","v":0.20327484933806908},{"$f":"AX$13*Otros!AS11","v":0.17957635856827478},{"$f":"AY$13*Otros!AT11","v":0.15758179372797043},{"$f":"AZ$13*Otros!AU11","v":0.13799632673793244},{"$f":"BA$13*Otros!AV11","v":0.12070156840345388},{"$f":"BB$13*Otros!AW11","v":0.10599989488289768},{"$f":"BC$13*Otros!AX11","v":9.3717486918280274E-2},{"$f":"BD$13*Otros!AY11","v":8.3766192667092468E-2},{"$f":"BE$13*Otros!AZ11","v":7.6102794415178282E-2},{"$f":"BF$13*Otros!BA11","v":7.0443705162190326E-2},{"$f":"BG$13*Otros!BB11","v":6.679647005329617E-2},{"$f":"BH$13*Otros!BC11","v":6.4955899946156206E-2},{"$f":"BI$13*Otros!BD11","v":6.4795657391661432E-2},{"$f":"BJ$13*Otros!BE11","v":6.626349382722628E-2},{"$f":"BK$13*Otros!BF11","v":6.9068215303750624E-2},{"$f":"BL$13*Otros!BG11","v":7.3311530022302007E-2},{"$f":"BM$13*Otros!BH11","v":7.8849201053093509E-2},{"$f":"BN$13*Otros!BI11","v":8.5595172496578831E-2},{"$f":"BO$13*Otros!BJ11","v":9.3531994872265212E-2},{"$f":"BP$13*Otros!BK11","v":0.10253809703149343},{"$f":"BQ$13*Otros!BL11","v":0.11243984632763168},{"$f":"BR$13*Otros!BM11","v":0.12287839800113748},{"$f":"BS$13*Otros!BN11","v":0.13351391174639779},{"$f":"BT$13*Otros!BO11","v":0.14409003010225641},{"$f":"BU$13*Otros!BP11","v":0.15405220830603622},{"$f":"BV$13*Otros!BQ11","v":0.1631314264923992},{"$f":"BW$13*Otros!BR11","v":0.17096518528672702},{"$f":"BX$13*Otros!BS11","v":0.17726780207890042},{"$f":"BY$13*Otros!BT11","v":0.18186236072346124},{"$f":"BZ$13*Otros!BU11","v":0.18450902744206463},{"$f":"CA$13*Otros!BV11","v":0.18547735695882983},{"$f":"CB$13*Otros!BW11","v":0.18487672329219906},{"$f":"CC$13*Otros!BX11","v":0.18300433625864226},{"$f":"CD$13*Otros!BY11","v":0.18030945074061838},{"$f":"CE$13*Otros!BZ11","v":0.1771543751151593},{"$f":"CF$13*Otros!CA11","v":0.17387353925911869},{"$f":"CG$13*Otros!CB11","v":0.17064943461155554},{"$f":"CH$13*Otros!CC11","v":0.16768540163835602},{"$f":"CI$13*Otros!CD11","v":0.16519536610275318},{"$f":"CJ$13*Otros!CE11","v":0.16303381807730433},{"$f":"CK$13*Otros!CF11","v":0.16136444003146708},{"$f":"CL$13*Otros!CG11","v":0.16011646295597406},{"$f":"CM$13*Otros!CH11","v":0.15919097590637574},{"$f":"CN$13*Otros!CI11","v":0.15847752459324713},{"$f":"CO$13*Otros!CJ11","v":0.15786723698765412},{"$f":"CP$13*Otros!CK11","v":0.1572618384949343},{"$f":"CQ$13*Otros!CL11","v":0.1564801910923537},{"$f":"CR$13*Otros!CM11","v":0.15545463878902549},{"$f":"CS$13*Otros!CN11","v":0.15423530325532325},{"$f":"CT$13*Otros!CO11","v":0.15319319241323121},{"$f":"CU$13*Otros!CP11","v":0.15190971835018177},{"$f":"CV$13*Otros!CQ11","v":0.14996734824574945},{"$f":"CW$13*Otros!CR11","v":0.14736058242131764},{"$f":"CX$13*Otros!CS11","v":0.14450077047537963},{"$f":"CY$13*Otros!CT11","v":0.14160162658812744},{"$f":"CZ$13*Otros!CU11","v":0.13847223133488684},{"$f":"DA$13*Otros!CV11","v":0.13532884375564355},{"$f":"DB$13*Otros!CW11","v":0.13218378178448245},{"$f":"DC$13*Otros!CX11","v":0.12885033671617899},{"$f":"DD$13*Otros!CY11","v":0.12495290153732305},{"$f":"DE$13*Otros!CZ11","v":0.12091080353587634},{"$f":"DF$13*Otros!DA11","v":0.11655279314263829},{"$f":"DG$13*Otros!DB11","v":0.11190791351367556},{"$f":"DH$13*Otros!DC11","v":0.10719176480742122},{"$f":"DI$13*Otros!DD11","v":0.10296982059733892},{"$f":"DJ$13*Otros!DE11","v":9.8696829149972562E-2},{"$f":"DK$13*Otros!DF11","v":9.456497315434613E-2},{"$f":"DL$13*Otros!DG11","v":9.0579851807875769E-2},{"$f":"DM$13*Otros!DH11","v":8.658044961125301E-2},{"$f":"DN$13*Otros!DI11","v":8.2582738484531099E-2},{"$f":"DO$13*Otros!DJ11","v":7.8602073534131858E-2},{"$f":"DP$13*Otros!DK11","v":7.4954745638372816E-2},{"$f":"DQ$13*Otros!DL11","v":7.1625036322947727E-2},{"$f":"DR$13*Otros!DM11","v":6.8313729073797139E-2},{"$f":"DS$13*Otros!DN11","v":6.5168225528869084E-2},{"$f":"DT$13*Otros!DO11","v":6.20537326905456E-2},{"$f":"DU$13*Otros!DP11","v":5.9043845423486618E-2},{"$f":"DV$13*Otros!DQ11","v":5.6141598011950428E-2},{"$f":"DW$13*Otros!DR11","v":5.3292578408643418E-2},{"$f":"DX$13*Otros!DS11","v":5.0728423478385652E-2},{"$f":"DY$13*Otros!DT11","v":4.8220824226398631E-2},{"$f":"DZ$13*Otros!DU11","v":4.5733095123135302E-2},{"$f":"EA$13*Otros!DV11","v":4.3286980177146814E-2},{"$f":"EB$13*Otros!DW11","v":4.095025567175796E-2},{"$f":"EC$13*Otros!DX11","v":3.8738605048757216E-2},{"$f":"ED$13*Otros!DY11","v":3.6667368889452233E-2},{"$f":"EE$13*Otros!DZ11","v":3.482907204875809E-2},{"$f":"EF$13*Otros!EA11","v":3.3223774216778419E-2},{"$f":"EG$13*Otros!EB11","v":3.1776170986930599E-2},{"$f":"EH$13*Otros!EC11","v":3.0486461873916175E-2},{"$f":"EI$13*Otros!ED11","v":2.934599936059161E-2},{"$f":"EJ$13*Otros!EE11","v":2.8368643018844536E-2},{"$f":"EK$13*Otros!EF11","v":2.752303124884814E-2},{"$f":"EL$13*Otros!EG11","v":2.6739124481366328E-2},{"$f":"EM$13*Otros!EH11","v":2.5974219958199096E-2},{"$f":"EN$13*Otros!EI11","v":2.5183384631872321E-2},{"$f":"EO$13*Otros!EJ11","v":2.4324185024757194E-2},{"$f":"EP$13*Otros!EK11","v":2.33615468456621E-2},{"$f":"EQ$13*Otros!EL11","v":2.2271980261638236E-2},{"$f":"ER$13*Otros!EM11","v":2.1142675137789058E-2},{"$f":"ES$13*Otros!EN11","v":1.9871515732175153E-2},{"$f":"ET$13*Otros!EO11","v":1.8498856646409483E-2},{"$f":"EU$13*Otros!EP11","v":1.7051240354690536E-2},{"$f":"EV$13*Otros!EQ11","v":1.5545992297173858E-2},{"$f":"EW$13*Otros!ER11","v":1.4026866674047856E-2},{"$f":"EX$13*Otros!ES11","v":1.2536759377651471E-2},{"$f":"EY$13*Otros!ET11","v":1.1113566133641619E-2},{"$f":"EZ$13*Otros!EU11","v":9.7871975420472327E-3},{"$f":"FA$13*Otros!EV11","v":8.578003891122692E-3},{"$f":"FB$13*Otros!EW11","v":7.4965910859062374E-3},{"$f":"FC$13*Otros!EX11","v":6.5447873444319203E-3},{"$f":"FD$13*Otros!EY11","v":5.7173851535858309E-3},{"$f":"FE$13*Otros!EZ11","v":5.0042443862734791E-3},{"$f":"FF$13*Otros!FA11","v":4.3923867458699022E-3},{"$f":"FG$13*Otros!FB11","v":3.8678099585166652E-3},{"$f":"FH$13*Otros!FC11","v":3.4168689758830605E-3},{"$f":"FI$13*Otros!FD11","v":3.0302773491905433E-3},{"$f":"FJ$13*Otros!FE11","v":2.6962988181024874E-3},{"$f":"FK$13*Otros!FF11","v":2.4029278911704109E-3},{"$f":"FL$13*Otros!FG11","v":2.1305490829828877E-3},{"$f":"FM$13*Otros!FH11","v":1.8896130603336953E-3},{"$f":"FN$13*Otros!FI11","v":1.6721580681120815E-3},{"$f":"FO$13*Otros!FJ11","v":1.4757503566268147E-3},{"$f":"FP$13*Otros!FK11","v":1.3010726746575912E-3},{"$f":"FQ$13*Otros!FL11","v":1.1456085842949E-3},{"$f":"FR$13*Otros!FM11","v":1.0072608640928661E-3},{"$f":"FS$13*Otros!FN11","v":8.8334149460488434E-4},{"$f":"FT$13*Otros!FO11","v":7.7260802785790168E-4},{"$f":"FU$13*Otros!FP11","v":6.7460700139226686E-4},{"$f":"FV$13*Otros!FQ11","v":5.892231154182412E-4},{"$f":"FW$13*Otros!FR11","v":5.137535877589918E-4},{"$f":"FX$13*Otros!FS11","v":4.476282119258666E-4},{"$f":"FY$13*Otros!FT11","v":3.8973237399167064E-4},{"$f":"FZ$13*Otros!FU11","v":3.3873140299050993E-4},{"$f":"GA$13*Otros!FV11","v":2.9449209887155643E-4},{"$f":"GB$13*Otros!FW11","v":2.5558121126158104E-4},{"$f":"GC$13*Otros!FX11","v":2.2142218121009268E-4},{"$f":"GD$13*Otros!FY11","v":1.9149179603063473E-4},{"$f":"GE$13*Otros!FZ11","v":1.6531643655860943E-4},{"$f":"GF$13*Otros!GA11","v":1.4304583078125429E-4},{"$f":"GG$13*Otros!GB11","v":1.2355406540331899E-4},{"$f":"GH$13*Otros!GC11","v":1.0652749866690487E-4},{"$f":"GI$13*Otros!GD11","v":9.1683135959514693E-5},{"$f":"GJ$13*Otros!GE11","v":7.8766294263891436E-5},{"$f":"GK$13*Otros!GF11","v":6.7416036221544149E-5},{"$f":"GL$13*Otros!GG11","v":5.7599392599954027E-5},{"$f":"GM$13*Otros!GH11","v":4.9173056634686007E-5},{"$f":"GN$13*Otros!GI11","v":4.1945466679127612E-5},{"$f":"GO$13*Otros!GJ11","v":3.5716328879859823E-5},{"$f":"GP$13*Otros!GK11","v":3.0416015415177996E-5},{"$f":"GQ$13*Otros!GL11","v":2.5855390350821584E-5},{"$f":"GR$13*Otros!GM11","v":2.1918214346412458E-5},{"$f":"GS$13*Otros!GN11","v":1.8529893180183929E-5},{"$f":"GT$13*Otros!GO11","v":1.5637436562617057E-5},{"$f":"GU$13*Otros!GP11","v":1.3148584695697361E-5},{"$f":"GV$13*Otros!GQ11","v":1.1036339907269875E-5},{"$f":"GW$13*Otros!GR11","v":9.2470623029422392E-6},{"$f":"GX$13*Otros!GS11","v":7.7341964581941197E-6},{"$f":"GY$13*Otros!GT11","v":6.4574248124275416E-6}]
[6,71.440137763256345,6.2086657036399249,-34.74817363335567,-12.434828486700098,59.656133960700117,0.2582332147315165,0.17953518333262045,{"$f":"(4-L28-10*K28)/K28","v":4.8818472655957201},2.2337174588664421,0.25657355459076808,0.18171154818920393,{"$f":"SUMPRODUCT($P28:$HH28,Otros!$C$26:$GU$26)*(100/$E$13)","v":30.62545911572747},{"$f":"SUMPRODUCT($P28:$HH28,Otros!$C$27:$GU$27)*(100/$E$13)","v":28.828411419453886},{"$f":"SUMPRODUCT($P28:$HH28,Otros!$C$28:$GU$28)*(100/$E$13)","v":70.367950729764715},{"$f":"G$13*Otros!B12","v":0},{"$f":"H$13*Otros!C12","v":0},{"$f":"I$13*Otros!D12","v":0},{"$f":"J$13*Otros!E12","v":0},{"$f":"K$13*Otros!F12","v":0},{"$f":"L$13*Otros!G12","v":2.0604607563745546E-4},{"$f":"M$13*Otros!H12","v":2.9386054354832431E-4},{"$f":"N$13*Otros!I12","v":4.1933060987923022E-4},{"$f":"O$13*Otros!J12","v":6.0086300339618718E-4},{"$f":"P$13*Otros!K12","v":8.6938823441121333E-4},{"$f":"Q$13*Otros!L12","v":1.27771980395101E-3},{"$f":"R$13*Otros!M12","v":1.8815607036508858E-3},{"$f":"S$13*Otros!N12","v":2.8224507073212582E-3},{"$f":"T$13*Otros!O12","v":4.2488998888854336E-3},{"$f":"U$13*Otros!P12","v":6.3884009991155358E-3},{"$f":"V$13*Otros!Q12","v":9.6372602574753361E-3},{"$f":"W$13*Otros!R12","v":1.4352611437769976E-2},{"$f":"X$13*Otros!S12","v":2.1190804965262554E-2},{"$f":"Y$13*Otros!T12","v":3.0789936475606263E-2},{"$f":"Z$13*Otros!U12","v":4.3875220764210993E-2},{"$f":"AA$13*Otros!V12","v":6.1327165487219122E-2},{"$f":"AB$13*Otros!W12","v":8.379747849646127E-2},{"$f":"AC$13*Otros!X12","v":0.11195916719533246},{"$f":"AD$13*Otros!Y12","v":0.14613260287645438},{"$f":"AE$13*Otros!Z12","v":0.18622258791376661},{"$f":"AF$13*Otros!AA12","v":0.23160687006974082},{"$f":"AG$13*Otros!AB12","v":0.28106978066194604},{"$f":"AH$13*Otros!AC12","v":0.3328041983594478},{"$f":"AI$13*Otros!AD12","v":0.38435447048520155},{"$f":"AJ$13*Otros!AE12","v":0.43302041098580918},{"$f":"AK$13*Otros!AF12","v":0.47619661719575157},{"$f":"AL$13*Otros!AG12","v":0.5117241247765264},{"$f":"AM$13*Otros!AH12","v":0.5372036121366226},{"$f":"AN$13*Otros!AI12","v":0.55085842447905631},{"$f":"AO$13*Otros!AJ12","v":0.55216193312562889},{"$f":"AP$13*Otros!AK12","v":0.54191329325246651},{"$f":"AQ$13*Otros!AL12","v":0.51945314912273344},{"$f":"AR$13*Otros!AM12","v":0.48870144785994968},{"$f":"AS$13*Otros!AN12","v":0.45160784918758007},{"$f":"AT$13*Otros!AO12","v":0.41062078406516256},{"$f":"AU$13*Otros!AP12","v":0.36831457867431044},{"$f":"AV$13*Otros!AQ12","v":0.32587349044084324},{"$f":"AW$13*Otros!AR12","v":0.28564426963704137},{"$f":"AX$13*Otros!AS12","v":0.24835800576117642},{"$f":"AY$13*Otros!AT12","v":0.21471209851467579},{"$f":"AZ$13*Otros!AU12","v":0.18525065202288202},{"$f":"BA$13*Otros!AV12","v":0.15972583103167751},{"$f":"BB$13*Otros!AW12","v":0.13827201168033398},{"$f":"BC$13*Otros!AX12","v":0.12053300142336484},{"$f":"BD$13*Otros!AY12","v":0.10623905985235604},{"$f":"BE$13*Otros!AZ12","v":9.5174338075849463E-2},{"$f":"BF$13*Otros!BA12","v":8.6827536636721853E-2},{"$f":"BG$13*Otros!BB12","v":8.1135146902302724E-2},{"$f":"BH$13*Otros!BC12","v":7.7785544459672465E-2},{"$f":"BI$13*Otros!BD12","v":7.6528841410505033E-2},{"$f":"BJ$13*Otros!BE12","v":7.7175620495671657E-2},{"$f":"BK$13*Otros!BF12","v":7.9340914949597802E-2},{"$f":"BL$13*Otros!BG12","v":8.3041905593062751E-2},{"$f":"BM$13*Otros!BH12","v":8.8132264127580726E-2},{"$f":"BN$13*Otros!BI12","v":9.4472626469933596E-2},{"$f":"BO$13*Otros!BJ12","v":0.10191137455815823},{"$f":"BP$13*Otros!BK12","v":0.11026459437708483},{"$f":"BQ$13*Otros!BL12","v":0.11929928058383177},{"$f":"BR$13*Otros!BM12","v":0.12884453895362036},{"$f":"BS$13*Otros!BN12","v":0.13858572783148543},{"$f":"BT$13*Otros!BO12","v":0.14802300859139986},{"$f":"BU$13*Otros!BP12","v":0.15643882422681937},{"$f":"BV$13*Otros!BQ12","v":0.16370612200596077},{"$f":"BW$13*Otros!BR12","v":0.16957874688602373},{"$f":"BX$13*Otros!BS12","v":0.17382922296762007},{"$f":"BY$13*Otros!BT12","v":0.17625221077826447},{"$f":"BZ$13*Otros!BU12","v":0.17666571989916713},{"$f":"CA$13*Otros!BV12","v":0.17539390420205081},{"$f":"CB$13*Otros!BW12","v":0.17288313839507857},{"$f":"CC$13*Otros!BX12","v":0.16945928687634659},{"$f":"CD$13*Otros!BY12","v":0.1652836631789002},{"$f":"CE$13*Otros!BZ12","v":0.16090079781089114},{"$f":"CF$13*Otros!CA12","v":0.15642899009002947},{"$f":"CG$13*Otros!CB12","v":0.15211908049307082},{"$f":"CH$13*Otros!CC12","v":0.14814559013091735},{"$f":"CI$13*Otros!CD12","v":0.14460444228257999},{"$f":"CJ$13*Otros!CE12","v":0.14152046285195721},{"$f":"CK$13*Otros!CF12","v":0.13886155472783426},{"$f":"CL$13*Otros!CG12","v":0.136744548410311},{"$f":"CM$13*Otros!CH12","v":0.13507976071244646},{"$f":"CN$13*Otros!CI12","v":0.13358075335805422},{"$f":"CO$13*Otros!CJ12","v":0.13215218185065719},{"$f":"CP$13*Otros!CK12","v":0.130709870729185},{"$f":"CQ$13*Otros!CL12","v":0.12938192122434533},{"$f":"CR$13*Otros!CM12","v":0.12812086278711882},{"$f":"CS$13*Otros!CN12","v":0.12669328481687267},{"$f":"CT$13*Otros!CO12","v":0.1250741788058026},{"$f":"CU$13*Otros!CP12","v":0.12324941815478083},{"$f":"CV$13*Otros!CQ12","v":0.12172146558157713},{"$f":"CW$13*Otros!CR12","v":0.12049373590251387},{"$f":"CX$13*Otros!CS12","v":0.11906049398323534},{"$f":"CY$13*Otros!CT12","v":0.11742573912186179},{"$f":"CZ$13*Otros!CU12","v":0.11559597089505903},{"$f":"DA$13*Otros!CV12","v":0.1140830208148394},{"$f":"DB$13*Otros!CW12","v":0.11288614949673274},{"$f":"DC$13*Otros!CX12","v":0.11150509908130875},{"$f":"DD$13*Otros!CY12","v":0.10975062544761732},{"$f":"DE$13*Otros!CZ12","v":0.10783150988415895},{"$f":"DF$13*Otros!DA12","v":0.10594839966818513},{"$f":"DG$13*Otros!DB12","v":0.10410257164675533},{"$f":"DH$13*Otros!DC12","v":0.10210939664844866},{"$f":"DI$13*Otros!DD12","v":9.9978619822944384E-2},{"$f":"DJ$13*Otros!DE12","v":9.7720511595431478E-2},{"$f":"DK$13*Otros!DF12","v":9.5432541715395183E-2},{"$f":"DL$13*Otros!DG12","v":9.3119473821180701E-2},{"$f":"DM$13*Otros!DH12","v":9.070332816416983E-2},{"$f":"DN$13*Otros!DI12","v":8.8195157604839036E-2},{"$f":"DO$13*Otros!DJ12","v":8.5606218700539638E-2},{"$f":"DP$13*Otros!DK12","v":8.2947907648098687E-2},{"$f":"DQ$13*Otros!DL12","v":8.0231710748719445E-2},{"$f":"DR$13*Otros!DM12","v":7.746917730018231E-2},{"$f":"DS$13*Otros!DN12","v":7.4671925085162488E-2},{"$f":"DT$13*Otros!DO12","v":7.1851690483789643E-2},{"$f":"DU$13*Otros!DP12","v":6.9208673222216507E-2},{"$f":"DV$13*Otros!DQ12","v":6.6732081666937865E-2},{"$f":"DW$13*Otros!DR12","v":6.4239162081770176E-2},{"$f":"DX$13*Otros!DS12","v":6.1854527216316055E-2},{"$f":"DY$13*Otros!DT12","v":5.9474102726343354E-2},{"$f":"DZ$13*Otros!DU12","v":5.7216514841554142E-2},{"$f":"EA$13*Otros!DV12","v":5.5088176759658145E-2},{"$f":"EB$13*Otros!DW12","v":5.3007830952886699E-2},{"$f":"EC$13*Otros!DX12","v":5.1001496803565152E-2},{"$f":"ED$13*Otros!DY12","v":4.9096285596349896E-2},{"$f":"EE$13*Otros!DZ12","v":4.7279283324105997E-2},{"$f":"EF$13*Otros!EA12","v":4.5579100682881957E-2},{"$f":"EG$13*Otros!EB12","v":4.4053327959153787E-2},{"$f":"EH$13*Otros!EC12","v":4.2847715207759179E-2},{"$f":"EI$13*Otros!ED12","v":4.180799908906202E-2},{"$f":"EJ$13*Otros!EE12","v":4.091568855975064E-2},{"$f":"EK$13*Otros!EF12","v":4.0136443284034547E-2},{"$f":"EL$13*Otros!EG12","v":3.942110923538579E-2},{"$f":"EM$13*Otros!EH12","v":3.8590269652181521E-2},{"$f":"EN$13*Otros!EI12","v":3.770312442028885E-2},{"$f":"EO$13*Otros!EJ12","v":3.6694770551633712E-2},{"$f":"EP$13*Otros!EK12","v":3.5509551205406394E-2},{"$f":"EQ$13*Otros!EL12","v":3.4107946914965992E-2},{"$f":"ER$13*Otros!EM12","v":3.247168536520504E-2},{"$f":"ES$13*Otros!EN12","v":3.0606185046158786E-2},{"$f":"ET$13*Otros!EO12","v":2.8539902708987604E-2},{"$f":"EU$13*Otros!EP12","v":2.6320706587777343E-2},{"$f":"EV$13*Otros!EQ12","v":2.4009921436746295E-2},{"$f":"EW$13*Otros!ER12","v":2.1613141144559388E-2},{"$f":"EX$13*Otros!ES12","v":1.927251825380193E-2},{"$f":"EY$13*Otros!ET12","v":1.7033537636202349E-2},{"$f":"EZ$13*Otros!EU12","v":1.4945601441372993E-2},{"$f":"FA$13*Otros!EV12","v":1.3051479038643666E-2},{"$f":"FB$13*Otros!EW12","v":1.1381042663539277E-2},{"$f":"FC$13*Otros!EX12","v":9.9144496183697986E-3},{"$f":"FD$13*Otros!EY12","v":8.6544806913456396E-3},{"$f":"FE$13*Otros!EZ12","v":7.5798041280557404E-3},{"$f":"FF$13*Otros!FA12","v":6.6572111617090703E-3},{"$f":"FG$13*Otros!FB12","v":5.8657780426779648E-3},{"$f":"FH$13*Otros!FC12","v":5.1850635179295414E-3},{"$f":"FI$13*Otros!FD12","v":4.5995833921319181E-3},{"$f":"FJ$13*Otros!FE12","v":4.0922549437867536E-3},{"$f":"FK$13*Otros!FF12","v":3.6466543876053467E-3},{"$f":"FL$13*Otros!FG12","v":3.2738226631191416E-3},{"$f":"FM$13*Otros!FH12","v":2.9393980938524152E-3},{"$f":"FN$13*Otros!FI12","v":2.6396329063190717E-3},{"$f":"FO$13*Otros!FJ12","v":2.3697856779935108E-3},{"$f":"FP$13*Otros!FK12","v":2.1248674334860156E-3},{"$f":"FQ$13*Otros!FL12","v":1.9047329029918225E-3},{"$f":"FR$13*Otros!FM12","v":1.7045171231924684E-3},{"$f":"FS$13*Otros!FN12","v":1.5226017867531558E-3},{"$f":"FT$13*Otros!FO12","v":1.3575602440714554E-3},{"$f":"FU$13*Otros!FP12","v":1.2080972320851308E-3},{"$f":"FV$13*Otros!FQ12","v":1.0730126467892512E-3},{"$f":"FW$13*Otros!FR12","v":9.5118107897592015E-4},{"$f":"FX$13*Otros!FS12","v":8.4108193256224372E-4},{"$f":"FY$13*Otros!FT12","v":7.4189054987542627E-4},{"$f":"FZ$13*Otros!FU12","v":6.5314362833041918E-4},{"$f":"GA$13*Otros!FV12","v":5.7451580393980204E-4},{"$f":"GB$13*Otros!FW12","v":5.0437477033439689E-4},{"$f":"GC$13*Otros!FX12","v":4.4171580899913496E-4},{"$f":"GD$13*Otros!FY12","v":3.8590564388269317E-4},{"$f":"GE$13*Otros!FZ12","v":3.3650706121828619E-4},{"$f":"GF$13*Otros!GA12","v":2.9287587351681634E-4},{"$f":"GG$13*Otros!GB12","v":2.5441975553963279E-4},{"$f":"GH$13*Otros!GC12","v":2.2059582724941317E-4},{"$f":"GI$13*Otros!GD12","v":1.909080957888408E-4},{"$f":"GJ$13*Otros!GE12","v":1.6490480326184165E-4},{"$f":"GK$13*Otros!GF12","v":1.4204340507130057E-4},{"$f":"GL$13*Otros!GG12","v":1.2212422536588493E-4},{"$f":"GM$13*Otros!GH12","v":1.0480366448112552E-4},{"$f":"GN$13*Otros!GI12","v":8.9773034585018764E-5},{"$f":"GO$13*Otros!GJ12","v":7.6755764467775683E-5},{"$f":"GP$13*Otros!GK12","v":6.550472022142818E-5},{"$f":"GQ$13*Otros!GL12","v":5.5799653986290136E-5},{"$f":"GR$13*Otros!GM12","v":4.7444789474219249E-5},{"$f":"GS$13*Otros!GN12","v":4.0266549913533462E-5},{"$f":"GT$13*Otros!GO12","v":3.4111431385429764E-5},{"$f":"GU$13*Otros!GP12","v":2.8770906827193209E-5},{"$f":"GV$13*Otros!GQ12","v":2.4222880849104793E-5},{"$f":"GW$13*Otros!GR12","v":2.0357148197737609E-5},{"$f":"GX$13*Otros!GS12","v":1.707761619412432E-5},{"$f":"GY$13*Otros!GT12","v":1.4300689653092957E-5}]
[7,83.75542951866359,3.5314283655079155,-32.532314266747335,8.0673616477140193,59.400357430577444,0.26090980581757184,0.20601634440695737,4.6239712547711651,2.0785484794790552,0.25930646013033465,0.20790978087752077,{"$f":"SUMPRODUCT($P29:$HH29,Otros!$C$26:$GU$26)*(100/$E$13)","v":34.325667264804913},{"$f":"SUMPRODUCT($P29:$HH29,Otros!$C$27:$GU$27)*(100/$E$13)","v":28.540800189006827},{"$f":"SUMPRODUCT($P29:$HH29,Otros!$C$28:$GU$28)*(100/$E$13)","v":65.985919831067505},{"$f":"G$13*Otros!B13","v":0},{"$f":"H$13*Otros!C13","v":0},{"$f":"I$13*Otros!D13","v":0},{"$f":"J$13*Otros!E13","v":0},{"$f":"K$13*Otros!F13","v":0},{"$f":"L$13*Otros!G13","v":4.074269571095346E-4},{"$f":"M$13*Otros!H13","v":5.3146265309758048E-4},{"$f":"N$13*Otros!I13","v":7.0052269682477201E-4},{"$f":"O$13*Otros!J13","v":9.3055510435366472E-4},{"$f":"P$13*Otros!K13","v":1.2507708089406608E-3},{"$f":"Q$13*Otros!L13","v":1.7171307609195284E-3},{"$f":"R$13*Otros!M13","v":2.4090603448505086E-3},{"$f":"S$13*Otros!N13","v":3.4514611253253342E-3},{"$f":"T$13*Otros!O13","v":5.0288299792217283E-3},{"$f":"U$13*Otros!P13","v":7.4061870151975861E-3},{"$f":"V$13*Otros!Q13","v":1.0949651390099012E-2},{"$f":"W$13*Otros!R13","v":1.610925128067521E-2},{"$f":"X$13*Otros!S13","v":2.3499628802602965E-2},{"$f":"Y$13*Otros!T13","v":3.3833900379824693E-2},{"$f":"Z$13*Otros!U13","v":4.7908937982891864E-2},{"$f":"AA$13*Otros!V13","v":6.6546498720173944E-2},{"$f":"AB$13*Otros!W13","v":9.0245918550055815E-2},{"$f":"AC$13*Otros!X13","v":0.11967162417778934},{"$f":"AD$13*Otros!Y13","v":0.15508857891874947},{"$f":"AE$13*Otros!Z13","v":0.19630582535097546},{"$f":"AF$13*Otros!AA13","v":0.24251114832161186},{"$f":"AG$13*Otros!AB13","v":0.29170599191966678},{"$f":"AH$13*Otros!AC13","v":0.34235541836454569},{"$f":"AI$13*Otros!AD13","v":0.39176783564292794},{"$f":"AJ$13*Otros!AE13","v":0.43717791862452077},{"$f":"AK$13*Otros!AF13","v":0.47619661719575157},{"$f":"AL$13*Otros!AG13","v":0.50573466903664022},{"$f":"AM$13*Otros!AH13","v":0.52469231985978726},{"$f":"AN$13*Otros!AI13","v":0.53129895868233612},{"$f":"AO$13*Otros!AJ13","v":0.52545085044012918},{"$f":"AP$13*Otros!AK13","v":0.50877471057156021},{"$f":"AQ$13*Otros!AL13","v":0.48170871166849155},{"$f":"AR$13*Otros!AM13","v":0.44756614613360857},{"$f":"AS$13*Otros!AN13","v":0.40836534095003635},{"$f":"AT$13*Otros!AO13","v":0.36650939486133471},{"$f":"AU$13*Otros!AP13","v":0.32443594655787628},{"$f":"AV$13*Otros!AQ13","v":0.28360439276771937},{"$f":"AW$13*Otros!AR13","v":0.24555020124435117},{"$f":"AX$13*Otros!AS13","v":0.21088198954657433},{"$f":"AY$13*Otros!AT13","v":0.18007093304317903},{"$f":"AZ$13*Otros!AU13","v":0.15340534585258991},{"$f":"BA$13*Otros!AV13","v":0.13099302790754333},{"$f":"BB$13*Otros!AW13","v":0.1122779111730742},{"$f":"BC$13*Otros!AX13","v":9.686420545714225E-2},{"$f":"BD$13*Otros!AY13","v":8.4455793284690814E-2},{"$f":"BE$13*Otros!AZ13","v":7.4819132822633097E-2},{"$f":"BF$13*Otros!BA13","v":6.7498677603751805E-2},{"$f":"BG$13*Otros!BB13","v":6.234763951309101E-2},{"$f":"BH$13*Otros!BC13","v":5.9115771208768653E-2},{"$f":"BI$13*Otros!BD13","v":5.7551422403773818E-2},{"$f":"BJ$13*Otros!BE13","v":5.7407275081821335E-2},{"$f":"BK$13*Otros!BF13","v":5.8498234960756748E-2},{"$f":"BL$13*Otros!BG13","v":6.0665554551277222E-2},{"$f":"BM$13*Otros!BH13","v":6.39584100805487E-2},{"$f":"BN$13*Otros!BI13","v":6.8294459869436261E-2},{"$f":"BO$13*Otros!BJ13","v":7.3376189681873927E-2},{"$f":"BP$13*Otros!BK13","v":7.9458301734662382E-2},{"$f":"BQ$13*Otros!BL13","v":8.6044743309773783E-2},{"$f":"BR$13*Otros!BM13","v":9.3107957288748114E-2},{"$f":"BS$13*Otros!BN13","v":0.10044830558128102},{"$f":"BT$13*Otros!BO13","v":0.10762059320292598},{"$f":"BU$13*Otros!BP13","v":0.11432660136654861},{"$f":"BV$13*Otros!BQ13","v":0.12027556105252382},{"$f":"BW$13*Otros!BR13","v":0.12538602286360567},{"$f":"BX$13*Otros!BS13","v":0.1294896502168997},{"$f":"BY$13*Otros!BT13","v":0.13230603620755663},{"$f":"BZ$13*Otros!BU13","v":0.13343187832124426},{"$f":"CA$13*Otros!BV13","v":0.13331488019779983},{"$f":"CB$13*Otros!BW13","v":0.13231946914953274},{"$f":"CC$13*Otros!BX13","v":0.13067562029970142},{"$f":"CD$13*Otros!BY13","v":0.12844624851146202},{"$f":"CE$13*Otros!BZ13","v":0.12647014292966041},{"$f":"CF$13*Otros!CA13","v":0.12439965391071814},{"$f":"CG$13*Otros!CB13","v":0.12262178210038092},{"$f":"CH$13*Otros!CC13","v":0.12127834930818915},{"$f":"CI$13*Otros!CD13","v":0.1202697141314662},{"$f":"CJ$13*Otros!CE13","v":0.12019418028074358},{"$f":"CK$13*Otros!CF13","v":0.12048419839653411},{"$f":"CL$13*Otros!CG13","v":0.12128892750108219},{"$f":"CM$13*Otros!CH13","v":0.12254952289512884},{"$f":"CN$13*Otros!CI13","v":0.12400507211374927},{"$f":"CO$13*Otros!CJ13","v":0.12538506207776326},{"$f":"CP$13*Otros!CK13","v":0.12680516958716304},{"$f":"CQ$13*Otros!CL13","v":0.12810091210331223},{"$f":"CR$13*Otros!CM13","v":0.12921421382719511},{"$f":"CS$13*Otros!CN13","v":0.13019863261813003},{"$f":"CT$13*Otros!CO13","v":0.13061735353128134},{"$f":"CU$13*Otros!CP13","v":0.13084490407228994},{"$f":"CV$13*Otros!CQ13","v":0.13086581608436673},{"$f":"CW$13*Otros!CR13","v":0.13067057170509103},{"$f":"CX$13*Otros!CS13","v":0.13025421563977885},{"$f":"CY$13*Otros!CT13","v":0.12961526221409658},{"$f":"CZ$13*Otros!CU13","v":0.12875488176752636},{"$f":"DA$13*Otros!CV13","v":0.12787770206076438},{"$f":"DB$13*Otros!CW13","v":0.12698441971731672},{"$f":"DC$13*Otros!CX13","v":0.12587686740734411},{"$f":"DD$13*Otros!CY13","v":0.12554137674079552},{"$f":"DE$13*Otros!CZ13","v":0.12497991711641065},{"$f":"DF$13*Otros!DA13","v":0.12476880970843082},{"$f":"DG$13*Otros!DB13","v":0.12488546987072366},{"$f":"DH$13*Otros!DC13","v":0.12474903662932643},{"$f":"DI$13*Otros!DD13","v":0.12490529294289879},{"$f":"DJ$13*Otros!DE13","v":0.1247911346986164},{"$f":"DK$13*Otros!DF13","v":0.12475635907885299},{"$f":"DL$13*Otros!DG13","v":0.12478009492038215},{"$f":"DM$13*Otros!DH13","v":0.12451093229808767},{"$f":"DN$13*Otros!DI13","v":0.12459570447083625},{"$f":"DO$13*Otros!DJ13","v":0.1243624886213294},{"$f":"DP$13*Otros!DK13","v":0.12366778958443804},{"$f":"DQ$13*Otros!DL13","v":0.12253570368895335},{"$f":"DR$13*Otros!DM13","v":0.12113362268755778},{"$f":"DS$13*Otros!DN13","v":0.11920354586322303},{"$f":"DT$13*Otros!DO13","v":0.11705293576995549},{"$f":"DU$13*Otros!DP13","v":0.11451117736223493},{"$f":"DV$13*Otros!DQ13","v":0.11162129079546414},{"$f":"DW$13*Otros!DR13","v":0.10860163275707335},{"$f":"DX$13*Otros!DS13","v":0.10514718829558979},{"$f":"DY$13*Otros!DT13","v":0.10164760439436048},{"$f":"DZ$13*Otros!DU13","v":9.8085454014092813E-2},{"$f":"EA$13*Otros!DV13","v":9.4505128907722308E-2},{"$f":"EB$13*Otros!DW13","v":9.1000568159462142E-2},{"$f":"EC$13*Otros!DX13","v":8.7530181430077833E-2},{"$f":"ED$13*Otros!DY13","v":8.4235847448741616E-2},{"$f":"EE$13*Otros!DZ13","v":8.1162769706381963E-2},{"$f":"EF$13*Otros!EA13","v":7.8350850760656593E-2},{"$f":"EG$13*Otros!EB13","v":7.5829498946084387E-2},{"$f":"EH$13*Otros!EC13","v":7.354251281202101E-2},{"$f":"EI$13*Otros!ED13","v":7.1555998440894622E-2},{"$f":"EJ$13*Otros!EE13","v":6.983549378581845E-2},{"$f":"EK$13*Otros!EF13","v":6.832002728285505E-2},{"$f":"EL$13*Otros!EG13","v":6.692420870193401E-2},{"$f":"EM$13*Otros!EH13","v":6.5425349471852356E-2},{"$f":"EN$13*Otros!EI13","v":6.3836282415420359E-2},{"$f":"EO$13*Otros!EJ13","v":6.2047521114580645E-2},{"$f":"EP$13*Otros!EK13","v":5.9965753388979519E-2},{"$f":"EQ$13*Otros!EL13","v":5.7525343304345625E-2},{"$f":"ER$13*Otros!EM13","v":5.4600537614085509E-2},{"$f":"ES$13*Otros!EN13","v":5.1310369047972086E-2},{"$f":"ET$13*Otros!EO13","v":4.7705384820132563E-2},{"$f":"EU$13*Otros!EP13","v":4.3867844312962236E-2},{"$f":"EV$13*Otros!EQ13","v":3.9901380229412906E-2},{"$f":"EW$13*Otros!ER13","v":3.5887722903358642E-2},{"$f":"EX$13*Otros!ES13","v":3.1974234991685661E-2},{"$f":"EY$13*Otros!ET13","v":2.8231847738183279E-2},{"$f":"EZ$13*Otros!EU13","v":2.4743391188552313E-2},{"$f":"FA$13*Otros!EV13","v":2.1583364629276455E-2},{"$f":"FB$13*Otros!EW13","v":1.8773514428807928E-2},{"$f":"FC$13*Otros!EX13","v":1.6313334060218843E-2},{"$f":"FD$13*Otros!EY13","v":1.419093593500787E-2},{"$f":"FE$13*Otros!EZ13","v":1.2374226946770584E-2},{"$f":"FF$13*Otros!FA13","v":1.0820827764564915E-2},{"$f":"FG$13*Otros!FB13","v":9.5013592459213727E-3},{"$f":"FH$13*Otros!FC13","v":8.3699228719933821E-3},{"$f":"FI$13*Otros!FD13","v":7.4008101551732266E-3},{"$f":"FJ$13*Otros!FE13","v":6.5645451468087923E-3},{"$f":"FK$13*Otros!FF13","v":5.8322320172628558E-3},{"$f":"FL$13*Otros!FG13","v":5.1864018298891359E-3},{"$f":"FM$13*Otros!FH13","v":4.6133796337876707E-3},{"$f":"FN$13*Otros!FI13","v":4.1042358188296537E-3},{"$f":"FO$13*Otros!FJ13","v":3.650150831937538E-3},{"$f":"FP$13*Otros!FK13","v":3.2428746061817343E-3},{"$f":"FQ$13*Otros!FL13","v":2.8772888310488222E-3},{"$f":"FR$13*Otros!FM13","v":2.5491526207314917E-3},{"$f":"FS$13*Otros!FN13","v":2.2557394644616632E-3},{"$f":"FT$13*Otros!FO13","v":1.9935485596861914E-3},{"$f":"FU$13*Otros!FP13","v":1.75879682505841E-3},{"$f":"FV$13*Otros!FQ13","v":1.5477650138133556E-3},{"$f":"FW$13*Otros!FR13","v":1.3596572921941348E-3},{"$f":"FX$13*Otros!FS13","v":1.1922979142271544E-3},{"$f":"FY$13*Otros!FT13","v":1.0436833112741047E-3},{"$f":"FZ$13*Otros!FU13","v":9.1196916189752674E-4},{"$f":"GA$13*Otros!FV13","v":7.9546023431119502E-4},{"$f":"GB$13*Otros!FW13","v":6.9260158679976952E-4},{"$f":"GC$13*Otros!FX13","v":6.0197039478829468E-4},{"$f":"GD$13*Otros!FY13","v":5.2226806221580032E-4},{"$f":"GE$13*Otros!FZ13","v":4.5231248378218517E-4},{"$f":"GF$13*Otros!GA13","v":3.9160780919227339E-4},{"$f":"GG$13*Otros!GB13","v":3.3844147704760696E-4},{"$f":"GH$13*Otros!GC13","v":2.9154335377931597E-4},{"$f":"GI$13*Otros!GD13","v":2.5033403326904161E-4},{"$f":"GJ$13*Otros!GE13","v":2.1457024989129044E-4},{"$f":"GK$13*Otros!GF13","v":1.8372358448206878E-4},{"$f":"GL$13*Otros!GG13","v":1.5703294815373585E-4},{"$f":"GM$13*Otros!GH13","v":1.3398222921571549E-4},{"$f":"GN$13*Otros!GI13","v":1.1411276379921273E-4},{"$f":"GO$13*Otros!GJ13","v":9.701791258231154E-5},{"$f":"GP$13*Otros!GK13","v":8.2279965364532063E-5},{"$f":"GQ$13*Otros!GL13","v":6.9657751465991851E-5},{"$f":"GR$13*Otros!GM13","v":5.886782874789046E-5},{"$f":"GS$13*Otros!GN13","v":4.9661500431456458E-5},{"$f":"GT$13*Otros!GO13","v":4.1821051272115383E-5},{"$f":"GU$13*Otros!GP13","v":3.5107574150420859E-5},{"$f":"GV$13*Otros!GQ13","v":2.9420049226489502E-5},{"$f":"GW$13*Otros!GR13","v":2.4610626717950228E-5},{"$f":"GX$13*Otros!GS13","v":2.0551269965448901E-5},{"$f":"GY$13*Otros!GT13","v":1.7131341625663934E-5}]
[8,64.502945648930222,7.7167509458847334,-21.035909636223202,20.064646341346499,60.699898132314516,0.27638079297022894,0.22099646042880977,3.7399946340714334,1.9774723275454087,0.2749077951029677,0.22276837042081496,{"$f":"SUMPRODUCT($P30:$HH30,Otros!$C$26:$GU$26)*(100/$E$13)","v":36.492116668364709},{"$f":"SUMPRODUCT($P30:$HH30,Otros!$C$27:$GU$27)*(100/$E$13)","v":30.022117631241102},{"$f":"SUMPRODUCT($P30:$HH30,Otros!$C$28:$GU$28)*(100/$E$13)","v":56.141279422151555},{"$f":"G$13*Otros!B14","v":0},{"$f":"H$13*Otros!C14","v":0},{"$f":"I$13*Otros!D14","v":0},{"$f":"J$13*Otros!E14","v":0},{"$f":"K$13*Otros!F14","v":0},{"$f":"L$13*Otros!G14","v":1.3218050135232993E-4},{"$f":"M$13*Otros!H14","v":1.975030129754522E-4},{"$f":"N$13*Otros!I14","v":2.923156009645467E-4},{"$f":"O$13*Otros!J14","v":4.3516635410176865E-4},{"$f":"P$13*Otros!K14","v":6.5477510107385406E-4},{"$f":"Q$13*Otros!L14","v":9.9412833526920058E-4},{"$f":"R$13*Otros!M14","v":1.5598295175307854E-3},{"$f":"S$13*Otros!N14","v":2.4699557602021428E-3},{"$f":"T$13*Otros!O14","v":3.8471725569720746E-3},{"$f":"U$13*Otros!P14","v":5.894123717154017E-3},{"$f":"V$13*Otros!Q14","v":9.0496224368975722E-3},{"$f":"W$13*Otros!R14","v":1.3534766002712455E-2},{"$f":"X$13*Otros!S14","v":2.0065778077249404E-2},{"$f":"Y$13*Otros!T14","v":2.9207558414286364E-2},{"$f":"Z$13*Otros!U14","v":4.160198182317474E-2},{"$f":"AA$13*Otros!V14","v":5.8124392821542296E-2},{"$f":"AB$13*Otros!W14","v":7.8864421855461428E-2},{"$f":"AC$13*Otros!X14","v":0.10463233306199841},{"$f":"AD$13*Otros!Y14","v":0.13539655706177769},{"$f":"AE$13*Otros!Z14","v":0.17078042708335581},{"$f":"AF$13*Otros!AA14","v":0.21023448469607356},{"$f":"AG$13*Otros!AB14","v":0.25189918146997936},{"$f":"AH$13*Otros!AC14","v":0.29447527652080846},{"$f":"AI$13*Otros!AD14","v":0.33559733810169301},{"$f":"AJ$13*Otros!AE14","v":0.3728964543644413},{"$f":"AK$13*Otros!AF14","v":0.40441698004492138},{"$f":"AL$13*Otros!AG14","v":0.42787174441811981},{"$f":"AM$13*Otros!AH14","v":0.44219598640940339},{"$f":"AN$13*Otros!AI14","v":0.4468739175393503},{"$f":"AO$13*Otros!AJ14","v":0.44192888293845461},{"$f":"AP$13*Otros!AK14","v":0.42787758226228917},{"$f":"AQ$13*Otros!AL14","v":0.40528556850619019},{"$f":"AR$13*Otros!AM14","v":0.37672201538268779},{"$f":"AS$13*Otros!AN14","v":0.34415184187548847},{"$f":"AT$13*Otros!AO14","v":0.30951984840672497},{"$f":"AU$13*Otros!AP14","v":0.27457386460738298},{"$f":"AV$13*Otros!AQ14","v":0.24003652393704142},{"$f":"AW$13*Otros!AR14","v":0.20784515765226172},{"$f":"AX$13*Otros!AS14","v":0.1787596899340583},{"$f":"AY$13*Otros!AT14","v":0.15308396586492873},{"$f":"AZ$13*Otros!AU14","v":0.13080545115109229},{"$f":"BA$13*Otros!AV14","v":0.11171884941433533},{"$f":"BB$13*Otros!AW14","v":9.5778661749304508E-2},{"$f":"BC$13*Otros!AX14","v":8.2817983573526516E-2},{"$f":"BD$13*Otros!AY14","v":7.2529759074460701E-2},{"$f":"BE$13*Otros!AZ14","v":6.4549840082271701E-2},{"$f":"BF$13*Otros!BA14","v":5.8562042254007331E-2},{"$f":"BG$13*Otros!BB14","v":5.4410157685962385E-2},{"$f":"BH$13*Otros!BC14","v":5.1970932859837074E-2},{"$f":"BI$13*Otros!BD14","v":5.1050185876182361E-2},{"$f":"BJ$13*Otros!BE14","v":5.1397698076010835E-2},{"$f":"BK$13*Otros!BF14","v":5.268474577211011E-2},{"$f":"BL$13*Otros!BG14","v":5.4974865589316073E-2},{"$f":"BM$13*Otros!BH14","v":5.8312792129125858E-2},{"$f":"BN$13*Otros!BI14","v":6.263766361664741E-2},{"$f":"BO$13*Otros!BJ14","v":6.7714446650865123E-2},{"$f":"BP$13*Otros!BK14","v":7.3526345708047058E-2},{"$f":"BQ$13*Otros!BL14","v":7.9843814742168909E-2},{"$f":"BR$13*Otros!BM14","v":8.6719967986089663E-2},{"$f":"BS$13*Otros!BN14","v":9.3993266927533126E-2},{"$f":"BT$13*Otros!BO14","v":0.1011848102206912},{"$f":"BU$13*Otros!BP14","v":0.10785964209732971},{"$f":"BV$13*Otros!BQ14","v":0.11387181104426658},{"$f":"BW$13*Otros!BR14","v":0.11906039766039682},{"$f":"BX$13*Otros!BS14","v":0.12324591446220641},{"$f":"BY$13*Otros!BT14","v":0.12622837376692683},{"$f":"BZ$13*Otros!BU14","v":0.12759722271006438},{"$f":"CA$13*Otros!BV14","v":0.12778837243687283},{"$f":"CB$13*Otros!BW14","v":0.12715150167353773},{"$f":"CC$13*Otros!BX14","v":0.12590074677644611},{"$f":"CD$13*Otros!BY14","v":0.12408392309031803},{"$f":"CE$13*Otros!BZ14","v":0.12214226731609788},{"$f":"CF$13*Otros!CA14","v":0.12011001067241751},{"$f":"CG$13*Otros!CB14","v":0.11855644930908071},{"$f":"CH$13*Otros!CC14","v":0.11761463465054441},{"$f":"CI$13*Otros!CD14","v":0.11699388534189319},{"$f":"CJ$13*Otros!CE14","v":0.1171074814875416},{"$f":"CK$13*Otros!CF14","v":0.11757757571148154},{"$f":"CL$13*Otros!CG14","v":0.11855592136469416},{"$f":"CM$13*Otros!CH14","v":0.11998651970522299},{"$f":"CN$13*Otros!CI14","v":0.12161115180267303},{"$f":"CO$13*Otros!CJ14","v":0.12354827242512062},{"$f":"CP$13*Otros!CK14","v":0.12553614171600591},{"$f":"CQ$13*Otros!CL14","v":0.12770675545068663},{"$f":"CR$13*Otros!CM14","v":0.13000937821997785},{"$f":"CS$13*Otros!CN14","v":0.13220168850456279},{"$f":"CT$13*Otros!CO14","v":0.13404404336157733},{"$f":"CU$13*Otros!CP14","v":0.13570601505949573},{"$f":"CV$13*Otros!CQ14","v":0.13696204975289314},{"$f":"CW$13*Otros!CR14","v":0.13779435676689508},{"$f":"CX$13*Otros!CS14","v":0.13839510411726502},{"$f":"CY$13*Otros!CT14","v":0.13855424581506876},{"$f":"CZ$13*Otros!CU14","v":0.13847223133488684},{"$f":"DA$13*Otros!CV14","v":0.13834957687518917},{"$f":"DB$13*Otros!CW14","v":0.13818304570813519},{"$f":"DC$13*Otros!CX14","v":0.13777074464268371},{"$f":"DD$13*Otros!CY14","v":0.13750703921140259},{"$f":"DE$13*Otros!CZ14","v":0.13699349054465476},{"$f":"DF$13*Otros!DA14","v":0.13671069425173393},{"$f":"DG$13*Otros!DB14","v":0.13664050280283244},{"$f":"DH$13*Otros!DC14","v":0.13629987335426405},{"$f":"DI$13*Otros!DD14","v":0.13750459317443939},{"$f":"DJ$13*Otros!DE14","v":0.13837082432086983},{"$f":"DK$13*Otros!DF14","v":0.1398520520411064},{"$f":"DL$13*Otros!DG14","v":0.14188021647663532},{"$f":"DM$13*Otros!DH14","v":0.143476173641505},{"$f":"DN$13*Otros!DI14","v":0.14528147779997122},{"$f":"DO$13*Otros!DJ14","v":0.14662010548346971},{"$f":"DP$13*Otros!DK14","v":0.14855216187886763},{"$f":"DQ$13*Otros!DL14","v":0.15098149204531749},{"$f":"DR$13*Otros!DM14","v":0.1528255588558142},{"$f":"DS$13*Otros!DN14","v":0.15382416567543472},{"$f":"DT$13*Otros!DO14","v":0.15428517538428282},{"$f":"DU$13*Otros!DP14","v":0.15410380909679397},{"$f":"DV$13*Otros!DQ14","v":0.15332132018697717},{"$f":"DW$13*Otros!DR14","v":0.15209989945818231},{"$f":"DX$13*Otros!DS14","v":0.14981684241173612},{"$f":"DY$13*Otros!DT14","v":0.14723915794320194},{"$f":"DZ$13*Otros!DU14","v":0.14421971663830827},{"$f":"EA$13*Otros!DV14","v":0.14084990900908259},{"$f":"EB$13*Otros!DW14","v":0.13741085792078783},{"$f":"EC$13*Otros!DX14","v":0.13302854306452422},{"$f":"ED$13*Otros!DY14","v":0.12883129609807542},{"$f":"EE$13*Otros!DZ14","v":0.12465971036455949},{"$f":"EF$13*Otros!EA14","v":0.12061510775751076},{"$f":"EG$13*Otros!EB14","v":0.11699408408824449},{"$f":"EH$13*Otros!EC14","v":0.11354297303838939},{"$f":"EI$13*Otros!ED14","v":0.11054999759126978},{"$f":"EJ$13*Otros!EE14","v":0.107898107390531},{"$f":"EK$13*Otros!EF14","v":0.10549971063844191},{"$f":"EL$13*Otros!EG14","v":0.10328941799659223},{"$f":"EM$13*Otros!EH14","v":0.10086902790624061},{"$f":"EN$13*Otros!EI14","v":9.8315933602829558E-2},{"$f":"EO$13*Otros!EJ14","v":9.5434202502847371E-2},{"$f":"EP$13*Otros!EK14","v":9.2084542937929809E-2},{"$f":"EQ$13*Otros!EL14","v":8.8197041836087411E-2},{"$f":"ER$13*Otros!EM14","v":8.3680735841146894E-2},{"$f":"ES$13*Otros!EN14","v":7.8608385563406352E-2},{"$f":"ET$13*Otros!EO14","v":7.3016320434307697E-2},{"$f":"EU$13*Otros!EP14","v":6.7041509895679238E-2},{"$f":"EV$13*Otros!EQ14","v":6.0888469830597612E-2},{"$f":"EW$13*Otros!ER14","v":5.4698587151667852E-2},{"$f":"EX$13*Otros!ES14","v":4.8676167715201599E-2},{"$f":"EY$13*Otros!ET14","v":4.2953085666841459E-2},{"$f":"EZ$13*Otros!EU14","v":3.7644697039432753E-2},{"$f":"FA$13*Otros!EV14","v":3.2836229948813744E-2},{"$f":"FB$13*Otros!EW14","v":2.8560730568741068E-2},{"$f":"FC$13*Otros!EX14","v":2.4817388953620827E-2},{"$f":"FD$13*Otros!EY14","v":2.1572876259890843E-2},{"$f":"FE$13*Otros!EZ14","v":1.8784275835686925E-2},{"$f":"FF$13*Otros!FA14","v":1.6402819254107918E-2},{"$f":"FG$13*Otros!FB14","v":1.4370155218546905E-2},{"$f":"FH$13*Otros!FC14","v":1.2630463199946335E-2},{"$f":"FI$13*Otros!FD14","v":1.1133715653767503E-2},{"$f":"FJ$13*Otros!FE14","v":9.8372563768865835E-3},{"$f":"FK$13*Otros!FF14","v":8.7060854750445529E-3},{"$f":"FL$13*Otros!FG14","v":7.6994667462260231E-3},{"$f":"FM$13*Otros!FH14","v":6.8113079381998363E-3},{"$f":"FN$13*Otros!FI14","v":6.0241210081435253E-3},{"$f":"FO$13*Otros!FJ14","v":5.3242467731059711E-3},{"$f":"FP$13*Otros!FK14","v":4.7008605682352161E-3},{"$f":"FQ$13*Otros!FL14","v":4.1544174340845258E-3},{"$f":"FR$13*Otros!FM14","v":3.666185607248202E-3},{"$f":"FS$13*Otros!FN14","v":3.2302761336107763E-3},{"$f":"FT$13*Otros!FO14","v":2.8415329805058396E-3},{"$f":"FU$13*Otros!FP14","v":2.4953575306601709E-3},{"$f":"FV$13*Otros!FQ14","v":2.186391294328014E-3},{"$f":"FW$13*Otros!FR14","v":1.9123635085332143E-3},{"$f":"FX$13*Otros!FS14","v":1.6697680069480789E-3},{"$f":"FY$13*Otros!FT14","v":1.4554005884140232E-3},{"$f":"FZ$13*Otros!FU14","v":1.2663343219491371E-3},{"$f":"GA$13*Otros!FV14","v":1.099296504180723E-3},{"$f":"GB$13*Otros!FW14","v":9.526208783386202E-4},{"$f":"GC$13*Otros!FX14","v":8.2384399736680752E-4},{"$f":"GD$13*Otros!FY14","v":7.1103260987977288E-4},{"$f":"GE$13*Otros!FZ14","v":6.1259390196845113E-4},{"$f":"GF$13*Otros!GA14","v":5.2685901347283371E-4},{"$f":"GG$13*Otros!GB14","v":4.5232932670222095E-4},{"$f":"GH$13*Otros!GC14","v":3.8766238298524702E-4},{"$f":"GI$13*Otros!GD14","v":3.3165851957604422E-4},{"$f":"GJ$13*Otros!GE14","v":2.8324825030857508E-4},{"$f":"GK$13*Otros!GF14","v":2.4148040452270472E-4},{"$f":"GL$13*Otros!GG14","v":2.0551102931557399E-4},{"$f":"GM$13*Otros!GH14","v":1.7459305128074312E-4},{"$f":"GN$13*Otros!GI14","v":1.4806668605301331E-4},{"$f":"GO$13*Otros!GJ14","v":1.2535057731873881E-4},{"$f":"GP$13*Otros!GK14","v":1.05933641474618E-4},{"$f":"GQ$13*Otros!GL14","v":8.9367589754260211E-5},{"$f":"GR$13*Otros!GM14","v":7.5260096297653304E-5},{"$f":"GS$13*Otros!GN14","v":6.3268578211105085E-5},{"$f":"GT$13*Otros!GO14","v":5.3094552049816054E-5},{"$f":"GU$13*Otros!GP14","v":4.4478530249578658E-5},{"$f":"GV$13*Otros!GQ14","v":3.7195420740106226E-5},{"$f":"GW$13*Otros!GR14","v":3.1050393197552137E-5},{"$f":"GX$13*Otros!GS14","v":2.5875176051703515E-5},{"$f":"GY$13*Otros!GT14","v":2.152474937475847E-5}]
[9,-19.836927101826888,26.051505891701499,10.861921314823542,76.188337676200973,35.515341818450544,0.32656489853973869,0.36058633803039963,1.1653539692952049,1.3045137203768808,0.32586797531847606,0.36156870831166127,{"$f":"SUMPRODUCT($P31:$HH31,Otros!$C$26:$GU$26)*(100/$E$13)","v":15.42691115477386},{"$f":"SUMPRODUCT($P31:$HH31,Otros!$C$27:$GU$27)*(100/$E$13)","v":9.269121263098782},{"$f":"SUMPRODUCT($P31:$HH31,Otros!$C$28:$GU$28)*(100/$E$13)","v":5.4009036279153744},{"$f":"G$13*Otros!B15","v":0},{"$f":"H$13*Otros!C15","v":0},{"$f":"I$13*Otros!D15","v":0},{"$f":"J$13*Otros!E15","v":0},{"$f":"K$13*Otros!F15","v":0},{"$f":"L$13*Otros!G15","v":4.5096876931971385E-5},{"$f":"M$13*Otros!H15","v":5.6657429984877195E-5},{"$f":"N$13*Otros!I15","v":7.1914811564729173E-5},{"$f":"O$13*Otros!J15","v":9.2545151145958599E-5},{"$f":"P$13*Otros!K15","v":1.2120402010135363E-4},{"$f":"Q$13*Otros!L15","v":1.6205226781817688E-4},{"$f":"R$13*Otros!M15","v":2.2669406068082961E-4},{"$f":"S$13*Otros!N15","v":3.2384694788328649E-4},{"$f":"T$13*Otros!O15","v":4.6868188723225173E-4},{"$f":"U$13*Otros!P15","v":6.8295301862424823E-4},{"$f":"V$13*Otros!Q15","v":9.9898429498219954E-4},{"$f":"W$13*Otros!R15","v":1.4571471483771283E-3},{"$f":"X$13*Otros!S15","v":2.1073264842634315E-3},{"$f":"Y$13*Otros!T15","v":3.0198054605341568E-3},{"$f":"Z$13*Otros!U15","v":4.2730055282636341E-3},{"$f":"AA$13*Otros!V15","v":5.9310604919941123E-3},{"$f":"AB$13*Otros!W15","v":7.9960656664572489E-3},{"$f":"AC$13*Otros!X15","v":1.0540357876024411E-2},{"$f":"AD$13*Otros!Y15","v":1.3573032014409927E-2},{"$f":"AE$13*Otros!Z15","v":1.7063940278353472E-2},{"$f":"AF$13*Otros!AA15","v":2.0936214243592387E-2},{"$f":"AG$13*Otros!AB15","v":2.5063547320173532E-2},{"$f":"AH$13*Otros!AC15","v":2.9273869106533613E-2},{"$f":"AI$13*Otros!AD15","v":3.3360143209768975E-2},{"$f":"AJ$13*Otros!AE15","v":3.7097760468503591E-2},{"$f":"AK$13*Otros!AF15","v":4.02666257187584E-2},{"$f":"AL$13*Otros!AG15","v":4.2300531162946221E-2},{"$f":"AM$13*Otros!AH15","v":4.3398545085273015E-2},{"$f":"AN$13*Otros!AI15","v":4.3509832078418208E-2},{"$f":"AO$13*Otros!AJ15","v":4.2657997721618976E-2},{"$f":"AP$13*Otros!AK15","v":4.0935896252884157E-2},{"$f":"AQ$13*Otros!AL15","v":3.8865559358823215E-2},{"$f":"AR$13*Otros!AM15","v":3.621312887019771E-2},{"$f":"AS$13*Otros!AN15","v":3.283829572926248E-2},{"$f":"AT$13*Otros!AO15","v":2.9012860013255898E-2},{"$f":"AU$13*Otros!AP15","v":2.5263454854916597E-2},{"$f":"AV$13*Otros!AQ15","v":2.1724899362722882E-2},{"$f":"AW$13*Otros!AR15","v":1.8488974543779402E-2},{"$f":"AX$13*Otros!AS15","v":1.5698185968828469E-2},{"$f":"AY$13*Otros!AT15","v":1.3335665067614922E-2},{"$f":"AZ$13*Otros!AU15","v":1.129994735074881E-2},{"$f":"BA$13*Otros!AV15","v":9.5776010413780553E-3},{"$f":"BB$13*Otros!AW15","v":8.1458558475844024E-3},{"$f":"BC$13*Otros!AX15","v":7.0231109418078651E-3},{"$f":"BD$13*Otros!AY15","v":6.1658408161733933E-3},{"$f":"BE$13*Otros!AZ15","v":5.5014068251936108E-3},{"$f":"BF$13*Otros!BA15","v":5.0099319384931135E-3},{"$f":"BG$13*Otros!BB15","v":4.6728723659708862E-3},{"$f":"BH$13*Otros!BC15","v":4.4732900967223779E-3},{"$f":"BI$13*Otros!BD15","v":4.3960742234189793E-3},{"$f":"BJ$13*Otros!BE15","v":4.4281093727024726E-3},{"$f":"BK$13*Otros!BF15","v":4.6243664000598216E-3},{"$f":"BL$13*Otros!BG15","v":4.9178793498429714E-3},{"$f":"BM$13*Otros!BH15","v":5.3046074711355553E-3},{"$f":"BN$13*Otros!BI15","v":5.780667703579853E-3},{"$f":"BO$13*Otros!BJ15","v":6.3411521947298452E-3},{"$f":"BP$13*Otros!BK15","v":7.0784685359611419E-3},{"$f":"BQ$13*Otros!BL15","v":7.9020682631424904E-3},{"$f":"BR$13*Otros!BM15","v":8.798551303661634E-3},{"$f":"BS$13*Otros!BN15","v":9.7484257219866179E-3},{"$f":"BT$13*Otros!BO15","v":1.0726304970391294E-2},{"$f":"BU$13*Otros!BP15","v":1.1548141552176627E-2},{"$f":"BV$13*Otros!BQ15","v":1.2314903862033157E-2},{"$f":"BW$13*Otros!BR15","v":1.3084512406637498E-2},{"$f":"BX$13*Otros!BS15","v":1.3844805369102483E-2},{"$f":"BY$13*Otros!BT15","v":1.449288735842493E-2},{"$f":"BZ$13*Otros!BU15","v":1.4825764257916027E-2},{"$f":"CA$13*Otros!BV15","v":1.5028222858661068E-2},{"$f":"CB$13*Otros!BW15","v":1.5211375967079669E-2},{"$f":"CC$13*Otros!BX15","v":1.539653095253753E-2},{"$f":"CD$13*Otros!BY15","v":1.5510490386289754E-2},{"$f":"CE$13*Otros!BZ15","v":1.5388002181555638E-2},{"$f":"CF$13*Otros!CA15","v":1.5252064847291113E-2},{"$f":"CG$13*Otros!CB15","v":1.5221362311612434E-2},{"$f":"CH$13*Otros!CC15","v":1.5312448440925507E-2},{"$f":"CI$13*Otros!CD15","v":1.5443192865129901E-2},{"$f":"CJ$13*Otros!CE15","v":1.5620566620143328E-2},{"$f":"CK$13*Otros!CF15","v":1.5845781734641448E-2},{"$f":"CL$13*Otros!CG15","v":1.6115312045598334E-2},{"$f":"CM$13*Otros!CH15","v":1.6422205624211688E-2},{"$f":"CN$13*Otros!CI15","v":1.6757442177533687E-2},{"$f":"CO$13*Otros!CJ15","v":1.730449199068591E-2},{"$f":"CP$13*Otros!CK15","v":1.7864007724750455E-2},{"$f":"CQ$13*Otros!CL15","v":1.862390183655847E-2},{"$f":"CR$13*Otros!CM15","v":1.9580923172274948E-2},{"$f":"CS$13*Otros!CN15","v":2.0531322835935891E-2},{"$f":"CT$13*Otros!CO15","v":2.1265633946836702E-2},{"$f":"CU$13*Otros!CP15","v":2.1976272587992965E-2},{"$f":"CV$13*Otros!CQ15","v":2.2759272362498559E-2},{"$f":"CW$13*Otros!CR15","v":2.3610259061979066E-2},{"$f":"CX$13*Otros!CS15","v":2.442266543245853E-2},{"$f":"CY$13*Otros!CT15","v":2.5191681057285229E-2},{"$f":"CZ$13*Otros!CU15","v":2.5912932179627944E-2},{"$f":"DA$13*Otros!CV15","v":2.698521586794083E-2},{"$f":"DB$13*Otros!CW15","v":2.8396515905289726E-2},{"$f":"DC$13*Otros!CX15","v":2.9734693088348998E-2},{"$f":"DD$13*Otros!CY15","v":3.2562294592143839E-2},{"$f":"DE$13*Otros!CZ15","v":3.5265651031297272E-2},{"$f":"DF$13*Otros!DA15","v":3.878724099664848E-2},{"$f":"DG$13*Otros!DB15","v":4.3070440663246563E-2},{"$f":"DH$13*Otros!DC15","v":4.7127413837745533E-2},{"$f":"DI$13*Otros!DD15","v":5.2391334775758705E-2},{"$f":"DJ$13*Otros!DE15","v":5.7336467293958887E-2},{"$f":"DK$13*Otros!DF15","v":6.3679532381000062E-2},{"$f":"DL$13*Otros!DG15","v":7.1278724506758318E-2},{"$f":"DM$13*Otros!DH15","v":7.8334692505419398E-2},{"$f":"DN$13*Otros!DI15","v":8.6751964116759853E-2},{"$f":"DO$13*Otros!DJ15","v":9.4478135911322841E-2},{"$f":"DP$13*Otros!DK15","v":0.10255377672855838},{"$f":"DQ$13*Otros!DL15","v":0.11086563667095778},{"$f":"DR$13*Otros!DM15","v":0.11831656169482391},{"$f":"DS$13*Otros!DN15","v":0.12517729987003604},{"$f":"DT$13*Otros!DO15","v":0.13116199499222692},{"$f":"DU$13*Otros!DP15","v":0.13659771677675916},{"$f":"DV$13*Otros!DQ15","v":0.14146719927770146},{"$f":"DW$13*Otros!DR15","v":0.14547433565602663},{"$f":"DX$13*Otros!DS15","v":0.1474484143883153},{"$f":"DY$13*Otros!DT15","v":0.14876413493618509},{"$f":"DZ$13*Otros!DU15","v":0.14868270508782475},{"$f":"EA$13*Otros!DV15","v":0.14739551197185202},{"$f":"EB$13*Otros!DW15","v":0.14582841047553807},{"$f":"EC$13*Otros!DX15","v":0.14243153780230983},{"$f":"ED$13*Otros!DY15","v":0.13911302453667182},{"$f":"EE$13*Otros!DZ15","v":0.13573094254295429},{"$f":"EF$13*Otros!EA15","v":0.13240540404985957},{"$f":"EG$13*Otros!EB15","v":0.12945178748652977},{"$f":"EH$13*Otros!EC15","v":0.12607783948085377},{"$f":"EI$13*Otros!ED15","v":0.1231794973160906},{"$f":"EJ$13*Otros!EE15","v":0.12054241685035887},{"$f":"EK$13*Otros!EF15","v":0.11808166778077249},{"$f":"EL$13*Otros!EG15","v":0.1158186077535753},{"$f":"EM$13*Otros!EH15","v":0.11321791419493871},{"$f":"EN$13*Otros!EI15","v":0.11046152024814397},{"$f":"EO$13*Otros!EJ15","v":0.10733220386352861},{"$f":"EP$13*Otros!EK15","v":0.10367187017337821},{"$f":"EQ$13*Otros!EL15","v":9.9396666196225517E-2},{"$f":"ER$13*Otros!EM15","v":9.4360312361258775E-2},{"$f":"ES$13*Otros!EN15","v":8.86904229903763E-2},{"$f":"ET$13*Otros!EO15","v":8.2432405123696303E-2},{"$f":"EU$13*Otros!EP15","v":7.5738786855118714E-2},{"$f":"EV$13*Otros!EQ15","v":6.8834199226930931E-2},{"$f":"EW$13*Otros!ER15","v":6.1882324609458368E-2},{"$f":"EX$13*Otros!ES15","v":5.5109504764259583E-2},{"$f":"EY$13*Otros!ET15","v":4.8679356670340901E-2},{"$f":"EZ$13*Otros!EU15","v":4.2718363297701831E-2},{"$f":"FA$13*Otros!EV15","v":3.7309705096334723E-2},{"$f":"FB$13*Otros!EW15","v":3.2477218860416449E-2},{"$f":"FC$13*Otros!EX15","v":2.8242633285685513E-2},{"$f":"FD$13*Otros!EY15","v":2.4576312764622639E-2},{"$f":"FE$13*Otros!EZ15","v":2.1428027586925743E-2},{"$f":"FF$13*Otros!FA15","v":1.8736274712851303E-2},{"$f":"FG$13*Otros!FB15","v":1.6436190351667608E-2},{"$f":"FH$13*Otros!FC15","v":1.4465448390698347E-2},{"$f":"FI$13*Otros!FD15","v":1.2764927260532992E-2},{"$f":"FJ$13*Otros!FE15","v":1.1287848750151448E-2},{"$f":"FK$13*Otros!FF15","v":9.9981120295934665E-3},{"$f":"FL$13*Otros!FG15","v":8.8555620861395061E-3},{"$f":"FM$13*Otros!FH15","v":7.8459609351993684E-3},{"$f":"FN$13*Otros!FI15","v":6.9480762169502009E-3},{"$f":"FO$13*Otros!FJ15","v":6.1472329298607438E-3},{"$f":"FP$13*Otros!FK15","v":5.4331225760827044E-3},{"$f":"FQ$13*Otros!FL15","v":4.7981733152895152E-3},{"$f":"FR$13*Otros!FM15","v":4.2313087560228065E-3},{"$f":"FS$13*Otros!FN15","v":3.7255911012333532E-3},{"$f":"FT$13*Otros!FO15","v":3.2749472400358825E-3},{"$f":"FU$13*Otros!FP15","v":2.8739635008293001E-3},{"$f":"FV$13*Otros!FQ15","v":2.5165490318016298E-3},{"$f":"FW$13*Otros!FR15","v":2.1997707410295352E-3},{"$f":"FX$13*Otros!FS15","v":1.9190624880514075E-3},{"$f":"FY$13*Otros!FT15","v":1.6708526392668545E-3},{"$f":"FZ$13*Otros!FU15","v":1.4522023225644425E-3},{"$f":"GA$13*Otros!FV15","v":1.2605588101134587E-3},{"$f":"GB$13*Otros!FW15","v":1.0922898752997498E-3},{"$f":"GC$13*Otros!FX15","v":9.4482492410341275E-4},{"$f":"GD$13*Otros!FY15","v":8.1583686854150381E-4},{"$f":"GE$13*Otros!FZ15","v":7.0322423267063288E-4},{"$f":"GF$13*Otros!GA15","v":6.050939683501696E-4},{"$f":"GG$13*Otros!GB15","v":5.197449852572917E-4},{"$f":"GH$13*Otros!GC15","v":4.4554621825290718E-4},{"$f":"GI$13*Otros!GD15","v":3.8118013414287818E-4},{"$f":"GJ$13*Otros!GE15","v":3.2554148220396501E-4},{"$f":"GK$13*Otros!GF15","v":2.7753706766376609E-4},{"$f":"GL$13*Otros!GG15","v":2.3619692273392682E-4},{"$f":"GM$13*Otros!GH15","v":2.0066242469115545E-4},{"$f":"GN$13*Otros!GI15","v":1.7017527342257283E-4},{"$f":"GO$13*Otros!GJ15","v":1.4406730735674227E-4},{"$f":"GP$13*Otros!GK15","v":1.2175113040712947E-4},{"$f":"GQ$13*Otros!GL15","v":1.0271151753948536E-4},{"$f":"GR$13*Otros!GM15","v":8.6497562731138524E-5},{"$f":"GS$13*Otros!GN15","v":7.2715530300160512E-5},{"$f":"GT$13*Otros!GO15","v":6.1022368725747492E-5},{"$f":"GU$13*Otros!GP15","v":5.1119845040269167E-5},{"$f":"GV$13*Otros!GQ15","v":4.2749257535546742E-5},{"$f":"GW$13*Otros!GR15","v":3.5686684784583893E-5},{"$f":"GX$13*Otros!GS15","v":2.9738729736135955E-5},{"$f":"GY$13*Otros!GT15","v":2.4738718801948433E-5}]
[10,49.07690401003434,11.070238258688187,64.41144749764635,16.972225181933869,81.313452638346263,0.3639726070011795,0.21162500346341684,0.41583609565271024,1.9489317628880922,0.3635185076129569,0.21365080696715866,{"$f":"SUMPRODUCT($P32:$HH32,Otros!$C$26:$GU$26)*(100/$E$13)","v":53.615219515077797},{"$f":"SUMPRODUCT($P32:$HH32,Otros!$C$27:$GU$27)*(100/$E$13)","v":60.816135325770425},{"$f":"SUMPRODUCT($P32:$HH32,Otros!$C$28:$GU$28)*(100/$E$13)","v":12.644772133277637},{"$f":"G$13*Otros!B16","v":0},{"$f":"H$13*Otros!C16","v":0},{"$f":"I$13*Otros!D16","v":0},{"$f":"J$13*Otros!E16","v":0},{"$f":"K$13*Otros!F16","v":0},{"$f":"L$13*Otros!G16","v":4.5874409292867436E-5},{"$f":"M$13*Otros!H16","v":6.0447891850062638E-5},{"$f":"N$13*Otros!I16","v":8.045146185838409E-5},{"$f":"O$13*Otros!J16","v":1.0819616935446632E-4},{"$f":"P$13*Otros!K16","v":1.476319643339796E-4},{"$f":"Q$13*Otros!L16","v":2.0568172453845531E-4},{"$f":"R$13*Otros!M16","v":2.8947087748475169E-4},{"$f":"S$13*Otros!N16","v":4.1601877151160649E-4},{"$f":"T$13*Otros!O16","v":6.0801974559859687E-4},{"$f":"U$13*Otros!P16","v":8.9820280270426402E-4},{"$f":"V$13*Otros!Q16","v":1.3319790599762662E-3},{"$f":"W$13*Otros!R16","v":1.9697404140117704E-3},{"$f":"X$13*Otros!S16","v":2.8881287274367348E-3},{"$f":"Y$13*Otros!T16","v":4.167331535537137E-3},{"$f":"Z$13*Otros!U16","v":5.8967476290038151E-3},{"$f":"AA$13*Otros!V16","v":8.1848634789518752E-3},{"$f":"AB$13*Otros!W16","v":1.1188043492986556E-2},{"$f":"AC$13*Otros!X16","v":1.4953597149319185E-2},{"$f":"AD$13*Otros!Y16","v":1.9580767496197925E-2},{"$f":"AE$13*Otros!Z16","v":2.5102325368156347E-2},{"$f":"AF$13*Otros!AA16","v":3.1404321365388579E-2},{"$f":"AG$13*Otros!AB16","v":3.8121866092028653E-2},{"$f":"AH$13*Otros!AC16","v":4.515122184228066E-2},{"$f":"AI$13*Otros!AD16","v":5.2463814962371721E-2},{"$f":"AJ$13*Otros!AE16","v":5.9804148341467002E-2},{"$f":"AK$13*Otros!AF16","v":6.6527468578818236E-2},{"$f":"AL$13*Otros!AG16","v":7.1873468878634286E-2},{"$f":"AM$13*Otros!AH16","v":7.5849709428314996E-2},{"$f":"AN$13*Otros!AI16","v":7.8836622343922899E-2},{"$f":"AO$13*Otros!AJ16","v":8.0731257370353679E-2},{"$f":"AP$13*Otros!AK16","v":8.0897128309271066E-2},{"$f":"AQ$13*Otros!AL16","v":7.9412801574518604E-2},{"$f":"AR$13*Otros!AM16","v":7.6469471157941754E-2},{"$f":"AS$13*Otros!AN16","v":7.2666921737526383E-2},{"$f":"AT$13*Otros!AO16","v":6.8239430949545765E-2},{"$f":"AU$13*Otros!AP16","v":6.3158637137291487E-2},{"$f":"AV$13*Otros!AQ16","v":5.7972421669005077E-2},{"$f":"AW$13*Otros!AR16","v":5.2662416256719989E-2},{"$f":"AX$13*Otros!AS16","v":4.7639003662629742E-2},{"$f":"AY$13*Otros!AT16","v":4.3005547111539255E-2},{"$f":"AZ$13*Otros!AU16","v":3.8693759110139864E-2},{"$f":"BA$13*Otros!AV16","v":3.5038552878084932E-2},{"$f":"BB$13*Otros!AW16","v":3.1805156908084324E-2},{"$f":"BC$13*Otros!AX16","v":2.927816379636785E-2},{"$f":"BD$13*Otros!AY16","v":2.742176573508693E-2},{"$f":"BE$13*Otros!AZ16","v":2.6039992305916422E-2},{"$f":"BF$13*Otros!BA16","v":2.5388168607228614E-2},{"$f":"BG$13*Otros!BB16","v":2.528472033641781E-2},{"$f":"BH$13*Otros!BC16","v":2.6000998687198823E-2},{"$f":"BI$13*Otros!BD16","v":2.7583817838495141E-2},{"$f":"BJ$13*Otros!BE16","v":2.9889738265741688E-2},{"$f":"BK$13*Otros!BF16","v":3.3196344514715148E-2},{"$f":"BL$13*Otros!BG16","v":3.741101076844832E-2},{"$f":"BM$13*Otros!BH16","v":4.3118880729659012E-2},{"$f":"BN$13*Otros!BI16","v":5.0539551922726716E-2},{"$f":"BO$13*Otros!BJ16","v":5.9335066964972122E-2},{"$f":"BP$13*Otros!BK16","v":6.9588324480294034E-2},{"$f":"BQ$13*Otros!BL16","v":8.1325452541508123E-2},{"$f":"BR$13*Otros!BM16","v":9.5518519289751302E-2},{"$f":"BS$13*Otros!BN16","v":0.11230449902694044},{"$f":"BT$13*Otros!BO16","v":0.13050337713976076},{"$f":"BU$13*Otros!BP16","v":0.14835512514029575},{"$f":"BV$13*Otros!BQ16","v":0.1665795995737685},{"$f":"BW$13*Otros!BR16","v":0.18448295969358433},{"$f":"BX$13*Otros!BS16","v":0.20151883370582505},{"$f":"BY$13*Otros!BT16","v":0.21739331037637397},{"$f":"BZ$13*Otros!BU16","v":0.23080367196355725},{"$f":"CA$13*Otros!BV16","v":0.24248764754523441},{"$f":"CB$13*Otros!BW16","v":0.2517677740192289},{"$f":"CC$13*Otros!BX16","v":0.25881763424012455},{"$f":"CD$13*Otros!BY16","v":0.2646477422160689},{"$f":"CE$13*Otros!BZ16","v":0.26929003817722369},{"$f":"CF$13*Otros!CA16","v":0.27358391319828429},{"$f":"CG$13*Otros!CB16","v":0.27738805603894956},{"$f":"CH$13*Otros!CC16","v":0.28107267322238727},{"$f":"CI$13*Otros!CD16","v":0.28546508023421935},{"$f":"CJ$13*Otros!CE16","v":0.28977554125271876},{"$f":"CK$13*Otros!CF16","v":0.29497532152178702},{"$f":"CL$13*Otros!CG16","v":0.30053643341177244},{"$f":"CM$13*Otros!CH16","v":0.30632634421578681},{"$f":"CN$13*Otros!CI16","v":0.31264599262655701},{"$f":"CO$13*Otros!CJ16","v":0.31815130246562751},{"$f":"CP$13*Otros!CK16","v":0.32379734220217077},{"$f":"CQ$13*Otros!CL16","v":0.32931788326866879},{"$f":"CR$13*Otros!CM16","v":0.33456541826333747},{"$f":"CS$13*Otros!CN16","v":0.3395179727503545},{"$f":"CT$13*Otros!CO16","v":0.3434752629896658},{"$f":"CU$13*Otros!CP16","v":0.34696179671181521},{"$f":"CV$13*Otros!CQ16","v":0.3496190008899891},{"$f":"CW$13*Otros!CR16","v":0.35140614026299016},{"$f":"CX$13*Otros!CS16","v":0.35260223218112002},{"$f":"CY$13*Otros!CT16","v":0.35298827287929907},{"$f":"CZ$13*Otros!CU16","v":0.35276003377345072},{"$f":"DA$13*Otros!CV16","v":0.35171402621909442},{"$f":"DB$13*Otros!CW16","v":0.34985707448101672},{"$f":"DC$13*Otros!CX16","v":0.34740033091554412},{"$f":"DD$13*Otros!CY16","v":0.34435607323197898},{"$f":"DE$13*Otros!CZ16","v":0.34073982054140795},{"$f":"DF$13*Otros!DA16","v":0.33637900381576186},{"$f":"DG$13*Otros!DB16","v":0.33130384815855379},{"$f":"DH$13*Otros!DC16","v":0.32573359564324117},{"$f":"DI$13*Otros!DD16","v":0.31951462817396098},{"$f":"DJ$13*Otros!DE16","v":0.31286539815976017},{"$f":"DK$13*Otros!DF16","v":0.30590467462589405},{"$f":"DL$13*Otros!DG16","v":0.29865954876465955},{"$f":"DM$13*Otros!DH16","v":0.29107522583592682},{"$f":"DN$13*Otros!DI16","v":0.28318663332753774},{"$f":"DO$13*Otros!DJ16","v":0.27502943353427917},{"$f":"DP$13*Otros!DK16","v":0.26656441230548072},{"$f":"DQ$13*Otros!DL16","v":0.25783554317883933},{"$f":"DR$13*Otros!DM16","v":0.24895776523285859},{"$f":"DS$13*Otros!DN16","v":0.23996841379640851},{"$f":"DT$13*Otros!DO16","v":0.23090520532745124},{"$f":"DU$13*Otros!DP16","v":0.2218693277549933},{"$f":"DV$13*Otros!DQ16","v":0.21289279074628148},{"$f":"DW$13*Otros!DR16","v":0.20395213790983535},{"$f":"DX$13*Otros!DS16","v":0.19498221402115656},{"$f":"DY$13*Otros!DT16","v":0.18615236397104815},{"$f":"DZ$13*Otros!DU16","v":0.17761691110322944},{"$f":"EA$13*Otros!DV16","v":0.16942122705095211},{"$f":"EB$13*Otros!DW16","v":0.1615260084830453},{"$f":"EC$13*Otros!DX16","v":0.15391445764338438},{"$f":"ED$13*Otros!DY16","v":0.14675205972197436},{"$f":"EE$13*Otros!DZ16","v":0.14010427625043412},{"$f":"EF$13*Otros!EA16","v":0.13402515721462316},{"$f":"EG$13*Otros!EB16","v":0.12854905535621924},{"$f":"EH$13*Otros!EC16","v":0.12375142382532715},{"$f":"EI$13*Otros!ED16","v":0.11952799739565168},{"$f":"EJ$13*Otros!EE16","v":0.11580890612950023},{"$f":"EK$13*Otros!EF16","v":0.11248269685243538},{"$f":"EL$13*Otros!EG16","v":0.10940121787804738},{"$f":"EM$13*Otros!EH16","v":0.1063904049487835},{"$f":"EN$13*Otros!EI16","v":0.10326626749618045},{"$f":"EO$13*Otros!EJ16","v":9.9854254410203264E-2},{"$f":"EP$13*Otros!EK16","v":9.6009282808001042E-2},{"$f":"EQ$13*Otros!EL16","v":9.1633290219311603E-2},{"$f":"ER$13*Otros!EM16","v":8.6687373374962184E-2},{"$f":"ES$13*Otros!EN16","v":8.1196408563633013E-2},{"$f":"ET$13*Otros!EO16","v":7.526618137778994E-2},{"$f":"EU$13*Otros!EP16","v":6.9025099377656662E-2},{"$f":"EV$13*Otros!EQ16","v":6.261580230806138E-2},{"$f":"EW$13*Otros!ER16","v":5.6246806431364087E-2},{"$f":"EX$13*Otros!ES16","v":5.0050812383803732E-2},{"$f":"EY$13*Otros!ET16","v":4.4151607504783204E-2},{"$f":"EZ$13*Otros!EU16","v":3.8672140937245067E-2},{"$f":"FA$13*Otros!EV16","v":3.3712477658121978E-2},{"$f":"FB$13*Otros!EW16","v":2.9337620884267678E-2},{"$f":"FC$13*Otros!EX16","v":2.5505216922940104E-2},{"$f":"FD$13*Otros!EY16","v":2.2188037953631088E-2},{"$f":"FE$13*Otros!EZ16","v":1.9340302989717315E-2},{"$f":"FF$13*Otros!FA16","v":1.6906113568738845E-2},{"$f":"FG$13*Otros!FB16","v":1.4818596952867679E-2},{"$f":"FH$13*Otros!FC16","v":1.3031207092179533E-2},{"$f":"FI$13*Otros!FD16","v":1.1495863202138587E-2},{"$f":"FJ$13*Otros!FE16","v":1.0167805674749198E-2},{"$f":"FK$13*Otros!FF16","v":9.0079608382569159E-3},{"$f":"FL$13*Otros!FG16","v":7.9794085013621899E-3},{"$f":"FM$13*Otros!FH16","v":7.0704440635909445E-3},{"$f":"FN$13*Otros!FI16","v":6.2618051379452417E-3},{"$f":"FO$13*Otros!FJ16","v":5.5403546488005696E-3},{"$f":"FP$13*Otros!FK16","v":4.8970021774800794E-3},{"$f":"FQ$13*Otros!FL16","v":4.3251627215725877E-3},{"$f":"FR$13*Otros!FM16","v":3.814581254228584E-3},{"$f":"FS$13*Otros!FN16","v":3.3590222623790995E-3},{"$f":"FT$13*Otros!FO16","v":2.9530272284284229E-3},{"$f":"FU$13*Otros!FP16","v":2.5917299594304948E-3},{"$f":"FV$13*Otros!FQ16","v":2.2695332063195446E-3},{"$f":"FW$13*Otros!FR16","v":1.9839521232209428E-3},{"$f":"FX$13*Otros!FS16","v":1.7312881919717363E-3},{"$f":"FY$13*Otros!FT16","v":1.5081643559698189E-3},{"$f":"FZ$13*Otros!FU16","v":1.3114985090145383E-3},{"$f":"GA$13*Otros!FV16","v":1.1378788876562186E-3},{"$f":"GB$13*Otros!FW16","v":9.8551488509955902E-4},{"$f":"GC$13*Otros!FX16","v":8.5205783289306813E-4},{"$f":"GD$13*Otros!FY16","v":7.3538304172497064E-4},{"$f":"GE$13*Otros!FZ16","v":6.3357314518654878E-4},{"$f":"GF$13*Otros!GA16","v":5.4490213037258826E-4},{"$f":"GG$13*Otros!GB16","v":4.678200570687354E-4},{"$f":"GH$13*Otros!GC16","v":4.0125711860774339E-4},{"$f":"GI$13*Otros!GD16","v":3.4383447618513738E-4},{"$f":"GJ$13*Otros!GE16","v":2.94112566758767E-4},{"$f":"GK$13*Otros!GF16","v":2.5061034858411114E-4},{"$f":"GL$13*Otros!GG16","v":2.1316842657226386E-4},{"$f":"GM$13*Otros!GH16","v":1.8109843620517629E-4},{"$f":"GN$13*Otros!GI16","v":1.5366482377227796E-4},{"$f":"GO$13*Otros!GJ16","v":1.3015854466795073E-4},{"$f":"GP$13*Otros!GK16","v":1.1005489547171273E-4},{"$f":"GQ$13*Otros!GL16","v":9.2893324802099516E-5},{"$f":"GR$13*Otros!GM16","v":7.8249880945094327E-5},{"$f":"GS$13*Otros!GN16","v":6.5781987482505162E-5},{"$f":"GT$13*Otros!GO16","v":5.5203787679192311E-5},{"$f":"GU$13*Otros!GP16","v":4.6245485560863288E-5},{"$f":"GV$13*Otros!GQ16","v":3.8673047043480311E-5},{"$f":"GW$13*Otros!GR16","v":3.2283901968413799E-5},{"$f":"GX$13*Otros!GS16","v":2.690309400444242E-5},{"$f":"GY$13*Otros!GT16","v":2.2379842158139286E-5}]
[11,75.827327413042923,5.2549288232515385,19.95911985367481,-37.212543736849923,50.882503360080051,0.33321271059927743,0.1393120382439704,1.6151116288892133,{"$f":"(1.708*K33-1.481*L33+0.404)/K33","v":2.2919111890510195},0.33216855434350823,0.14182516169339904,{"$f":"SUMPRODUCT($P33:$HH33,Otros!$C$26:$GU$26)*(100/$E$13)","v":12.821521158649958},{"$f":"SUMPRODUCT($P33:$HH33,Otros!$C$27:$GU$27)*(100/$E$13)","v":20.019513683382744},{"$f":"SUMPRODUCT($P33:$HH33,Otros!$C$28:$GU$28)*(100/$E$13)","v":16.166874677369119},{"$f":"G$13*Otros!B17","v":0},{"$f":"H$13*Otros!C17","v":0},{"$f":"I$13*Otros!D17","v":0},{"$f":"J$13*Otros!E17","v":0},{"$f":"K$13*Otros!F17","v":0},{"$f":"L$13*Otros!G17","v":9.8746609833799405E-5},{"$f":"M$13*Otros!H17","v":1.2747921746597367E-4},{"$f":"N$13*Otros!I17","v":1.6633533754000309E-4},{"$f":"O$13*Otros!J17","v":2.1877401539283596E-4},{"$f":"P$13*Otros!K17","v":2.9116304076979313E-4},{"$f":"Q$13*Otros!L17","v":3.9578150024823975E-4},{"$f":"R$13*Otros!M17","v":5.4319384540060334E-4},{"$f":"S$13*Otros!N17","v":7.6104032752572328E-4},{"$f":"T$13*Otros!O17","v":1.08574954571178E-3},{"$f":"U$13*Otros!P17","v":1.5678687976198693E-3},{"$f":"V$13*Otros!Q17","v":2.2721995729006895E-3},{"$f":"W$13*Otros!R17","v":3.2944196398091599E-3},{"$f":"X$13*Otros!S17","v":4.7351877973090652E-3},{"$f":"Y$13*Otros!T17","v":6.716047344227964E-3},{"$f":"Z$13*Otros!U17","v":9.3664281179538858E-3},{"$f":"AA$13*Otros!V17","v":1.2811090662707282E-2},{"$f":"AB$13*Otros!W17","v":1.7217334943097466E-2},{"$f":"AC$13*Otros!X17","v":2.26232071485402E-2},{"$f":"AD$13*Otros!Y17","v":2.9148642522749183E-2},{"$f":"AE$13*Otros!Z17","v":3.6807342253307902E-2},{"$f":"AF$13*Otros!AA17","v":4.5361797527783507E-2},{"$f":"AG$13*Otros!AB17","v":5.4760691623908557E-2},{"$f":"AH$13*Otros!AC17","v":6.4501745488972362E-2},{"$f":"AI$13*Otros!AD17","v":7.4276216291836047E-2},{"$f":"AJ$13*Otros!AE17","v":8.3629865194083525E-2},{"$f":"AK$13*Otros!AF17","v":9.1912950010209396E-2},{"$f":"AL$13*Otros!AG17","v":9.8638849216250712E-2},{"$f":"AM$13*Otros!AH17","v":0.10341365022571812},{"$f":"AN$13*Otros!AI17","v":0.10657912995355653},{"$f":"AO$13*Otros!AJ17","v":0.10804034936970788},{"$f":"AP$13*Otros!AK17","v":0.1072130616146966},{"$f":"AQ$13*Otros!AL17","v":0.10463804442760097},{"$f":"AR$13*Otros!AM17","v":0.10020137600006163},{"$f":"AS$13*Otros!AN17","v":9.4775873317623896E-2},{"$f":"AT$13*Otros!AO17","v":8.8666852795613704E-2},{"$f":"AU$13*Otros!AP17","v":8.1773814398808986E-2},{"$f":"AV$13*Otros!AQ17","v":7.5210657032904762E-2},{"$f":"AW$13*Otros!AR17","v":6.8450754069385542E-2},{"$f":"AX$13*Otros!AS17","v":6.2066816200454761E-2},{"$f":"AY$13*Otros!AT17","v":5.6183393657643937E-2},{"$f":"AZ$13*Otros!AU17","v":5.0678551754873444E-2},{"$f":"BA$13*Otros!AV17","v":4.6281823665789604E-2},{"$f":"BB$13*Otros!AW17","v":4.2337696634578814E-2},{"$f":"BC$13*Otros!AX17","v":3.9219970194511448E-2},{"$f":"BD$13*Otros!AY17","v":3.6913915412617022E-2},{"$f":"BE$13*Otros!AZ17","v":3.5209003681239109E-2},{"$f":"BF$13*Otros!BA17","v":3.4324803956973085E-2},{"$f":"BG$13*Otros!BB17","v":3.4182381416828132E-2},{"$f":"BH$13*Otros!BC17","v":3.5040772424325295E-2},{"$f":"BI$13*Otros!BD17","v":3.6964173399734228E-2},{"$f":"BJ$13*Otros!BE17","v":3.9852984354322246E-2},{"$f":"BK$13*Otros!BF17","v":4.4195730309143151E-2},{"$f":"BL$13*Otros!BG17","v":4.9740836852697486E-2},{"$f":"BM$13*Otros!BH17","v":5.6418289460863157E-2},{"$f":"BN$13*Otros!BI17","v":6.4289282960527369E-2},{"$f":"BO$13*Otros!BJ17","v":7.3602659403114279E-2},{"$f":"BP$13*Otros!BK17","v":8.3196929482529186E-2},{"$f":"BQ$13*Otros!BL17","v":9.4001687046965876E-2},{"$f":"BR$13*Otros!BM17","v":0.10510050324373897},{"$f":"BS$13*Otros!BN17","v":0.11605896028473257},{"$f":"BT$13*Otros!BO17","v":0.12728548564864337},{"$f":"BU$13*Otros!BP17","v":0.13657602075707559},{"$f":"BV$13*Otros!BQ17","v":0.14515166685383082},{"$f":"BW$13*Otros!BR17","v":0.1523349192772763},{"$f":"BX$13*Otros!BS17","v":0.15781268342297211},{"$f":"BY$13*Otros!BT17","v":0.16175932341983953},{"$f":"BZ$13*Otros!BU17","v":0.16298775674508975},{"$f":"CA$13*Otros!BV17","v":0.16269263197956951},{"$f":"CB$13*Otros!BW17","v":0.16049951821675087},{"$f":"CC$13*Otros!BX17","v":0.15669380868152116},{"$f":"CD$13*Otros!BY17","v":0.1521966869154682},{"$f":"CE$13*Otros!BZ17","v":0.14714777086112579},{"$f":"CF$13*Otros!CA17","v":0.14203485389039849},{"$f":"CG$13*Otros!CB17","v":0.1368031755584049},{"$f":"CH$13*Otros!CC17","v":0.13161190347077692},{"$f":"CI$13*Otros!CD17","v":0.12682137171061222},{"$f":"CJ$13*Otros!CE17","v":0.12243905213034501},{"$f":"CK$13*Otros!CF17","v":0.11842143391036776},{"$f":"CL$13*Otros!CG17","v":0.11488049931920682},{"$f":"CM$13*Otros!CH17","v":0.11172795387108184},{"$f":"CN$13*Otros!CI17","v":0.10868398212286133},{"$f":"CO$13*Otros!CJ17","v":0.10566374159675809},{"$f":"CP$13*Otros!CK17","v":0.10259602250662692},{"$f":"CQ$13*Otros!CL17","v":9.972163311427075E-2},{"$f":"CR$13*Otros!CM17","v":9.7010055919494173E-2},{"$f":"CS$13*Otros!CN17","v":9.4143626662340177E-2},{"$f":"CT$13*Otros!CO17","v":9.1109635487869087E-2},{"$f":"CU$13*Otros!CP17","v":8.790509035197186E-2},{"$f":"CV$13*Otros!CQ17","v":8.4636044098041527E-2},{"$f":"CW$13*Otros!CR17","v":8.1312918062591708E-2},{"$f":"CX$13*Otros!CS17","v":7.7847246065961564E-2},{"$f":"CY$13*Otros!CT17","v":7.466082893993807E-2},{"$f":"CZ$13*Otros!CU17","v":7.1361785885303508E-2},{"$f":"DA$13*Otros!CV17","v":6.8167877397746046E-2},{"$f":"DB$13*Otros!CW17","v":6.509201357163244E-2},{"$f":"DC$13*Otros!CX17","v":6.1947277267393748E-2},{"$f":"DD$13*Otros!CY17","v":5.9141757948984137E-2},{"$f":"DE$13*Otros!CZ17","v":5.6289404530724486E-2},{"$f":"DF$13*Otros!DA17","v":5.3690712906690752E-2},{"$f":"DG$13*Otros!DB17","v":5.1345983847451142E-2},{"$f":"DH$13*Otros!DC17","v":4.8975547713735558E-2},{"$f":"DI$13*Otros!DD17","v":4.6952787913223201E-2},{"$f":"DJ$13*Otros!DE17","v":4.4910607508890393E-2},{"$f":"DK$13*Otros!DF17","v":4.3031400628032734E-2},{"$f":"DL$13*Otros!DG17","v":4.1311184749760171E-2},{"$f":"DM$13*Otros!DH17","v":3.9579634108001381E-2},{"$f":"DN$13*Otros!DI17","v":3.7843740354076387E-2},{"$f":"DO$13*Otros!DJ17","v":3.6110259524591265E-2},{"$f":"DP$13*Otros!DK17","v":3.453649245711745E-2},{"$f":"DQ$13*Otros!DL17","v":3.3113815163562391E-2},{"$f":"DR$13*Otros!DM17","v":3.1691936168256399E-2},{"$f":"DS$13*Otros!DN17","v":3.0140304307101951E-2},{"$f":"DT$13*Otros!DO17","v":2.8610036756272599E-2},{"$f":"DU$13*Otros!DP17","v":2.7168953313889164E-2},{"$f":"DV$13*Otros!DQ17","v":2.5814303909031871E-2},{"$f":"DW$13*Otros!DR17","v":2.4485779268836168E-2},{"$f":"DX$13*Otros!DS17","v":2.3078403297984353E-2},{"$f":"DY$13*Otros!DT17","v":2.1717775796622287E-2},{"$f":"DZ$13*Otros!DU17","v":2.0459542555086849E-2},{"$f":"EA$13*Otros!DV17","v":1.9302362021597477E-2},{"$f":"EB$13*Otros!DW17","v":1.8200113631892428E-2},{"$f":"EC$13*Otros!DX17","v":1.7246045648104443E-2},{"$f":"ED$13*Otros!DY17","v":1.6351664504755729E-2},{"$f":"EE$13*Otros!DZ17","v":1.5523364691414802E-2},{"$f":"EF$13*Otros!EA17","v":1.4766121874123742E-2},{"$f":"EG$13*Otros!EB17","v":1.4082621232844244E-2},{"$f":"EH$13*Otros!EC17","v":1.354182247246846E-2},{"$f":"EI$13*Otros!ED17","v":1.3064999715331881E-2},{"$f":"EJ$13*Otros!EE17","v":1.2644309459827852E-2},{"$f":"EK$13*Otros!EF17","v":1.2267408213772315E-2},{"$f":"EL$13*Otros!EG17","v":1.1918009768837563E-2},{"$f":"EM$13*Otros!EH17","v":1.1577080895654455E-2},{"$f":"EN$13*Otros!EI17","v":1.1224594293063094E-2},{"$f":"EO$13*Otros!EJ17","v":1.0925033959690947E-2},{"$f":"EP$13*Otros!EK17","v":1.0652865361621917E-2},{"$f":"EQ$13*Otros!EL17","v":1.0308745149672557E-2},{"$f":"ER$13*Otros!EM17","v":9.8377180106435994E-3},{"$f":"ES$13*Otros!EN17","v":9.2943782529879265E-3},{"$f":"ET$13*Otros!EO17","v":8.749459224653134E-3},{"$f":"EU$13*Otros!EP17","v":8.2013795889451131E-3},{"$f":"EV$13*Otros!EQ17","v":7.6002629008405532E-3},{"$f":"EW$13*Otros!ER17","v":6.9669867586330406E-3},{"$f":"EX$13*Otros!ES17","v":6.3233654755698206E-3},{"$f":"EY$13*Otros!ET17","v":5.7383772846907695E-3},{"$f":"EZ$13*Otros!EU17","v":5.2113649249861888E-3},{"$f":"FA$13*Otros!EV17","v":4.7040666499705086E-3},{"$f":"FB$13*Otros!EW17","v":4.2448646106093011E-3},{"$f":"FC$13*Otros!EX17","v":3.8212664962182126E-3},{"$f":"FD$13*Otros!EY17","v":3.4557612795408027E-3},{"$f":"FE$13*Otros!EZ17","v":3.1420779741905807E-3},{"$f":"FF$13*Otros!FA17","v":2.8596267876757177E-3},{"$f":"FG$13*Otros!FB17","v":2.6305912450781043E-3},{"$f":"FH$13*Otros!FC17","v":2.4220398399006468E-3},{"$f":"FI$13*Otros!FD17","v":2.2440766886242529E-3},{"$f":"FJ$13*Otros!FE17","v":2.089836469957855E-3},{"$f":"FK$13*Otros!FF17","v":1.9440773390876187E-3},{"$f":"FL$13*Otros!FG17","v":1.8100050885521625E-3},{"$f":"FM$13*Otros!FH17","v":1.6815475581948502E-3},{"$f":"FN$13*Otros!FI17","v":1.5583374989112592E-3},{"$f":"FO$13*Otros!FJ17","v":1.4402257743208534E-3},{"$f":"FP$13*Otros!FK17","v":1.3272248892235729E-3},{"$f":"FQ$13*Otros!FL17","v":1.2171370155398987E-3},{"$f":"FR$13*Otros!FM17","v":1.1129673523528642E-3},{"$f":"FS$13*Otros!FN17","v":1.0138757640505453E-3},{"$f":"FT$13*Otros!FO17","v":9.2022013074132198E-4},{"$f":"FU$13*Otros!FP17","v":8.3293313437208453E-4},{"$f":"FV$13*Otros!FQ17","v":7.4707225267752473E-4},{"$f":"FW$13*Otros!FR17","v":6.6851132833393393E-4},{"$f":"FX$13*Otros!FS17","v":5.9591940418438441E-4},{"$f":"FY$13*Otros!FT17","v":5.2923657760509937E-4},{"$f":"FZ$13*Otros!FU17","v":4.690127118330138E-4},{"$f":"GA$13*Otros!FV17","v":4.1415777261977335E-4},{"$f":"GB$13*Otros!FW17","v":3.6496683691898907E-4},{"$f":"GC$13*Otros!FX17","v":3.205091715783196E-4},{"$f":"GD$13*Otros!FY17","v":2.805169748566775E-4},{"$f":"GE$13*Otros!FZ17","v":2.4503756078738043E-4},{"$f":"GF$13*Otros!GA17","v":2.1363050409309422E-4},{"$f":"GG$13*Otros!GB17","v":1.8588876439817298E-4},{"$f":"GH$13*Otros!GC17","v":1.6122506777304247E-4},{"$f":"GI$13*Otros!GD17","v":1.3938744356976763E-4},{"$f":"GJ$13*Otros!GE17","v":1.2028350355569626E-4},{"$f":"GK$13*Otros!GF17","v":1.0307574527297917E-4},{"$f":"GL$13*Otros!GG17","v":8.8172677235120233E-5},{"$f":"GM$13*Otros!GH17","v":7.5242430045098337E-5},{"$f":"GN$13*Otros!GI17","v":6.4054054048687137E-5},{"$f":"GO$13*Otros!GJ17","v":5.443305891786329E-5},{"$f":"GP$13*Otros!GK17","v":4.6349596009579445E-5},{"$f":"GQ$13*Otros!GL17","v":3.9395192305371142E-5},{"$f":"GR$13*Otros!GM17","v":3.3444349642409223E-5},{"$f":"GS$13*Otros!GN17","v":2.835819012421039E-5},{"$f":"GT$13*Otros!GO17","v":2.4001646817040134E-5},{"$f":"GU$13*Otros!GP17","v":2.0204220042137375E-5},{"$f":"GV$13*Otros!GQ17","v":1.6977416699456706E-5},{"$f":"GW$13*Otros!GR17","v":1.4240646085671856E-5},{"$f":"GX$13*Otros!GS17","v":1.1923848251771317E-5},{"$f":"GY$13*Otros!GT17","v":9.9662538200936483E-6}]
[12,48.024403644851979,11.299042685901744,-45.490364771044064,-13.316304075036966,27.209610037272881,0.17443515680715649,0.15792323319975526,12.244574044510012,2.6723469428595639,0.17260859660653433,0.1603952920669878,{"$f":"SUMPRODUCT($P34:$HH34,Otros!$C$26:$GU$26)*(100/$E$13)","v":7.7081557350855174},{"$f":"SUMPRODUCT($P34:$HH34,Otros!$C$27:$GU$27)*(100/$E$13)","v":5.5300623300175582},{"$f":"SUMPRODUCT($P34:$HH34,Otros!$C$28:$GU$28)*(100/$E$13)","v":33.856628835327783},{"$f":"G$13*Otros!B18","v":0},{"$f":"H$13*Otros!C18","v":0},{"$f":"I$13*Otros!D18","v":0},{"$f":"J$13*Otros!E18","v":0},{"$f":"K$13*Otros!F18","v":0},{"$f":"L$13*Otros!G18","v":6.997791248064524E-5},{"$f":"M$13*Otros!H18","v":8.6582128920551771E-5},{"$f":"N$13*Otros!I18","v":1.0813090371962876E-4},{"$f":"O$13*Otros!J18","v":1.3745676861385027E-4},{"$f":"P$13*Otros!K18","v":1.7861645067567903E-4},{"$f":"Q$13*Otros!L18","v":2.3684562219579701E-4},{"$f":"R$13*Otros!M18","v":3.1737168495316151E-4},{"$f":"S$13*Otros!N18","v":4.3345668408993724E-4},{"$f":"T$13*Otros!O18","v":6.0801974559859687E-4},{"$f":"U$13*Otros!P18","v":8.716287552869783E-4},{"$f":"V$13*Otros!Q18","v":1.2536273505658975E-3},{"$f":"W$13*Otros!R18","v":1.8545509161163451E-3},{"$f":"X$13*Otros!S18","v":2.7202142665392498E-3},{"$f":"Y$13*Otros!T18","v":4.0465393171157703E-3},{"$f":"Z$13*Otros!U18","v":6.0676678501343602E-3},{"$f":"AA$13*Otros!V18","v":8.8965907379911675E-3},{"$f":"AB$13*Otros!W18","v":1.3251544310136813E-2},{"$f":"AC$13*Otros!X18","v":1.9152601506434597E-2},{"$f":"AD$13*Otros!Y18","v":2.7535454291528334E-2},{"$f":"AE$13*Otros!Z18","v":3.9134243200356106E-2},{"$f":"AF$13*Otros!AA18","v":5.3649048999205494E-2},{"$f":"AG$13*Otros!AB18","v":7.2557916401678843E-2},{"$f":"AH$13*Otros!AC18","v":9.4643907323242155E-2},{"$f":"AI$13*Otros!AD18","v":0.12075231324219796},{"$f":"AJ$13*Otros!AE18","v":0.15046979569337018},{"$f":"AK$13*Otros!AF18","v":0.18119981573441282},{"$f":"AL$13*Otros!AG18","v":0.21206416729034547},{"$f":"AM$13*Otros!AH18","v":0.24064688738725709},{"$f":"AN$13*Otros!AI18","v":0.26425237464140233},{"$f":"AO$13*Otros!AJ18","v":0.28146305038750469},{"$f":"AP$13*Otros!AK18","v":0.29239925894917251},{"$f":"AQ$13*Otros!AL18","v":0.29186540249270132},{"$f":"AR$13*Otros!AM18","v":0.28548602565631587},{"$f":"AS$13*Otros!AN18","v":0.2714849201379621},{"$f":"AT$13*Otros!AO18","v":0.25164215317619915},{"$f":"AU$13*Otros!AP18","v":0.23003040473160899},{"$f":"AV$13*Otros!AQ18","v":0.20449742226215234},{"$f":"AW$13*Otros!AR18","v":0.18011169583659262},{"$f":"AX$13*Otros!AS18","v":0.1568911187289273},{"$f":"AY$13*Otros!AT18","v":0.13548720071653741},{"$f":"AZ$13*Otros!AU18","v":0.11676612262440438},{"$f":"BA$13*Otros!AV18","v":9.9880696574371139E-2},{"$f":"BB$13*Otros!AW18","v":8.5764966344312216E-2},{"$f":"BC$13*Otros!AX18","v":7.3833874121993062E-2},{"$f":"BD$13*Otros!AY18","v":6.3970598467798956E-2},{"$f":"BE$13*Otros!AZ18","v":5.6297729844481281E-2},{"$f":"BF$13*Otros!BA18","v":5.0268573842312654E-2},{"$f":"BG$13*Otros!BB18","v":4.5928574281974124E-2},{"$f":"BH$13*Otros!BC18","v":4.3024352666392325E-2},{"$f":"BI$13*Otros!BD18","v":4.1329289353974202E-2},{"$f":"BJ$13*Otros!BE18","v":4.064371817087626E-2},{"$f":"BK$13*Otros!BF18","v":4.0661393131954576E-2},{"$f":"BL$13*Otros!BG18","v":4.1345314248322697E-2},{"$f":"BM$13*Otros!BH18","v":4.2588419982545457E-2},{"$f":"BN$13*Otros!BI18","v":4.4263398415982876E-2},{"$f":"BO$13*Otros!BJ18","v":4.6199823133031725E-2},{"$f":"BP$13*Otros!BK18","v":4.8253222132467494E-2},{"$f":"BQ$13*Otros!BL18","v":5.0265934229434171E-2},{"$f":"BR$13*Otros!BM18","v":5.2188667321719007E-2},{"$f":"BS$13*Otros!BN18","v":5.3879812436385496E-2},{"$f":"BT$13*Otros!BO18","v":5.5061698848008649E-2},{"$f":"BU$13*Otros!BP18","v":5.5431079450447805E-2},{"$f":"BV$13*Otros!BQ18","v":5.5006570583748103E-2},{"$f":"BW$13*Otros!BR18","v":5.4157750027473084E-2},{"$f":"BX$13*Otros!BS18","v":5.2936020528921268E-2},{"$f":"BY$13*Otros!BT18","v":5.0958862002203786E-2},{"$f":"BZ$13*Otros!BU18","v":4.8494596637183397E-2},{"$f":"CA$13*Otros!BV18","v":4.5472493682013171E-2},{"$f":"CB$13*Otros!BW18","v":4.2416336831279843E-2},{"$f":"CC$13*Otros!BX18","v":3.9465791365681638E-2},{"$f":"CD$13*Otros!BY18","v":3.6352711842866606E-2},{"$f":"CE$13*Otros!BZ18","v":3.3565079758518239E-2},{"$f":"CF$13*Otros!CA18","v":3.0790105910468935E-2},{"$f":"CG$13*Otros!CB18","v":2.8268244292994519E-2},{"$f":"CH$13*Otros!CC18","v":2.6021768209425557E-2},{"$f":"CI$13*Otros!CD18","v":2.386675260974621E-2},{"$f":"CJ$13*Otros!CE18","v":2.1981036860680734E-2},{"$f":"CK$13*Otros!CF18","v":2.0158834751171074E-2},{"$f":"CL$13*Otros!CG18","v":1.8754076591076422E-2},{"$f":"CM$13*Otros!CH18","v":1.7751170241199921E-2},{"$f":"CN$13*Otros!CI18","v":1.6757442177533687E-2},{"$f":"CO$13*Otros!CJ18","v":1.5757721756881581E-2},{"$f":"CP$13*Otros!CK18","v":1.4740246811132889E-2},{"$f":"CQ$13*Otros!CL18","v":1.3894022005051555E-2},{"$f":"CR$13*Otros!CM18","v":1.3219608030013036E-2},{"$f":"CS$13*Otros!CN18","v":1.251909929020481E-2},{"$f":"CT$13*Otros!CO18","v":1.1993414406035866E-2},{"$f":"CU$13*Otros!CP18","v":1.1443865449047028E-2},{"$f":"CV$13*Otros!CQ18","v":1.087161670887208E-2},{"$f":"CW$13*Otros!CR18","v":1.0278604160602956E-2},{"$f":"CX$13*Otros!CS18","v":9.6673050670148357E-3},{"$f":"CY$13*Otros!CT18","v":9.2437216782780482E-3},{"$f":"CZ$13*Otros!CU18","v":8.8063480454204333E-3},{"$f":"DA$13*Otros!CV18","v":8.5587438387125774E-3},{"$f":"DB$13*Otros!CW18","v":8.4989572251747414E-3},{"$f":"DC$13*Otros!CX18","v":8.4248297083655502E-3},{"$f":"DD$13*Otros!CY18","v":8.3367320491934526E-3},{"$f":"DE$13*Otros!CZ18","v":8.2351108177479895E-3},{"$f":"DF$13*Otros!DA18","v":8.0249464130996845E-3},{"$f":"DG$13*Otros!DB18","v":7.7113016034633585E-3},{"$f":"DH$13*Otros!DC18","v":7.3925355039600842E-3},{"$f":"DI$13*Otros!DD18","v":7.2513958167140079E-3},{"$f":"DJ$13*Otros!DE18","v":7.100491305753423E-3},{"$f":"DK$13*Otros!DF18","v":6.9405484883923773E-3},{"$f":"DL$13*Otros!DG18","v":6.7723253688131424E-3},{"$f":"DM$13*Otros!DH18","v":6.5966056846668971E-3},{"$f":"DN$13*Otros!DI18","v":6.4141932803519304E-3},{"$f":"DO$13*Otros!DJ18","v":6.2259068145847016E-3},{"$f":"DP$13*Otros!DK18","v":6.0325751016799042E-3},{"$f":"DQ$13*Otros!DL18","v":5.8350335089977787E-3},{"$f":"DR$13*Otros!DM18","v":5.6341219854678043E-3},{"$f":"DS$13*Otros!DN18","v":5.4306854607390903E-3},{"$f":"DT$13*Otros!DO18","v":5.2255774897301552E-3},{"$f":"DU$13*Otros!DP18","v":5.0196680487555037E-3},{"$f":"DV$13*Otros!DQ18","v":4.81385620681247E-3},{"$f":"DW$13*Otros!DR18","v":4.6090878623691609E-3},{"$f":"DX$13*Otros!DS18","v":4.406377717992239E-3},{"$f":"DY$13*Otros!DT18","v":4.2068330840914839E-3},{"$f":"DZ$13*Otros!DU18","v":4.1119668860713759E-3},{"$f":"EA$13*Otros!DV18","v":4.1089186481618389E-3},{"$f":"EB$13*Otros!DW18","v":4.0950255671757954E-3},{"$f":"EC$13*Otros!DX18","v":3.8998595686668336E-3},{"$f":"ED$13*Otros!DY18","v":3.7162873874444832E-3},{"$f":"EE$13*Otros!DZ18","v":3.5459462493079496E-3},{"$f":"EF$13*Otros!EA18","v":3.39018104252841E-3},{"$f":"EG$13*Otros!EB18","v":3.2498356691179021E-3},{"$f":"EH$13*Otros!EC18","v":3.1250359551850291E-3},{"$f":"EI$13*Otros!ED18","v":3.0149999343073572E-3},{"$f":"EJ$13*Otros!EE18","v":2.9503388739598323E-3},{"$f":"EK$13*Otros!EF18","v":2.9253050355918598E-3},{"$f":"EL$13*Otros!EG18","v":2.9031049436912012E-3},{"$f":"EM$13*Otros!EH18","v":2.8794278125089286E-3},{"$f":"EN$13*Otros!EI18","v":2.8493200897775546E-3},{"$f":"EO$13*Otros!EJ18","v":2.8633040657714184E-3},{"$f":"EP$13*Otros!EK18","v":2.9101812642024789E-3},{"$f":"EQ$13*Otros!EL18","v":2.9271745486724541E-3},{"$f":"ER$13*Otros!EM18","v":2.8142127316511029E-3},{"$f":"ES$13*Otros!EN18","v":2.678041191538894E-3},{"$f":"ET$13*Otros!EO18","v":2.5415095843040057E-3},{"$f":"EU$13*Otros!EP18","v":2.4031949493188006E-3},{"$f":"EV$13*Otros!EQ18","v":2.2455322207028906E-3},{"$f":"EW$13*Otros!ER18","v":2.1365426059807993E-3},{"$f":"EX$13*Otros!ES18","v":2.0069812161591168E-3},{"$f":"EY$13*Otros!ET18","v":1.8764735846562644E-3},{"$f":"EZ$13*Otros!EU18","v":1.7477138467941488E-3},{"$f":"FA$13*Otros!EV18","v":1.6141405171467434E-3},{"$f":"FB$13*Otros!EW18","v":1.5297530955214649E-3},{"$f":"FC$13*Otros!EX18","v":1.4381857540312181E-3},{"$f":"FD$13*Otros!EY18","v":1.3750673154193772E-3},{"$f":"FE$13*Otros!EZ18","v":1.3323669539973412E-3},{"$f":"FF$13*Otros!FA18","v":1.2811128008787215E-3},{"$f":"FG$13*Otros!FB18","v":1.2652463218336091E-3},{"$f":"FH$13*Otros!FC18","v":1.2373846497025077E-3},{"$f":"FI$13*Otros!FD18","v":1.2164443291439056E-3},{"$f":"FJ$13*Otros!FE18","v":1.1992656343941157E-3},{"$f":"FK$13*Otros!FF18","v":1.171276409263969E-3},{"$f":"FL$13*Otros!FG18","v":1.1689170996907119E-3},{"$f":"FM$13*Otros!FH18","v":1.1519262800232437E-3},{"$f":"FN$13*Otros!FI18","v":1.1382056920082237E-3},{"$f":"FO$13*Otros!FJ18","v":1.1249451063554455E-3},{"$f":"FP$13*Otros!FK18","v":1.0983930117712327E-3},{"$f":"FQ$13*Otros!FL18","v":1.0660043624254657E-3},{"$f":"FR$13*Otros!FM18","v":1.0245398092892119E-3},{"$f":"FS$13*Otros!FN18","v":9.807951615197956E-4},{"$f":"FT$13*Otros!FO18","v":9.351383751816676E-4},{"$f":"FU$13*Otros!FP18","v":8.8456122121332952E-4},{"$f":"FV$13*Otros!FQ18","v":8.3202159753843676E-4},{"$f":"FW$13*Otros!FR18","v":7.7747341098363806E-4},{"$f":"FX$13*Otros!FS18","v":7.2263262109878369E-4},{"$f":"FY$13*Otros!FT18","v":6.6834105570674177E-4},{"$f":"FZ$13*Otros!FU18","v":6.1492777773661798E-4},{"$f":"GA$13*Otros!FV18","v":5.6185595936190501E-4},{"$f":"GB$13*Otros!FW18","v":5.1116242252316208E-4},{"$f":"GC$13*Otros!FX18","v":4.6270690263067269E-4},{"$f":"GD$13*Otros!FY18","v":4.1687939318978465E-4},{"$f":"GE$13*Otros!FZ18","v":3.7426969901086193E-4},{"$f":"GF$13*Otros!GA18","v":3.3314811043706858E-4},{"$f":"GG$13*Otros!GB18","v":2.956870612360272E-4},{"$f":"GH$13*Otros!GC18","v":2.6127382524485142E-4},{"$f":"GI$13*Otros!GD18","v":2.2988933000750463E-4},{"$f":"GJ$13*Otros!GE18","v":2.0176587693213568E-4},{"$f":"GK$13*Otros!GF18","v":1.7611529776423012E-4},{"$f":"GL$13*Otros!GG18","v":1.5337316270017082E-4},{"$f":"GM$13*Otros!GH18","v":1.3302555496212237E-4},{"$f":"GN$13*Otros!GI18","v":1.1492408810635254E-4},{"$f":"GO$13*Otros!GJ18","v":9.9078470017688062E-5},{"$f":"GP$13*Otros!GK18","v":8.5008119418946896E-5},{"$f":"GQ$13*Otros!GL18","v":7.2791738175182358E-5},{"$f":"GR$13*Otros!GM18","v":6.2146282257843032E-5},{"$f":"GS$13*Otros!GN18","v":5.2902931698710346E-5},{"$f":"GT$13*Otros!GO18","v":4.4948538584638799E-5},{"$f":"GU$13*Otros!GP18","v":3.8020003939365868E-5},{"$f":"GV$13*Otros!GQ18","v":3.2100157625023183E-5},{"$f":"GW$13*Otros!GR18","v":2.7026602517430996E-5},{"$f":"GX$13*Otros!GS18","v":2.2692174942877519E-5},{"$f":"GY$13*Otros!GT18","v":1.9018442940711253E-5}]
[13,75.417899067445461,5.3439349853379419,21.762918790092094,22.990320702667173,79.457721994627548,0.32410763850658675,0.21782610924082546,1.6998686798043974,1.9511980740011088,0.32310352755774369,0.21973115759283765,{"$f":"SUMPRODUCT($P35:$HH35,Otros!$C$26:$GU$26)*(100/$E$13)","v":58.591171364675965},{"$f":"SUMPRODUCT($P35:$HH35,Otros!$C$27:$GU$27)*(100/$E$13)","v":57.436898068400112},{"$f":"SUMPRODUCT($P35:$HH35,Otros!$C$28:$GU$28)*(100/$E$13)","v":48.8175920457955},{"$f":"G$13*Otros!B19","v":0},{"$f":"H$13*Otros!C19","v":0},{"$f":"I$13*Otros!D19","v":0},{"$f":"J$13*Otros!E19","v":0},{"$f":"K$13*Otros!F19","v":0},{"$f":"L$13*Otros!G19","v":1.251827101042654E-4},{"$f":"M$13*Otros!H19","v":1.8054568357856992E-4},{"$f":"N$13*Otros!I19","v":2.5997980439767209E-4},{"$f":"O$13*Otros!J19","v":3.7698539510927254E-4},{"$f":"P$13*Otros!K19","v":5.5316421204151616E-4},{"$f":"Q$13*Otros!L19","v":8.2272689815382125E-4},{"$f":"R$13*Otros!M19","v":1.2363545309439093E-3},{"$f":"S$13*Otros!N19","v":1.8882768191963936E-3},{"$f":"T$13*Otros!O19","v":2.8826650438647764E-3},{"$f":"U$13*Otros!P19","v":4.3820604191104479E-3},{"$f":"V$13*Otros!Q19","v":6.6794832272339226E-3},{"$f":"W$13*Otros!R19","v":9.9466131432699618E-3},{"$f":"X$13*Otros!S19","v":1.4684119605485026E-2},{"$f":"Y$13*Otros!T19","v":2.134398499505542E-2},{"$f":"Z$13*Otros!U19","v":3.0440891383350131E-2},{"$f":"AA$13*Otros!V19","v":4.2585014332517719E-2},{"$f":"AB$13*Otros!W19","v":5.8003718282083033E-2},{"$f":"AC$13*Otros!X19","v":7.7253110774276462E-2},{"$f":"AD$13*Otros!Y19","v":0.10057394213956206},{"$f":"AE$13*Otros!Z19","v":0.1279090399377405},{"$f":"AF$13*Otros!AA19","v":0.15876629134724227},{"$f":"AG$13*Otros!AB19","v":0.19187303872838729},{"$f":"AH$13*Otros!AC19","v":0.22625227648439539},{"$f":"AI$13*Otros!AD19","v":0.26046573352242702},{"$f":"AJ$13*Otros!AE19","v":0.29278448024926762},{"$f":"AK$13*Otros!AF19","v":0.32125764432139858},{"$f":"AL$13*Otros!AG19","v":0.34420653455158456},{"$f":"AM$13*Otros!AH19","v":0.36028611978449621},{"$f":"AN$13*Otros!AI19","v":0.36883564073815067},{"$f":"AO$13*Otros!AJ19","v":0.36956975596206354},{"$f":"AP$13*Otros!AK19","v":0.36257508109697395},{"$f":"AQ$13*Otros!AL19","v":0.34829520502330041},{"$f":"AR$13*Otros!AM19","v":0.32837924625985104},{"$f":"AS$13*Otros!AN19","v":0.30432321586722461},{"$f":"AT$13*Otros!AO19","v":0.27769451726973504},{"$f":"AU$13*Otros!AP19","v":0.24997523751180634},{"$f":"AV$13*Otros!AQ19","v":0.22268021846790953},{"$f":"AW$13*Otros!AR19","v":0.19652325751028446},{"$f":"AX$13*Otros!AS19","v":0.17240782277904099},{"$f":"AY$13*Otros!AT19","v":0.15071668804227517},{"$f":"AZ$13*Otros!AU19","v":0.13149029644507707},{"$f":"BA$13*Otros!AV19","v":0.11481223608608476},{"$f":"BB$13*Otros!AW19","v":0.10065579837142512},{"$f":"BC$13*Otros!AX19","v":8.9065816034745199E-2},{"$f":"BD$13*Otros!AY19","v":7.9871977414772435E-2},{"$f":"BE$13*Otros!AZ19","v":7.280195032006212E-2},{"$f":"BF$13*Otros!BA19","v":6.7735633844085943E-2},{"$f":"BG$13*Otros!BB19","v":6.4556051795638891E-2},{"$f":"BH$13*Otros!BC19","v":6.3247351645324731E-2},{"$f":"BI$13*Otros!BD19","v":6.3712117970396193E-2},{"$f":"BJ$13*Otros!BE19","v":6.5789053537293862E-2},{"$f":"BK$13*Otros!BF19","v":6.9563683132328469E-2},{"$f":"BL$13*Otros!BG19","v":7.4892276956180115E-2},{"$f":"BM$13*Otros!BH19","v":8.1804625215583321E-2},{"$f":"BN$13*Otros!BI19","v":9.030228762663671E-2},{"$f":"BO$13*Otros!BJ19","v":0.10032608650947576},{"$f":"BP$13*Otros!BK19","v":0.11151080362637376},{"$f":"BQ$13*Otros!BL19","v":0.12396369587804781},{"$f":"BR$13*Otros!BM19","v":0.13722124190710644},{"$f":"BS$13*Otros!BN19","v":0.15090299546669825},{"$f":"BT$13*Otros!BO19","v":0.1648275530450129},{"$f":"BU$13*Otros!BP19","v":0.17822631795525928},{"$f":"BV$13*Otros!BQ19","v":0.19088100986151393},{"$f":"BW$13*Otros!BR19","v":0.20216004930255155},{"$f":"BX$13*Otros!BS19","v":0.21165359319170399},{"$f":"BY$13*Otros!BT19","v":0.2192633603581062},{"$f":"BZ$13*Otros!BU19","v":0.22468206607641775},{"$f":"CA$13*Otros!BV19","v":0.2281381186221258},{"$f":"CB$13*Otros!BW19","v":0.22992579827162732},{"$f":"CC$13*Otros!BX19","v":0.23036328589746022},{"$f":"CD$13*Otros!BY19","v":0.22974913884691694},{"$f":"CE$13*Otros!BZ19","v":0.22831948236883179},{"$f":"CF$13*Otros!CA19","v":0.22668381379286417},{"$f":"CG$13*Otros!CB19","v":0.2256732412286887},{"$f":"CH$13*Otros!CC19","v":0.22555330494884754},{"$f":"CI$13*Otros!CD19","v":0.22603218648053763},{"$f":"CJ$13*Otros!CE19","v":0.22719973844507874},{"$f":"CK$13*Otros!CF19","v":0.22906061998656249},{"$f":"CL$13*Otros!CG19","v":0.23239976318389177},{"$f":"CM$13*Otros!CH19","v":0.23712525808832832},{"$f":"CN$13*Otros!CI19","v":0.24226473548091554},{"$f":"CO$13*Otros!CJ19","v":0.24844996880482004},{"$f":"CP$13*Otros!CK19","v":0.25478174951693272},{"$f":"CQ$13*Otros!CL19","v":0.2618185565065389},{"$f":"CR$13*Otros!CM19","v":0.26946133360425073},{"$f":"CS$13*Otros!CN19","v":0.27692247629933042},{"$f":"CT$13*Otros!CO19","v":0.2845160409095735},{"$f":"CU$13*Otros!CP19","v":0.29176793237791582},{"$f":"CV$13*Otros!CQ19","v":0.29932507312464623},{"$f":"CW$13*Otros!CR19","v":0.30713690452177944},{"$f":"CX$13*Otros!CS19","v":0.31444181744290362},{"$f":"CY$13*Otros!CT19","v":0.3205844573257749},{"$f":"CZ$13*Otros!CU19","v":0.32613854485453608},{"$f":"DA$13*Otros!CV19","v":0.33066958548626002},{"$f":"DB$13*Otros!CW19","v":0.33415900054745867},{"$f":"DC$13*Otros!CX19","v":0.336993188334622},{"$f":"DD$13*Otros!CY19","v":0.33758860839204546},{"$f":"DE$13*Otros!CZ19","v":0.33754265987098814},{"$f":"DF$13*Otros!DA19","v":0.33637900381576186},{"$f":"DG$13*Otros!DB19","v":0.3341250560622599},{"$f":"DH$13*Otros!DC19","v":0.33127799727121127},{"$f":"DI$13*Otros!DD19","v":0.32712859378151071},{"$f":"DJ$13*Otros!DE19","v":0.32245106142252733},{"$f":"DK$13*Otros!DF19","v":0.31683603849511205},{"$f":"DL$13*Otros!DG19","v":0.3103418100258622},{"$f":"DM$13*Otros!DH19","v":0.30344386149467723},{"$f":"DN$13*Otros!DI19","v":0.29601501988824158},{"$f":"DO$13*Otros!DJ19","v":0.2882594855152717},{"$f":"DP$13*Otros!DK19","v":0.27998689190671855},{"$f":"DQ$13*Otros!DL19","v":0.27125612024953422},{"$f":"DR$13*Otros!DM19","v":0.26233880494834466},{"$f":"DS$13*Otros!DN19","v":0.25313782603870083},{"$f":"DT$13*Otros!DO19","v":0.24383850961453341},{"$f":"DU$13*Otros!DP19","v":0.23441849787688201},{"$f":"DV$13*Otros!DQ19","v":0.22492743126331266},{"$f":"DW$13*Otros!DR19","v":0.21547485756575827},{"$f":"DX$13*Otros!DS19","v":0.20599815831613716},{"$f":"DY$13*Otros!DT19","v":0.19666944668127687},{"$f":"DZ$13*Otros!DU19","v":0.18754580675496277},{"$f":"EA$13*Otros!DV19","v":0.17869018307122417},{"$f":"EB$13*Otros!DW19","v":0.17017106245819419},{"$f":"EC$13*Otros!DX19","v":0.16206083096459956},{"$f":"ED$13*Otros!DY19","v":0.15443238698935963},{"$f":"EE$13*Otros!DZ19","v":0.14735376636013037},{"$f":"EF$13*Otros!EA19","v":0.14088085665618061},{"$f":"EG$13*Otros!EB19","v":0.13504872669445506},{"$f":"EH$13*Otros!EC19","v":0.12986260524880011},{"$f":"EI$13*Otros!ED19","v":0.12528999727010573},{"$f":"EJ$13*Otros!EE19","v":0.12125568558911837},{"$f":"EK$13*Otros!EF19","v":0.11764129928079092},{"$f":"EL$13*Otros!EG19","v":0.11429065778321151},{"$f":"EM$13*Otros!EH19","v":0.11102123730704529},{"$f":"EN$13*Otros!EI19","v":0.10764098116937428},{"$f":"EO$13*Otros!EJ19","v":0.10394071749436247},{"$f":"EP$13*Otros!EK19","v":9.9773829213987739E-2},{"$f":"EQ$13*Otros!EL19","v":9.5069538602535794E-2},{"$f":"ER$13*Otros!EM19","v":8.9838329510400591E-2},{"$f":"ES$13*Otros!EN19","v":8.4054486137796369E-2},{"$f":"ET$13*Otros!EO19","v":7.7807690962093931E-2},{"$f":"EU$13*Otros!EP19","v":7.1237564569093026E-2},{"$f":"EV$13*Otros!EQ19","v":6.4515868033271515E-2},{"$f":"EW$13*Otros!ER19","v":5.7825990096654241E-2},{"$f":"EX$13*Otros!ES19","v":5.1342978372289738E-2},{"$f":"EY$13*Otros!ET19","v":4.5216960249620304E-2},{"$f":"EZ$13*Otros!EU19","v":3.9561886168340277E-2},{"$f":"FA$13*Otros!EV19","v":3.4450370465960493E-2},{"$f":"FB$13*Otros!EW19","v":2.9914281737029695E-2},{"$f":"FC$13*Otros!EX19","v":2.5949873387954587E-2},{"$f":"FD$13*Otros!EY19","v":2.2525773785488479E-2},{"$f":"FE$13*Otros!EZ19","v":1.9592088870787675E-2},{"$f":"FF$13*Otros!FA19","v":1.708912968315009E-2},{"$f":"FG$13*Otros!FB19","v":1.4946723162673614E-2},{"$f":"FH$13*Otros!FC19","v":1.3115574227386521E-2},{"$f":"FI$13*Otros!FD19","v":1.1545387653197882E-2},{"$f":"FJ$13*Otros!FE19","v":1.0189660173781437E-2},{"$f":"FK$13*Otros!FF19","v":9.0079608382569159E-3},{"$f":"FL$13*Otros!FG19","v":7.9708606615107036E-3},{"$f":"FM$13*Otros!FH19","v":7.0553120270717556E-3},{"$f":"FN$13*Otros!FI19","v":6.241719155145097E-3},{"$f":"FO$13*Otros!FJ19","v":5.5166715939299286E-3},{"$f":"FP$13*Otros!FK19","v":4.8708499629140974E-3},{"$f":"FQ$13*Otros!FL19","v":4.2951669278246856E-3},{"$f":"FR$13*Otros!FM19","v":3.7820561809178148E-3},{"$f":"FS$13*Otros!FN19","v":3.3250475895096809E-3},{"$f":"FT$13*Otros!FO19","v":2.9184797149876224E-3},{"$f":"FU$13*Otros!FP19","v":2.5573112348696646E-3},{"$f":"FV$13*Otros!FQ19","v":2.2394093251631927E-3},{"$f":"FW$13*Otros!FR19","v":1.9576327795857483E-3},{"$f":"FX$13*Otros!FS19","v":1.7083328990524611E-3},{"$f":"FY$13*Otros!FT19","v":1.4881780803805023E-3},{"$f":"FZ$13*Otros!FU19","v":1.2941276678355379E-3},{"$f":"GA$13*Otros!FV19","v":1.1246161933365169E-3},{"$f":"GB$13*Otros!FW19","v":9.7559447036213302E-4},{"$f":"GC$13*Otros!FX19","v":8.4460938031413529E-4},{"$f":"GD$13*Otros!FY19","v":7.2973374153688473E-4},{"$f":"GE$13*Otros!FZ19","v":6.2937729654292918E-4},{"$f":"GF$13*Otros!GA19","v":5.4129350699263742E-4},{"$f":"GG$13*Otros!GB19","v":4.6472191099543249E-4},{"$f":"GH$13*Otros!GC19","v":3.9817706131827158E-4},{"$f":"GI$13*Otros!GD19","v":3.4047245831546238E-4},{"$f":"GJ$13*Otros!GE19","v":2.9062046504263386E-4},{"$f":"GK$13*Otros!GF19","v":2.4763319291191336E-4},{"$f":"GL$13*Otros!GG19","v":2.1063472895056502E-4},{"$f":"GM$13*Otros!GH19","v":1.7889808542191212E-4},{"$f":"GN$13*Otros!GI19","v":1.5171764543514242E-4},{"$f":"GO$13*Otros!GJ19","v":1.2844141347180361E-4},{"$f":"GP$13*Otros!GK19","v":1.0848765803619784E-4},{"$f":"GQ$13*Otros!GL19","v":9.1473237074497562E-5},{"$f":"GR$13*Otros!GM19","v":7.7012728677187695E-5},{"$f":"GS$13*Otros!GN19","v":6.4741956059856848E-5},{"$f":"GT$13*Otros!GO19","v":5.4331000522209031E-5},{"$f":"GU$13*Otros!GP19","v":4.5514331638952409E-5},{"$f":"GV$13*Otros!GQ19","v":3.8061615469670346E-5},{"$f":"GW$13*Otros!GR19","v":3.1773484545988283E-5},{"$f":"GX$13*Otros!GS19","v":2.6477748644688391E-5},{"$f":"GY$13*Otros!GT19","v":2.2026010661567917E-5}]
[14,89.485850884854926,2.2856845902489291,23.135871126994164,-7.6624007063314021,40.41458208055117,0.34707459149060566,0.18098493649581632,1.0216950509190725,2.0912129178199517,0.34630041318706251,0.18318244984492299,{"$f":"SUMPRODUCT($P36:$HH36,Otros!$C$26:$GU$26)*(100/$E$13)","v":9.61100293904396},{"$f":"SUMPRODUCT($P36:$HH36,Otros!$C$27:$GU$27)*(100/$E$13)","v":12.112857215126718},{"$f":"SUMPRODUCT($P36:$HH36,Otros!$C$28:$GU$28)*(100/$E$13)","v":6.1878231345921773},{"$f":"G$13*Otros!B20","v":0},{"$f":"H$13*Otros!C20","v":0},{"$f":"I$13*Otros!D20","v":0},{"$f":"J$13*Otros!E20","v":0},{"$f":"K$13*Otros!F20","v":0},{"$f":"L$13*Otros!G20","v":2.8768697353154154E-5},{"$f":"M$13*Otros!H20","v":3.730612467314097E-5},{"$f":"N$13*Otros!I20","v":4.8891724409114444E-5},{"$f":"O$13*Otros!J20","v":6.498574951793417E-5},{"$f":"P$13*Otros!K20","v":8.7941262705117497E-5},{"$f":"Q$13*Otros!L20","v":1.2153920086363268E-4},{"$f":"R$13*Otros!M20","v":1.7002054551062222E-4},{"$f":"S$13*Otros!N20","v":2.4288521091246485E-4},{"$f":"T$13*Otros!O20","v":3.5467818493251487E-4},{"$f":"U$13*Otros!P20","v":5.2616613886226132E-4},{"$f":"V$13*Otros!Q20","v":7.8351709410368596E-4},{"$f":"W$13*Otros!R20","v":1.1634139287437942E-3},{"$f":"X$13*Otros!S20","v":1.7127275011543427E-3},{"$f":"Y$13*Otros!T20","v":2.4883196994801454E-3},{"$f":"Z$13*Otros!U20","v":3.5551405995153432E-3},{"$f":"AA$13*Otros!V20","v":4.9820908132750547E-3},{"$f":"AB$13*Otros!W20","v":6.7708620562742846E-3},{"$f":"AC$13*Otros!X20","v":8.997866479533035E-3},{"$f":"AD$13*Otros!Y20","v":1.1737335061641371E-2},{"$f":"AE$13*Otros!Z20","v":1.5019087930947478E-2},{"$f":"AF$13*Otros!AA20","v":1.8755358593218179E-2},{"$f":"AG$13*Otros!AB20","v":2.2852057850746454E-2},{"$f":"AH$13*Otros!AC20","v":2.7165158196317207E-2},{"$f":"AI$13*Otros!AD20","v":3.1364237205765699E-2},{"$f":"AJ$13*Otros!AE20","v":3.5178910789098232E-2},{"$f":"AK$13*Otros!AF20","v":3.8515902861421078E-2},{"$f":"AL$13*Otros!AG20","v":4.1551849195460455E-2},{"$f":"AM$13*Otros!AH20","v":4.3789522968924119E-2},{"$f":"AN$13*Otros!AI20","v":4.4906936778183928E-2},{"$f":"AO$13*Otros!AJ20","v":4.4850698539085375E-2},{"$f":"AP$13*Otros!AK20","v":4.3859888842375877E-2},{"$f":"AQ$13*Otros!AL20","v":4.2415778723331111E-2},{"$f":"AR$13*Otros!AM20","v":4.0256342287744051E-2},{"$f":"AS$13*Otros!AN20","v":3.7552704522077388E-2},{"$f":"AT$13*Otros!AO20","v":3.4489777464737886E-2},{"$f":"AU$13*Otros!AP20","v":3.1246904688975792E-2},{"$f":"AV$13*Otros!AQ20","v":2.7982614940028926E-2},{"$f":"AW$13*Otros!AR20","v":2.4825083797546502E-2},{"$f":"AX$13*Otros!AS20","v":2.1959312164488379E-2},{"$f":"AY$13*Otros!AT20","v":1.9411678145759004E-2},{"$f":"AZ$13*Otros!AU20","v":1.7121132349619411E-2},{"$f":"BA$13*Otros!AV20","v":1.5110004127391465E-2},{"$f":"BB$13*Otros!AW20","v":1.3386183494756536E-2},{"$f":"BC$13*Otros!AX20","v":1.1994014140879666E-2},{"$f":"BD$13*Otros!AY20","v":1.091191565493844E-2},{"$f":"BE$13*Otros!AZ20","v":1.0085912512854954E-2},{"$f":"BF$13*Otros!BA20","v":9.4443987218890448E-3},{"$f":"BG$13*Otros!BB20","v":9.0576909559572667E-3},{"$f":"BH$13*Otros!BC20","v":9.0087092225659016E-3},{"$f":"BI$13*Otros!BD20","v":9.2874807537020668E-3},{"$f":"BJ$13*Otros!BE20","v":9.8050993252697602E-3},{"$f":"BK$13*Otros!BF20","v":1.0569980342993878E-2},{"$f":"BL$13*Otros!BG20","v":1.1592144181772719E-2},{"$f":"BM$13*Otros!BH20","v":1.299628830428211E-2},{"$f":"BN$13*Otros!BI20","v":1.4823283611322624E-2},{"$f":"BO$13*Otros!BJ20","v":1.6985229093026369E-2},{"$f":"BP$13*Otros!BK20","v":1.9490712658878917E-2},{"$f":"BQ$13*Otros!BL20","v":2.2334317938187454E-2},{"$f":"BR$13*Otros!BM20","v":2.5551957210633788E-2},{"$f":"BS$13*Otros!BN20","v":2.9113541683230309E-2},{"$f":"BT$13*Otros!BO20","v":3.2894001909199971E-2},{"$f":"BU$13*Otros!BP20","v":3.6646102525573834E-2},{"$f":"BV$13*Otros!BQ20","v":4.0392884667468758E-2},{"$f":"BW$13*Otros!BR20","v":4.4019419222330124E-2},{"$f":"BX$13*Otros!BS20","v":4.741619616607648E-2},{"$f":"BY$13*Otros!BT20","v":5.0491349506770727E-2},{"$f":"BZ$13*Otros!BU20","v":5.4137952064390135E-2},{"$f":"CA$13*Otros!BV20","v":5.739811569243454E-2},{"$f":"CB$13*Otros!BW20","v":6.0162942126206126E-2},{"$f":"CC$13*Otros!BX20","v":6.2463141396054155E-2},{"$f":"CD$13*Otros!BY20","v":6.4465475668016789E-2},{"$f":"CE$13*Otros!BZ20","v":6.568753431251563E-2},{"$f":"CF$13*Otros!CA20","v":6.682310911219419E-2},{"$f":"CG$13*Otros!CB20","v":6.7881603352408254E-2},{"$f":"CH$13*Otros!CC20","v":6.8952988684903835E-2},{"$f":"CI$13*Otros!CD20","v":7.0196331205135909E-2},{"$f":"CJ$13*Otros!CE20","v":7.0900535916578702E-2},{"$f":"CK$13*Otros!CF20","v":7.1821708927428118E-2},{"$f":"CL$13*Otros!CG20","v":7.2660266591557401E-2},{"$f":"CM$13*Otros!CH20","v":7.3377832066564369E-2},{"$f":"CN$13*Otros!CI20","v":7.4211529643363458E-2},{"$f":"CO$13*Otros!CJ20","v":7.434164436222046E-2},{"$f":"CP$13*Otros!CK20","v":7.4482174284068836E-2},{"$f":"CQ$13*Otros!CL20","v":7.439706818307748E-2},{"$f":"CR$13*Otros!CM20","v":7.4049684077892572E-2},{"$f":"CS$13*Otros!CN20","v":7.3612303826404282E-2},{"$f":"CT$13*Otros!CO20","v":7.2665981401276114E-2},{"$f":"CU$13*Otros!CP20","v":7.1600113915719021E-2},{"$f":"CV$13*Otros!CQ20","v":7.0411498871479919E-2},{"$f":"CW$13*Otros!CR20","v":6.9100715099499083E-2},{"$f":"CX$13*Otros!CS20","v":6.7671135469103846E-2},{"$f":"CY$13*Otros!CT20","v":6.5925004057169806E-2},{"$f":"CZ$13*Otros!CU20","v":6.4073773709783149E-2},{"$f":"DA$13*Otros!CV20","v":6.2227102262639673E-2},{"$f":"DB$13*Otros!CW20","v":6.0392590164771102E-2},{"$f":"DC$13*Otros!CX20","v":5.8478229740419697E-2},{"$f":"DD$13*Otros!CY20","v":5.6689777934515469E-2},{"$f":"DE$13*Otros!CZ20","v":5.4836149680533658E-2},{"$f":"DF$13*Otros!DA20","v":5.2926432295919354E-2},{"$f":"DG$13*Otros!DB20","v":5.0969822793623658E-2},{"$f":"DH$13*Otros!DC20","v":4.8975547713735558E-2},{"$f":"DI$13*Otros!DD20","v":4.7134072808641049E-2},{"$f":"DJ$13*Otros!DE20","v":4.5265632074178067E-2},{"$f":"DK$13*Otros!DF20","v":4.3551941764662164E-2},{"$f":"DL$13*Otros!DG20","v":4.1988417286641481E-2},{"$f":"DM$13*Otros!DH20","v":4.0404209818584745E-2},{"$f":"DN$13*Otros!DI20","v":3.8805869346129174E-2},{"$f":"DO$13*Otros!DJ20","v":3.719979321714359E-2},{"$f":"DP$13*Otros!DK20","v":3.5667600288682433E-2},{"$f":"DQ$13*Otros!DL20","v":3.4207883946499471E-2},{"$f":"DR$13*Otros!DM20","v":3.2748334040531617E-2},{"$f":"DS$13*Otros!DN20","v":3.115855783099053E-2},{"$f":"DT$13*Otros!DO20","v":2.9589832535597004E-2},{"$f":"DU$13*Otros!DP20","v":2.8172886923640266E-2},{"$f":"DV$13*Otros!DQ20","v":2.6897421555564672E-2},{"$f":"DW$13*Otros!DR20","v":2.5638051234428454E-2},{"$f":"DX$13*Otros!DS20","v":2.4290157170432217E-2},{"$f":"DY$13*Otros!DT20","v":2.2979825721849732E-2},{"$f":"DZ$13*Otros!DU20","v":2.1763336933597284E-2},{"$f":"EA$13*Otros!DV20","v":2.0640149488440868E-2},{"$f":"EB$13*Otros!DW20","v":1.9565122154284357E-2},{"$f":"EC$13*Otros!DX20","v":1.8545998837660053E-2},{"$f":"ED$13*Otros!DY20","v":1.759042696723722E-2},{"$f":"EE$13*Otros!DZ20","v":1.6705346774517453E-2},{"$f":"EF$13*Otros!EA20","v":1.5896182221633214E-2},{"$f":"EG$13*Otros!EB20","v":1.5165899789216879E-2},{"$f":"EH$13*Otros!EC20","v":1.4583501124196804E-2},{"$f":"EI$13*Otros!ED20","v":1.4069999693434336E-2},{"$f":"EJ$13*Otros!EE20","v":1.361694864904538E-2},{"$f":"EK$13*Otros!EF20","v":1.321105499944711E-2},{"$f":"EL$13*Otros!EG20","v":1.2834779751055838E-2},{"$f":"EM$13*Otros!EH20","v":1.2467625579935568E-2},{"$f":"EN$13*Otros!EI20","v":1.2088024623298716E-2},{"$f":"EO$13*Otros!EJ20","v":1.1703407880483177E-2},{"$f":"EP$13*Otros!EK20","v":1.1293639217960078E-2},{"$f":"EQ$13*Otros!EL20","v":1.0817818984224289E-2},{"$f":"ER$13*Otros!EM20","v":1.0318780016054045E-2},{"$f":"ES$13*Otros!EN20","v":9.7444692095490833E-3},{"$f":"ET$13*Otros!EO20","v":9.1661001401128067E-3},{"$f":"EU$13*Otros!EP20","v":8.5828391047100029E-3},{"$f":"EV$13*Otros!EQ20","v":7.9457293963333051E-3},{"$f":"EW$13*Otros!ER20","v":7.2456662289783627E-3},{"$f":"EX$13*Otros!ES20","v":6.5433086225461625E-3},{"$f":"EY$13*Otros!ET20","v":5.8836526589867381E-3},{"$f":"EZ$13*Otros!EU20","v":5.2749181557787033E-3},{"$f":"FA$13*Otros!EV20","v":4.7040666499705086E-3},{"$f":"FB$13*Otros!EW20","v":4.2128278965669662E-3},{"$f":"FC$13*Otros!EX20","v":3.7656844380914022E-3},{"$f":"FD$13*Otros!EY20","v":3.3954513095662692E-3},{"$f":"FE$13*Otros!EZ20","v":3.0896225823009217E-3},{"$f":"FF$13*Otros!FA20","v":2.8138727590729063E-3},{"$f":"FG$13*Otros!FB20","v":2.5745360282880079E-3},{"$f":"FH$13*Otros!FC20","v":2.3587644884954053E-3},{"$f":"FI$13*Otros!FD20","v":2.1666947338441068E-3},{"$f":"FJ$13*Otros!FE20","v":1.9942230366918096E-3},{"$f":"FK$13*Otros!FF20","v":1.8354022083311679E-3},{"$f":"FL$13*Otros!FG20","v":1.6967462105199728E-3},{"$f":"FM$13*Otros!FH20","v":1.5661657797360357E-3},{"$f":"FN$13*Otros!FI20","v":1.4461907616104489E-3},{"$f":"FO$13*Otros!FJ20","v":1.3351322183323842E-3},{"$f":"FP$13*Otros!FK20","v":1.2291540846011413E-3},{"$f":"FQ$13*Otros!FL20","v":1.1283033186711099E-3},{"$f":"FR$13*Otros!FM20","v":1.032671077616904E-3},{"$f":"FS$13*Otros!FN20","v":9.4235013695703241E-4},{"$f":"FT$13*Otros!FO20","v":8.5740646993986654E-4},{"$f":"FU$13*Otros!FP20","v":7.7786317507475672E-4},{"$f":"FV$13*Otros!FQ20","v":7.0128395331987001E-4},{"$f":"FW$13*Otros!FR20","v":6.3061147349925423E-4},{"$f":"FX$13*Otros!FS20","v":5.6561841753094118E-4},{"$f":"FY$13*Otros!FT20","v":5.0605249792149223E-4},{"$f":"FZ$13*Otros!FU20","v":4.5164187065401326E-4},{"$f":"GA$13*Otros!FV20","v":4.0210077778368096E-4},{"$f":"GB$13*Otros!FW20","v":3.5713493054733694E-4},{"$f":"GC$13*Otros!FX20","v":3.1644637926253811E-4},{"$f":"GD$13*Otros!FY20","v":2.797377610376312E-4},{"$f":"GE$13*Otros!FZ20","v":2.4671590024482823E-4},{"$f":"GF$13*Otros!GA20","v":2.1680609266745102E-4},{"$f":"GG$13*Otros!GB20","v":1.9010224305786492E-4},{"$f":"GH$13*Otros!GC20","v":1.6621688475942784E-4},{"$f":"GI$13*Otros!GD20","v":1.4493022978733988E-4},{"$f":"GJ$13*Otros!GE20","v":1.2610367308258481E-4},{"$f":"GK$13*Otros!GF20","v":1.0936085169206327E-4},{"$f":"GL$13*Otros!GG20","v":9.4647682268350652E-5},{"$f":"GM$13*Otros!GH20","v":8.1747814969531504E-5},{"$f":"GN$13*Otros!GI20","v":7.0463516075091549E-5},{"$f":"GO$13*Otros!GJ20","v":6.0614731223992875E-5},{"$f":"GP$13*Otros!GK20","v":5.1980041611244073E-5},{"$f":"GQ$13*Otros!GL20","v":4.4487920707805701E-5},{"$f":"GR$13*Otros!GM20","v":3.800119382919864E-5},{"$f":"GS$13*Otros!GN20","v":3.2396978815494639E-5},{"$f":"GT$13*Otros!GO20","v":2.7565527708055186E-5},{"$f":"GU$13*Otros!GP20","v":2.3360367805052684E-5},{"$f":"GV$13*Otros!GQ20","v":1.9759430360292045E-5},{"$f":"GW$13*Otros!GR20","v":1.6665128842193049E-5},{"$f":"GX$13*Otros!GS20","v":1.4015129603895299E-5},{"$f":"GY$13*Otros!GT20","v":1.1764897260998124E-5}]
[15,69.42758494937263,6.6461771849189946,14.606347335501331,20.882861748292846,62.229764319935541,{"$f":"5.52/(16.518+1.481*(I$41/I$22)*I37-(J$41/J$22)*J37)","v":0.32109405044579076},{"$f":"(10.872+0.404*(I$41/I$22)*I37-4*(J$41/J$22)*J37)/(16.518+1.481*(I$41/I$22)*I37-(J$41/J$22)*J37)","v":0.22138275925417109},{"$f":"(4-L37-10*K37)/K37","v":1.8001054425673924},{"$f":"(1.708*K37-1.481*L37+0.404)/K37","v":1.9372076870200012},{"$f":"6*N37/(M37+15*N37+3*O37)","v":0.32006032954597008},{"$f":"4*M37/(M37+15*N37+3*O37)","v":0.22325436337468516},{"$f":"SUMPRODUCT($P37:$HH37,Otros!$C$26:$GU$26)*(100/$E$13)","v":33.304616167525978},{"$f":"SUMPRODUCT($P37:$HH37,Otros!$C$27:$GU$27)*(100/$E$13)","v":31.830617671111217},{"$f":"SUMPRODUCT($P37:$HH37,Otros!$C$28:$GU$28)*(100/$E$13)","v":28.649234055024561},{"$f":"G$13*Otros!B21","v":0},{"$f":"H$13*Otros!C21","v":0},{"$f":"I$13*Otros!D21","v":0},{"$f":"J$13*Otros!E21","v":0},{"$f":"K$13*Otros!F21","v":0},{"$f":"L$13*Otros!G21","v":1.1429725705172056E-4},{"$f":"M$13*Otros!H21","v":1.5022198865708637E-4},{"$f":"N$13*Otros!I21","v":1.9698967268540026E-4},{"$f":"O$13*Otros!J21","v":2.616441957030962E-4},{"$f":"P$13*Otros!K21","v":3.5518245740227507E-4},{"$f":"Q$13*Otros!L21","v":4.9238958298599908E-4},{"$f":"R$13*Otros!M21","v":6.9708423659355101E-4},{"$f":"S$13*Otros!N21","v":1.0051711036223544E-3},{"$f":"T$13*Otros!O21","v":1.470285843151369E-3},{"$f":"U$13*Otros!P21","v":2.1684422692505312E-3},{"$f":"V$13*Otros!Q21","v":3.2124200858251123E-3},{"$f":"W$13*Otros!R21","v":4.7544465256336736E-3},{"$f":"X$13*Otros!S21","v":6.985241573335358E-3},{"$f":"Y$13*Otros!T21","v":1.0122387903710494E-2},{"$f":"Z$13*Otros!U21","v":1.44171206523615E-2},{"$f":"AA$13*Otros!V21","v":2.0165605672779981E-2},{"$f":"AB$13*Otros!W21","v":2.767992893005463E-2},{"$f":"AC$13*Otros!X21","v":3.7234028431972412E-2},{"$f":"AD$13*Otros!Y21","v":4.9007545920881738E-2},{"$f":"AE$13*Otros!Z21","v":6.3073118094988348E-2},{"$f":"AF$13*Otros!AA21","v":7.9383145673621133E-2},{"$f":"AG$13*Otros!AB21","v":9.777942725538287E-2},{"$f":"AH$13*Otros!AC21","v":0.11771568551737457},{"$f":"AI$13*Otros!AD21","v":0.1384303378490841},{"$f":"AJ$13*Otros!AE21","v":0.15894471511074384},{"$f":"AK$13*Otros!AF21","v":0.17769837001973818},{"$f":"AL$13*Otros!AG21","v":0.19353428859507257},{"$f":"AM$13*Otros!AH21","v":0.20555662232957012},{"$f":"AN$13*Otros!AI21","v":0.21335784629279386},{"$f":"AO$13*Otros!AJ21","v":0.21667870805327025},{"$f":"AP$13*Otros!AK21","v":0.21540078742589044},{"$f":"AQ$13*Otros!AL21","v":0.20964979615672907},{"$f":"AR$13*Otros!AM21","v":0.19996327228082472},{"$f":"AS$13*Otros!AN21","v":0.18727582514906127},{"$f":"AT$13*Otros!AO21","v":0.1725969121196754},{"$f":"AU$13*Otros!AP21","v":0.15689935120421886},{"$f":"AV$13*Otros!AQ21","v":0.14097570564723436},{"$f":"AW$13*Otros!AR21","v":0.12547573735328943},{"$f":"AX$13*Otros!AS21","v":0.11084008185505187},{"$f":"AY$13*Otros!AT21","v":9.7374027771815475E-2},{"$f":"AZ$13*Otros!AU21","v":8.5263239101104657E-2},{"$f":"BA$13*Otros!AV21","v":7.4687441661181048E-2},{"$f":"BB$13*Otros!AW21","v":6.5633806670027203E-2},{"$f":"BC$13*Otros!AX21","v":5.8145886044188494E-2},{"$f":"BD$13*Otros!AY21","v":5.212569374199217E-2},{"$f":"BE$13*Otros!AZ21","v":4.7495478924171511E-2},{"$f":"BF$13*Otros!BA21","v":4.4175413376577786E-2},{"$f":"BG$13*Otros!BB21","v":4.2087857268847367E-2},{"$f":"BH$13*Otros!BC21","v":4.1144949535477711E-2},{"$f":"BI$13*Otros!BD21","v":4.1313810219384704E-2},{"$f":"BJ$13*Otros!BE21","v":4.2541479330605897E-2},{"$f":"BK$13*Otros!BF21","v":4.4856354080580273E-2},{"$f":"BL$13*Otros!BG21","v":4.8212781483281994E-2},{"$f":"BM$13*Otros!BH21","v":5.2591394070972512E-2},{"$f":"BN$13*Otros!BI21","v":5.7971838970186526E-2},{"$f":"BO$13*Otros!BJ21","v":6.4317400832259855E-2},{"$f":"BP$13*Otros!BK21","v":7.153241090918476E-2},{"$f":"BQ$13*Otros!BL21","v":7.9487124160846509E-2},{"$f":"BR$13*Otros!BM21","v":8.8045777086641422E-2},{"$f":"BS$13*Otros!BN21","v":9.6924381418265593E-2},{"$f":"BT$13*Otros!BO21","v":0.10583287570786078},{"$f":"BU$13*Otros!BP21","v":0.11440358897689647},{"$f":"BV$13*Otros!BQ21","v":0.12228699534998924},{"$f":"BW$13*Otros!BR21","v":0.12911207606549582},{"$f":"BX$13*Otros!BS21","v":0.13455702995983918},{"$f":"BY$13*Otros!BT21","v":0.13838369864818642},{"$f":"BZ$13*Otros!BU21","v":0.14041433503626277},{"$f":"CA$13*Otros!BV21","v":0.14082899162713033},{"$f":"CB$13*Otros!BW21","v":0.14016892918382706},{"$f":"CC$13*Otros!BX21","v":0.13871494817048843},{"$f":"CD$13*Otros!BY21","v":0.13668619652917843},{"$f":"CE$13*Otros!BZ21","v":0.1343084065408903},{"$f":"CF$13*Otros!CA21","v":0.13202568633436371},{"$f":"CG$13*Otros!CB21","v":0.13009064932160688},{"$f":"CH$13*Otros!CC21","v":0.12884063212717384},{"$f":"CI$13*Otros!CD21","v":0.12822529833471494},{"$f":"CJ$13*Otros!CE21","v":0.12828507257201541},{"$f":"CK$13*Otros!CF21","v":0.12906342341854413},{"$f":"CL$13*Otros!CG21","v":0.13047748261480052},{"$f":"CM$13*Otros!CH21","v":0.13237436845643469},{"$f":"CN$13*Otros!CI21","v":0.13453832148248474},{"$f":"CO$13*Otros!CJ21","v":0.13674415598226378},{"$f":"CP$13*Otros!CK21","v":0.13905616942025695},{"$f":"CQ$13*Otros!CL21","v":0.14150223829258182},{"$f":"CR$13*Otros!CM21","v":0.14392475509367578},{"$f":"CS$13*Otros!CN21","v":0.14572231573798397},{"$f":"CT$13*Otros!CO21","v":0.14654138274265671},{"$f":"CU$13*Otros!CP21","v":0.14664351478070883},{"$f":"CV$13*Otros!CQ21","v":0.14656361778082219},{"$f":"CW$13*Otros!CR21","v":0.14629201466204703},{"$f":"CX$13*Otros!CS21","v":0.14551838153506541},{"$f":"CY$13*Otros!CT21","v":0.14398874152702343},{"$f":"CZ$13*Otros!CU21","v":0.14216684861831033},{"$f":"DA$13*Otros!CV21","v":0.14071581781883324},{"$f":"DB$13*Otros!CW21","v":0.14018280034935279},{"$f":"DC$13*Otros!CX21","v":0.14123979216965774},{"$f":"DD$13*Otros!CY21","v":0.1442745040513361},{"$f":"DE$13*Otros!CZ21","v":0.14861952934618136},{"$f":"DF$13*Otros!DA21","v":0.15357263522687792},{"$f":"DG$13*Otros!DB21","v":0.15859890432001161},{"$f":"DH$13*Otros!DC21","v":0.16355984802511686},{"$f":"DI$13*Otros!DD21","v":0.16827770417161947},{"$f":"DJ$13*Otros!DE21","v":0.17267507294179105},{"$f":"DK$13*Otros!DF21","v":0.17650682374542861},{"$f":"DL$13*Otros!DG21","v":0.17959360337421351},{"$f":"DM$13*Otros!DH21","v":0.18140665632833966},{"$f":"DN$13*Otros!DI21","v":0.18172211337397062},{"$f":"DO$13*Otros!DJ21","v":0.18082368104609442},{"$f":"DP$13*Otros!DK21","v":0.17916748051989315},{"$f":"DQ$13*Otros!DL21","v":0.17691092220092638},{"$f":"DR$13*Otros!DM21","v":0.17395351630131847},{"$f":"DS$13*Otros!DN21","v":0.17025198919417048},{"$f":"DT$13*Otros!DO21","v":0.16594474515824326},{"$f":"DU$13*Otros!DP21","v":0.16119409021566114},{"$f":"DV$13*Otros!DQ21","v":0.15617954730977207},{"$f":"DW$13*Otros!DR21","v":0.15094762749259003},{"$f":"DX$13*Otros!DS21","v":0.14557570385816859},{"$f":"DY$13*Otros!DT21","v":0.14014012711379756},{"$f":"DZ$13*Otros!DU21","v":0.13461676958120256},{"$f":"EA$13*Otros!DV21","v":0.12914426867420292},{"$f":"EB$13*Otros!DW21","v":0.12376077269686851},{"$f":"EC$13*Otros!DX21","v":0.11857739677396435},{"$f":"ED$13*Otros!DY21","v":0.11365645593267711},{"$f":"EE$13*Otros!DZ21","v":0.10903784716621946},{"$f":"EF$13*Otros!EA21","v":0.10477542855325303},{"$f":"EG$13*Otros!EB21","v":0.10092545216871709},{"$f":"EH$13*Otros!EC21","v":9.7466399180048638E-2},{"$f":"EI$13*Otros!ED21","v":9.4436497942360448E-2},{"$f":"EJ$13*Otros!EE21","v":9.1784718155827311E-2},{"$f":"EK$13*Otros!EF21","v":8.9441987835542511E-2},{"$f":"EL$13*Otros!EG21","v":8.7245943307772411E-2},{"$f":"EM$13*Otros!EH21","v":8.506185976025088E-2},{"$f":"EN$13*Otros!EI21","v":8.2745406647580483E-2},{"$f":"EO$13*Otros!EJ21","v":8.0200312910199439E-2},{"$f":"EP$13*Otros!EK21","v":7.729334642079061E-2},{"$f":"EQ$13*Otros!EL21","v":7.3942974468638942E-2},{"$f":"ER$13*Otros!EM21","v":7.0126813838707613E-2},{"$f":"ES$13*Otros!EN21","v":6.5837054670983469E-2},{"$f":"ET$13*Otros!EO21","v":6.1131638320820525E-2},{"$f":"EU$13*Otros!EP21","v":5.6122231256909301E-2},{"$f":"EV$13*Otros!EQ21","v":5.0956308085180979E-2},{"$f":"EW$13*Otros!ER21","v":4.5788585197016042E-2},{"$f":"EX$13*Otros!ES21","v":4.0765087647396309E-2},{"$f":"EY$13*Otros!ET21","v":3.6016186544208947E-2},{"$f":"EZ$13*Otros!EU21","v":3.1617732319275962E-2},{"$f":"FA$13*Otros!EV21","v":2.762486199345426E-2},{"$f":"FB$13*Otros!EW21","v":2.4059572245793096E-2},{"$f":"FC$13*Otros!EX21","v":2.0923171006111175E-2},{"$f":"FD$13*Otros!EY21","v":1.8201548938314386E-2},{"$f":"FE$13*Otros!EZ21","v":1.5859887737838432E-2},{"$f":"FF$13*Otros!FA21","v":1.3863470666651879E-2},{"$f":"FG$13*Otros!FB21","v":1.2163982043450962E-2},{"$f":"FH$13*Otros!FC21","v":1.0709353225337184E-2},{"$f":"FI$13*Otros!FD21","v":9.4498843177515113E-3},{"$f":"FJ$13*Otros!FE21","v":8.3511504426943325E-3},{"$f":"FK$13*Otros!FF21","v":7.38990889143865E-3},{"$f":"FL$13*Otros!FG21","v":6.5465768462568477E-3},{"$f":"FM$13*Otros!FH21","v":5.8021902528264373E-3},{"$f":"FN$13*Otros!FI21","v":5.1428485127871576E-3},{"$f":"FO$13*Otros!FJ21","v":4.5545474898101394E-3},{"$f":"FP$13*Otros!FK21","v":4.0274410431611861E-3},{"$f":"FQ$13*Otros!FL21","v":3.554501559126472E-3},{"$f":"FR$13*Otros!FM21","v":3.1310465104319616E-3},{"$f":"FS$13*Otros!FN21","v":2.7537366431002468E-3},{"$f":"FT$13*Otros!FO21","v":2.418325940856034E-3},{"$f":"FU$13*Otros!FP21","v":2.1201934329471246E-3},{"$f":"FV$13*Otros!FQ21","v":1.8559323180428345E-3},{"$f":"FW$13*Otros!FR21","v":1.6212715679279658E-3},{"$f":"FX$13*Otros!FS21","v":1.41381649089816E-3},{"$f":"FY$13*Otros!FT21","v":1.2303551252783203E-3},{"$f":"FZ$13*Otros!FU21","v":1.0683067325085312E-3},{"$f":"GA$13*Otros!FV21","v":9.2567577854099257E-4},{"$f":"GB$13*Otros!FW21","v":8.0055136295570806E-4},{"$f":"GC$13*Otros!FX21","v":6.9157753641969823E-4},{"$f":"GD$13*Otros!FY21","v":5.9648817847996296E-4},{"$f":"GE$13*Otros!FZ21","v":5.135718739790302E-4},{"$f":"GF$13*Otros!GA21","v":4.4111812196519993E-4},{"$f":"GG$13*Otros!GB21","v":3.7822167262881602E-4},{"$f":"GH$13*Otros!GC21","v":3.2377774644671935E-4},{"$f":"GI$13*Otros!GD21","v":2.7682128216121059E-4},{"$f":"GJ$13*Otros!GE21","v":2.3629888279167425E-4},{"$f":"GK$13*Otros!GF21","v":2.0132188245550425E-4},{"$f":"GL$13*Otros!GG21","v":1.711935026394528E-4},{"$f":"GM$13*Otros!GH21","v":1.4539056968981335E-4},{"$f":"GN$13*Otros!GI21","v":1.2326044536221397E-4},{"$f":"GO$13*Otros!GJ21","v":1.0422986360612939E-4},{"$f":"GP$13*Otros!GK21","v":8.7910410966196705E-5},{"$f":"GQ$13*Otros!GL21","v":7.4162857360453194E-5},{"$f":"GR$13*Otros!GM21","v":6.2806096800726568E-5},{"$f":"GS$13*Otros!GN21","v":5.311960491176207E-5},{"$f":"GT$13*Otros!GO21","v":4.4293948216901337E-5},{"$f":"GU$13*Otros!GP21","v":3.6283513374827524E-5},{"$f":"GV$13*Otros!GQ21","v":3.0352482376549698E-5},{"$f":"GW$13*Otros!GR21","v":2.704786991003206E-5},{"$f":"GX$13*Otros!GS21","v":2.3975300111468845E-5},{"$f":"GY$13*Otros!GT21","v":1.8015920367092363E-5}]
[]
[]
["TCS referencia","Ri","EUC","V","U","W","v'","u'","c","d","v","u","XX","YY","ZZ",{"$f":"G12","v":380},382,384,386,388,390,392,394,396,398,400,402,404,406,408,410,412,414,416,418,420,422,424,426,428,430,432,434,436,438,440,442,444,446,448,450,452,454,456,458,460,462,464,466,468,470,472,474,476,478,480,482,484,486,488,490,492,494,496,498,500,502,504,506,{"$f":"BS12","v":508},510,512,514,516,518,520,522,524,526,528,530,532,534,536,538,540,542,544,546,548,550,552,554,556,558,560,562,564,566,568,570,572,574,576,578,580,582,584,586,588,590,592,594,596,598,600,602,604,606,608,610,612,614,616,618,620,622,624,626,628,630,632,634,{"$f":"EE12","v":636},638,640,642,644,646,648,650,652,654,656,658,660,662,664,666,668,670,672,674,676,678,680,682,684,686,688,690,692,694,696,698,700,702,704,706,708,710,712,714,716,718,720,722,724,726,728,730,732,734,736,738,740,742,744,746,748,750,752,754,756,758,760,762,{"$f":"GQ12","v":764},766,768,770,772,774,776,778,780]
[null,null,null,null,null,null,null,null,{"$f":"(4-L41-10*K41)/K41","v":2.5542638801623716},{"$f":"(1.708*K41-1.481*L41+0.404)/K41","v":2.0853840693090264},{"$f":"6*E15/(D15+15*E15+3*F15)","v":0.30303894141665355},{"$f":"4*D15/(D15+15 *E15+3*F15)","v":0.19556916349026582}]
[1,80,null,{"$f":"13*F42*(K42-K$41)","v":9.425037948042192},{"$f":"13*F42*(L42-L$41)","v":30.510357493912515},{"$f":"25*(N42^(1/3))-17","v":60.341240518542605},{"$f":"5.52/(16.518+1.481*(I$41/I$22)*I23-(J$41/J$22)*J23)","v":0.31596201929641721},{"$f":"(10.872+0.404*(I$41/I$22)*I23-4*(J$41/J$22)*J23)/(16.518+1.481*(I$41/I$22)*I23-(J$41/J$22)*J23)","v":0.22742015027453996},1.9520346468121978,{"$f":"(1.708*K42-1.481*L42+0.404)/K42","v":1.8881567827627592},{"$f":"6*N42/(M42+15*N42+3*O42)","v":0.31505398971280812},{"$f":"4*M42/(M42+15*N42+3*O42)","v":0.23446379933610331},{"$f":"SUMPRODUCT($P42:$HH42,Otros!$C$26:$GU$26)*(100/$E$15)","v":33.051825298021164},{"$f":"SUMPRODUCT($P42:$HH42,Otros!$C$27:$GU$27)*(100/$E$15)","v":29.608293353935128},{"$f":"SUMPRODUCT($P42:$HH42,Otros!$C$28:$GU$28)*(100/$E$15)","v":28.898207229930378},{"$f":"G$15*Otros!B7","v":0.219},{"$f":"H$15*Otros!C7","v":0.2269365013218293},{"$f":"I$15*Otros!D7","v":0.23483837293103663},{"$f":"J$15*Otros!E7","v":0.24130495162251969},{"$f":"K$15*Otros!F7","v":0.24633670702409793},{"$f":"L$15*Otros!G7","v":0.25133148611155531},{"$f":"M$15*Otros!H7","v":0.25270091481998264},{"$f":"N$15*Otros!I7","v":0.25403839161267144},{"$f":"O$15*Otros!J7","v":0.25454861928843908},{"$f":"P$15*Otros!K7","v":0.25423471824096683},{"$f":"Q$15*Otros!L7","v":0.25389374426890665},{"$f":"R$15*Otros!M7","v":0.25273411671018203},{"$f":"S$15*Otros!N7","v":0.25155124331525008},{"$f":"T$15*Otros!O7","v":0.25034603157283314},{"$f":"U$15*Otros!P7","v":0.24911937215503946},{"$f":"V$15*Otros!Q7","v":0.24787213888959711},{"$f":"W$15*Otros!R7","v":0.24581982190928262},{"$f":"X$15*Otros!S7","v":0.24375182602080286},{"$f":"Y$15*Otros!T7","v":0.24166917888852055},{"$f":"Z$15*Otros!U7","v":0.23957288366740365},{"$f":"AA$15*Otros!V7","v":0.23746391920984683},{"$f":"AB$15*Otros!W7","v":0.23534324028857176},{"$f":"AC$15*Otros!X7","v":0.23321177783433528},{"$f":"AD$15*Otros!Y7","v":0.23126364189559226},{"$f":"AE$15*Otros!Z7","v":0.22949818944222858},{"$f":"AF$15*Otros!AA7","v":0.22772250074914424},{"$f":"AG$15*Otros!AB7","v":0.2251707954061607},{"$f":"AH$15*Otros!AC7","v":0.22261474449795543},{"$f":"AI$15*Otros!AD7","v":0.22062679076680863},{"$f":"AJ$15*Otros!AE7","v":0.21920261625534307},{"$f":"AK$15*Otros!AF7","v":0.21776957302504546},{"$f":"AL$15*Otros!AG7","v":0.21557318267717546},{"$f":"AM$15*Otros!AH7","v":0.21337395824440186},{"$f":"AN$15*Otros!AI7","v":0.21173521783104804},{"$f":"AO$15*Otros!AJ7","v":0.21065197725805626},{"$f":"AP$15*Otros!AK7","v":0.20956022877634475},{"$f":"AQ$15*Otros!AL7","v":0.20771792237081049},{"$f":"AR$15*Otros!AM7","v":0.20587327594896582},{"$f":"AS$15*Otros!AN7","v":0.20421114161399476},{"$f":"AT$15*Otros!AO7","v":0.20273002797780243},{"$f":"AU$15*Otros!AP7","v":0.20124542916000662},{"$f":"AV$15*Otros!AQ7","v":0.19975779797301652},{"$f":"AW$15*Otros!AR7","v":0.1982675746379387},{"$f":"AX$15*Otros!AS7","v":0.19677518699827856},{"$f":"AY$15*Otros!AT7","v":0.19528105073432886},{"$f":"AZ$15*Otros!AU7","v":0.1937855695779569},{"$f":"BA$15*Otros!AV7","v":0.19228913552752869},{"$f":"BB$15*Otros!AW7","v":0.19079212906271867},{"$f":"BC$15*Otros!AX7","v":0.18964940422668519},{"$f":"BD$15*Otros!AY7","v":0.18885687501550524},{"$f":"BE$15*Otros!AZ7","v":0.18805887124222648},{"$f":"BF$15*Otros!BA7","v":0.18725567170052118},{"$f":"BG$15*Otros!BB7","v":0.18644754879138706},{"$f":"BH$15*Otros!BC7","v":0.18598174949119689},{"$f":"BI$15*Otros!BD7","v":0.18585395138860464},{"$f":"BJ$15*Otros!BE7","v":0.18571586122597802},{"$f":"BK$15*Otros!BF7","v":0.18556768353203915},{"$f":"BL$15*Otros!BG7","v":0.18540962051361048},{"$f":"BM$15*Otros!BH7","v":0.18575077828269598},{"$f":"BN$15*Otros!BI7","v":0.18658432698552099},{"$f":"BO$15*Otros!BJ7","v":0.18739917154365052},{"$f":"BP$15*Otros!BK7","v":0.18719175008604666},{"$f":"BQ$15*Otros!BL7","v":0.18697538359193916},{"$f":"BR$15*Otros!BM7","v":0.18658455737204355},{"$f":"BS$15*Otros!BN7","v":0.18602183793325969},{"$f":"BT$15*Otros!BO7","v":0.1854539186117895},{"$f":"BU$15*Otros!BP7","v":0.18455434764475259},{"$f":"BV$15*Otros!BQ7","v":0.18365314922635087},{"$f":"BW$15*Otros!BR7","v":0.18258879029823441},{"$f":"BX$15*Otros!BS7","v":0.18136385851945955},{"$f":"BY$15*Otros!BT7","v":0.18014106760095411},{"$f":"BZ$15*Otros!BU7","v":0.17923924773498168},{"$f":"CA$15*Otros!BV7","v":0.17833671899587511},{"$f":"CB$15*Otros!BW7","v":0.1777490868236006},{"$f":"CC$15*Otros!BX7","v":0.17747169607511254},{"$f":"CD$15*Otros!BY7","v":0.17718765981205581},{"$f":"CE$15*Otros!BZ7","v":0.17720775025370938},{"$f":"CF$15*Otros!CA7","v":0.17721828781472324},{"$f":"CG$15*Otros!CB7","v":0.17768053187628777},{"$f":"CH$15*Otros!CC7","v":0.1785874076581575},{"$f":"CI$15*Otros!CD7","v":0.17947555356360673},{"$f":"CJ$15*Otros!CE7","v":0.1812529048762743},{"$f":"CK$15*Otros!CF7","v":0.18300223152201428},{"$f":"CL$15*Otros!CG7","v":0.18457401352871089},{"$f":"CM$15*Otros!CH7","v":0.18597082772491635},{"$f":"CN$15*Otros!CI7","v":0.1873433460410143},{"$f":"CO$15*Otros!CJ7","v":0.18898634849903123},{"$f":"CP$15*Otros!CK7","v":0.19060223243131627},{"$f":"CQ$15*Otros!CL7","v":0.19233689959415298},{"$f":"CR$15*Otros!CM7","v":0.19418816518542331},{"$f":"CS$15*Otros!CN7","v":0.19600973128271426},{"$f":"CT$15*Otros!CO7","v":0.19808847690833517},{"$f":"CU$15*Otros!CP7","v":0.20013479158523795},{"$f":"CV$15*Otros!CQ7","v":0.20271593903214766},{"$f":"CW$15*Otros!CR7","v":0.20582272957848211},{"$f":"CX$15*Otros!CS7","v":0.20888525648315887},{"$f":"CY$15*Otros!CT7","v":0.21329790683767286},{"$f":"CZ$15*Otros!CU7","v":0.21765128468101314},{"$f":"DA$15*Otros!CV7","v":0.22235930975238546},{"$f":"DB$15*Otros!CW7","v":0.22741537297909514},{"$f":"DC$15*Otros!CX7","v":0.23240399041609236},{"$f":"DD$15*Otros!CY7","v":0.23813880311338612},{"$f":"DE$15*Otros!CZ7","v":0.24379779999687323},{"$f":"DF$15*Otros!DA7","v":0.24897944508304265},{"$f":"DG$15*Otros!DB7","v":0.25369108831416992},{"$f":"DH$15*Otros!DC7","v":0.25833748378383797},{"$f":"DI$15*Otros!DD7","v":0.26186529933621988},{"$f":"DJ$15*Otros!DE7","v":0.2653408582771814},{"$f":"DK$15*Otros!DF7","v":0.26824369695129185},{"$f":"DL$15*Otros!DG7","v":0.27058321332720736},{"$f":"DM$15*Otros!DH7","v":0.27288361666128447},{"$f":"DN$15*Otros!DI7","v":0.27412144996335164},{"$f":"DO$15*Otros!DJ7","v":0.27533271085037919},{"$f":"DP$15*Otros!DK7","v":0.27601169227593764},{"$f":"DQ$15*Otros!DL7","v":0.27616749203147795},{"$f":"DR$15*Otros!DM7","v":0.27630924369714632},{"$f":"DS$15*Otros!DN7","v":0.27618855184998936},{"$f":"DT$15*Otros!DO7","v":0.2760571146395347},{"$f":"DU$15*Otros!DP7","v":0.27542372040712154},{"$f":"DV$15*Otros!DQ7","v":0.27429718928536784},{"$f":"DW$15*Otros!DR7","v":0.27317190377027722},{"$f":"DX$15*Otros!DS7","v":0.27180656931305619},{"$f":"DY$15*Otros!DT7","v":0.27044551502376585},{"$f":"DZ$15*Otros!DU7","v":0.26896953634692933},{"$f":"EA$15*Otros!DV7","v":0.26738081658745083},{"$f":"EB$15*Otros!DW7","v":0.26579938814638676},{"$f":"EC$15*Otros!DX7","v":0.26422529599626382},{"$f":"ED$15*Otros!DY7","v":0.26265858245401091},{"$f":"EE$15*Otros!DZ7","v":0.26109928725178982},{"$f":"EF$15*Otros!EA7","v":0.25954744760629161},{"$f":"EG$15*Otros!EB7","v":0.25800309828652945},{"$f":"EH$15*Otros!EC7","v":0.25646627168014824},{"$f":"EI$15*Otros!ED7","v":0.25493699785828278},{"$f":"EJ$15*Otros!EE7","v":0.25330292534646193},{"$f":"EK$15*Otros!EF7","v":0.25156609407809671},{"$f":"EL$15*Otros!EG7","v":0.24983956136041416},{"$f":"EM$15*Otros!EH7","v":0.24834407854358964},{"$f":"EN$15*Otros!EI7","v":0.24685624928280112},{"$f":"EO$15*Otros!EJ7","v":0.24548514703562319},{"$f":"EP$15*Otros!EK7","v":0.24422882402657853},{"$f":"EQ$15*Otros!EL7","v":0.24297760057218074},{"$f":"ER$15*Otros!EM7","v":0.24151730309669275},{"$f":"ES$15*Otros!EN7","v":0.24006474498849775},{"$f":"ET$15*Otros!EO7","v":0.23883157103278174},{"$f":"EU$15*Otros!EP7","v":0.23781396441525154},{"$f":"EV$15*Otros!EQ7","v":0.23679905393443768},{"$f":"EW$15*Otros!ER7","v":0.23557905129807089},{"$f":"EX$15*Otros!ES7","v":0.23436434112631252},{"$f":"EY$15*Otros!ET7","v":0.23315494482511132},{"$f":"EZ$15*Otros!EU7","v":0.23195088237930761},{"$f":"FA$15*Otros!EV7","v":0.23075217238958767},{"$f":"FB$15*Otros!EW7","v":0.22976046481142232},{"$f":"FC$15*Otros!EX7","v":0.22877170393990012},{"$f":"FD$15*Otros!EY7","v":0.2276863247406655},{"$f":"FE$15*Otros!EZ7","v":0.22650616982261801},{"$f":"FF$15*Otros!FA7","v":0.22533145799024987},{"$f":"FG$15*Otros!FB7","v":0.22435780426533988},{"$f":"FH$15*Otros!FC7","v":0.22338724413840816},{"$f":"FI$15*Otros!FD7","v":0.22241980684535692},{"$f":"FJ$15*Otros!FE7","v":0.22145552048960307},{"$f":"FK$15*Otros!FF7","v":0.22049441206741191},{"$f":"FL$15*Otros!FG7","v":0.21934676115956428},{"$f":"FM$15*Otros!FH7","v":0.21820464123058314},{"$f":"FN$15*Otros!FI7","v":0.21706805579996555},{"$f":"FO$15*Otros!FJ7","v":0.21593700743783673},{"$f":"FP$15*Otros!FK7","v":0.21481149779165806},{"$f":"FQ$15*Otros!FL7","v":0.2136915276123367},{"$f":"FR$15*Otros!FM7","v":0.21257709677974548},{"$f":"FS$15*Otros!FN7","v":0.21146820432766988},{"$f":"FT$15*Otros!FO7","v":0.2103648484681882},{"$f":"FU$15*Otros!FP7","v":0.20926702661549967},{"$f":"FV$15*Otros!FQ7","v":0.20799619790028287},{"$f":"FW$15*Otros!FR7","v":0.20673306418912241},{"$f":"FX$15*Otros!FS7","v":0.20547760088805145},{"$f":"FY$15*Otros!FT7","v":0.20422978278179799},{"$f":"FZ$15*Otros!FU7","v":0.20298958405757403},{"$f":"GA$15*Otros!FV7","v":0.20175697832825493},{"$f":"GB$15*Otros!FW7","v":0.20053193865496458},{"$f":"GC$15*Otros!FX7","v":0.19939998024614619},{"$f":"GD$15*Otros!FY7","v":0.19835951719720862},{"$f":"GE$15*Otros!FZ7","v":0.1973244751135963},{"$f":"GF$15*Otros!GA7","v":0.19612685550290812},{"$f":"GG$15*Otros!GB7","v":0.19493667565902065},{"$f":"GH$15*Otros!GC7","v":0.19375390571117185},{"$f":"GI$15*Otros!GD7","v":0.19257851537848139},{"$f":"GJ$15*Otros!GE7","v":0.19141047398826952},{"$f":"GK$15*Otros!GF7","v":0.19024975049389167},{"$f":"GL$15*Otros!GG7","v":0.18909631349209793},{"$f":"GM$15*Otros!GH7","v":0.18795013123992935},{"$f":"GN$15*Otros!GI7","v":0.18681117167116146},{"$f":"GO$15*Otros!GJ7","v":0.18567940241230521},{"$f":"GP$15*Otros!GK7","v":0.18455479079817563},{"$f":"GQ$15*Otros!GL7","v":0.18343730388703924},{"$f":"GR$15*Otros!GM7","v":0.18232690847534788},{"$f":"GS$15*Otros!GN7","v":0.18122357111207096},{"$f":"GT$15*Otros!GO7","v":0.18012725811263419},{"$f":"GU$15*Otros!GP7","v":0.17903793557247336},{"$f":"GV$15*Otros!GQ7","v":0.17795556938021534},{"$f":"GW$15*Otros!GR7","v":0.17688012523048952},{"$f":"GX$15*Otros!GS7","v":0.17581156863638503},{"$f":"GY$15*Otros!GT7","v":0.17474986494155675}]
[2,80,null,{"$f":"13*F43*(K43-K$41)","v":27.027009640397353},{"$f":"13*F43*(L43-L$41)","v":14.327715970078399},{"$f":"25*(N43^(1/3))-17","v":59.580875638617201},{"$f":"5.52/(16.518+1.481*(I$41/I$22)*I24-(J$41/J$22)*J24)","v":0.34013126042255015},{"$f":"(10.872+0.404*(I$41/I$22)*I24-4*(J$41/J$22)*J24)/(16.518+1.481*(I$41/I$22)*I24-(J$41/J$22)*J24)","v":0.2087754708177921},1.2032151481570821,1.9653483044326505,{"$f":"6*N43/(M43+15*N43+3*O43)","v":0.33793270085347404},{"$f":"4*M43/(M43+15*N43+3*O43)","v":0.21406724674072403},{"$f":"SUMPRODUCT($P43:$HH43,Otros!$C$26:$GU$26)*(100/$E$15)","v":27.311919301589178},{"$f":"SUMPRODUCT($P43:$HH43,Otros!$C$27:$GU$27)*(100/$E$15)","v":28.743586561709247},{"$f":"SUMPRODUCT($P43:$HH43,Otros!$C$28:$GU$28)*(100/$E$15)","v":17.292359381706458},{"$f":"G$15*Otros!B8","v":7.0000000000000007E-2},{"$f":"H$15*Otros!C8","v":7.3579411882319978E-2},{"$f":"I$15*Otros!D8","v":7.7146903788408633E-2},{"$f":"J$15*Otros!E8","v":8.0901080635033512E-2},{"$f":"K$15*Otros!F8","v":8.4840437994523205E-2},{"$f":"L$15*Otros!G8","v":8.8763897872731826E-2},{"$f":"M$15*Otros!H8","v":9.3467451932627635E-2},{"$f":"N$15*Otros!I8","v":9.8151196759441228E-2},{"$f":"O$15*Otros!J8","v":0.10241604604183289},{"$f":"P$15*Otros!K8","v":0.1062621673897791},{"$f":"Q$15*Otros!L8","v":0.11008674067909625},{"$f":"R$15*Otros!M8","v":0.11190813161540193},{"$f":"S$15*Otros!N8","v":0.11371223656153207},{"$f":"T$15*Otros!O8","v":0.11490645928658431},{"$f":"U$15*Otros!P8","v":0.11549363297694075},{"$f":"V$15*Otros!Q8","v":0.11606711265465261},{"$f":"W$15*Otros!R8","v":0.11662697620935612},{"$f":"X$15*Otros!S8","v":0.11717330543443739},{"$f":"Y$15*Otros!T8","v":0.11751066060841492},{"$f":"Z$15*Otros!U8","v":0.11764043066078533},{"$f":"AA$15*Otros!V8","v":0.11775874682127649},{"$f":"AB$15*Otros!W8","v":0.11786579773528305},{"$f":"AC$15*Otros!X8","v":0.11796177134643704},{"$f":"AD$15*Otros!Y8","v":0.1178536520938273},{"$f":"AE$15*Otros!Z8","v":0.11754315328275351},{"$f":"AF$15*Otros!AA8","v":0.11722424089196454},{"$f":"AG$15*Otros!AB8","v":0.11689717889170896},{"$f":"AH$15*Otros!AC8","v":0.11656222673283502},{"$f":"AI$15*Otros!AD8","v":0.1164101633493265},{"$f":"AJ$15*Otros!AE8","v":0.11643951799352278},{"$f":"AK$15*Otros!AF8","v":0.11645938035687213},{"$f":"AL$15*Otros!AG8","v":0.11646992444117098},{"$f":"AM$15*Otros!AH8","v":0.11647132288649449},{"$f":"AN$15*Otros!AI8","v":0.11683883145149949},{"$f":"AO$15*Otros!AJ8","v":0.1175688497740172},{"$f":"AP$15*Otros!AK8","v":0.11828510690931458},{"$f":"AQ$15*Otros!AL8","v":0.11824514437015755},{"$f":"AR$15*Otros!AM8","v":0.11819678646126608},{"$f":"AS$15*Otros!AN8","v":0.11850881232653306},{"$f":"AT$15*Otros!AO8","v":0.11917734434564654},{"$f":"AU$15*Otros!AP8","v":0.11983250554527668},{"$f":"AV$15*Otros!AQ8","v":0.12047436538336125},{"$f":"AW$15*Otros!AR8","v":0.12110299659661639},{"$f":"AX$15*Otros!AS8","v":0.12189933459268361},{"$f":"AY$15*Otros!AT8","v":0.12286132527750211},{"$f":"AZ$15*Otros!AU8","v":0.12380744723036136},{"$f":"BA$15*Otros!AV8","v":0.125095162517909},{"$f":"BB$15*Otros!AW8","v":0.12636418995758417},{"$f":"BC$15*Otros!AX8","v":0.12796903724454833},{"$f":"BD$15*Otros!AY8","v":0.12990528973029145},{"$f":"BE$15*Otros!AZ8","v":0.13181696582399052},{"$f":"BF$15*Otros!BA8","v":0.13440407090280398},{"$f":"BG$15*Otros!BB8","v":0.13696053584114976},{"$f":"BH$15*Otros!BC8","v":0.14052725474614691},{"$f":"BI$15*Otros!BD8","v":0.14509044532195903},{"$f":"BJ$15*Otros!BE8","v":0.14960444376537119},{"$f":"BK$15*Otros!BF8","v":0.15441148574344957},{"$f":"BL$15*Otros!BG8","v":0.15916597937473548},{"$f":"BM$15*Otros!BH8","v":0.16403744529622558},{"$f":"BN$15*Otros!BI8","v":0.16902344915158959},{"$f":"BO$15*Otros!BJ8","v":0.17395349107415092},{"$f":"BP$15*Otros!BK8","v":0.17916207716010363},{"$f":"BQ$15*Otros!BL8","v":0.18431144224067378},{"$f":"BR$15*Otros!BM8","v":0.18923584770770313},{"$f":"BS$15*Otros!BN8","v":0.19393766082403668},{"$f":"BT$15*Otros!BO8","v":0.19858339957545601},{"$f":"BU$15*Otros!BP8","v":0.20121323566224353},{"$f":"BV$15*Otros!BQ8","v":0.20380623816800356},{"$f":"BW$15*Otros!BR8","v":0.20571562556187262},{"$f":"BX$15*Otros!BS8","v":0.20695112870987131},{"$f":"BY$15*Otros!BT8","v":0.20816301144999141},{"$f":"BZ$15*Otros!BU8","v":0.20839549869987203},{"$f":"CA$15*Otros!BV8","v":0.20861433084317479},{"$f":"CB$15*Otros!BW8","v":0.20866197148857463},{"$f":"CC$15*Otros!BX8","v":0.2085410115683683},{"$f":"CD$15*Otros!BY8","v":0.2084101549331229},{"$f":"CE$15*Otros!BZ8","v":0.20795896370702618},{"$f":"CF$15*Otros!CA8","v":0.20750144772029061},{"$f":"CG$15*Otros!CB8","v":0.20719148526750511},{"$f":"CH$15*Otros!CC8","v":0.20702684072700792},{"$f":"CI$15*Otros!CD8","v":0.2068531803783942},{"$f":"CJ$15*Otros!CE8","v":0.20697326700395929},{"$f":"CK$15*Otros!CF8","v":0.20708147251175302},{"$f":"CL$15*Otros!CG8","v":0.20747735827314948},{"$f":"CM$15*Otros!CH8","v":0.20815629876655972},{"$f":"CN$15*Otros!CI8","v":0.20881748452002383},{"$f":"CO$15*Otros!CJ8","v":0.20975569778848049},{"$f":"CP$15*Otros!CK8","v":0.21067333607704289},{"$f":"CQ$15*Otros!CL8","v":0.2120077188708277},{"$f":"CR$15*Otros!CM8","v":0.21375189824514876},{"$f":"CS$15*Otros!CN8","v":0.21546657960857188},{"$f":"CT$15*Otros!CO8","v":0.21715198445450637},{"$f":"CU$15*Otros!CP8","v":0.21880833695394605},{"$f":"CV$15*Otros!CQ8","v":0.22086114196649376},{"$f":"CW$15*Otros!CR8","v":0.22330356414542171},{"$f":"CX$15*Otros!CS8","v":0.22570823015965488},{"$f":"CY$15*Otros!CT8","v":0.22640248412051026},{"$f":"CZ$15*Otros!CU8","v":0.22707821930413982},{"$f":"DA$15*Otros!CV8","v":0.22759778078188989},{"$f":"DB$15*Otros!CW8","v":0.22796369214239617},{"$f":"DC$15*Otros!CX8","v":0.22831477064337519},{"$f":"DD$15*Otros!CY8","v":0.22810905272614049},{"$f":"DE$15*Otros!CZ8","v":0.2278950137063088},{"$f":"DF$15*Otros!DA8","v":0.22740479994936674},{"$f":"DG$15*Otros!DB8","v":0.2266431413983209},{"$f":"DH$15*Otros!DC8","v":0.22587969735971478},{"$f":"DI$15*Otros!DD8","v":0.2245876938472107},{"$f":"DJ$15*Otros!DE8","v":0.22330017934975041},{"$f":"DK$15*Otros!DF8","v":0.22214744999946792},{"$f":"DL$15*Otros!DG8","v":0.22112733414491398},{"$f":"DM$15*Otros!DH8","v":0.22010895494848892},{"$f":"DN$15*Otros!DI8","v":0.21883645165141519},{"$f":"DO$15*Otros!DJ8","v":0.21756882419322943},{"$f":"DP$15*Otros!DK8","v":0.21630613830974033},{"$f":"DQ$15*Otros!DL8","v":0.21504845690975743},{"$f":"DR$15*Otros!DM8","v":0.21379584014575576},{"$f":"DS$15*Otros!DN8","v":0.21229975092699452},{"$f":"DT$15*Otros!DO8","v":0.21081174466206187},{"$f":"DU$15*Otros!DP8","v":0.20945470262896621},{"$f":"DV$15*Otros!DQ8","v":0.20822649498288168},{"$f":"DW$15*Otros!DR8","v":0.20700359819036562},{"$f":"DX$15*Otros!DS8","v":0.2053032746010251},{"$f":"DY$15*Otros!DT8","v":0.20361403682135346},{"$f":"DZ$15*Otros!DU8","v":0.20217444084613981},{"$f":"EA$15*Otros!DV8","v":0.20098025903136549},{"$f":"EB$15*Otros!DW8","v":0.19979155783065436},{"$f":"EC$15*Otros!DX8","v":0.19837402488766062},{"$f":"ED$15*Otros!DY8","v":0.19696481726373946},{"$f":"EE$15*Otros!DZ8","v":0.19567973190932364},{"$f":"EF$15*Otros!EA8","v":0.19451671239673299},{"$f":"EG$15*Otros!EB8","v":0.19335930647637906},{"$f":"EH$15*Otros!EC8","v":0.19198007387853225},{"$f":"EI$15*Otros!ED8","v":0.19060921436322162},{"$f":"EJ$15*Otros!EE8","v":0.18924672860844804},{"$f":"EK$15*Otros!EF8","v":0.18789261555921788},{"$f":"EL$15*Otros!EG8","v":0.18654687248244259},{"$f":"EM$15*Otros!EH8","v":0.18520949502050818},{"$f":"EN$15*Otros!EI8","v":0.18388047724354428},{"$f":"EO$15*Otros!EJ8","v":0.18255981170041458},{"$f":"EP$15*Otros!EK8","v":0.18124748946845951},{"$f":"EQ$15*Otros!EL8","v":0.17994350020201411},{"$f":"ER$15*Otros!EM8","v":0.17843362614593797},{"$f":"ES$15*Otros!EN8","v":0.17693463688287506},{"$f":"ET$15*Otros!EO8","v":0.17565813376801848},{"$f":"EU$15*Otros!EP8","v":0.1746002569346827},{"$f":"EV$15*Otros!EQ8","v":0.1735480925082413},{"$f":"EW$15*Otros!ER8","v":0.17229380990392656},{"$f":"EX$15*Otros!ES8","v":0.17104775183127965},{"$f":"EY$15*Otros!ET8","v":0.1699125643705677},{"$f":"EZ$15*Otros!EU8","v":0.16888636618466965},{"$f":"FA$15*Otros!EV8","v":0.16786586606802972},{"$f":"FB$15*Otros!EW8","v":0.16664942884303691},{"$f":"FC$15*Otros!EX8","v":0.16544112273533731},{"$f":"FD$15*Otros!EY8","v":0.16424092278974514},{"$f":"FE$15*Otros!EZ8","v":0.16304880318962056},{"$f":"FF$15*Otros!FA8","v":0.1618647372899393},{"$f":"FG$15*Otros!FB8","v":0.1606886976495002},{"$f":"FH$15*Otros!FC8","v":0.15952065606228363},{"$f":"FI$15*Otros!FD8","v":0.15845720383422476},{"$f":"FJ$15*Otros!FE8","v":0.15749655403423637},{"$f":"FK$15*Otros!FF8","v":0.15654148735521883},{"$f":"FL$15*Otros!FG8","v":0.15540224687688853},{"$f":"FM$15*Otros!FH8","v":0.15427086994521783},{"$f":"FN$15*Otros!FI8","v":0.15314732434246273},{"$f":"FO$15*Otros!FJ8","v":0.15203157728151404},{"$f":"FP$15*Otros!FK8","v":0.15092359543120804},{"$f":"FQ$15*Otros!FL8","v":0.14982334494094926},{"$f":"FR$15*Otros!FM8","v":0.14873079146465842},{"$f":"FS$15*Otros!FN8","v":0.14764590018406529},{"$f":"FT$15*Otros!FO8","v":0.14656863583135793},{"$f":"FU$15*Otros!FP8","v":0.14549896271120577},{"$f":"FV$15*Otros!FQ8","v":0.14461538223109796},{"$f":"FW$15*Otros!FR8","v":0.14373715192548425},{"$f":"FX$15*Otros!FS8","v":0.14286425469469671},{"$f":"FY$15*Otros!FT8","v":0.14199667300708702},{"$f":"FZ$15*Otros!FU8","v":0.14113438891556648},{"$f":"GA$15*Otros!FV8","v":0.14010420211807573},{"$f":"GB$15*Otros!FW8","v":0.13908137891262776},{"$f":"GC$15*Otros!FX8","v":0.13806588078819387},{"$f":"GD$15*Otros!FY8","v":0.13705766897638247},{"$f":"GE$15*Otros!FZ8","v":0.13605670446804713},{"$f":"GF$15*Otros!GA8","v":0.13506294802941166},{"$f":"GG$15*Otros!GB8","v":0.13407636021772468},{"$f":"GH$15*Otros!GC8","v":0.13309690139645378},{"$f":"GI$15*Otros!GD8","v":0.13212453175003305},{"$f":"GJ$15*Otros!GE8","v":0.13115921129817182},{"$f":"GK$15*Otros!GF8","v":0.13003794509132807},{"$f":"GL$15*Otros!GG8","v":0.12892562358861667},{"$f":"GM$15*Otros!GH8","v":0.12782218775546372},{"$f":"GN$15*Otros!GI8","v":0.12672757855551167},{"$f":"GO$15*Otros!GJ8","v":0.12564173696421507},{"$f":"GP$15*Otros!GK8","v":0.12472268089058722},{"$f":"GQ$15*Otros!GL8","v":0.12381036013960334},{"$f":"GR$15*Otros!GM8","v":0.12298281835060938},{"$f":"GS$15*Otros!GN8","v":0.12223859721692151},{"$f":"GT$15*Otros!GO8","v":0.1214991141444963},{"$f":"GU$15*Otros!GP8","v":0.12061099471327648},{"$f":"GV$15*Otros!GQ8","v":0.11972942162583222},{"$f":"GW$15*Otros!GR8","v":0.11893010561536124},{"$f":"GX$15*Otros!GS8","v":0.1182116328732867},{"$f":"GY$15*Otros!GT8","v":0.11749776786220303}]
[3,80,null,41.014275841753992,-8.2683105507667207,60.930560161394069,0.35777341274449848,0.18218585710007623,0.75161433822061574,2.0738816337418915,0.35481828313225011,{"$f":"4*M44/(M44+15*N44+3*O44)","v":0.18513065961247765},{"$f":"SUMPRODUCT($P44:$HH44,Otros!$C$26:$GU$26)*(100/$E$15)","v":23.706475177313095},{"$f":"SUMPRODUCT($P44:$HH44,Otros!$C$27:$GU$27)*(100/$E$15)","v":30.290285571422118},{"$f":"SUMPRODUCT($P44:$HH44,Otros!$C$28:$GU$28)*(100/$E$15)","v":11.38330647213896},{"$f":"G$15*Otros!B9","v":6.5000000000000002E-2},{"$f":"H$15*Otros!C9","v":6.6181481883282364E-2},{"$f":"I$15*Otros!D9","v":6.7353643981071784E-2},{"$f":"J$15*Otros!E9","v":6.8316468091806068E-2},{"$f":"K$15*Otros!F9","v":6.9070097755541238E-2},{"$f":"L$15*Otros!G9","v":6.9814301697654263E-2},{"$f":"M$15*Otros!H9","v":7.0548993569616608E-2},{"$f":"N$15*Otros!I9","v":7.1274094198539473E-2},{"$f":"O$15*Otros!J9","v":7.1790665283692573E-2},{"$f":"P$15*Otros!K9","v":7.2099377126149181E-2},{"$f":"Q$15*Otros!L9","v":7.2399388014180416E-2},{"$f":"R$15*Otros!M9","v":7.2294633698445493E-2},{"$f":"S$15*Otros!N9","v":7.2182550165146436E-2},{"$f":"T$15*Otros!O9","v":7.2260763056511787E-2},{"$f":"U$15*Otros!P9","v":7.252842480463173E-2},{"$f":"V$15*Otros!Q9","v":7.2787850308849933E-2},{"$f":"W$15*Otros!R9","v":7.2646432992359872E-2},{"$f":"X$15*Otros!S9","v":7.2498533462778986E-2},{"$f":"Y$15*Otros!T9","v":7.2344333486045784E-2},{"$f":"Z$15*Otros!U9","v":7.2184012179918031E-2},{"$f":"AA$15*Otros!V9","v":7.2017745989871568E-2},{"$f":"AB$15*Otros!W9","v":7.1457353486959085E-2},{"$f":"AC$15*Otros!X9","v":7.0893281301799602E-2},{"$f":"AD$15*Otros!Y9","v":7.0518988547945832E-2},{"$f":"AE$15*Otros!Z9","v":7.0333198275745953E-2},{"$f":"AF$15*Otros!AA9","v":7.0142373648470591E-2},{"$f":"AG$15*Otros!AB9","v":6.9946672615530767E-2},{"$f":"AH$15*Otros!AC9","v":6.9746250422106193E-2},{"$f":"AI$15*Otros!AD9","v":6.9541259611299783E-2},{"$f":"AJ$15*Otros!AE9","v":6.9331850028769682E-2},{"$f":"AK$15*Otros!AF9","v":6.9118168829688326E-2},{"$f":"AL$15*Otros!AG9","v":6.8900360487888834E-2},{"$f":"AM$15*Otros!AH9","v":6.8678566807060568E-2},{"$f":"AN$15*Otros!AI9","v":6.8640469199436296E-2},{"$f":"AO$15*Otros!AJ9","v":6.8784319104671435E-2},{"$f":"AP$15*Otros!AK9","v":6.892203079755338E-2},{"$f":"AQ$15*Otros!AL9","v":6.9053679286810984E-2},{"$f":"AR$15*Otros!AM9","v":6.9179339806750423E-2},{"$f":"AS$15*Otros!AN9","v":6.9483393852415185E-2},{"$f":"AT$15*Otros!AO9","v":6.9963895524948125E-2},{"$f":"AU$15*Otros!AP9","v":7.0435900206002322E-2},{"$f":"AV$15*Otros!AQ9","v":7.1263958948402789E-2},{"$f":"AW$15*Otros!AR9","v":7.2080794076246943E-2},{"$f":"AX$15*Otros!AS9","v":7.3248116483734221E-2},{"$f":"AY$15*Otros!AT9","v":7.476165687707241E-2},{"$f":"AZ$15*Otros!AU9","v":7.6258210250584893E-2},{"$f":"BA$15*Otros!AV9","v":7.9167367136333835E-2},{"$f":"BB$15*Otros!AW9","v":8.2047734606262412E-2},{"$f":"BC$15*Otros!AX9","v":8.5962580420506848E-2},{"$f":"BD$15*Otros!AY9","v":9.0898402460733829E-2},{"$f":"BE$15*Otros!AZ9","v":9.5786995165433111E-2},{"$f":"BF$15*Otros!BA9","v":0.10132806907906708},{"$f":"BG$15*Otros!BB9","v":0.10681527795244886},{"$f":"BH$15*Otros!BC9","v":0.11311576554875033},{"$f":"BI$15*Otros!BD9","v":0.12021779755248031},{"$f":"BJ$15*Otros!BE9","v":0.12724975676594791},{"$f":"BK$15*Otros!BF9","v":0.13489606515059671},{"$f":"BL$15*Otros!BG9","v":0.14246548046817864},{"$f":"BM$15*Otros!BH9","v":0.15029697676572479},{"$f":"BN$15*Otros!BI9","v":0.15838560969449655},{"$f":"BO$15*Otros!BJ9","v":0.16639029581005743},{"$f":"BP$15*Otros!BK9","v":0.17330710731827018},{"$f":"BQ$15*Otros!BL9","v":0.18014903387932163},{"$f":"BR$15*Otros!BM9","v":0.18641885172606482},{"$f":"BS$15*Otros!BN9","v":0.19212361807823364},{"$f":"BT$15*Otros!BO9","v":0.19776280701522683},{"$f":"BU$15*Otros!BP9","v":0.20300978240922782},{"$f":"BV$15*Otros!BQ9","v":0.20819441076013756},{"$f":"BW$15*Otros!BR9","v":0.21315502711521078},{"$f":"BX$15*Otros!BS9","v":0.21789411218753171},{"$f":"BY$15*Otros!BT9","v":0.22257429685806773},{"$f":"BZ$15*Otros!BU9","v":0.2291075895492477},{"$f":"CA$15*Otros!BV9","v":0.23556299060255151},{"$f":"CB$15*Otros!BW9","v":0.24399098253425924},{"$f":"CC$15*Otros!BX9","v":0.25436040613417987},{"$f":"CD$15*Otros!BY9","v":0.26461064615104368},{"$f":"CE$15*Otros!BZ9","v":0.27287819210847275},{"$f":"CF$15*Otros!CA9","v":0.28104626463381133},{"$f":"CG$15*Otros!CB9","v":0.28773179556436912},{"$f":"CH$15*Otros!CC9","v":0.29295674064471727},{"$f":"CI$15*Otros!CD9","v":0.29811193642768574},{"$f":"CJ$15*Otros!CE9","v":0.2986587931767658},{"$f":"CK$15*Otros!CF9","v":0.29918456929750364},{"$f":"CL$15*Otros!CG9","v":0.29879134712352551},{"$f":"CM$15*Otros!CH9","v":0.29749376604834499},{"$f":"CN$15*Otros!CI9","v":0.29619501350357996},{"$f":"CO$15*Otros!CJ9","v":0.2925384942471364},{"$f":"CP$15*Otros!CK9","v":0.28890668897352473},{"$f":"CQ$15*Otros!CL9","v":0.28442547576347471},{"$f":"CR$15*Otros!CM9","v":0.27910925831875022},{"$f":"CS$15*Otros!CN9","v":0.2738371245861449},{"$f":"CT$15*Otros!CO9","v":0.26803578279203094},{"$f":"CU$15*Otros!CP9","v":0.26228491204902982},{"$f":"CV$15*Otros!CQ9","v":0.25644275084556306},{"$f":"CW$15*Otros!CR9","v":0.25051163730202924},{"$f":"CX$15*Otros!CS9","v":0.24463407554571287},{"$f":"CY$15*Otros!CT9","v":0.23853118862696621},{"$f":"CZ$15*Otros!CU9","v":0.23248484357328597},{"$f":"DA$15*Otros!CV9","v":0.22649494477567844},{"$f":"DB$15*Otros!CW9","v":0.22056138343783246},{"$f":"DC$15*Otros!CX9","v":0.21468403806765129},{"$f":"DD$15*Otros!CY9","v":0.20913384929081091},{"$f":"DE$15*Otros!CZ9","v":0.2036365261444309},{"$f":"DF$15*Otros!DA9","v":0.19845993442841023},{"$f":"DG$15*Otros!DB9","v":0.19359934418092906},{"$f":"DH$15*Otros!DC9","v":0.18878508430357388},{"$f":"DI$15*Otros!DD9","v":0.18428045964354706},{"$f":"DJ$15*Otros!DE9","v":0.17981885410393389},{"$f":"DK$15*Otros!DF9","v":0.17605120304764396},{"$f":"DL$15*Otros!DG9","v":0.17296611148571725},{"$f":"DM$15*Otros!DH9","v":0.16990866697778093},{"$f":"DN$15*Otros!DI9","v":0.1671347402671042},{"$f":"DO$15*Otros!DJ9","v":0.16438533383488446},{"$f":"DP$15*Otros!DK9","v":0.16191336668799275},{"$f":"DQ$15*Otros!DL9","v":0.15971435103824089},{"$f":"DR$15*Otros!DM9","v":0.15753377694950424},{"$f":"DS$15*Otros!DN9","v":0.15537159757537655},{"$f":"DT$15*Otros!DO9","v":0.15322776282588318},{"$f":"DU$15*Otros!DP9","v":0.15097937215894394},{"$f":"DV$15*Otros!DQ9","v":0.14862853043646157},{"$f":"DW$15*Otros!DR9","v":0.14629873068585955},{"$f":"DX$15*Otros!DS9","v":0.14398989218049557},{"$f":"DY$15*Otros!DT9","v":0.14170193134120118},{"$f":"DZ$15*Otros!DU9","v":0.13943476185789819},{"$f":"EA$15*Otros!DV9","v":0.13718829480784062},{"$f":"EB$15*Otros!DW9","v":0.13496243877056002},{"$f":"EC$15*Otros!DX9","v":0.13299144610011507},{"$f":"ED$15*Otros!DY9","v":0.1310380954593181},{"$f":"EE$15*Otros!DZ9","v":0.12921809515432259},{"$f":"EF$15*Otros!EA9","v":0.12752930019856812},{"$f":"EG$15*Otros!EB9","v":0.12585516989586801},{"$f":"EH$15*Otros!EC9","v":0.12442310475302978},{"$f":"EI$15*Otros!ED9","v":0.12300286193783221},{"$f":"EJ$15*Otros!EE9","v":0.12181915309474922},{"$f":"EK$15*Otros!EF9","v":0.12086790132881912},{"$f":"EL$15*Otros!EG9","v":0.1199229894529988},{"$f":"EM$15*Otros!EH9","v":0.11920515770092302},{"$f":"EN$15*Otros!EI9","v":0.11849099965574453},{"$f":"EO$15*Otros!EJ9","v":0.11810769179901373},{"$f":"EP$15*Otros!EK9","v":0.11804935169327298},{"$f":"EQ$15*Otros!EL9","v":0.11798690582108111},{"$f":"ER$15*Otros!EM9","v":0.11834883366822417},{"$f":"ES$15*Otros!EN9","v":0.11870163665728381},{"$f":"ET$15*Otros!EO9","v":0.11915124013421012},{"$f":"EU$15*Otros!EP9","v":0.11969583879016199},{"$f":"EV$15*Otros!EQ9","v":0.12022910023161296},{"$f":"EW$15*Otros!ER9","v":0.1211668168564405},{"$f":"EX$15*Otros!ES9","v":0.12208843156073221},{"$f":"EY$15*Otros!ET9","v":0.12350744105002595},{"$f":"EZ$15*Otros!EU9","v":0.12541470939030755},{"$f":"FA$15*Otros!EV9","v":0.12729405553799231},{"$f":"FB$15*Otros!EW9","v":0.13015390964087153},{"$f":"FC$15*Otros!EX9","v":0.13297417920641588},{"$f":"FD$15*Otros!EY9","v":0.13585483243493776},{"$f":"FE$15*Otros!EZ9","v":0.13879442748746085},{"$f":"FF$15*Otros!FA9","v":0.1416931438890654},{"$f":"FG$15*Otros!FB9","v":0.14552938655049072},{"$f":"FH$15*Otros!FC9","v":0.14931366710034591},{"$f":"FI$15*Otros!FD9","v":0.15343295102972493},{"$f":"FJ$15*Otros!FE9","v":0.15788069197090523},{"$f":"FK$15*Otros!FF9","v":0.16226861494138539},{"$f":"FL$15*Otros!FG9","v":0.16621778786832034},{"$f":"FM$15*Otros!FH9","v":0.17011286636991013},{"$f":"FN$15*Otros!FI9","v":0.17376691513520559},{"$f":"FO$15*Otros!FJ9","v":0.17718386028764688},{"$f":"FP$15*Otros!FK9","v":0.18055276754040225},{"$f":"FQ$15*Otros!FL9","v":0.18350598882816513},{"$f":"FR$15*Otros!FM9","v":0.18641657626382158},{"$f":"FS$15*Otros!FN9","v":0.18901220842529048},{"$f":"FT$15*Otros!FO9","v":0.1912982750030732},{"$f":"FU$15*Otros!FP9","v":0.1935495460757089},{"$f":"FV$15*Otros!FQ9","v":0.19523076601198225},{"$f":"FW$15*Otros!FR9","v":0.19688440748311697},{"$f":"FX$15*Otros!FS9","v":0.19824620034177665},{"$f":"FY$15*Otros!FT9","v":0.19932125581365176},{"$f":"FZ$15*Otros!FU9","v":0.20037598426284131},{"$f":"GA$15*Otros!FV9","v":0.2012374324613152},{"$f":"GB$15*Otros!FW9","v":0.20208111242998145},{"$f":"GC$15*Otros!FX9","v":0.20265060197474061},{"$f":"GD$15*Otros!FY9","v":0.20295077906118172},{"$f":"GE$15*Otros!FZ9","v":0.20323998400351137},{"$f":"GF$15*Otros!GA9","v":0.20318238263877289},{"$f":"GG$15*Otros!GB9","v":0.2031181721106626},{"$f":"GH$15*Otros!GC9","v":0.20288149869970667},{"$f":"GI$15*Otros!GD9","v":0.20247548404889584},{"$f":"GJ$15*Otros!GE9","v":0.20206715990624596},{"$f":"GK$15*Otros!GF9","v":0.20149363296419445},{"$f":"GL$15*Otros!GG9","v":0.20091989454984793},{"$f":"GM$15*Otros!GH9","v":0.20026549315843434},{"$f":"GN$15*Otros!GI9","v":0.1995319323973776},{"$f":"GO$15*Otros!GJ9","v":0.19880021671553019},{"$f":"GP$15*Otros!GK9","v":0.19791228957543119},{"$f":"GQ$15*Otros!GL9","v":0.19702816194804901},{"$f":"GR$15*Otros!GM9","v":0.19622591905719453},{"$f":"GS$15*Otros!GN9","v":0.19550414373931765},{"$f":"GT$15*Otros!GO9","v":0.19478429410466866},{"$f":"GU$15*Otros!GP9","v":0.1943730906536274},{"$f":"GV$15*Otros!GQ9","v":0.19396013878914262},{"$f":"GW$15*Otros!GR9","v":0.19362124200819322},{"$f":"GX$15*Otros!GS9","v":0.19335507848318487},{"$f":"GY$15*Otros!GT9","v":0.19308550387546741}]
[4,80,null,{"$f":"13*F45*(K45-K$41)","v":21.597965077266903},-32.849349505046682,60.330491029558829,0.33342500509191764,0.15919326088746469,1.6351567037035306,2.2415884512676656,0.33057695578830087,{"$f":"4*M45/(M45+15*N45+3*O45)","v":0.15368531676984534},{"$f":"SUMPRODUCT($P45:$HH45,Otros!$C$26:$GU$26)*(100/$E$15)","v":20.638747469806066},{"$f":"SUMPRODUCT($P45:$HH45,Otros!$C$27:$GU$27)*(100/$E$15)","v":29.595949494942996},{"$f":"SUMPRODUCT($P45:$HH45,Otros!$C$28:$GU$28)*(100/$E$15)","v":24.197007609563556},{"$f":"G$15*Otros!B10","v":7.3999999999999996E-2},{"$f":"H$15*Otros!C10","v":7.7578292962880852E-2},{"$f":"I$15*Otros!D10","v":8.1144152689362439E-2},{"$f":"J$15*Otros!E10","v":8.4896195728121585E-2},{"$f":"K$15*Otros!F10","v":8.883292919426547E-2},{"$f":"L$15*Otros!G10","v":9.2753286541169225E-2},{"$f":"M$15*Otros!H10","v":9.7453270778368697E-2},{"$f":"N$15*Otros!I10","v":0.10213298973142669},{"$f":"O$15*Otros!J10","v":0.10659223432703385},{"$f":"P$15*Otros!K10","v":0.11083044748317149},{"$f":"Q$15*Otros!L10","v":0.11504560287184834},{"$f":"R$15*Otros!M10","v":0.11685981885502147},{"$f":"S$15*Otros!N10","v":0.11865624684681607},{"$f":"T$15*Otros!O10","v":0.12003973753650045},{"$f":"U$15*Otros!P10","v":0.121012100081641},{"$f":"V$15*Otros!Q10","v":0.12196883024726206},{"$f":"W$15*Otros!R10","v":0.12251722753306098},{"$f":"X$15*Otros!S10","v":0.12305156490439244},{"$f":"Y$15*Otros!T10","v":0.12357194260319174},{"$f":"Z$15*Otros!U10","v":0.12407846417953479},{"$f":"AA$15*Otros!V10","v":0.12457123630680489},{"$f":"AB$15*Otros!W10","v":0.12543872378417276},{"$f":"AC$15*Otros!X10","v":0.126290763411949},{"$f":"AD$15*Otros!Y10","v":0.12732058480300359},{"$f":"AE$15*Otros!Z10","v":0.12852669383540424},{"$f":"AF$15*Otros!AA10","v":0.12971534852799357},{"$f":"AG$15*Otros!AB10","v":0.13088651341481514},{"$f":"AH$15*Otros!AC10","v":0.13204016175801475},{"$f":"AI$15*Otros!AD10","v":0.13336679925454756},{"$f":"AJ$15*Otros!AE10","v":0.13486469457651087},{"$f":"AK$15*Otros!AF10","v":0.13634268919828932},{"$f":"AL$15*Otros!AG10","v":0.13855579341948057},{"$f":"AM$15*Otros!AH10","v":0.14074402184022275},{"$f":"AN$15*Otros!AI10","v":0.14346983316275619},{"$f":"AO$15*Otros!AJ10","v":0.14672741982925835},{"$f":"AP$15*Otros!AK10","v":0.14995198592440667},{"$f":"AQ$15*Otros!AL10","v":0.15351449669406636},{"$f":"AR$15*Otros!AM10","v":0.15704080079125965},{"$f":"AS$15*Otros!AN10","v":0.16108351784353017},{"$f":"AT$15*Otros!AO10","v":0.1656363090905596},{"$f":"AU$15*Otros!AP10","v":0.17014386283527833},{"$f":"AV$15*Otros!AQ10","v":0.17642842010755472},{"$f":"AW$15*Otros!AR10","v":0.18265309531663582},{"$f":"AX$15*Otros!AS10","v":0.18972166467021526},{"$f":"AY$15*Otros!AT10","v":0.19762298215457452},{"$f":"AZ$15*Otros!AU10","v":0.20544858996922283},{"$f":"BA$15*Otros!AV10","v":0.21355531315557319},{"$f":"BB$15*Otros!AW10","v":0.22158227675660888},{"$f":"BC$15*Otros!AX10","v":0.22988343671215955},{"$f":"BD$15*Otros!AY10","v":0.23845386742611924},{"$f":"BE$15*Otros!AZ10","v":0.24693711597694229},{"$f":"BF$15*Otros!BA10","v":0.25533273365519665},{"$f":"BG$15*Otros!BB10","v":0.2636403189919333},{"$f":"BH$15*Otros!BC10","v":0.2713390449666343},{"$f":"BI$15*Otros!BD10","v":0.27843547364166421},{"$f":"BJ$15*Otros!BE10","v":0.28545215706955884},{"$f":"BK$15*Otros!BF10","v":0.29101942989341939},{"$f":"BL$15*Otros!BG10","v":0.29651906221845792},{"$f":"BM$15*Otros!BH10","v":0.30161176601519041},{"$f":"BN$15*Otros!BI10","v":0.30630223452645711},{"$f":"BO$15*Otros!BJ10","v":0.31093136085717799},{"$f":"BP$15*Otros!BK10","v":0.31382638352227299},{"$f":"BQ$15*Otros!BL10","v":0.31667602813167256},{"$f":"BR$15*Otros!BM10","v":0.3184862515711081},{"$f":"BS$15*Otros!BN10","v":0.31927152326133934},{"$f":"BT$15*Otros!BO10","v":0.32003109848937128},{"$f":"BU$15*Otros!BP10","v":0.31978532096320844},{"$f":"BV$15*Otros!BQ10","v":0.31952397467168658},{"$f":"BW$15*Otros!BR10","v":0.31876218394846767},{"$f":"BX$15*Otros!BS10","v":0.31750744707976375},{"$f":"BY$15*Otros!BT10","v":0.31624765201056387},{"$f":"BZ$15*Otros!BU10","v":0.31370851448015902},{"$f":"CA$15*Otros!BV10","v":0.31117775945680254},{"$f":"CB$15*Otros!BW10","v":0.30802481505456258},{"$f":"CC$15*Otros!BX10","v":0.30425960980516642},{"$f":"CD$15*Otros!BY10","v":0.30051651554027087},{"$f":"CE$15*Otros!BZ10","v":0.2964851842544533},{"$f":"CF$15*Otros!CA10","v":0.29247970255734185},{"$f":"CG$15*Otros!CB10","v":0.28819290421110688},{"$f":"CH$15*Otros!CC10","v":0.28362982979955664},{"$f":"CI$15*Otros!CD10","v":0.27909969558408332},{"$f":"CJ$15*Otros!CE10","v":0.27369491228813037},{"$f":"CK$15*Otros!CF10","v":0.26833304177940087},{"$f":"CL$15*Otros!CG10","v":0.2630142269018208},{"$f":"CM$15*Otros!CH10","v":0.25773859310795055},{"$f":"CN$15*Otros!CI10","v":0.25250624901180191},{"$f":"CO$15*Otros!CJ10","v":0.2470226862298327},{"$f":"CP$15*Otros!CK10","v":0.24158576577958532},{"$f":"CQ$15*Otros!CL10","v":0.23604983132009685},{"$f":"CR$15*Otros!CM10","v":0.23041730048121123},{"$f":"CS$15*Otros!CN10","v":0.22483469176546633},{"$f":"CT$15*Otros!CO10","v":0.21901533481616217},{"$f":"CU$15*Otros!CP10","v":0.21324903718768945},{"$f":"CV$15*Otros!CQ10","v":0.20753575856158335},{"$f":"CW$15*Otros!CR10","v":0.20187544435368929},{"$f":"CX$15*Otros!CS10","v":0.19626802622578687},{"$f":"CY$15*Otros!CT10","v":0.19043460179102034},{"$f":"CZ$15*Otros!CU10","v":0.18465701350006974},{"$f":"DA$15*Otros!CV10","v":0.17907299650858566},{"$f":"DB$15*Otros!CW10","v":0.17368009497559589},{"$f":"DC$15*Otros!CX10","v":0.16833954731019007},{"$f":"DD$15*Otros!CY10","v":0.16250906370685828},{"$f":"DE$15*Otros!CZ10","v":0.15673678352480019},{"$f":"DF$15*Otros!DA10","v":0.15142452795685588},{"$f":"DG$15*Otros!DB10","v":0.14656522959327042},{"$f":"DH$15*Otros!DC10","v":0.14175441417882392},{"$f":"DI$15*Otros!DD10","v":0.1367284611222315},{"$f":"DJ$15*Otros!DE10","v":0.13175365420870902},{"$f":"DK$15*Otros!DF10","v":0.1272204329715593},{"$f":"DL$15*Otros!DG10","v":0.12312183534649485},{"$f":"DM$15*Otros!DH10","v":0.11906478557155102},{"$f":"DN$15*Otros!DI10","v":0.1158169524821817},{"$f":"DO$15*Otros!DJ10","v":0.11260140901228539},{"$f":"DP$15*Otros!DK10","v":0.10992399660302009},{"$f":"DQ$15*Otros!DL10","v":0.10777574711793106},{"$f":"DR$15*Otros!DM10","v":0.10564765200185007},{"$f":"DS$15*Otros!DN10","v":0.10378822718035154},{"$f":"DT$15*Otros!DO10","v":0.10194589058980132},{"$f":"DU$15*Otros!DP10","v":0.10024342366289526},{"$f":"DV$15*Otros!DQ10","v":9.8678597035875878E-2},{"$f":"DW$15*Otros!DR10","v":9.712778800720967E-2},{"$f":"DX$15*Otros!DS10","v":9.5590942671376772E-2},{"$f":"DY$15*Otros!DT10","v":9.4068005225657697E-2},{"$f":"DZ$15*Otros!DU10","v":9.2797471963596903E-2},{"$f":"EA$15*Otros!DV10","v":9.1775056336446531E-2},{"$f":"EB$15*Otros!DW10","v":9.0760766684132063E-2},{"$f":"EC$15*Otros!DX10","v":8.9754579482544616E-2},{"$f":"ED$15*Otros!DY10","v":8.8756469991111461E-2},{"$f":"EE$15*Otros!DZ10","v":8.7882199123773153E-2},{"$f":"EF$15*Otros!EA10","v":8.7129675316169747E-2},{"$f":"EG$15*Otros!EB10","v":8.6382412064891223E-2},{"$f":"EH$15*Otros!EC10","v":8.5412935712546045E-2},{"$f":"EI$15*Otros!ED10","v":8.4451413481213849E-2},{"$f":"EJ$15*Otros!EE10","v":8.3610193636986546E-2},{"$f":"EK$15*Otros!EF10","v":8.2887229931593143E-2},{"$f":"EL$15*Otros!EG10","v":8.2169455736313984E-2},{"$f":"EM$15*Otros!EH10","v":8.1677608054336145E-2},{"$f":"EN$15*Otros!EI10","v":8.1188277541899029E-2},{"$f":"EO$15*Otros!EJ10","v":8.0701469927303926E-2},{"$f":"EP$15*Otros!EK10","v":8.0217190314988057E-2},{"$f":"EQ$15*Otros!EL10","v":7.9735443203287681E-2},{"$f":"ER$15*Otros!EM10","v":7.9470438535585816E-2},{"$f":"ES$15*Otros!EN10","v":7.9205397016160667E-2},{"$f":"ET$15*Otros!EO10","v":7.9046160195608312E-2},{"$f":"EU$15*Otros!EP10","v":7.8990839131293192E-2},{"$f":"EV$15*Otros!EQ10","v":7.8933017978145892E-2},{"$f":"EW$15*Otros!ER10","v":7.908057257954651E-2},{"$f":"EX$15*Otros!ES10","v":7.9223203897700184E-2},{"$f":"EY$15*Otros!ET10","v":7.9463640376325917E-2},{"$f":"EZ$15*Otros!EU10","v":7.9800083599040283E-2},{"$f":"FA$15*Otros!EV10","v":8.0129325796823844E-2},{"$f":"FB$15*Otros!EW10","v":8.0451448406983331E-2},{"$f":"FC$15*Otros!EX10","v":8.0766532358983581E-2},{"$f":"FD$15*Otros!EY10","v":8.0975057748976842E-2},{"$f":"FE$15*Otros!EZ10","v":8.1078913061505303E-2},{"$f":"FF$15*Otros!FA10","v":8.1178363686443725E-2},{"$f":"FG$15*Otros!FB10","v":8.1273467892108736E-2},{"$f":"FH$15*Otros!FC10","v":8.1364283439446308E-2},{"$f":"FI$15*Otros!FD10","v":8.1354247334400748E-2},{"$f":"FJ$15*Otros!FE10","v":8.124517360546582E-2},{"$f":"FK$15*Otros!FF10","v":8.1134307470692696E-2},{"$f":"FL$15*Otros!FG10","v":8.0831937935963993E-2},{"$f":"FM$15*Otros!FH10","v":8.053014849218583E-2},{"$f":"FN$15*Otros!FI10","v":8.0041502440919954E-2},{"$f":"FO$15*Otros!FJ10","v":7.9369426374908056E-2},{"$f":"FP$15*Otros!FK10","v":7.8702488415047137E-2},{"$f":"FQ$15*Otros!FL10","v":7.7856603083564541E-2},{"$f":"FR$15*Otros!FM10","v":7.701803592450332E-2},{"$f":"FS$15*Otros!FN10","v":7.6186739134388379E-2},{"$f":"FT$15*Otros!FO10","v":7.5362664786283909E-2},{"$f":"FU$15*Otros!FP10","v":7.4545764845864684E-2},{"$f":"FV$15*Otros!FQ10","v":7.3735991186967234E-2},{"$f":"FW$15*Otros!FR10","v":7.2933295606634585E-2},{"$f":"FX$15*Otros!FS10","v":7.2314005462747716E-2},{"$f":"FY$15*Otros!FT10","v":7.1874859176426761E-2},{"$f":"FZ$15*Otros!FU10","v":7.1438394389360824E-2},{"$f":"GA$15*Otros!FV10","v":7.1177783770740577E-2},{"$f":"GB$15*Otros!FW10","v":7.091773281188446E-2},{"$f":"GC$15*Otros!FX10","v":7.0829336612530699E-2},{"$f":"GD$15*Otros!FY10","v":7.0909488788029135E-2},{"$f":"GE$15*Otros!FZ10","v":7.0986106678981115E-2},{"$f":"GF$15*Otros!GA10","v":7.1227226323968343E-2},{"$f":"GG$15*Otros!GB10","v":7.1462866965362595E-2},{"$f":"GH$15*Otros!GC10","v":7.1776072137115038E-2},{"$f":"GI$15*Otros!GD10","v":7.216539655510544E-2},{"$f":"GJ$15*Otros!GE10","v":7.2547438749301293E-2},{"$f":"GK$15*Otros!GF10","v":7.275932642014786E-2},{"$f":"GL$15*Otros!GG10","v":7.2966072144060048E-2},{"$f":"GM$15*Otros!GH10","v":7.3167738457000323E-2},{"$f":"GN$15*Otros!GI10","v":7.3364387332957193E-2},{"$f":"GO$15*Otros!GJ10","v":7.3556080184746173E-2},{"$f":"GP$15*Otros!GK10","v":7.3742877864966958E-2},{"$f":"GQ$15*Otros!GL10","v":7.3924840667110886E-2},{"$f":"GR$15*Otros!GM10","v":7.4023943997700112E-2},{"$f":"GS$15*Otros!GN10","v":7.4041664599963891E-2},{"$f":"GT$15*Otros!GO10","v":7.4056602907121544E-2},{"$f":"GU$15*Otros!GP10","v":7.3915447491162453E-2},{"$f":"GV$15*Otros!GQ10","v":7.3773443751626741E-2},{"$f":"GW$15*Otros!GR10","v":7.3706364817672926E-2},{"$f":"GX$15*Otros!GS10","v":7.3712858970030382E-2},{"$f":"GY$15*Otros!GT10","v":7.3716752448579614E-2}]
[5,80,null,-6.755359227774119,{"$f":"13*F46*(L46-L$41)","v":-25.544527619895675},61.56606931268955,0.29384342714342671,0.17003729748545612,3.0222889805148037,2.2566455430576715,0.29459852897320427,{"$f":"4*M46/(M46+15*N46+3*O46)","v":0.16365282247637078},{"$f":"SUMPRODUCT($P46:$HH46,Otros!$C$26:$GU$26)*(100/$E$15)","v":25.862424529138316},{"$f":"SUMPRODUCT($P46:$HH46,Otros!$C$27:$GU$27)*(100/$E$15)","v":31.037379849507317},{"$f":"SUMPRODUCT($P46:$HH46,Otros!$C$28:$GU$28)*(100/$E$15)","v":46.901965551609074},{"$f":"G$15*Otros!B11","v":0.29499999999999998},{"$f":"H$15*Otros!C11","v":0.29931624887998098},{"$f":"I$15*Otros!D11","v":0.30359105402744224},{"$f":"J$15*Otros!E11","v":0.3064253276398553},{"$f":"K$15*Otros!F11","v":0.30782107150012888},{"$f":"L$15*Otros!G11","v":0.30917762180389741},{"$f":"M$15*Otros!H11","v":0.30969812431407967},{"$f":"N$15*Otros!I11","v":0.31018167251766621},{"$f":"O$15*Otros!J11","v":0.31042999586660419},{"$f":"P$15*Otros!K11","v":0.31044442547705559},{"$f":"Q$15*Otros!L11","v":0.31042477326628043},{"$f":"R$15*Otros!M11","v":0.31076789115852327},{"$f":"S$15*Otros!N11","v":0.31107712715006947},{"$f":"T$15*Otros!O11","v":0.3117479367929839},{"$f":"U$15*Otros!P11","v":0.31277883196997436},{"$f":"V$15*Otros!Q11","v":0.31377465200706933},{"$f":"W$15*Otros!R11","v":0.3143430789750491},{"$f":"X$15*Otros!S11","v":0.31487876560725903},{"$f":"Y$15*Otros!T11","v":0.31557771417967001},{"$f":"Z$15*Otros!U11","v":0.31643910204277581},{"$f":"AA$15*Otros!V11","v":0.31726736746889372},{"$f":"AB$15*Otros!W11","v":0.3180628940533668},{"$f":"AC$15*Otros!X11","v":0.31882606836820254},{"$f":"AD$15*Otros!Y11","v":0.31955727961178743},{"$f":"AE$15*Otros!Z11","v":0.32025691927202676},{"$f":"AF$15*Otros!AA11","v":0.32092538080259148},{"$f":"AG$15*Otros!AB11","v":0.32194632875093621},{"$f":"AH$15*Otros!AC11","v":0.32293469373523148},{"$f":"AI$15*Otros!AD11","v":0.32427184618748556},{"$f":"AJ$15*Otros!AE11","v":0.32595467027224323},{"$f":"AK$15*Otros!AF11","v":0.32760118376811181},{"$f":"AL$15*Otros!AG11","v":0.32883404923260917},{"$f":"AM$15*Otros!AH11","v":0.33003344158790199},{"$f":"AN$15*Otros!AI11","v":0.33157472553170325},{"$f":"AO$15*Otros!AJ11","v":0.33345441652916807},{"$f":"AP$15*Otros!AK11","v":0.33529636604215157},{"$f":"AQ$15*Otros!AL11","v":0.33747201328876986},{"$f":"AR$15*Otros!AM11","v":0.33960766814222937},{"$f":"AS$15*Otros!AN11","v":0.34225639889637932},{"$f":"AT$15*Otros!AO11","v":0.34541230310348403},{"$f":"AU$15*Otros!AP11","v":0.34852049322710238},{"$f":"AV$15*Otros!AQ11","v":0.35194553639223985},{"$f":"AW$15*Otros!AR11","v":0.35532018641615937},{"$f":"AX$15*Otros!AS11","v":0.35792104326249385},{"$f":"AY$15*Otros!AT11","v":0.35975669586388814},{"$f":"AZ$15*Otros!AU11","v":0.36155363212924368},{"$f":"BA$15*Otros!AV11","v":0.3625972639269105},{"$f":"BB$15*Otros!AW11","v":0.36360850715964016},{"$f":"BC$15*Otros!AX11","v":0.36423320157554961},{"$f":"BD$15*Otros!AY11","v":0.36447611860468998},{"$f":"BE$15*Otros!AZ11","v":0.3646936054463738},{"$f":"BF$15*Otros!BA11","v":0.36418603066241556},{"$f":"BG$15*Otros!BB11","v":0.36365984516600447},{"$f":"BH$15*Otros!BC11","v":0.36276850577060887},{"$f":"BI$15*Otros!BD11","v":0.36151702626054788},{"$f":"BJ$15*Otros!BE11","v":0.36025437895224444},{"$f":"BK$15*Otros!BF11","v":0.35795389876890582},{"$f":"BL$15*Otros!BG11","v":0.355652461408001},{"$f":"BM$15*Otros!BH11","v":0.35301129644410079},{"$f":"BN$15*Otros!BI11","v":0.35003557451672856},{"$f":"BO$15*Otros!BJ11","v":0.34706662711895814},{"$f":"BP$15*Otros!BK11","v":0.34410494184718315},{"$f":"BQ$15*Otros!BL11","v":0.34115098929642329},{"$f":"BR$15*Otros!BM11","v":0.33787381215061879},{"$f":"BS$15*Otros!BN11","v":0.33427860415843741},{"$f":"BT$15*Otros!BO11","v":0.33069880177235034},{"$f":"BU$15*Otros!BP11","v":0.32680818551960172},{"$f":"BV$15*Otros!BQ11","v":0.32293699779890189},{"$f":"BW$15*Otros!BR11","v":0.3190856361899172},{"$f":"BX$15*Otros!BS11","v":0.31525447989318656},{"$f":"BY$15*Otros!BT11","v":0.31144389020787178},{"$f":"BZ$15*Otros!BU11","v":0.30733556344958191},{"$f":"CA$15*Otros!BV11","v":0.30325168305698585},{"$f":"CB$15*Otros!BW11","v":0.2990348434938303},{"$f":"CC$15*Otros!BX11","v":0.29468774998148661},{"$f":"CD$15*Otros!BY11","v":0.29036920462592403},{"$f":"CE$15*Otros!BZ11","v":0.28607947061115929},{"$f":"CF$15*Otros!CA11","v":0.28181879422323908},{"$f":"CG$15*Otros!CB11","v":0.27743370245389221},{"$f":"CH$15*Otros!CC11","v":0.27292681735429036},{"$f":"CI$15*Otros!CD11","v":0.26845284071166597},{"$f":"CJ$15*Otros!CE11","v":0.26370935993267619},{"$f":"CK$15*Otros!CF11","v":0.25900233589587712},{"$f":"CL$15*Otros!CG11","v":0.25433191320785059},{"$f":"CM$15*Otros!CH11","v":0.24969822105258985},{"$f":"CN$15*Otros!CI11","v":0.24510137367421239},{"$f":"CO$15*Otros!CJ11","v":0.24054147084872798},{"$f":"CP$15*Otros!CK11","v":0.23601859834500422},{"$f":"CQ$15*Otros!CL11","v":0.23138711860266284},{"$f":"CR$15*Otros!CM11","v":0.22664947041044931},{"$f":"CS$15*Otros!CN11","v":0.2219521957171911},{"$f":"CT$15*Otros!CO11","v":0.21786865767052782},{"$f":"CU$15*Otros!CP11","v":0.21381922177910037},{"$f":"CV$15*Otros!CQ11","v":0.20923687133667832},{"$f":"CW$15*Otros!CR11","v":0.20413103591071377},{"$f":"CX$15*Otros!CS11","v":0.19907185517186951},{"$f":"CY$15*Otros!CT11","v":0.19433809289654638},{"$f":"CZ$15*Otros!CU11","v":0.18964774359466621},{"$f":"DA$15*Otros!CV11","v":0.18527644904352514},{"$f":"DB$15*Otros!CW11","v":0.18121948347098482},{"$f":"DC$15*Otros!CX11","v":0.17719952348441059},{"$f":"DD$15*Otros!CY11","v":0.1726743512614991},{"$f":"DE$15*Otros!CZ11","v":0.16819218042902032},{"$f":"DF$15*Otros!DA11","v":0.16348488859058777},{"$f":"DG$15*Otros!DB11","v":0.15855693019635619},{"$f":"DH$15*Otros!DC11","v":0.15367768266115492},{"$f":"DI$15*Otros!DD11","v":0.14963731390641136},{"$f":"DJ$15*Otros!DE11","v":0.14563624600406008},{"$f":"DK$15*Otros!DF11","v":0.14193477168781948},{"$f":"DL$15*Otros!DG11","v":0.13852824797134539},{"$f":"DM$15*Otros!DH11","v":0.13515462145959845},{"$f":"DN$15*Otros!DI11","v":0.13181376912336701},{"$f":"DO$15*Otros!DJ11","v":0.12850556282757994},{"$f":"DP$15*Otros!DK11","v":0.12573584881864439},{"$f":"DQ$15*Otros!DL11","v":0.1234956635587028},{"$f":"DR$15*Otros!DM11","v":0.1212760028896977},{"$f":"DS$15*Otros!DN11","v":0.11932538693788919},{"$f":"DT$15*Otros!DO11","v":0.11739223764886213},{"$f":"DU$15*Otros!DP11","v":0.1155993402779221},{"$f":"DV$15*Otros!DQ11","v":0.11394446910206954},{"$f":"DW$15*Otros!DR11","v":0.11230400488333618},{"$f":"DX$15*Otros!DS11","v":0.11116067954588131},{"$f":"DY$15*Otros!DT11","v":0.11002597039786749},{"$f":"DZ$15*Otros!DU11","v":0.10878058410128584},{"$f":"EA$15*Otros!DV11","v":0.1074266163318095},{"$f":"EB$15*Otros!DW11","v":0.10608401300742709},{"$f":"EC$15*Otros!DX11","v":0.10475273375639017},{"$f":"ED$15*Otros!DY11","v":0.10343273668255509},{"$f":"EE$15*Otros!DZ11","v":0.10235555207564621},{"$f":"EF$15*Otros!EA11","v":0.10151700611474467},{"$f":"EG$15*Otros!EB11","v":0.10068413591669441},{"$f":"EH$15*Otros!EC11","v":9.9856934161937985E-2},{"$f":"EI$15*Otros!ED11","v":9.9035392516122256E-2},{"$f":"EJ$15*Otros!EE11","v":9.8331880957477455E-2},{"$f":"EK$15*Otros!EF11","v":9.7744374919331536E-2},{"$f":"EL$15*Otros!EG11","v":9.7159829417938839E-2},{"$f":"EM$15*Otros!EH11","v":9.657825276695152E-2},{"$f":"EN$15*Otros!EI11","v":9.5999652498867091E-2},{"$f":"EO$15*Otros!EJ11","v":9.5424035387014786E-2},{"$f":"EP$15*Otros!EK11","v":9.4851407467046692E-2},{"$f":"EQ$15*Otros!EL11","v":9.4281774057941511E-2},{"$f":"ER$15*Otros!EM11","v":9.414355185010774E-2},{"$f":"ES$15*Otros!EN11","v":9.4003179523212202E-2},{"$f":"ET$15*Otros!EO11","v":9.3966519750602648E-2},{"$f":"EU$15*Otros!EP11","v":9.403170463831706E-2},{"$f":"EV$15*Otros!EQ11","v":9.4092339311697082E-2},{"$f":"EW$15*Otros!ER11","v":9.4148487197199912E-2},{"$f":"EX$15*Otros!ES11","v":9.4200211153458363E-2},{"$f":"EY$15*Otros!ET11","v":9.4247573469595863E-2},{"$f":"EZ$15*Otros!EU11","v":9.4290635863827632E-2},{"$f":"FA$15*Otros!EV11","v":9.4329459482336939E-2},{"$f":"FB$15*Otros!EW11","v":9.436410489841654E-2},{"$f":"FC$15*Otros!EX11","v":9.4394632111864177E-2},{"$f":"FD$15*Otros!EY11","v":9.4421100548622433E-2},{"$f":"FE$15*Otros!EZ11","v":9.4443569060654528E-2},{"$f":"FF$15*Otros!FA11","v":9.4462095926043613E-2},{"$f":"FG$15*Otros!FB11","v":9.4476738849310529E-2},{"$f":"FH$15*Otros!FC11","v":9.4487554961937642E-2},{"$f":"FI$15*Otros!FD11","v":9.4591221069332945E-2},{"$f":"FJ$15*Otros!FE11","v":9.4786035873043462E-2},{"$f":"FK$15*Otros!FF11","v":9.4974865803928499E-2},{"$f":"FL$15*Otros!FG11","v":9.4588547091732519E-2},{"$f":"FM$15*Otros!FH11","v":9.4203300168259535E-2},{"$f":"FN$15*Otros!FI11","v":9.3631687281591366E-2},{"$f":"FO$15*Otros!FJ11","v":9.2877133915238649E-2},{"$f":"FP$15*Otros!FK11","v":9.2128207027025774E-2},{"$f":"FQ$15*Otros!FL11","v":9.1384878087446317E-2},{"$f":"FR$15*Otros!FM11","v":9.0647118291190959E-2},{"$f":"FS$15*Otros!FN11","v":8.9823983609517558E-2},{"$f":"FT$15*Otros!FO11","v":8.8917100898924906E-2},{"$f":"FU$15*Otros!FP11","v":8.8017891022828185E-2},{"$f":"FV$15*Otros!FQ11","v":8.7304841865440616E-2},{"$f":"FW$15*Otros!FR11","v":8.6597197703254705E-2},{"$f":"FX$15*Otros!FS11","v":8.5983116251437827E-2},{"$f":"FY$15*Otros!FT11","v":8.5460960606117187E-2},{"$f":"FZ$15*Otros!FU11","v":8.4941993328813165E-2},{"$f":"GA$15*Otros!FV11","v":8.4599385333349805E-2},{"$f":"GB$15*Otros!FW11","v":8.4257840318974375E-2},{"$f":"GC$15*Otros!FX11","v":8.3917366203976593E-2},{"$f":"GD$15*Otros!FY11","v":8.3577970597880857E-2},{"$f":"GE$15*Otros!FZ11","v":8.3239660808090948E-2},{"$f":"GF$15*Otros!GA11","v":8.3238421329071485E-2},{"$f":"GG$15*Otros!GB11","v":8.3234203696806675E-2},{"$f":"GH$15*Otros!GC11","v":8.3227052431822421E-2},{"$f":"GI$15*Otros!GD11","v":8.3217011570401594E-2},{"$f":"GJ$15*Otros!GE11","v":8.3204124667277765E-2},{"$f":"GK$15*Otros!GF11","v":8.3025479979989561E-2},{"$f":"GL$15*Otros!GG11","v":8.2846050836152541E-2},{"$f":"GM$15*Otros!GH11","v":8.2746353282504223E-2},{"$f":"GN$15*Otros!GI11","v":8.272494711262568E-2},{"$f":"GO$15*Otros!GJ11","v":8.2700890153660556E-2},{"$f":"GP$15*Otros!GK11","v":8.2832300109844992E-2},{"$f":"GQ$15*Otros!GL11","v":8.2959226083389043E-2},{"$f":"GR$15*Otros!GM11","v":8.3003641845522405E-2},{"$f":"GS$15*Otros!GN11","v":8.2967022491993073E-2},{"$f":"GT$15*Otros!GO11","v":8.292796679703715E-2},{"$f":"GU$15*Otros!GP11","v":8.2733161662826016E-2},{"$f":"GV$15*Otros!GQ11","v":8.2537850808896432E-2},{"$f":"GW$15*Otros!GR11","v":8.2342054015221447E-2},{"$f":"GX$15*Otros!GS11","v":8.2145790741882677E-2},{"$f":"GY$15*Otros!GT11","v":8.1949080133192562E-2}]
[6,80,null,-31.034168146579603,-17.295304585322363,60.718896943906444,0.2582332147315165,0.17953518333262045,{"$f":"(4-L47-10*K47)/K47","v":4.5089631822408434},2.2646916095518992,0.26372261941909753,0.17365822452419963,{"$f":"SUMPRODUCT($P47:$HH47,Otros!$C$26:$GU$26)*(100/$E$15)","v":29.675571608350861},{"$f":"SUMPRODUCT($P47:$HH47,Otros!$C$27:$GU$27)*(100/$E$15)","v":30.044145615161867},{"$f":"SUMPRODUCT($P47:$HH47,Otros!$C$28:$GU$28)*(100/$E$15)","v":67.733973210323782},{"$f":"G$15*Otros!B12","v":0.151},{"$f":"H$15*Otros!C12","v":0.17175194241008931},{"$f":"I$15*Otros!D12","v":0.19246753458092619},{"$f":"J$15*Otros!E12","v":0.21513694776279282},{"$f":"K$15*Otros!F12","v":0.2397490965445232},{"$f":"L$15*Otros!G12","v":0.26429699928397682},{"$f":"M$15*Otros!H12","v":0.29355555798882838},{"$f":"N$15*Otros!I12","v":0.32272432037942039},{"$f":"O$15*Otros!J12","v":0.35119754817451826},{"$f":"P$15*Otros!K12","v":0.37896862687794119},{"$f":"Q$15*Otros!L12","v":0.40662669980567079},{"$f":"R$15*Otros!M12","v":0.42742964252395993},{"$f":"S$15*Otros!N12","v":0.44812509225814201},{"$f":"T$15*Otros!O12","v":0.46357451272319583},{"$f":"U$15*Otros!P12","v":0.47379981856069209},{"$f":"V$15*Otros!Q12","v":0.4839408425939753},{"$f":"W$15*Otros!R12","v":0.4892835432890833},{"$f":"X$15*Otros!S12","v":0.49455756340555185},{"$f":"Y$15*Otros!T12","v":0.49839380015116413},{"$f":"Z$15*Otros!U12","v":0.50080097098878262},{"$f":"AA$15*Otros!V12","v":0.50315100914545419},{"$f":"AB$15*Otros!W12","v":0.50466755900164861},{"$f":"AC$15*Otros!X12","v":0.5061315410972741},{"$f":"AD$15*Otros!Y12","v":0.50754351483685944},{"$f":"AE$15*Otros!Z12","v":0.50890404560615088},{"$f":"AF$15*Otros!AA12","v":0.51021370421010803},{"$f":"AG$15*Otros!AB12","v":0.51147306633110046},{"$f":"AH$15*Otros!AC12","v":0.5126827120068792},{"$f":"AI$15*Otros!AD12","v":0.51365270112894312},{"$f":"AJ$15*Otros!AE12","v":0.51438534213125564},{"$f":"AK$15*Otros!AF12","v":0.51507238141575973},{"$f":"AL$15*Otros!AG12","v":0.51609201527092619},{"$f":"AM$15*Otros!AH12","v":0.51706493585151347},{"$f":"AN$15*Otros!AI12","v":0.51761665297935577},{"$f":"AO$15*Otros!AJ12","v":0.51775153239114102},{"$f":"AP$15*Otros!AK12","v":0.51784660977621189},{"$f":"AQ$15*Otros!AL12","v":0.51604631294982417},{"$f":"AR$15*Otros!AM12","v":0.51422076113039084},{"$f":"AS$15*Otros!AN12","v":0.51200230271090019},{"$f":"AT$15*Otros!AO12","v":0.5093959217485724},{"$f":"AU$15*Otros!AP12","v":0.50677258070292586},{"$f":"AV$15*Otros!AQ12","v":0.50303971022401972},{"$f":"AW$15*Otros!AR12","v":0.49930021085561488},{"$f":"AX$15*Otros!AS12","v":0.49501257979254454},{"$f":"AY$15*Otros!AT12","v":0.49018426111449159},{"$f":"AZ$15*Otros!AU12","v":0.48536107935960504},{"$f":"BA$15*Otros!AV12","v":0.47982930194369378},{"$f":"BB$15*Otros!AW12","v":0.4743106566717773},{"$f":"BC$15*Otros!AX12","v":0.46845175268329808},{"$f":"BD$15*Otros!AY12","v":0.46225808940711055},{"$f":"BE$15*Otros!AZ12","v":0.45608670175100724},{"$f":"BF$15*Otros!BA12","v":0.44888859617928678},{"$f":"BG$15*Otros!BB12","v":0.44172386559454785},{"$f":"BH$15*Otros!BC12","v":0.43442005664734795},{"$f":"BI$15*Otros!BD12","v":0.42698045337605078},{"$f":"BJ$15*Otros!BE12","v":0.41958027906609852},{"$f":"BK$15*Otros!BF12","v":0.4111933356494078},{"$f":"BL$15*Otros!BG12","v":0.4028569328071463},{"$f":"BM$15*Otros!BH12","v":0.39457197286351681},{"$f":"BN$15*Otros!BI12","v":0.38633931234649055},{"$f":"BO$15*Otros!BJ12","v":0.37815976320467592},{"$f":"BP$15*Otros!BK12","v":0.37003409400387421},{"$f":"BQ$15*Otros!BL12","v":0.36196303110318412},{"$f":"BR$15*Otros!BM12","v":0.35427867110251249},{"$f":"BS$15*Otros!BN12","v":0.34697690337905884},{"$f":"BT$15*Otros!BO12","v":0.33972531993487098},{"$f":"BU$15*Otros!BP12","v":0.33187118089746659},{"$f":"BV$15*Otros!BQ12","v":0.32407467217464037},{"$f":"BW$15*Otros!BR12","v":0.3164980182583213},{"$f":"BX$15*Otros!BS12","v":0.30913928324390577},{"$f":"BY$15*Otros!BT12","v":0.30183636660248753},{"$f":"BZ$15*Otros!BU12","v":0.2942710138368988},{"$f":"CA$15*Otros!BV12","v":0.2867654441453672},{"$f":"CB$15*Otros!BW12","v":0.27963543117856604},{"$f":"CC$15*Otros!BX12","v":0.27287646284228179},{"$f":"CD$15*Otros!BY12","v":0.26617177090709704},{"$f":"CE$15*Otros!BZ12","v":0.25983222276464141},{"$f":"CF$15*Otros!CA12","v":0.25354421125018384},{"$f":"CG$15*Otros!CB12","v":0.24730793753369118},{"$f":"CH$15*Otros!CC12","v":0.24112358037407056},{"$f":"CI$15*Otros!CD12","v":0.23499129682692574},{"$f":"CJ$15*Otros!CE12","v":0.22891122293639646},{"$f":"CK$15*Otros!CF12","v":0.22288347441126904},{"$f":"CL$15*Otros!CG12","v":0.21720753741294363},{"$f":"CM$15*Otros!CH12","v":0.21187869323663411},{"$f":"CN$15*Otros!CI12","v":0.20659602191874701},{"$f":"CO$15*Otros!CJ12","v":0.20135957786295844},{"$f":"CP$15*Otros!CK12","v":0.19616939986589735},{"$f":"CQ$15*Otros!CL12","v":0.1913169311872143},{"$f":"CR$15*Otros!CM12","v":0.18679742158508253},{"$f":"CS$15*Otros!CN12","v":0.18231787505340699},{"$f":"CT$15*Otros!CO12","v":0.17787829221652965},{"$f":"CU$15*Otros!CP12","v":0.17347866193677677},{"$f":"CV$15*Otros!CQ12","v":0.16982775871364539},{"$f":"CW$15*Otros!CR12","v":0.16691377521981016},{"$f":"CX$15*Otros!CS12","v":0.16402399334583617},{"$f":"CY$15*Otros!CT12","v":0.16115841849957505},{"$f":"CZ$15*Otros!CU12","v":0.15831704911192165},{"$f":"DA$15*Otros!CV12","v":0.15618914937969791},{"$f":"DB$15*Otros!CW12","v":0.15476308384171092},{"$f":"DC$15*Otros!CX12","v":0.15334574147689378},{"$f":"DD$15*Otros!CY12","v":0.15166609031524136},{"$f":"DE$15*Otros!CZ12","v":0.14999831475761188},{"$f":"DF$15*Otros!DA12","v":0.14861044380898511},{"$f":"DG$15*Otros!DB12","v":0.14749791741795487},{"$f":"DH$15*Otros!DC12","v":0.14639124081084151},{"$f":"DI$15*Otros!DD12","v":0.14529045531582016},{"$f":"DJ$15*Otros!DE12","v":0.14419559968567461},{"$f":"DK$15*Otros!DF12","v":0.14323692555651507},{"$f":"DL$15*Otros!DG12","v":0.14241221754063546},{"$f":"DM$15*Otros!DH12","v":0.14159055581481744},{"$f":"DN$15*Otros!DI12","v":0.1407719864424308},{"$f":"DO$15*Otros!DJ12","v":0.13995655357459202},{"$f":"DP$15*Otros!DK12","v":0.13914429949749377},{"$f":"DQ$15*Otros!DL12","v":0.13833526467879134},{"$f":"DR$15*Otros!DM12","v":0.13752948781305924},{"$f":"DS$15*Otros!DN12","v":0.13672700586633138},{"$f":"DT$15*Otros!DO12","v":0.1359278541197351},{"$f":"DU$15*Otros!DP12","v":0.13550060821099688},{"$f":"DV$15*Otros!DQ12","v":0.13543881697127025},{"$f":"DW$15*Otros!DR12","v":0.13537185453504849},{"$f":"DX$15*Otros!DS12","v":0.13554119775246984},{"$f":"DY$15*Otros!DT12","v":0.13570269631405465},{"$f":"DZ$15*Otros!DU12","v":0.13609500708285868},{"$f":"EA$15*Otros!DV12","v":0.13671400511101142},{"$f":"EB$15*Otros!DW12","v":0.13731986128183618},{"$f":"EC$15*Otros!DX12","v":0.13791271547122064},{"$f":"ED$15*Otros!DY12","v":0.13849270711211487},{"$f":"EE$15*Otros!DZ12","v":0.13894418833798128},{"$f":"EF$15*Otros!EA12","v":0.13926936213020527},{"$f":"EG$15*Otros!EB12","v":0.13958482479359907},{"$f":"EH$15*Otros!EC12","v":0.14034562272873743},{"$f":"EI$15*Otros!ED12","v":0.14109151810516049},{"$f":"EJ$15*Otros!EE12","v":0.14182266716381323},{"$f":"EK$15*Otros!EF12","v":0.14253922559664803},{"$f":"EL$15*Otros!EG12","v":0.14324134851330411},{"$f":"EM$15*Otros!EH12","v":0.14348768982518512},{"$f":"EN$15*Otros!EI12","v":0.14372519402687531},{"$f":"EO$15*Otros!EJ12","v":0.14395397338383945},{"$f":"EP$15*Otros!EK12","v":0.144174139349911},{"$f":"EQ$15*Otros!EL12","v":0.14438580255730474},{"$f":"ER$15*Otros!EM12","v":0.14458907280733271},{"$f":"ES$15*Otros!EN12","v":0.14478405906179909},{"$f":"ET$15*Otros!EO12","v":0.14497086943505139},{"$f":"EU$15*Otros!EP12","v":0.14514961118666395},{"$f":"EV$15*Otros!EQ12","v":0.14532039071473218},{"$f":"EW$15*Otros!ER12","v":0.14506764693961488},{"$f":"EX$15*Otros!ES12","v":0.1448121667073998},{"$f":"EY$15*Otros!ET12","v":0.14445134626549169},{"$f":"EZ$15*Otros!EU12","v":0.14398710736348572},{"$f":"FA$15*Otros!EV12","v":0.14352277975000727},{"$f":"FB$15*Otros!EW12","v":0.14326003532120715},{"$f":"FC$15*Otros!EX12","v":0.14299484078941632},{"$f":"FD$15*Otros!EY12","v":0.142926454944381},{"$f":"FE$15*Otros!EZ12","v":0.14305131791681949},{"$f":"FF$15*Otros!FA12","v":0.14316911413790984},{"$f":"FG$15*Otros!FB12","v":0.1432799403874119},{"$f":"FH$15*Otros!FC12","v":0.14338389256055353},{"$f":"FI$15*Otros!FD12","v":0.1435776859132061},{"$f":"FJ$15*Otros!FE12","v":0.1438596572824915},{"$f":"FK$15*Otros!FF12","v":0.14413271091852464},{"$f":"FL$15*Otros!FG12","v":0.1453456912181888},{"$f":"FM$15*Otros!FH12","v":0.14653846692840375},{"$f":"FN$15*Otros!FI12","v":0.14780497581888846},{"$f":"FO$15*Otros!FJ12","v":0.14914372256599506},{"$f":"FP$15*Otros!FK12","v":0.15046063961700187},{"$f":"FQ$15*Otros!FL12","v":0.15194001381910763},{"$f":"FR$15*Otros!FM12","v":0.15339577938882668},{"$f":"FS$15*Otros!FN12","v":0.15482818227430001},{"$f":"FT$15*Otros!FO12","v":0.15623746692504181},{"$f":"FU$15*Otros!FP12","v":0.15762387627047292},{"$f":"FV$15*Otros!FQ12","v":0.1589876516997441},{"$f":"FW$15*Otros!FR12","v":0.16032903304280866},{"$f":"FX$15*Otros!FS12","v":0.16156007074116319},{"$f":"FY$15*Otros!FT12","v":0.16268260808713178},{"$f":"FZ$15*Otros!FU12","v":0.16378558713658334},{"$f":"GA$15*Otros!FV12","v":0.16504240373118192},{"$f":"GB$15*Otros!FW12","v":0.16627798518514658},{"$f":"GC$15*Otros!FX12","v":0.16740701902261182},{"$f":"GD$15*Otros!FY12","v":0.16843129171353205},{"$f":"GE$15*Otros!FZ12","v":0.16943707606113945},{"$f":"GF$15*Otros!GA12","v":0.17042457807940067},{"$f":"GG$15*Otros!GB12","v":0.17139400219613252},{"$f":"GH$15*Otros!GC12","v":0.1723455512471537},{"$f":"GI$15*Otros!GD12","v":0.1732794264711732},{"$f":"GJ$15*Otros!GE12","v":0.17419582750538445},{"$f":"GK$15*Otros!GF12","v":0.17493199756333422},{"$f":"GL$15*Otros!GG12","v":0.17565306379629997},{"$f":"GM$15*Otros!GH12","v":0.17635920237545402},{"$f":"GN$15*Otros!GI12","v":0.17705058796928491},{"$f":"GO$15*Otros!GJ12","v":0.17772739374368399},{"$f":"GP$15*Otros!GK12","v":0.17838979136251923},{"$f":"GQ$15*Otros!GL12","v":0.17903795098867767},{"$f":"GR$15*Otros!GM12","v":0.17967204128555694},{"$f":"GS$15*Otros!GN12","v":0.18029222941898965},{"$f":"GT$15*Otros!GO12","v":0.18089868105958334},{"$f":"GU$15*Otros!GP12","v":0.18103150573302337},{"$f":"GV$15*Otros!GQ12","v":0.18115648326200076},{"$f":"GW$15*Otros!GR12","v":0.1812737214888914},{"$f":"GX$15*Otros!GS12","v":0.18138332712850172},{"$f":"GY$15*Otros!GT12","v":0.18148540577442188}]
[7,80,null,-29.480125717866464,9.6648652852434314,60.176961249055495,0.26090980581757184,0.20601634440695737,4.2905755836168913,2.0700250645889104,0.2653550515819369,0.2079235788737715,{"$f":"SUMPRODUCT($P48:$HH48,Otros!$C$26:$GU$26)*(100/$E$15)","v":34.578857457005803},{"$f":"SUMPRODUCT($P48:$HH48,Otros!$C$27:$GU$27)*(100/$E$15)","v":29.420022342980438},{"$f":"SUMPRODUCT($P48:$HH48,Otros!$C$28:$GU$28)*(100/$E$15)","v":63.114414767127613},{"$f":"G$15*Otros!B13","v":0.378},{"$f":"H$15*Otros!C13","v":0.4102851988655451},{"$f":"I$15*Otros!D13","v":0.44249545333558737},{"$f":"J$15*Otros!E13","v":0.47142358098439274},{"$f":"K$15*Otros!F13","v":0.49706515436791238},{"$f":"L$15*Otros!G13","v":0.52260991556529757},{"$f":"M$15*Otros!H13","v":0.53091107025270801},{"$f":"N$15*Otros!I13","v":0.53913476840682939},{"$f":"O$15*Otros!J13","v":0.54389880762021947},{"$f":"P$15*Otros!K13","v":0.54521429810269839},{"$f":"Q$15*Otros!L13","v":0.54646661364127957},{"$f":"R$15*Otros!M13","v":0.5472604737227531},{"$f":"S$15*Otros!N13","v":0.54799410002087889},{"$f":"T$15*Otros!O13","v":0.54866847140449793},{"$f":"U$15*Otros!P13","v":0.54928456502855616},{"$f":"V$15*Otros!Q13","v":0.5498433557114476},{"$f":"W$15*Otros!R13","v":0.54916776508008269},{"$f":"X$15*Otros!S13","v":0.54844160854680646},{"$f":"Y$15*Otros!T13","v":0.54766615701193044},{"$f":"Z$15*Otros!U13","v":0.54684266524408176},{"$f":"AA$15*Otros!V13","v":0.54597237162591838},{"$f":"AB$15*Otros!W13","v":0.54350307720108282},{"$f":"AC$15*Otros!X13","v":0.54099708927848711},{"$f":"AD$15*Otros!Y13","v":0.53864915088129584},{"$f":"AE$15*Otros!Z13","v":0.53645924383473076},{"$f":"AF$15*Otros!AA13","v":0.53423506504862539},{"$f":"AG$15*Otros!AB13","v":0.53082817300005547},{"$f":"AH$15*Otros!AC13","v":0.52739630456167985},{"$f":"AI$15*Otros!AD13","v":0.52355994907356662},{"$f":"AJ$15*Otros!AE13","v":0.51932404925659259},{"$f":"AK$15*Otros!AF13","v":0.51507238141575973},{"$f":"AL$15*Otros!AG13","v":0.51005143572130307},{"$f":"AM$15*Otros!AH13","v":0.50502266660315231},{"$f":"AN$15*Otros!AI13","v":0.49923751095327712},{"$f":"AO$15*Otros!AJ13","v":0.49270506836933126},{"$f":"AP$15*Otros!AK13","v":0.48617973076111981},{"$f":"AQ$15*Otros!AL13","v":0.47854942258440519},{"$f":"AR$15*Otros!AM13","v":0.47093743087696943},{"$f":"AS$15*Otros!AN13","v":0.46297688423678229},{"$f":"AT$15*Otros!AO13","v":0.45467350477630325},{"$f":"AU$15*Otros!AP13","v":0.44639895195492379},{"$f":"AV$15*Otros!AQ13","v":0.43779035650655623},{"$f":"AW$15*Otros!AR13","v":0.42921661762279034},{"$f":"AX$15*Otros!AS13","v":0.42031758693382298},{"$f":"AY$15*Otros!AT13","v":0.4110990385385041},{"$f":"AZ$15*Otros!AU13","v":0.40192562579131802},{"$f":"BA$15*Otros!AV13","v":0.39351363980633658},{"$f":"BB$15*Otros!AW13","v":0.38514381277212983},{"$f":"BC$15*Otros!AX13","v":0.37646292951166299},{"$f":"BD$15*Otros!AY13","v":0.36747664839465599},{"$f":"BE$15*Otros!AZ13","v":0.3585421470412542},{"$f":"BF$15*Otros!BA13","v":0.34896056950545723},{"$f":"BG$15*Otros!BB13","v":0.33943908882768409},{"$f":"BH$15*Otros!BC13","v":0.33015230343446611},{"$f":"BI$15*Otros!BD13","v":0.321098973635145},{"$f":"BJ$15*Otros!BE13","v":0.31210582233810197},{"$f":"BK$15*Otros!BF13","v":0.30317377078896807},{"$f":"BL$15*Otros!BG13","v":0.29430368991452693},{"$f":"BM$15*Otros!BH13","v":0.28634457875907843},{"$f":"BN$15*Otros!BI13","v":0.27928549939733188},{"$f":"BO$15*Otros!BJ13","v":0.27227502950736671},{"$f":"BP$15*Otros!BK13","v":0.26665205508235779},{"$f":"BQ$15*Otros!BL13","v":0.26106625242400766},{"$f":"BR$15*Otros!BM13","v":0.25601522303712904},{"$f":"BS$15*Otros!BN13","v":0.25149228975906118},{"$f":"BT$15*Otros!BO13","v":0.24699836062897626},{"$f":"BU$15*Otros!BP13","v":0.24253381084288281},{"$f":"BV$15*Otros!BQ13","v":0.23809899435097701},{"$f":"BW$15*Otros!BR13","v":0.23401769668870256},{"$f":"BX$15*Otros!BS13","v":0.230285431713706},{"$f":"BY$15*Otros!BT13","v":0.22657743169364447},{"$f":"BZ$15*Otros!BU13","v":0.22225666719137729},{"$f":"CA$15*Otros!BV13","v":0.2179671009949585},{"$f":"CB$15*Otros!BW13","v":0.21402441066515174},{"$f":"CC$15*Otros!BX13","v":0.2104240003861414},{"$f":"CD$15*Otros!BY13","v":0.20684903017706954},{"$f":"CE$15*Otros!BZ13","v":0.20423154389450296},{"$f":"CF$15*Otros!CA13","v":0.20163022284063981},{"$f":"CG$15*Otros!CB13","v":0.19935263827296301},{"$f":"CH$15*Otros!CC13","v":0.19739412952626825},{"$f":"CI$15*Otros!CD13","v":0.19544583587223274},{"$f":"CJ$15*Otros!CE13","v":0.19441567843573662},{"$f":"CK$15*Otros!CF13","v":0.19338640419883912},{"$f":"CL$15*Otros!CG13","v":0.1926575469679245},{"$f":"CM$15*Otros!CH13","v":0.19222445043464131},{"$f":"CN$15*Otros!CI13","v":0.19178627124356801},{"$f":"CO$15*Otros!CJ13","v":0.19104855339301913},{"$f":"CP$15*Otros!CK13","v":0.19030922361896987},{"$f":"CQ$15*Otros!CL13","v":0.18942270414575674},{"$f":"CR$15*Otros!CM13","v":0.18839150353809725},{"$f":"CS$15*Otros!CN13","v":0.1873622431378886},{"$f":"CT$15*Otros!CO13","v":0.18576169759276584},{"$f":"CU$15*Otros!CP13","v":0.18416962302573181},{"$f":"CV$15*Otros!CQ13","v":0.18258610452685747},{"$f":"CW$15*Otros!CR13","v":0.18101122245121301},{"$f":"CX$15*Otros!CS13","v":0.17944505254929083},{"$f":"CY$15*Otros!CT13","v":0.17788766609468665},{"$f":"CZ$15*Otros!CU13","v":0.17633913000907561},{"$f":"DA$15*Otros!CV13","v":0.17507521598606915},{"$f":"DB$15*Otros!CW13","v":0.17409133434807164},{"$f":"DC$15*Otros!CX13","v":0.17311030371169342},{"$f":"DD$15*Otros!CY13","v":0.17348757426587036},{"$f":"DE$15*Otros!CZ13","v":0.17385249419345852},{"$f":"DF$15*Otros!DA13","v":0.17500923319615377},{"$f":"DG$15*Otros!DB13","v":0.17694420445442102},{"$f":"DH$15*Otros!DC13","v":0.17884902723496476},{"$f":"DI$15*Otros!DD13","v":0.18151427690407998},{"$f":"DJ$15*Otros!DE13","v":0.18414079305909034},{"$f":"DK$15*Otros!DF13","v":0.1872497263184261},{"$f":"DL$15*Otros!DG13","v":0.19083237150445151},{"$f":"DM$15*Otros!DH13","v":0.19436521752761302},{"$f":"DN$15*Otros!DI13","v":0.1988724244832159},{"$f":"DO$15*Otros!DJ13","v":0.20331870237472549},{"$f":"DP$15*Otros!DK13","v":0.20745150106899071},{"$f":"DQ$15*Otros!DL13","v":0.21127567696397223},{"$f":"DR$15*Otros!DM13","v":0.21504610821678352},{"$f":"DS$15*Otros!DN13","v":0.218266020273889},{"$f":"DT$15*Otros!DO13","v":0.22143883143869569},{"$f":"DU$15*Otros!DP13","v":0.22419638257939195},{"$f":"DV$15*Otros!DQ13","v":0.22654554146231407},{"$f":"DW$15*Otros!DR13","v":0.2288573504919878},{"$f":"DX$15*Otros!DS13","v":0.2304079666157301},{"$f":"DY$15*Otros!DT13","v":0.23193042614948511},{"$f":"DZ$15*Otros!DU13","v":0.23330572642775776},{"$f":"EA$15*Otros!DV13","v":0.23453625508203002},{"$f":"EB$15*Otros!DW13","v":0.23574225112761577},{"$f":"EC$15*Otros!DX13","v":0.23668962213412548},{"$f":"ED$15*Otros!DY13","v":0.23761574643289679},{"$f":"EE$15*Otros!DZ13","v":0.23852085664686787},{"$f":"EF$15*Otros!EA13","v":0.23940518448828671},{"$f":"EG$15*Otros!EB13","v":0.24026896071029347},{"$f":"EH$15*Otros!EC13","v":0.24088495051820574},{"$f":"EI$15*Otros!ED13","v":0.24148355983383238},{"$f":"EJ$15*Otros!EE13","v":0.24206499609417881},{"$f":"EK$15*Otros!EF13","v":0.24262946551404355},{"$f":"EL$15*Otros!EG13","v":0.24317717305746978},{"$f":"EM$15*Otros!EH13","v":0.24326682182669848},{"$f":"EN$15*Otros!EI13","v":0.24334540484855682},{"$f":"EO$15*Otros!EJ13","v":0.24341308226721944},{"$f":"EP$15*Otros!EK13","v":0.24347001276684216},{"$f":"EQ$15*Otros!EL13","v":0.24351635356679754},{"$f":"ER$15*Otros!EM13","v":0.24312384835010759},{"$f":"ES$15*Otros!EN13","v":0.24272621666242788},{"$f":"ET$15*Otros!EO13","v":0.24232357007756763},{"$f":"EU$15*Otros!EP13","v":0.24191601864443987},{"$f":"EV$15*Otros!EQ13","v":0.24150367090002253},{"$f":"EW$15*Otros!ER13","v":0.24087880057738345},{"$f":"EX$15*Otros!ES13","v":0.24025185432340368},{"$f":"EY$15*Otros!ET13","v":0.23941758314934372},{"$f":"EZ$15*Otros!EU13","v":0.23837978937002313},{"$f":"FA$15*Otros!EV13","v":0.23734509160071876},{"$f":"FB$15*Otros!EW13","v":0.23631352765159014},{"$f":"FC$15*Otros!EX13","v":0.23528513396885042},{"$f":"FD$15*Otros!EY13","v":0.23435954598197112},{"$f":"FE$15*Otros!EZ13","v":0.23353498890365204},{"$f":"FF$15*Otros!FA13","v":0.232711309234472},{"$f":"FG$15*Otros!FB13","v":0.23208416282548019},{"$f":"FH$15*Otros!FC13","v":0.23145562588927321},{"$f":"FI$15*Otros!FD13","v":0.23101900876075085},{"$f":"FJ$15*Otros!FE13","v":0.23077086545382317},{"$f":"FK$15*Otros!FF13","v":0.23051688534320333},{"$f":"FL$15*Otros!FG13","v":0.23025717531758758},{"$f":"FM$15*Otros!FH13","v":0.22999184095133635},{"$f":"FN$15*Otros!FI13","v":0.22981471192638842},{"$f":"FO$15*Otros!FJ13","v":0.22972418478934659},{"$f":"FP$15*Otros!FK13","v":0.22962608384625516},{"$f":"FQ$15*Otros!FL13","v":0.22952052965769501},{"$f":"FR$15*Otros!FM13","v":0.22940764144733294},{"$f":"FS$15*Otros!FN13","v":0.2293784520716729},{"$f":"FT$15*Otros!FO13","v":0.22943142193330318},{"$f":"FU$15*Otros!FP13","v":0.22947521588094491},{"$f":"FV$15*Otros!FQ13","v":0.22933143021709299},{"$f":"FW$15*Otros!FR13","v":0.2291809033478554},{"$f":"FX$15*Otros!FS13","v":0.2290237465692144},{"$f":"FY$15*Otros!FT13","v":0.22886006988981739},{"$f":"FZ$15*Otros!FU13","v":0.22868998203911237},{"$f":"GA$15*Otros!FV13","v":0.22851359047565012},{"$f":"GB$15*Otros!FW13","v":0.22833100139554546},{"$f":"GC$15*Otros!FX13","v":0.22814231974108617},{"$f":"GD$15*Otros!FY13","v":0.22794764920947977},{"$f":"GE$15*Otros!FZ13","v":0.22774709226173107},{"$f":"GF$15*Otros!GA13","v":0.22787672761429964},{"$f":"GG$15*Otros!GB13","v":0.22799660009626782},{"$f":"GH$15*Otros!GC13","v":0.22777493412298361},{"$f":"GI$15*Otros!GD13","v":0.227217905724932},{"$f":"GJ$15*Otros!GE13","v":0.2266595120246532},{"$f":"GK$15*Otros!GF13","v":0.22626276536254267},{"$f":"GL$15*Otros!GG13","v":0.22586279157578631},{"$f":"GM$15*Otros!GH13","v":0.22545966492635636},{"$f":"GN$15*Otros!GI13","v":0.22505345863425144},{"$f":"GO$15*Otros!GJ13","v":0.22464424488854909},{"$f":"GP$15*Otros!GK13","v":0.22407401794981921},{"$f":"GQ$15*Otros!GL13","v":0.22350283921140324},{"$f":"GR$15*Otros!GM13","v":0.22293075961332681},{"$f":"GS$15*Otros!GN13","v":0.22235782922316197},{"$f":"GT$15*Otros!GO13","v":0.22178409724789003},{"$f":"GU$15*Otros!GP13","v":0.2209029089440239},{"$f":"GV$15*Otros!GQ13","v":0.22002472325510991},{"$f":"GW$15*Otros!GR13","v":0.2191495513027007},{"$f":"GX$15*Otros!GS13","v":0.21827740363035553},{"$f":"GY$15*Otros!GT13","v":0.21740829021636929}]
[8,80,null,-18.145930547360393,{"$f":"13*F49*(L49-L$41)","v":27.144831056300124},61.732976265315926,0.27638079297022894,0.22099646042880977,3.4458996008703502,1.9371801803133957,0.28042799835542204,0.22939328883995935,{"$f":"SUMPRODUCT($P49:$HH49,Otros!$C$26:$GU$26)*(100/$E$15)","v":38.326624855971914},{"$f":"SUMPRODUCT($P49:$HH49,Otros!$C$27:$GU$27)*(100/$E$15)","v":31.235609220685966},{"$f":"SUMPRODUCT($P49:$HH49,Otros!$C$28:$GU$28)*(100/$E$15)","v":53.817386673251981},{"$f":"G$15*Otros!B14","v":0.104},{"$f":"H$15*Otros!C14","v":0.11396811079598476},{"$f":"I$15*Otros!D14","v":0.12391471592956826},{"$f":"J$15*Otros!E14","v":0.13703244769292094},{"$f":"K$15*Otros!F14","v":0.15331166207010308},{"$f":"L$15*Otros!G14","v":0.16954901840858891},{"$f":"M$15*Otros!H14","v":0.19729803286418204},{"$f":"N$15*Otros!I14","v":0.22497130291717771},{"$f":"O$15*Otros!J14","v":0.25434975317962},{"$f":"P$15*Otros!K14","v":0.28541819540021041},{"$f":"Q$15*Otros!L14","v":0.31637540789758289},{"$f":"R$15*Otros!M14","v":0.35434273886717532},{"$f":"S$15*Otros!N14","v":0.39215889582872709},{"$f":"T$15*Otros!O14","v":0.41974421382006571},{"$f":"U$15*Otros!P14","v":0.43714142993661192},{"$f":"V$15*Otros!Q14","v":0.45443225463092801},{"$f":"W$15*Otros!R14","v":0.46140302035688024},{"$f":"X$15*Otros!S14","v":0.46830133777308591},{"$f":"Y$15*Otros!T14","v":0.4727799955925911},{"$f":"Z$15*Otros!U14","v":0.47485374498897431},{"$f":"AA$15*Otros!V14","v":0.47687426398698746},{"$f":"AB$15*Otros!W14","v":0.47495838757908132},{"$f":"AC$15*Otros!X14","v":0.47300927032512191},{"$f":"AD$15*Otros!Y14","v":0.47025539212520595},{"$f":"AE$15*Otros!Z14","v":0.46670412664070327},{"$f":"AF$15*Otros!AA14","v":0.46313183696661403},{"$f":"AG$15*Otros!AB14","v":0.45839024903109482},{"$f":"AH$15*Otros!AC14","v":0.45363725617008249},{"$f":"AI$15*Otros!AD14","v":0.44849349349314988},{"$f":"AJ$15*Otros!AE14","v":0.44296403908792026},{"$f":"AK$15*Otros!AF14","v":0.43743279451117822},{"$f":"AL$15*Otros!AG14","v":0.43152390157620241},{"$f":"AM$15*Otros!AH14","v":0.42561895374676989},{"$f":"AN$15*Otros!AI14","v":0.4199071326162237},{"$f":"AO$15*Otros!AJ14","v":0.41438813982352329},{"$f":"AP$15*Otros!AK14","v":0.40887529081251262},{"$f":"AQ$15*Otros!AL14","v":0.40262750100293832},{"$f":"AR$15*Otros!AM14","v":0.39639391766274368},{"$f":"AS$15*Otros!AN14","v":0.3901759808635622},{"$f":"AT$15*Otros!AO14","v":0.38397508016447907},{"$f":"AU$15*Otros!AP14","v":0.37779255565037606},{"$f":"AV$15*Otros!AQ14","v":0.37053613437877975},{"$f":"AW$15*Otros!AR14","v":0.36330898978984921},{"$f":"AX$15*Otros!AS14","v":0.35629330734063308},{"$f":"AY$15*Otros!AT14","v":0.34948822732896495},{"$f":"AZ$15*Otros!AU14","v":0.34271336842027561},{"$f":"BA$15*Otros!AV14","v":0.33561245029804726},{"$f":"BB$15*Otros!AW14","v":0.32854689388971886},{"$f":"BC$15*Otros!AX14","v":0.3218722598837947},{"$f":"BD$15*Otros!AY14","v":0.31558513320347975},{"$f":"BE$15*Otros!AZ14","v":0.30933047980029776},{"$f":"BF$15*Otros!BA14","v":0.30275917013261838},{"$f":"BG$15*Otros!BB14","v":0.29622507751902621},{"$f":"BH$15*Otros!BC14","v":0.29024950270407873},{"$f":"BI$15*Otros!BD14","v":0.28482636230465525},{"$f":"BJ$15*Otros!BE14","v":0.27943358749279101},{"$f":"BK$15*Otros!BF14","v":0.27304470040000228},{"$f":"BL$15*Otros!BG14","v":0.26669674274246363},{"$f":"BM$15*Otros!BH14","v":0.26106890207951522},{"$f":"BN$15*Otros!BI14","v":0.25615241994301841},{"$f":"BO$15*Otros!BJ14","v":0.25126615377377354},{"$f":"BP$15*Otros!BK14","v":0.24674515762012403},{"$f":"BQ$15*Otros!BL14","v":0.24225216663069588},{"$f":"BR$15*Otros!BM14","v":0.23845042456338425},{"$f":"BS$15*Otros!BN14","v":0.2353308180237248},{"$f":"BT$15*Otros!BO14","v":0.23222769454485143},{"$f":"BU$15*Otros!BP14","v":0.22881472659318441},{"$f":"BV$15*Otros!BQ14","v":0.22542205130703419},{"$f":"BW$15*Otros!BR14","v":0.22221168987579634},{"$f":"BX$15*Otros!BS14","v":0.21918152200843291},{"$f":"BY$15*Otros!BT14","v":0.21616928112114492},{"$f":"BZ$15*Otros!BU14","v":0.21253791686974716},{"$f":"CA$15*Otros!BV14","v":0.20893137389916747},{"$f":"CB$15*Otros!BW14","v":0.20566531430166388},{"$f":"CC$15*Otros!BX14","v":0.20273512938023469},{"$f":"CD$15*Otros!BY14","v":0.19982396877482944},{"$f":"CE$15*Otros!BZ14","v":0.19724263174602186},{"$f":"CF$15*Otros!CA14","v":0.19467745653579013},{"$f":"CG$15*Otros!CB14","v":0.19274341433638831},{"$f":"CH$15*Otros!CC14","v":0.19143102259247705},{"$f":"CI$15*Otros!CD14","v":0.19012240843602407},{"$f":"CJ$15*Otros!CE14","v":0.18942290225800953},{"$f":"CK$15*Otros!CF14","v":0.18872105125707725},{"$f":"CL$15*Otros!CG14","v":0.1883163901209394},{"$f":"CM$15*Otros!CH14","v":0.188204264406961},{"$f":"CN$15*Otros!CI14","v":0.18808383357477326},{"$f":"CO$15*Otros!CJ14","v":0.18824984675117842},{"$f":"CP$15*Otros!CK14","v":0.18840466633871844},{"$f":"CQ$15*Otros!CL14","v":0.18883986505607747},{"$f":"CR$15*Otros!CM14","v":0.18955083586756244},{"$f":"CS$15*Otros!CN14","v":0.19024473918616383},{"$f":"CT$15*Otros!CO14","v":0.19063507546171188},{"$f":"CU$15*Otros!CP14","v":0.19101183812266301},{"$f":"CV$15*Otros!CQ14","v":0.19109166840233222},{"$f":"CW$15*Otros!CR14","v":0.19087943551319506},{"$f":"CX$15*Otros!CS14","v":0.19066036833362152},{"$f":"CY$15*Otros!CT14","v":0.19015578099776848},{"$f":"CZ$15*Otros!CU14","v":0.18964774359466621},{"$f":"DA$15*Otros!CV14","v":0.18941208406681811},{"$f":"DB$15*Otros!CW14","v":0.18944427092049998},{"$f":"DC$15*Otros!CX14","v":0.18946718280256211},{"$f":"DD$15*Otros!CY14","v":0.19002310868808611},{"$f":"DE$15*Otros!CZ14","v":0.19056389673608554},{"$f":"DF$15*Otros!DA14","v":0.19175973407633695},{"$f":"DG$15*Otros!DB14","v":0.19359934418092906},{"$f":"DH$15*Otros!DC14","v":0.19540912234931335},{"$f":"DI$15*Otros!DD14","v":0.19982377217960037},{"$f":"DJ$15*Otros!DE14","v":0.20417887366936122},{"$f":"DK$15*Otros!DF14","v":0.20990720363372939},{"$f":"DL$15*Otros!DG14","v":0.21698443327100458},{"$f":"DM$15*Otros!DH14","v":0.22397051556162029},{"$f":"DN$15*Otros!DI14","v":0.23188985403062237},{"$f":"DO$15*Otros!DJ14","v":0.23970740630411944},{"$f":"DP$15*Otros!DK14","v":0.24919479091823885},{"$f":"DQ$15*Otros!DL14","v":0.26032181625918005},{"$f":"DR$15*Otros!DM14","v":0.27130817141303504},{"$f":"DS$15*Otros!DN14","v":0.28165763208464262},{"$f":"DT$15*Otros!DO14","v":0.29187417402801297},{"$f":"DU$15*Otros!DP14","v":0.30171304965204748},{"$f":"DV$15*Otros!DQ14","v":0.31117953619729177},{"$f":"DW$15*Otros!DR14","v":0.32052170042379191},{"$f":"DX$15*Otros!DS14","v":0.32829212634614247},{"$f":"DY$15*Otros!DT14","v":0.3359571615202061},{"$f":"DZ$15*Otros!DU14","v":0.34304052617905489},{"$f":"EA$15*Otros!DV14","v":0.34955150656310641},{"$f":"EB$15*Otros!DW14","v":0.35597079920269975},{"$f":"EC$15*Otros!DX14","v":0.35972135641176495},{"$f":"ED$15*Otros!DY14","v":0.36341231807384217},{"$f":"EE$15*Otros!DZ14","v":0.36634950991781068},{"$f":"EF$15*Otros!EA14","v":0.36854586573629522},{"$f":"EG$15*Otros!EB14","v":0.37070068223873853},{"$f":"EH$15*Otros!EC14","v":0.37190452700402871},{"$f":"EI$15*Otros!ED14","v":0.3730785334511455},{"$f":"EJ$15*Otros!EE14","v":0.37399828551598285},{"$f":"EK$15*Otros!EF14","v":0.37466815254792912},{"$f":"EL$15*Otros!EG14","v":0.37531454106586665},{"$f":"EM$15*Otros!EH14","v":0.37505474617383},{"$f":"EN$15*Otros!EI14","v":0.37478264335557715},{"$f":"EO$15*Otros!EJ14","v":0.37438938683842488},{"$f":"EP$15*Otros!EK14","v":0.37387714783296461},{"$f":"EQ$15*Otros!EL14","v":0.37335582526944838},{"$f":"ER$15*Otros!EM14","v":0.37261139577534103},{"$f":"ES$15*Otros!EN14","v":0.37186082228151779},{"$f":"ET$15*Otros!EO14","v":0.37089262581741245},{"$f":"EU$15*Otros!EP14","v":0.36971078501530702},{"$f":"EV$15*Otros!EQ14","v":0.36852832897081356},{"$f":"EW$15*Otros!ER14","v":0.36713753340806543},{"$f":"EX$15*Otros!ES14","v":0.36574884615613606},{"$f":"EY$15*Otros!ET14","v":0.36425968482584542},{"$f":"EZ$15*Otros!EU14","v":0.36267199119052318},{"$f":"FA$15*Otros!EV14","v":0.36108911371733277},{"$f":"FB$15*Otros!EW14","v":0.35951110904674505},{"$f":"FC$15*Otros!EX14","v":0.35793803174477584},{"$f":"FD$15*Otros!EY14","v":0.35627033403209124},{"$f":"FE$15*Otros!EZ14","v":0.3545098750589139},{"$f":"FF$15*Otros!FA14","v":0.35275688947381906},{"$f":"FG$15*Otros!FB14","v":0.35101140344738657},{"$f":"FH$15*Otros!FC14","v":0.34927344133563992},{"$f":"FI$15*Otros!FD14","v":0.3475430257266503},{"$f":"FJ$15*Otros!FE14","v":0.34582017748614946},{"$f":"FK$15*Otros!FF14","v":0.34410491580217306},{"$f":"FL$15*Otros!FG14","v":0.34182801922919986},{"$f":"FM$15*Otros!FH14","v":0.33956564955545804},{"$f":"FN$15*Otros!FI14","v":0.33731776028673405},{"$f":"FO$15*Otros!FJ14","v":0.33508430360392522},{"$f":"FP$15*Otros!FK14","v":0.33286523041422877},{"$f":"FQ$15*Otros!FL14","v":0.33139672305427409},{"$f":"FR$15*Otros!FM14","v":0.32993355769558608},{"$f":"FS$15*Otros!FN14","v":0.3284757619242783},{"$f":"FT$15*Otros!FO14","v":0.3270233619443183},{"$f":"FU$15*Otros!FP14","v":0.3255763826099512},{"$f":"FV$15*Otros!FQ14","v":0.32395630994855212},{"$f":"FW$15*Otros!FR14","v":0.32234387218844707},{"$f":"FX$15*Otros!FS14","v":0.32073907057074813},{"$f":"FY$15*Otros!FT14","v":0.31914190519679247},{"$f":"FZ$15*Otros!FU14","v":0.31755237506002459},{"$f":"GA$15*Otros!FV14","v":0.3157972961215218},{"$f":"GB$15*Otros!FW14","v":0.31405195027981359},{"$f":"GC$15*Otros!FX14","v":0.31223077129919929},{"$f":"GD$15*Otros!FY14","v":0.31033529265744164},{"$f":"GE$15*Otros!FZ14","v":0.30845153497414407},{"$f":"GF$15*Otros!GA14","v":0.30657945292745808},{"$f":"GG$15*Otros!GB14","v":0.30471900049482881},{"$f":"GH$15*Otros!GC14","v":0.3028701309832022},{"$f":"GI$15*Otros!GD14","v":0.30103279705843983},{"$f":"GJ$15*Otros!GE14","v":0.29920695077395448},{"$f":"GK$15*Otros!GF14","v":0.29739254359858869},{"$f":"GL$15*Otros!GG14","v":0.29558952644375047},{"$f":"GM$15*Otros!GH14","v":0.29379784968982531},{"$f":"GN$15*Otros!GI14","v":0.29201746321187977},{"$f":"GO$15*Otros!GJ14","v":0.29024831640467408},{"$f":"GP$15*Otros!GK14","v":0.28849035820699831},{"$f":"GQ$15*Otros!GL14","v":0.28674353712535039},{"$f":"GR$15*Otros!GM14","v":0.28500780125696779},{"$f":"GS$15*Otros!GN14","v":0.28328309831223081},{"$f":"GT$15*Otros!GO14","v":0.28156937563645174},{"$f":"GU$15*Otros!GP14","v":0.27986658023106115},{"$f":"GV$15*Otros!GQ14","v":0.27817465877421238},{"$f":"GW$15*Otros!GR14","v":0.27649355764080796},{"$f":"GX$15*Otros!GS14","v":0.27482322292197225},{"$f":"GY$15*Otros!GT14","v":0.2731636004439752}]
[9,80,null,12.884887670643527,101.99374176750615,38.459774876448009,0.32656489853973869,0.36058633803039963,0.94989541420756296,1.1369793334175651,0.32880989843910546,0.39956600093558459,{"$f":"SUMPRODUCT($P50:$HH50,Otros!$C$26:$GU$26)*(100/$E$15)","v":19.899821649719197},{"$f":"SUMPRODUCT($P50:$HH50,Otros!$C$27:$GU$27)*(100/$E$15)","v":10.917275778018197},{"$f":"SUMPRODUCT($P50:$HH50,Otros!$C$28:$GU$28)*(100/$E$15)","v":5.1851350985894005},{"$f":"G$15*Otros!B15","v":6.6000000000000003E-2},{"$f":"H$15*Otros!C15","v":6.4381985397029981E-2},{"$f":"I$15*Otros!D15","v":6.2756807744974885E-2},{"$f":"J$15*Otros!E15","v":6.1125260924247533E-2},{"$f":"K$15*Otros!F15","v":5.9488118876159797E-2},{"$f":"L$15*Otros!G15","v":5.78461356923421E-2},{"$f":"M$15*Otros!H15","v":5.6598627609522931E-2},{"$f":"N$15*Otros!I15","v":5.5346922310597693E-2},{"$f":"O$15*Otros!J15","v":5.4091581598793299E-2},{"$f":"P$15*Otros!K15","v":5.2833152384450917E-2},{"$f":"Q$15*Otros!L15","v":5.1572166804621664E-2},{"$f":"R$15*Otros!M15","v":5.1497547292043366E-2},{"$f":"S$15*Otros!N15","v":5.1417706966953629E-2},{"$f":"T$15*Otros!O15","v":5.1135348720318448E-2},{"$f":"U$15*Otros!P15","v":5.0651644496712923E-2},{"$f":"V$15*Otros!Q15","v":5.016459953718036E-2},{"$f":"W$15*Otros!R15","v":4.9674452829910939E-2},{"$f":"X$15*Otros!S15","v":4.9181437565290614E-2},{"$f":"Y$15*Otros!T15","v":4.8881306409490399E-2},{"$f":"Z$15*Otros!U15","v":4.8772981202647323E-2},{"$f":"AA$15*Otros!V15","v":4.8660639182345665E-2},{"$f":"AB$15*Otros!W15","v":4.815604256729851E-2},{"$f":"AC$15*Otros!X15","v":4.7649582514324322E-2},{"$f":"AD$15*Otros!Y15","v":4.7141460837530923E-2},{"$f":"AE$15*Otros!Z15","v":4.66318739252891E-2},{"$f":"AF$15*Otros!AA15","v":4.6121012809953267E-2},{"$f":"AG$15*Otros!AB15","v":4.5609063239715961E-2},{"$f":"AH$15*Otros!AC15","v":4.5096205752375516E-2},{"$f":"AI$15*Otros!AD15","v":4.4582615750805889E-2},{"$f":"AJ$15*Otros!AE15","v":4.4068463579930314E-2},{"$f":"AK$15*Otros!AF15","v":4.3553914605009084E-2},{"$f":"AL$15*Otros!AG15","v":4.2661593069213355E-2},{"$f":"AM$15*Otros!AH15","v":4.1771621455253274E-2},{"$f":"AN$15*Otros!AI15","v":4.088421389474621E-2},{"$f":"AO$15*Otros!AJ15","v":3.9999576870651324E-2},{"$f":"AP$15*Otros!AK15","v":3.9117909371584353E-2},{"$f":"AQ$15*Otros!AL15","v":3.861065938617389E-2},{"$f":"AR$15*Otros!AM15","v":3.8104128342755575E-2},{"$f":"AS$15*Otros!AN15","v":3.7229829066811319E-2},{"$f":"AT$15*Otros!AO15","v":3.5991925256928695E-2},{"$f":"AU$15*Otros!AP15","v":3.4760574127637507E-2},{"$f":"AV$15*Otros!AQ15","v":3.353598068160131E-2},{"$f":"AW$15*Otros!AR15","v":3.2318340920836158E-2},{"$f":"AX$15*Otros!AS15","v":3.1288701609101278E-2},{"$f":"AY$15*Otros!AT15","v":3.0445108463193336E-2},{"$f":"AZ$15*Otros!AU15","v":2.9606128685521194E-2},{"$f":"BA$15*Otros!AV15","v":2.8771887379119065E-2},{"$f":"BB$15*Otros!AW15","v":2.794250397653622E-2},{"$f":"BC$15*Otros!AX15","v":2.7295334813934133E-2},{"$f":"BD$15*Otros!AY15","v":2.6828266357342801E-2},{"$f":"BE$15*Otros!AZ15","v":2.6363393164798105E-2},{"$f":"BF$15*Otros!BA15","v":2.5900784496894522E-2},{"$f":"BG$15*Otros!BB15","v":2.5440506657516366E-2},{"$f":"BH$15*Otros!BC15","v":2.498262306598167E-2},{"$f":"BI$15*Otros!BD15","v":2.452719432823593E-2},{"$f":"BJ$15*Otros!BE15","v":2.4074278307071227E-2},{"$f":"BK$15*Otros!BF15","v":2.3966305991222771E-2},{"$f":"BL$15*Otros!BG15","v":2.3857855580795468E-2},{"$f":"BM$15*Otros!BH15","v":2.3748957953951998E-2},{"$f":"BN$15*Otros!BI15","v":2.3639643237984561E-2},{"$f":"BO$15*Otros!BJ15","v":2.3529940821624282E-2},{"$f":"BP$15*Otros!BK15","v":2.3754449072581434E-2},{"$f":"BQ$15*Otros!BL15","v":2.3975472161388456E-2},{"$f":"BR$15*Otros!BM15","v":2.4193024312893746E-2},{"$f":"BS$15*Otros!BN15","v":2.4407120579895775E-2},{"$f":"BT$15*Otros!BO15","v":2.461777680687471E-2},{"$f":"BU$15*Otros!BP15","v":2.4498364731604324E-2},{"$f":"BV$15*Otros!BQ15","v":2.437873662296693E-2},{"$f":"BW$15*Otros!BR15","v":2.4420644229436135E-2},{"$f":"BX$15*Otros!BS15","v":2.4621712824735856E-2},{"$f":"BY$15*Otros!BT15","v":2.4819435980575896E-2},{"$f":"BZ$15*Otros!BU15","v":2.4695185243486364E-2},{"$f":"CA$15*Otros!BV15","v":2.4570836839431683E-2},{"$f":"CB$15*Otros!BW15","v":2.4604132692530343E-2},{"$f":"CC$15*Otros!BX15","v":2.4792686100678855E-2},{"$f":"CD$15*Otros!BY15","v":2.497799609685368E-2},{"$f":"CE$15*Otros!BZ15","v":2.4849465416821651E-2},{"$f":"CF$15*Otros!CA15","v":2.4720946861687638E-2},{"$f":"CG$15*Otros!CB15","v":2.4746164041593712E-2},{"$f":"CH$15*Otros!CC15","v":2.49227289796915E-2},{"$f":"CI$15*Otros!CD15","v":2.5096157913555177E-2},{"$f":"CJ$15*Otros!CE15","v":2.5266473384255261E-2},{"$f":"CK$15*Otros!CF15","v":2.5433698295411523E-2},{"$f":"CL$15*Otros!CG15","v":2.5597855890843117E-2},{"$f":"CM$15*Otros!CH15","v":2.5758969732914753E-2},{"$f":"CN$15*Otros!CI15","v":2.5917063681563247E-2},{"$f":"CO$15*Otros!CJ15","v":2.6366762573130625E-2},{"$f":"CP$15*Otros!CK15","v":2.681030632969322E-2},{"$f":"CQ$15*Otros!CL15","v":2.7539146987344634E-2},{"$f":"CR$15*Otros!CM15","v":2.8548558613080886E-2},{"$f":"CS$15*Otros!CN15","v":2.9545584494820896E-2},{"$f":"CT$15*Otros!CO15","v":3.0243609716106169E-2},{"$f":"CU$15*Otros!CP15","v":3.093251408404319E-2},{"$f":"CV$15*Otros!CQ15","v":3.1754105135105647E-2},{"$f":"CW$15*Otros!CR15","v":3.2706077576854689E-2},{"$f":"CX$15*Otros!CS15","v":3.3645947352992034E-2},{"$f":"CY$15*Otros!CT15","v":3.4573778363230633E-2},{"$f":"CZ$15*Otros!CU15","v":3.5489636228241632E-2},{"$f":"DA$15*Otros!CV15","v":3.6945006208083886E-2},{"$f":"DB$15*Otros!CW15","v":3.8930660594371926E-2},{"$f":"DC$15*Otros!CX15","v":4.0892197727171675E-2},{"$f":"DD$15*Otros!CY15","v":4.4998339575210128E-2},{"$f":"DE$15*Otros!CZ15","v":4.9056052625130936E-2},{"$f":"DF$15*Otros!DA15","v":5.4405626858834939E-2},{"$f":"DG$15*Otros!DB15","v":6.1024431957925326E-2},{"$f":"DH$15*Otros!DC15","v":6.7565188066542242E-2},{"$f":"DI$15*Otros!DD15","v":7.6135886829142393E-2},{"$f":"DJ$15*Otros!DE15","v":8.4605229243365845E-2},{"$f":"DK$15*Otros!DF15","v":9.557809396225643E-2},{"$f":"DL$15*Otros!DG15","v":0.10901007924474096},{"$f":"DM$15*Otros!DH15","v":0.12228275274916051},{"$f":"DN$15*Otros!DI15","v":0.13846844484610013},{"$f":"DO$15*Otros!DJ15","v":0.15446114185414064},{"$f":"DP$15*Otros!DK15","v":0.17203295210599232},{"$f":"DQ$15*Otros!DL15","v":0.19115418391978437},{"$f":"DR$15*Otros!DM15","v":0.21004503593267232},{"$f":"DS$15*Otros!DN15","v":0.22920418074319551},{"$f":"DT$15*Otros!DO15","v":0.24813011915675279},{"$f":"DU$15*Otros!DP15","v":0.26743864376730758},{"$f":"DV$15*Otros!DQ15","v":0.28712052182097053},{"$f":"DW$15*Otros!DR15","v":0.30655958089775553},{"$f":"DX$15*Otros!DS15","v":0.3231022140546409},{"$f":"DY$15*Otros!DT15","v":0.33943671783595103},{"$f":"DZ$15*Otros!DU15","v":0.35365617528543036},{"$f":"EA$15*Otros!DV15","v":0.36579592867950589},{"$f":"EB$15*Otros!DW15","v":0.37777695743200423},{"$f":"EC$15*Otros!DX15","v":0.38514791482914379},{"$f":"ED$15*Otros!DY15","v":0.39241541653550455},{"$f":"EE$15*Otros!DZ15","v":0.39888560735362122},{"$f":"EF$15*Otros!EA15","v":0.40457174205592683},{"$f":"EG$15*Otros!EB15","v":0.41017344006971529},{"$f":"EH$15*Otros!EC15","v":0.4129618769271034},{"$f":"EI$15*Otros!ED15","v":0.41569992954541279},{"$f":"EJ$15*Otros!EE15","v":0.41782620959988714},{"$f":"EK$15*Otros!EF15","v":0.41935129536819499},{"$f":"EL$15*Otros!EG15","v":0.42084086113598651},{"$f":"EM$15*Otros!EH15","v":0.4209708069178893},{"$f":"EN$15*Otros!EI15","v":0.42108190433217357},{"$f":"EO$15*Otros!EJ15","v":0.42106537214773038},{"$f":"EP$15*Otros!EK15","v":0.42092344593661979},{"$f":"EQ$15*Otros!EL15","v":0.42076608879572763},{"$f":"ER$15*Otros!EM15","v":0.42016513527641935},{"$f":"ES$15*Otros!EN15","v":0.41955439467834577},{"$f":"ET$15*Otros!EO15","v":0.41872243091569217},{"$f":"EU$15*Otros!EP15","v":0.41767326523350901},{"$f":"EV$15*Otros!EQ15","v":0.41661996906345877},{"$f":"EW$15*Otros!ER15","v":0.41535486018455636},{"$f":"EX$15*Otros!ES15","v":0.4140884281954107},{"$f":"EY$15*Otros!ET15","v":0.41282079838915575},{"$f":"EZ$15*Otros!EU15","v":0.41155209354850308},{"$f":"FA$15*Otros!EV15","v":0.41028243398500314},{"$f":"FB$15*Otros!EW15","v":0.40881030487508452},{"$f":"FC$15*Otros!EX15","v":0.40733989334896797},{"$f":"FD$15*Otros!EY15","v":0.4058712919152283},{"$f":"FE$15*Otros!EZ15","v":0.40440459078907098},{"$f":"FF$15*Otros!FA15","v":0.40293987793452973},{"$f":"FG$15*Otros!FB15","v":0.40147723910602451},{"$f":"FH$15*Otros!FC15","v":0.40001675788927304},{"$f":"FI$15*Otros!FD15","v":0.39846189549533101},{"$f":"FJ$15*Otros!FE15","v":0.39681448857894186},{"$f":"FK$15*Otros!FF15","v":0.39517180344549141},{"$f":"FL$15*Otros!FG15","v":0.39315440235520516},{"$f":"FM$15*Otros!FH15","v":0.39114643553347406},{"$f":"FN$15*Otros!FI15","v":0.38905418809397974},{"$f":"FO$15*Otros!FJ15","v":0.38687937527581356},{"$f":"FP$15*Otros!FK15","v":0.38471628160531862},{"$f":"FQ$15*Otros!FL15","v":0.38274895062002945},{"$f":"FR$15*Otros!FM15","v":0.38079107310416543},{"$f":"FS$15*Otros!FN15","v":0.37884265151908875},{"$f":"FT$15*Otros!FO15","v":0.37690368683883718},{"$f":"FU$15*Otros!FP15","v":0.37497417859215065},{"$f":"FV$15*Otros!FQ15","v":0.37287558739462728},{"$f":"FW$15*Otros!FR15","v":0.37078861598555468},{"$f":"FX$15*Otros!FS15","v":0.36862505223693343},{"$f":"FY$15*Otros!FT15","v":0.36638647726519979},{"$f":"FZ$15*Otros!FU15","v":0.36416157139942462},{"$f":"GA$15*Otros!FV15","v":0.36212346925697947},{"$f":"GB$15*Otros!FW15","v":0.36009683748170457},{"$f":"GC$15*Otros!FX15","v":0.35808164620779409},{"$f":"GD$15*Otros!FY15","v":0.35607786456147006},{"$f":"GE$15*Otros!FZ15","v":0.35408546069634622},{"$f":"GF$15*Otros!GA15","v":0.35210440182791897},{"$f":"GG$15*Otros!GB15","v":0.3501346542672088},{"$f":"GH$15*Otros!GC15","v":0.34809320533548854},{"$f":"GI$15*Otros!GD15","v":0.34598152976990548},{"$f":"GJ$15*Otros!GE15","v":0.34388305712239425},{"$f":"GK$15*Otros!GF15","v":0.34179773161536425},{"$f":"GL$15*Otros!GG15","v":0.33972549683055708},{"$f":"GM$15*Otros!GH15","v":0.33766629573940193},{"$f":"GN$15*Otros!GI15","v":0.33562007073255773},{"$f":"GO$15*Otros!GJ15","v":0.33358676364865963},{"$f":"GP$15*Otros!GK15","v":0.33156631580228985},{"$f":"GQ$15*Otros!GL15","v":0.32955866801119038},{"$f":"GR$15*Otros!GM15","v":0.32756376062273418},{"$f":"GS$15*Otros!GN15","v":0.32558153353967345},{"$f":"GT$15*Otros!GO15","v":0.32361192624518215},{"$f":"GU$15*Otros!GP15","v":0.32165487782720587},{"$f":"GV$15*Otros!GQ15","v":0.31971032700214269},{"$f":"GW$15*Otros!GR15","v":0.31777821213786012},{"$f":"GX$15*Otros!GS15","v":0.31585847127607497},{"$f":"GY$15*Otros!GT15","v":0.31395104215410302}]
[10,80,null,60.381366941871498,27.203216035905232,80.034604733377321,0.3639726070011795,0.21162500346341684,0.46405250331805464,1.9174879009124388,0.36107284499452802,0.22171479245483727,{"$f":"SUMPRODUCT($P51:$HH51,Otros!$C$26:$GU$26)*(100/$E$15)","v":53.858096235210787},{"$f":"SUMPRODUCT($P51:$HH51,Otros!$C$27:$GU$27)*(100/$E$15)","v":58.473608724439316},{"$f":"SUMPRODUCT($P51:$HH51,Otros!$C$28:$GU$28)*(100/$E$15)","v":13.567412253308252},{"$f":"G$15*Otros!B16","v":0.05},{"$f":"H$15*Otros!C16","v":5.1585565939235203E-2},{"$f":"I$15*Otros!D16","v":5.3163410382685738E-2},{"$f":"J$15*Otros!E16","v":5.493283252996102E-2},{"$f":"K$15*Otros!F16","v":5.6892999596327327E-2},{"$f":"L$15*Otros!G16","v":5.8843482859451436E-2},{"$f":"M$15*Otros!H16","v":6.0385155512976928E-2},{"$f":"N$15*Otros!I16","v":6.1916880714373679E-2},{"$f":"O$15*Otros!J16","v":6.3239422604471587E-2},{"$f":"P$15*Otros!K16","v":6.4353163054744728E-2},{"$f":"Q$15*Otros!L16","v":6.5456980944327503E-2},{"$f":"R$15*Otros!M16","v":6.5758406542147679E-2},{"$f":"S$15*Otros!N16","v":6.6051977411394278E-2},{"$f":"T$15*Otros!O16","v":6.6337749691223927E-2},{"$f":"U$15*Otros!P16","v":6.6615781478167185E-2},{"$f":"V$15*Otros!Q16","v":6.6886132716240498E-2},{"$f":"W$15*Otros!R16","v":6.7148865090235349E-2},{"$f":"X$15*Otros!S16","v":6.7404041922151284E-2},{"$f":"Y$15*Otros!T16","v":6.7456202845096763E-2},{"$f":"Z$15*Otros!U16","v":6.7306714059653314E-2},{"$f":"AA$15*Otros!V16","v":6.715168207163702E-2},{"$f":"AB$15*Otros!W16","v":6.7379624076018482E-2},{"$f":"AC$15*Otros!X16","v":6.7600423973573937E-2},{"$f":"AD$15*Otros!Y16","v":6.8007353339388871E-2},{"$f":"AE$15*Otros!Z16","v":6.8598955030590575E-2},{"$f":"AF$15*Otros!AA16","v":6.918151921492989E-2},{"$f":"AG$15*Otros!AB16","v":6.937176845704697E-2},{"$f":"AH$15*Otros!AC16","v":6.9555164804511391E-2},{"$f":"AI$15*Otros!AD16","v":7.0112831608104983E-2},{"$f":"AJ$15*Otros!AE16","v":7.1041402495232511E-2},{"$f":"AK$15*Otros!AF16","v":7.1958641521319366E-2},{"$f":"AL$15*Otros!AG16","v":7.2486954595477562E-2},{"$f":"AM$15*Otros!AH16","v":7.300625731819041E-2},{"$f":"AN$15*Otros!AI16","v":7.4079194901030973E-2},{"$f":"AO$15*Otros!AJ16","v":7.5700133797260691E-2},{"$f":"AP$15*Otros!AK16","v":7.7304439948607168E-2},{"$f":"AQ$15*Otros!AL16","v":7.8891972303480315E-2},{"$f":"AR$15*Otros!AM16","v":8.0462601112129495E-2},{"$f":"AS$15*Otros!AN16","v":8.2384819766656722E-2},{"$f":"AT$15*Otros!AO16","v":8.4654477262470038E-2},{"$f":"AU$15*Otros!AP16","v":8.6901435319093778E-2},{"$f":"AV$15*Otros!AQ16","v":8.9490035405794796E-2},{"$f":"AW$15*Otros!AR16","v":9.2052802510471543E-2},{"$f":"AX$15*Otros!AS16","v":9.4951262108544349E-2},{"$f":"AY$15*Otros!AT16","v":9.818097107952882E-2},{"$f":"AZ$15*Otros!AU16","v":0.10137856186254227},{"$f":"BA$15*Otros!AV16","v":0.10525864389006914},{"$f":"BB$15*Otros!AW16","v":0.10910034992112551},{"$f":"BC$15*Otros!AX16","v":0.11378964253601111},{"$f":"BD$15*Otros!AY16","v":0.11931518458923508},{"$f":"BE$15*Otros!AZ16","v":0.12478672764671102},{"$f":"BF$15*Otros!BA16","v":0.13125397549101953},{"$f":"BG$15*Otros!BB16","v":0.13765753602354747},{"$f":"BH$15*Otros!BC16","v":0.14521149657101845},{"$f":"BI$15*Otros!BD16","v":0.15389950807364938},{"$f":"BJ$15*Otros!BE16","v":0.16250137857273078},{"$f":"BK$15*Otros!BF16","v":0.17204383943699203},{"$f":"BL$15*Otros!BG16","v":0.18149011566819409},{"$f":"BM$15*Otros!BH16","v":0.1930451010828384},{"$f":"BN$15*Otros!BI16","v":0.20667802373780786},{"$f":"BO$15*Otros!BJ16","v":0.22017301768805578},{"$f":"BP$15*Otros!BK16","v":0.23352965426284283},{"$f":"BQ$15*Otros!BL16","v":0.24674756766095621},{"$f":"BR$15*Otros!BM16","v":0.262643448876278},{"$f":"BS$15*Otros!BN16","v":0.28117662559947498},{"$f":"BT$15*Otros!BO16","v":0.29951628448364231},{"$f":"BU$15*Otros!BP16","v":0.31472232558534358},{"$f":"BV$15*Otros!BQ16","v":0.32976304405333268},{"$f":"BW$15*Otros!BR16","v":0.34431491102297707},{"$f":"BX$15*Otros!BS16","v":0.35838270889337753},{"$f":"BY$15*Otros!BT16","v":0.37229153970863849},{"$f":"BZ$15*Otros!BU16","v":0.38444827091956513},{"$f":"CA$15*Otros!BV16","v":0.39646234151882992},{"$f":"CB$15*Otros!BW16","v":0.40722993982123934},{"$f":"CC$15*Otros!BX16","v":0.41676819166710777},{"$f":"CD$15*Otros!BY16","v":0.42618705840256593},{"$f":"CE$15*Otros!BZ16","v":0.43486564479437895},{"$f":"CF$15*Otros!CA16","v":0.44343198433152192},{"$f":"CG$15*Otros!CB16","v":0.45096425650954008},{"$f":"CH$15*Otros!CC16","v":0.45747733194623913},{"$f":"CI$15*Otros!CD16","v":0.46389867658389872},{"$f":"CJ$15*Otros!CE16","v":0.46871577571510664},{"$f":"CK$15*Otros!CF16","v":0.47345807596073758},{"$f":"CL$15*Otros!CG16","v":0.47737755810467075},{"$f":"CM$15*Otros!CH16","v":0.48048667819720181},{"$f":"CN$15*Otros!CI16","v":0.48353835954459423},{"$f":"CO$15*Otros!CJ16","v":0.48476545043672004},{"$f":"CP$15*Otros!CK16","v":0.48595511527646124},{"$f":"CQ$15*Otros!CL16","v":0.48696205942701459},{"$f":"CR$15*Otros!CM16","v":0.48778907762248869},{"$f":"CS$15*Otros!CN16","v":0.48858308018264801},{"$f":"CT$15*Otros!CO16","v":0.4884844640402361},{"$f":"CU$15*Otros!CP16","v":0.48836310254346527},{"$f":"CV$15*Otros!CQ16","v":0.48779408825847564},{"$f":"CW$15*Otros!CR16","v":0.48678485290034157},{"$f":"CX$15*Otros!CS16","v":0.48576336490882244},{"$f":"CY$15*Otros!CT16","v":0.48445112827510661},{"$f":"CZ$15*Otros!CU16","v":0.4831303994352425},{"$f":"DA$15*Otros!CV16","v":0.48152577121207835},{"$f":"DB$15*Otros!CW16","v":0.47964218809756115},{"$f":"DC$15*Otros!CX16","v":0.47775717677912238},{"$f":"DD$15*Otros!CY16","v":0.47587099472458666},{"$f":"DE$15*Otros!CZ16","v":0.47398389308402605},{"$f":"DF$15*Otros!DA16","v":0.47182810879299963},{"$f":"DG$15*Otros!DB16","v":0.46940845805190157},{"$f":"DH$15*Otros!DC16","v":0.4669946822246302},{"$f":"DI$15*Otros!DD16","v":0.4643235312676936},{"$f":"DJ$15*Otros!DE16","v":0.46166166111898538},{"$f":"DK$15*Otros!DF16","v":0.45913945410206564},{"$f":"DL$15*Otros!DG16","v":0.45675482134851081},{"$f":"DM$15*Otros!DH16","v":0.45437696547845952},{"$f":"DN$15*Otros!DI16","v":0.45200605101333236},{"$f":"DO$15*Otros!DJ16","v":0.44964223666600744},{"$f":"DP$15*Otros!DK16","v":0.44715918065785493},{"$f":"DQ$15*Otros!DL16","v":0.44455923694502486},{"$f":"DR$15*Otros!DM16","v":0.4419697631083313},{"$f":"DS$15*Otros!DN16","v":0.43939087794316489},{"$f":"DT$15*Otros!DO16","v":0.43682269483023956},{"$f":"DU$15*Otros!DP16","v":0.43438816920587947},{"$f":"DV$15*Otros!DQ16","v":0.43208524296154566},{"$f":"DW$15*Otros!DR16","v":0.42979046193190279},{"$f":"DX$15*Otros!DS16","v":0.42726254678872949},{"$f":"DY$15*Otros!DT16","v":0.42474583992197479},{"$f":"DZ$15*Otros!DU16","v":0.42247897904249387},{"$f":"EA$15*Otros!DV16","v":0.42045781623906903},{"$f":"EB$15*Otros!DW16","v":0.41844249575151793},{"$f":"EC$15*Otros!DX16","v":0.41619878109921471},{"$f":"ED$15*Otros!DY16","v":0.41396390334437022},{"$f":"EE$15*Otros!DZ16","v":0.41173794477488457},{"$f":"EF$15*Otros!EA16","v":0.40952098385063662},{"$f":"EG$15*Otros!EB16","v":0.40731309529935461},{"$f":"EH$15*Otros!EC16","v":0.40534181475301478},{"$f":"EI$15*Otros!ED16","v":0.40337703253142038},{"$f":"EJ$15*Otros!EE16","v":0.40141883289155372},{"$f":"EK$15*Otros!EF16","v":0.39946729681317666},{"$f":"EL$15*Otros!EG16","v":0.39752250207568118},{"$f":"EM$15*Otros!EH16","v":0.39558452333343347},{"$f":"EN$15*Otros!EI16","v":0.39365343218964016},{"$f":"EO$15*Otros!EJ16","v":0.391729297268751},{"$f":"EP$15*Otros!EK16","v":0.38981218428742848},{"$f":"EQ$15*Otros!EL16","v":0.38790215612410223},{"$f":"ER$15*Otros!EM16","v":0.38599927288713115},{"$f":"ES$15*Otros!EN16","v":0.38410359198159644},{"$f":"ET$15*Otros!EO16","v":0.3823209863276209},{"$f":"EU$15*Otros!EP16","v":0.38064959629314254},{"$f":"EV$15*Otros!EQ16","v":0.37898303333877992},{"$f":"EW$15*Otros!ER16","v":0.37752919866161955},{"$f":"EX$15*Otros!ES16","v":0.37607781667734852},{"$f":"EY$15*Otros!ET16","v":0.37442363882746854},{"$f":"EZ$15*Otros!EU16","v":0.37257046703337088},{"$f":"FA$15*Otros!EV16","v":0.37072491871821667},{"$f":"FB$15*Otros!EW16","v":0.36929029513130318},{"$f":"FC$15*Otros!EX16","v":0.36785848671194626},{"$f":"FD$15*Otros!EY16","v":0.36642956636960122},{"$f":"FE$15*Otros!EZ16","v":0.3650036049545422},{"$f":"FF$15*Otros!FA16","v":0.36358067129867827},{"$f":"FG$15*Otros!FB16","v":0.36196522824150951},{"$f":"FH$15*Otros!FC16","v":0.3603553150657437},{"$f":"FI$15*Otros!FD16","v":0.35884759453677484},{"$f":"FJ$15*Otros!FE16","v":0.35744035007038272},{"$f":"FK$15*Otros!FF16","v":0.35603643160668674},{"$f":"FL$15*Otros!FG16","v":0.35425640405268732},{"$f":"FM$15*Otros!FH16","v":0.35248442044940359},{"$f":"FN$15*Otros!FI16","v":0.35062676888932259},{"$f":"FO$15*Otros!FJ16","v":0.34868516774798225},{"$f":"FP$15*Otros!FK16","v":0.34675390484041357},{"$f":"FQ$15*Otros!FL16","v":0.34501702713981497},{"$f":"FR$15*Otros!FM16","v":0.34328822900791089},{"$f":"FS$15*Otros!FN16","v":0.3415675166204023},{"$f":"FT$15*Otros!FO16","v":0.33985489479761843},{"$f":"FU$15*Otros!FP16","v":0.33815036704178381},{"$f":"FV$15*Otros!FQ16","v":0.33627539806453455},{"$f":"FW$15*Otros!FR16","v":0.33441069481922847},{"$f":"FX$15*Otros!FS16","v":0.33255623731709955},{"$f":"FY$15*Otros!FT16","v":0.33071200447885141},{"$f":"FZ$15*Otros!FU16","v":0.32887797417053305},{"$f":"GA$15*Otros!FV16","v":0.32688094128290229},{"$f":"GB$15*Otros!FW16","v":0.32489616670493182},{"$f":"GC$15*Otros!FX16","v":0.32292360593273356},{"$f":"GD$15*Otros!FY16","v":0.32096321363886088},{"$f":"GE$15*Otros!FZ16","v":0.31901494370613531},{"$f":"GF$15*Otros!GA16","v":0.31707874926059021},{"$f":"GG$15*Otros!GB16","v":0.31515458270355584},{"$f":"GH$15*Otros!GC16","v":0.3134913300971337},{"$f":"GI$15*Otros!GD16","v":0.312084412073736},{"$f":"GJ$15*Otros!GE16","v":0.31068338176254451},{"$f":"GK$15*Otros!GF16","v":0.30863642606889152},{"$f":"GL$15*Otros!GG16","v":0.30660327318247654},{"$f":"GM$15*Otros!GH16","v":0.30474483806182973},{"$f":"GN$15*Otros!GI16","v":0.30305812346482208},{"$f":"GO$15*Otros!GJ16","v":0.30138112854074378},{"$f":"GP$15*Otros!GK16","v":0.29971381871806507},{"$f":"GQ$15*Otros!GL16","v":0.29805615886399439},{"$f":"GR$15*Otros!GM16","v":0.29633002897813498},{"$f":"GS$15*Otros!GN16","v":0.29453681043696328},{"$f":"GT$15*Otros!GO16","v":0.29275500836721485},{"$f":"GU$15*Otros!GP16","v":0.29098456766489783},{"$f":"GV$15*Otros!GQ16","v":0.28922543288990027},{"$f":"GW$15*Otros!GR16","v":0.28747754828681271},{"$f":"GX$15*Otros!GS16","v":0.28574085780517394},{"$f":"GY$15*Otros!GT16","v":0.2840153051191468}]
[11,80,null,18.208263246847274,-42.133306254234405,51.461186630334254,0.33321271059927743,0.1393120382439704,1.710332970168869,{"$f":"(1.708*K52-1.481*L52+0.404)/K52","v":2.3367099311907737},0.33025626239361,0.13258920188736759,{"$f":"SUMPRODUCT($P52:$HH52,Otros!$C$26:$GU$26)*(100/$E$15)","v":12.366921248106829},{"$f":"SUMPRODUCT($P52:$HH52,Otros!$C$27:$GU$27)*(100/$E$15)","v":20.535876378959767},{"$f":"SUMPRODUCT($P52:$HH52,Otros!$C$28:$GU$28)*(100/$E$15)","v":17.56159322112347},{"$f":"G$15*Otros!B17","v":0.111},{"$f":"H$15*Otros!C17","v":0.11496783106612497},{"$f":"I$15*Otros!D17","v":0.11891815480337599},{"$f":"J$15*Otros!E17","v":0.12205076609384068},{"$f":"K$15*Otros!F17","v":0.12436610087197165},{"$f":"L$15*Otros!G17","v":0.12666309022288699},{"$f":"M$15*Otros!H17","v":0.12734691212142657},{"$f":"N$15*Otros!I17","v":0.12801464404933208},{"$f":"O$15*Otros!J17","v":0.12787090797067679},{"$f":"P$15*Otros!K17","v":0.12691873824685765},{"$f":"Q$15*Otros!L17","v":0.12595509969590291},{"$f":"R$15*Otros!M17","v":0.1233960460113193},{"$f":"S$15*Otros!N17","v":0.12083161137234104},{"$f":"T$15*Otros!O17","v":0.11846026730575701},{"$f":"U$15*Otros!P17","v":0.11628198542046936},{"$f":"V$15*Otros!Q17","v":0.11409987345711613},{"$f":"W$15*Otros!R17","v":0.11230745857197257},{"$f":"X$15*Otros!S17","v":0.11051127803515499},{"$f":"Y$15*Otros!T17","v":0.10871202545470664},{"$f":"Z$15*Otros!U17","v":0.10691037479620293},{"$f":"AA$15*Otros!V17","v":0.10510698063386663},{"$f":"AB$15*Otros!W17","v":0.10369083359248954},{"$f":"AC$15*Otros!X17","v":0.10227227466489122},{"$f":"AD$15*Otros!Y17","v":0.10123821917568115},{"$f":"AE$15*Otros!Z17","v":0.10058610821901202},{"$f":"AF$15*Otros!AA17","v":9.9928861088232068E-2},{"$f":"AG$15*Otros!AB17","v":9.9650054137194521E-2},{"$f":"AH$15*Otros!AC17","v":9.9364521149301985E-2},{"$f":"AI$15*Otros!AD17","v":9.9263003445170375E-2},{"$f":"AJ$15*Otros!AE17","v":9.9343993328894639E-2},{"$f":"AK$15*Otros!AF17","v":9.9416544207085955E-2},{"$f":"AL$15*Otros!AG17","v":9.9480794457855931E-2},{"$f":"AM$15*Otros!AH17","v":9.953688175598642E-2},{"$f":"AN$15*Otros!AI17","v":0.10014756981557101},{"$f":"AO$15*Otros!AJ17","v":0.10130733955090195},{"$f":"AP$15*Otros!AK17","v":0.10245166740176855},{"$f":"AQ$15*Otros!AL17","v":0.10395177527046817},{"$f":"AR$15*Otros!AM17","v":0.10543375318141107},{"$f":"AS$15*Otros!AN17","v":0.10745044725718315},{"$f":"AT$15*Otros!AO17","v":0.10999573075969535},{"$f":"AU$15*Otros!AP17","v":0.11251448993945826},{"$f":"AV$15*Otros!AQ17","v":0.11610010703358717},{"$f":"AW$15*Otros!AR17","v":0.11965048689230916},{"$f":"AX$15*Otros!AS17","v":0.12370793006141778},{"$f":"AY$15*Otros!AT17","v":0.12826578240114592},{"$f":"AZ$15*Otros!AU17","v":0.13277900137748896},{"$f":"BA$15*Otros!AV17","v":0.13903433776990456},{"$f":"BB$15*Otros!AW17","v":0.14522982958505451},{"$f":"BC$15*Otros!AX17","v":0.152428493116775},{"$f":"BD$15*Otros!AY17","v":0.16061659463935493},{"$f":"BE$15*Otros!AZ17","v":0.16872571625470789},{"$f":"BF$15*Otros!BA17","v":0.1774553748638584},{"$f":"BG$15*Otros!BB17","v":0.18609904870018823},{"$f":"BH$15*Otros!BC17","v":0.19569721401685641},{"$f":"BI$15*Otros!BD17","v":0.20623570442192746},{"$f":"BJ$15*Otros!BE17","v":0.21666850476364105},{"$f":"BK$15*Otros!BF17","v":0.22904941011611477},{"$f":"BL$15*Otros!BG17","v":0.24130516787433129},{"$f":"BM$15*Otros!BH17","v":0.25258713138167521},{"$f":"BN$15*Otros!BI17","v":0.26290660372529973},{"$f":"BO$15*Otros!BJ17","v":0.27311538453671041},{"$f":"BP$15*Otros!BK17","v":0.27919841902914377},{"$f":"BQ$15*Otros!BL17","v":0.28520822091985021},{"$f":"BR$15*Otros!BM17","v":0.28899064658689516},{"$f":"BS$15*Otros!BN17","v":0.29057666528227266},{"$f":"BT$15*Otros!BO17","v":0.29213095144157991},{"$f":"BU$15*Otros!BP17","v":0.28973399355910717},{"$f":"BV$15*Otros!BQ17","v":0.28734404232937022},{"$f":"BW$15*Otros!BR17","v":0.28431452023409753},{"$f":"BX$15*Otros!BS17","v":0.28065534095646627},{"$f":"BY$15*Otros!BT17","v":0.27701693062191163},{"$f":"BZ$15*Otros!BU17","v":0.27148771390258558},{"$f":"CA$15*Otros!BV17","v":0.26599912397784753},{"$f":"CB$15*Otros!BW17","v":0.2596051436660573},{"$f":"CC$15*Otros!BX17","v":0.25232050158159236},{"$f":"CD$15*Otros!BY17","v":0.24509658670037673},{"$f":"CE$15*Otros!BZ17","v":0.23762301304835703},{"$f":"CF$15*Otros!CA17","v":0.23021381764946611},{"$f":"CG$15*Otros!CB17","v":0.22240807060985154},{"$f":"CH$15*Otros!CC17","v":0.21421314908311528},{"$f":"CI$15*Otros!CD17","v":0.20609269074465011},{"$f":"CJ$15*Otros!CE17","v":0.19804678838317447},{"$f":"CK$15*Otros!CF17","v":0.19007550856275002},{"$f":"CL$15*Otros!CG17","v":0.18247828263706289},{"$f":"CM$15*Otros!CH17","v":0.17525033165110213},{"$f":"CN$15*Otros!CI17","v":0.16809067016328161},{"$f":"CO$15*Otros!CJ17","v":0.16099928208062442},{"$f":"CP$15*Otros!CK17","v":0.15397613088801951},{"$f":"CQ$15*Otros!CL17","v":0.14745828968885061},{"$f":"CR$15*Otros!CM17","v":0.14143854419475607},{"$f":"CS$15*Otros!CN17","v":0.13547731426893483},{"$f":"CT$15*Otros!CO17","v":0.12957451745668233},{"$f":"CU$15*Otros!CP17","v":0.12373005633617276},{"$f":"CV$15*Otros!CQ17","v":0.11808557847117412},{"$f":"CW$15*Otros!CR17","v":0.11263860337890905},{"$f":"CX$15*Otros!CS17","v":0.1072464571876621},{"$f":"CY$15*Otros!CT17","v":0.10246664152005852},{"$f":"CZ$15*Otros!CU17","v":9.7735131019181049E-2},{"$f":"DA$15*Otros!CV17","v":9.3327497025644732E-2},{"$f":"DB$15*Otros!CW17","v":8.9238943827239875E-2},{"$f":"DC$15*Otros!CX17","v":8.5192078598274323E-2},{"$f":"DD$15*Otros!CY17","v":8.1728911939312365E-2},{"$f":"DE$15*Otros!CZ17","v":7.8301007074728216E-2},{"$f":"DF$15*Otros!DA17","v":7.5310251957303537E-2},{"$f":"DG$15*Otros!DB17","v":7.2749650325386966E-2},{"$f":"DH$15*Otros!DC17","v":7.021480328483802E-2},{"$f":"DI$15*Otros!DD17","v":6.8232507573522075E-2},{"$f":"DJ$15*Otros!DE17","v":6.6269730645732369E-2},{"$f":"DK$15*Otros!DF17","v":6.4586831887301341E-2},{"$f":"DL$15*Otros!DG17","v":6.3179238327118276E-2},{"$f":"DM$15*Otros!DH17","v":6.1784969810102154E-2},{"$f":"DN$15*Otros!DI17","v":6.0403979637115759E-2},{"$f":"DO$15*Otros!DJ17","v":5.9036218962373356E-2},{"$f":"DP$15*Otros!DK17","v":5.7934626518047407E-2},{"$f":"DQ$15*Otros!DL17","v":5.7094736512882972E-2},{"$f":"DR$15*Otros!DM17","v":5.6262063196251509E-2},{"$f":"DS$15*Otros!DN17","v":5.5187991458773754E-2},{"$f":"DT$15*Otros!DO17","v":5.4124000094949061E-2},{"$f":"DU$15*Otros!DP17","v":5.3192895154452996E-2},{"$f":"DV$15*Otros!DQ17","v":5.2392472931176673E-2},{"$f":"DW$15*Otros!DR17","v":5.1599137378830144E-2},{"$f":"DX$15*Otros!DS17","v":5.0571470933468261E-2},{"$f":"DY$15*Otros!DT17","v":4.9553681324230395E-2},{"$f":"DZ$15*Otros!DU17","v":4.8664998150575248E-2},{"$f":"EA$15*Otros!DV17","v":4.7903259379747279E-2},{"$f":"EB$15*Otros!DW17","v":4.714845022552315E-2},{"$f":"EC$15*Otros!DX17","v":4.6634885945238583E-2},{"$f":"ED$15*Otros!DY17","v":4.6125409601679976E-2},{"$f":"EE$15*Otros!DZ17","v":4.5620008504303852E-2},{"$f":"EF$15*Otros!EA17","v":4.5118669384330963E-2},{"$f":"EG$15*Otros!EB17","v":4.462137841762593E-2},{"$f":"EH$15*Otros!EC17","v":4.4355585789471311E-2},{"$f":"EI$15*Otros!ED17","v":4.4091099407862648E-2},{"$f":"EJ$15*Otros!EE17","v":4.3827924083904242E-2},{"$f":"EK$15*Otros!EF17","v":4.3566064249759201E-2},{"$f":"EL$15*Otros!EG17","v":4.3305523969138456E-2},{"$f":"EM$15*Otros!EH17","v":4.3046306947555533E-2},{"$f":"EN$15*Otros!EI17","v":4.2788416542352194E-2},{"$f":"EO$15*Otros!EJ17","v":4.2859023893824927E-2},{"$f":"EP$15*Otros!EK17","v":4.3252241804973293E-2},{"$f":"EQ$15*Otros!EL17","v":4.3638992563961504E-2},{"$f":"ER$15*Otros!EM17","v":4.380513390977709E-2},{"$f":"ES$15*Otros!EN17","v":4.3967512053325754E-2},{"$f":"ET$15*Otros!EO17","v":4.444362420636612E-2},{"$f":"EU$15*Otros!EP17","v":4.5227777398743105E-2},{"$f":"EV$15*Otros!EQ17","v":4.6000699219051908E-2},{"$f":"EW$15*Otros!ER17","v":4.676249364099333E-2},{"$f":"EX$15*Otros!ES17","v":4.7513264397577679E-2},{"$f":"EY$15*Otros!ET17","v":4.866377976534688E-2},{"$f":"EZ$15*Otros!EU17","v":5.0206702213206923E-2},{"$f":"FA$15*Otros!EV17","v":5.1729058425797669E-2},{"$f":"FB$15*Otros!EW17","v":5.343266623521449E-2},{"$f":"FC$15*Otros!EX17","v":5.5113638706502439E-2},{"$f":"FD$15*Otros!EY17","v":5.7070981660717987E-2},{"$f":"FE$15*Otros!EZ17","v":5.9299473655484346E-2},{"$f":"FF$15*Otros!FA17","v":6.1498760368517973E-2},{"$f":"FG$15*Otros!FB17","v":6.4255918658381997E-2},{"$f":"FH$15*Otros!FC17","v":6.6977289474048393E-2},{"$f":"FI$15*Otros!FD17","v":7.0049678524276182E-2},{"$f":"FJ$15*Otros!FE17","v":7.3466380387921235E-2},{"$f":"FK$15*Otros!FF17","v":7.6838961781067777E-2},{"$f":"FL$15*Otros!FG17","v":8.0357572103006467E-2},{"$f":"FM$15*Otros!FH17","v":8.3830564413996736E-2},{"$f":"FN$15*Otros!FI17","v":8.7258359218379947E-2},{"$f":"FO$15*Otros!FJ17","v":9.0641375425804624E-2},{"$f":"FP$15*Otros!FK17","v":9.3980030283850408E-2},{"$f":"FQ$15*Otros!FL17","v":9.7090681150308028E-2},{"$f":"FR$15*Otros!FM17","v":0.10016003484243602},{"$f":"FS$15*Otros!FN17","v":0.10309756823197663},{"$f":"FT$15*Otros!FO17","v":0.10590532749343494},{"$f":"FU$15*Otros!FP17","v":0.10867515116083888},{"$f":"FV$15*Otros!FQ17","v":0.11069325553491448},{"$f":"FW$15*Otros!FR17","v":0.11268282897862036},{"$f":"FX$15*Otros!FS17","v":0.11446777937883723},{"$f":"FY$15*Otros!FT17","v":0.1160516018897427},{"$f":"FZ$15*Otros!FU17","v":0.11761199076297209},{"$f":"GA$15*Otros!FV17","v":0.1189760035291941},{"$f":"GB$15*Otros!FW17","v":0.12031916319297874},{"$f":"GC$15*Otros!FX17","v":0.12147060143694877},{"$f":"GD$15*Otros!FY17","v":0.12243364970594958},{"$f":"GE$15*Otros!FZ17","v":0.12338061398965763},{"$f":"GF$15*Otros!GA17","v":0.12431166858428436},{"$f":"GG$15*Otros!GB17","v":0.12522698650472416},{"$f":"GH$15*Otros!GC17","v":0.12596078324178109},{"$f":"GI$15*Otros!GD17","v":0.12651624950346485},{"$f":"GJ$15*Otros!GE17","v":0.12706048594510397},{"$f":"GK$15*Otros!GF17","v":0.12694180354153456},{"$f":"GL$15*Otros!GG17","v":0.12682005435915431},{"$f":"GM$15*Otros!GH17","v":0.12661479933208086},{"$f":"GN$15*Otros!GI17","v":0.12632755463330361},{"$f":"GO$15*Otros!GJ17","v":0.12603933739764614},{"$f":"GP$15*Otros!GK17","v":0.12622441152234967},{"$f":"GQ$15*Otros!GL17","v":0.12640283595470925},{"$f":"GR$15*Otros!GM17","v":0.12665278181884979},{"$f":"GS$15*Otros!GN17","v":0.12697291749008482},{"$f":"GT$15*Otros!GO17","v":0.12728478624661516},{"$f":"GU$15*Otros!GP17","v":0.12712843562276696},{"$f":"GV$15*Otros!GQ17","v":0.12696958397748981},{"$f":"GW$15*Otros!GR17","v":0.12680827821663357},{"$f":"GX$15*Otros!GS17","v":0.12664456464513901},{"$f":"GY$15*Otros!GT17","v":0.1264784889726899}]
[12,80,null,-40.205379271397611,-22.902336590921344,30.010551752261584,0.17443515680715649,0.15792323319975526,9.317170413336946,{"$f":"(1.708*K53-1.481*L53+0.404)/K53","v":2.7145863762119755},0.19998447217710902,0.13686587093354435,{"$f":"SUMPRODUCT($P53:$HH53,Otros!$C$26:$GU$26)*(100/$E$15)","v":6.8258409984370534},{"$f":"SUMPRODUCT($P53:$HH53,Otros!$C$27:$GU$27)*(100/$E$15)","v":6.6491482983858212},{"$f":"SUMPRODUCT($P53:$HH53,Otros!$C$28:$GU$28)*(100/$E$15)","v":30.975623899805029},{"$f":"G$15*Otros!B18","v":0.12},{"$f":"H$15*Otros!C18","v":0.11316833457987258},{"$f":"I$15*Otros!D18","v":0.10632682076537148},{"$f":"J$15*Otros!E18","v":0.10027738883651068},{"$f":"K$15*Otros!F18","v":9.5021290553865989E-2},{"$f":"L$15*Otros!G18","v":8.9761245039841175E-2},{"$f":"M$15*Otros!H18","v":8.6492268952580817E-2},{"$f":"N$15*Otros!I18","v":8.3219473114495818E-2},{"$f":"O$15*Otros!J18","v":8.0341907962913572E-2},{"$f":"P$15*Otros!K18","v":7.7859382461296089E-2},{"$f":"Q$15*Otros!L18","v":7.5374705329831662E-2},{"$f":"R$15*Otros!M18","v":7.2096566208860721E-2},{"$f":"S$15*Otros!N18","v":6.8820623171153311E-2},{"$f":"T$15*Otros!O18","v":6.6337749691223927E-2},{"$f":"U$15*Otros!P18","v":6.4644900369345684E-2},{"$f":"V$15*Otros!Q18","v":6.2951654321167519E-2},{"$f":"W$15*Otros!R18","v":6.3222030874432109E-2},{"$f":"X$15*Otros!S18","v":6.3485202275514574E-2},{"$f":"Y$15*Otros!T18","v":6.5500950588717133E-2},{"$f":"Z$15*Otros!U18","v":6.9257633307759192E-2},{"$f":"AA$15*Otros!V18","v":7.2990958773518494E-2},{"$f":"AB$15*Otros!W18","v":7.9806989899837449E-2},{"$f":"AC$15*Otros!X18","v":8.6582777983345405E-2},{"$f":"AD$15*Otros!Y18","v":9.56353406335156E-2},{"$f":"AE$15*Otros!Z18","v":0.10694500011791508},{"$f":"AF$15*Otros!AA18","v":0.11818509532550524},{"$f":"AG$15*Otros!AB18","v":0.13203632173178276},{"$f":"AH$15*Otros!AC18","v":0.14579832622484118},{"$f":"AI$15*Otros!AD18","v":0.16137382709800252},{"$f":"AJ$15*Otros!AE18","v":0.17874320788238979},{"$f":"AK$15*Otros!AF18","v":0.1959926157225409},{"$f":"AL$15*Otros!AG18","v":0.21387426967884396},{"$f":"AM$15*Otros!AH18","v":0.23162552257394947},{"$f":"AN$15*Otros!AI18","v":0.24830595961763294},{"$f":"AO$15*Otros!AJ18","v":0.26392244178205454},{"$f":"AP$15*Otros!AK18","v":0.27941363836845962},{"$f":"AQ$15*Otros!AL18","v":0.28995120173655586},{"$f":"AR$15*Otros!AM18","v":0.30039371081861677},{"$f":"AS$15*Otros!AN18","v":0.30779116109690546},{"$f":"AT$15*Otros!AO18","v":0.31217486192234073},{"$f":"AU$15*Otros!AP18","v":0.31650417495164679},{"$f":"AV$15*Otros!AQ18","v":0.31567564424202971},{"$f":"AW$15*Otros!AR18","v":0.31483147840859493},{"$f":"AX$15*Otros!AS18","v":0.31270615654413941},{"$f":"AY$15*Otros!AT18","v":0.30931509604321278},{"$f":"AZ$15*Otros!AU18","v":0.30592999641705232},{"$f":"BA$15*Otros!AV18","v":0.30004968266795595},{"$f":"BB$15*Otros!AW18","v":0.29419719154913615},{"$f":"BC$15*Otros!AX18","v":0.28695550041402179},{"$f":"BD$15*Otros!AY18","v":0.27834326345743154},{"$f":"BE$15*Otros!AZ18","v":0.26978539005310059},{"$f":"BF$15*Otros!BA18","v":0.25988287147221867},{"$f":"BG$15*Otros!BB18","v":0.25004881543517793},{"$f":"BH$15*Otros!BC18","v":0.24028425657211538},{"$f":"BI$15*Otros!BD18","v":0.23059017202954202},{"$f":"BJ$15*Otros!BE18","v":0.2209674830327609},{"$f":"BK$15*Otros!BF18","v":0.21073230482282307},{"$f":"BL$15*Otros!BG18","v":0.20057640013283046},{"$f":"BM$15*Otros!BH18","v":0.19067020528744319},{"$f":"BN$15*Otros!BI18","v":0.18101212536513894},{"$f":"BO$15*Otros!BJ18","v":0.17143242598611974},{"$f":"BP$15*Otros!BK18","v":0.16193173733985089},{"$f":"BQ$15*Otros!BL18","v":0.15251064235994324},{"$f":"BR$15*Otros!BM18","v":0.14350108941757522},{"$f":"BS$15*Otros!BN18","v":0.1348988150969915},{"$f":"BT$15*Otros!BO18","v":0.1263712542752902},{"$f":"BU$15*Otros!BP18","v":0.11759215071170075},{"$f":"BV$15*Otros!BQ18","v":0.1088916902492523},{"$f":"BW$15*Otros!BR18","v":0.10107882545296414},{"$f":"BX$15*Otros!BS18","v":9.4141843153401822E-2},{"$f":"BY$15*Otros!BT18","v":8.7268339415573312E-2},{"$f":"BZ$15*Otros!BU18","v":8.0777154312565075E-2},{"$f":"CA$15*Otros!BV18","v":7.434659663028037E-2},{"$f":"CB$15*Otros!BW18","v":6.8607677700324984E-2},{"$f":"CC$15*Otros!BX18","v":6.3550872599841365E-2},{"$f":"CD$15*Otros!BY18","v":5.8542178352000811E-2},{"$f":"CE$15*Otros!BZ18","v":5.4202896440442225E-2},{"$f":"CF$15*Otros!CA18","v":4.9905411477031918E-2},{"$f":"CG$15*Otros!CB18","v":4.5957161791531177E-2},{"$f":"CH$15*Otros!CC18","v":4.2353349247696598E-2},{"$f":"CI$15*Otros!CD18","v":3.8784971320948908E-2},{"$f":"CJ$15*Otros!CE18","v":3.5554618235329259E-2},{"$f":"CK$15*Otros!CF18","v":3.2356480079961406E-2},{"$f":"CL$15*Otros!CG18","v":2.9789317674139067E-2},{"$f":"CM$15*Otros!CH18","v":2.7843510636156414E-2},{"$f":"CN$15*Otros!CI18","v":2.5917063681563247E-2},{"$f":"CO$15*Otros!CJ18","v":2.4009956980001627E-2},{"$f":"CP$15*Otros!CK18","v":2.2122165332151236E-2},{"$f":"CQ$15*Otros!CL18","v":2.0545077911193612E-2},{"$f":"CR$15*Otros!CM18","v":1.9273899977359177E-2},{"$f":"CS$15*Otros!CN18","v":1.8015600301720058E-2},{"$f":"CT$15*Otros!CO18","v":1.7056822541311061E-2},{"$f":"CU$15*Otros!CP18","v":1.6107714707358892E-2},{"$f":"CV$15*Otros!CQ18","v":1.516825557792993E-2},{"$f":"CW$15*Otros!CR18","v":1.4238421703716912E-2},{"$f":"CX$15*Otros!CS18","v":1.3318187493892679E-2},{"$f":"CY$15*Otros!CT18","v":1.2686346092959629E-2},{"$f":"CZ$15*Otros!CU18","v":1.2060931061941491E-2},{"$f":"DA$15*Otros!CV18","v":1.1717632565996755E-2},{"$f":"DB$15*Otros!CW18","v":1.1651782220146527E-2},{"$f":"DC$15*Otros!CX18","v":1.1586122689365309E-2},{"$f":"DD$15*Otros!CY18","v":1.1520659228592954E-2},{"$f":"DE$15*Otros!CZ18","v":1.1455396904220136E-2},{"$f":"DF$15*Otros!DA18","v":1.125633659148309E-2},{"$f":"DG$15*Otros!DB18","v":1.0925771660589251E-2},{"$f":"DH$15*Otros!DC18","v":1.0598460873183098E-2},{"$f":"DI$15*Otros!DD18","v":1.0537839007493758E-2},{"$f":"DJ$15*Otros!DE18","v":1.0477427770076264E-2},{"$f":"DK$15*Otros!DF18","v":1.0417230949564734E-2},{"$f":"DL$15*Otros!DG18","v":1.0357252184773489E-2},{"$f":"DM$15*Otros!DH18","v":1.0297494968350359E-2},{"$f":"DN$15*Otros!DI18","v":1.0237962650358604E-2},{"$f":"DO$15*Otros!DJ18","v":1.017865844178851E-2},{"$f":"DP$15*Otros!DK18","v":1.0119585417999547E-2},{"$f":"DQ$15*Otros!DL18","v":1.0060746522093916E-2},{"$f":"DR$15*Otros!DM18","v":1.0002144568222491E-2},{"$f":"DS$15*Otros!DN18","v":9.9437822448241002E-3},{"$f":"DT$15*Otros!DO18","v":9.8856621177989164E-3},{"$f":"DU$15*Otros!DP18","v":9.8277866336171811E-3},{"$f":"DV$15*Otros!DQ18","v":9.7701581223639481E-3},{"$f":"DW$15*Otros!DR18","v":9.712778800720967E-3},{"$f":"DX$15*Otros!DS18","v":9.6556507748865421E-3},{"$f":"DY$15*Otros!DT18","v":9.598776043434459E-3},{"$f":"DZ$15*Otros!DU18","v":9.7807104126156133E-3},{"$f":"EA$15*Otros!DV18","v":1.0197228481827391E-2},{"$f":"EB$15*Otros!DW18","v":1.0608401300742708E-2},{"$f":"EC$15*Otros!DX18","v":1.0545577223797668E-2},{"$f":"ED$15*Otros!DY18","v":1.0483047636745447E-2},{"$f":"EE$15*Otros!DZ18","v":1.0420814125348595E-2},{"$f":"EF$15*Otros!EA18","v":1.0358878174973944E-2},{"$f":"EG$15*Otros!EB18","v":1.0297241173298291E-2},{"$f":"EH$15*Otros!EC18","v":1.0235904412954917E-2},{"$f":"EI$15*Otros!ED18","v":1.0174869094122149E-2},{"$f":"EJ$15*Otros!EE18","v":1.0226515619577657E-2},{"$f":"EK$15*Otros!EF18","v":1.0388830705711808E-2},{"$f":"EL$15*Otros!EG18","v":1.054878147966193E-2},{"$f":"EM$15*Otros!EH18","v":1.0706389163879199E-2},{"$f":"EN$15*Otros!EI18","v":1.0861674968443249E-2},{"$f":"EO$15*Otros!EJ18","v":1.1232772165557169E-2},{"$f":"EP$15*Otros!EK18","v":1.1815775330180675E-2},{"$f":"EQ$15*Otros!EL18","v":1.2391318876186599E-2},{"$f":"ER$15*Otros!EM18","v":1.2531052976635501E-2},{"$f":"ES$15*Otros!EN18","v":1.2668605167907422E-2},{"$f":"ET$15*Otros!EO18","v":1.2909814650420634E-2},{"$f":"EU$15*Otros!EP18","v":1.3252790586608446E-2},{"$f":"EV$15*Otros!EQ18","v":1.3591115678356245E-2},{"$f":"EW$15*Otros!ER18","v":1.4340498049904622E-2},{"$f":"EX$15*Otros!ES18","v":1.5080296960970307E-2},{"$f":"EY$15*Otros!ET18","v":1.5913261315672503E-2},{"$f":"EZ$15*Otros!EU18","v":1.6837613547112079E-2},{"$f":"FA$15*Otros!EV18","v":1.7750167106891361E-2},{"$f":"FB$15*Otros!EW18","v":1.9255923114954655E-2},{"$f":"FC$15*Otros!EX18","v":2.0742769476810918E-2},{"$f":"FD$15*Otros!EY18","v":2.2708872283845903E-2},{"$f":"FE$15*Otros!EZ18","v":2.5145352768769655E-2},{"$f":"FF$15*Otros!FA18","v":2.7551444645096051E-2},{"$f":"FG$15*Otros!FB18","v":3.0905434240561209E-2},{"$f":"FH$15*Otros!FC18","v":3.4217715377162609E-2},{"$f":"FI$15*Otros!FD18","v":3.7971756772469716E-2},{"$f":"FJ$15*Otros!FE18","v":4.2159138549408393E-2},{"$f":"FK$15*Otros!FF18","v":4.6294281321512885E-2},{"$f":"FL$15*Otros!FG18","v":5.1895622125554347E-2},{"$f":"FM$15*Otros!FH18","v":5.7427237039509568E-2},{"$f":"FN$15*Otros!FI18","v":6.3733280632114239E-2},{"$f":"FO$15*Otros!FJ18","v":7.0799018832077606E-2},{"$f":"FP$15*Otros!FK18","v":7.7776576786634813E-2},{"$f":"FQ$15*Otros!FL18","v":8.50348714529712E-2},{"$f":"FR$15*Otros!FM18","v":9.2202114265913709E-2},{"$f":"FS$15*Otros!FN18","v":9.9733714594778103E-2},{"$f":"FT$15*Otros!FO18","v":0.10762222273436947},{"$f":"FU$15*Otros!FP18","v":0.11541121424932063},{"$f":"FV$15*Otros!FQ18","v":0.12328014991428782},{"$f":"FW$15*Otros!FR18","v":0.13104924283576558},{"$f":"FX$15*Otros!FS18","v":0.13880761536385963},{"$f":"FY$15*Otros!FT18","v":0.14655459090607992},{"$f":"FZ$15*Otros!FU18","v":0.15420238788923005},{"$f":"GA$15*Otros!FV18","v":0.16140558266260394},{"$f":"GB$15*Otros!FW18","v":0.16851568063794875},{"$f":"GC$15*Otros!FX18","v":0.17536248798996126},{"$f":"GD$15*Otros!FY18","v":0.1819500072018973},{"$f":"GE$15*Otros!FZ18","v":0.18845121177872365},{"$f":"GF$15*Otros!GA18","v":0.19385900749495158},{"$f":"GG$15*Otros!GB18","v":0.19919439320018126},{"$f":"GH$15*Otros!GC18","v":0.20412617047087053},{"$f":"GI$15*Otros!GD18","v":0.20866108946790488},{"$f":"GJ$15*Otros!GE18","v":0.21313371835952924},{"$f":"GK$15*Otros!GF18","v":0.21689286330395699},{"$f":"GL$15*Otros!GG18","v":0.22059886850213048},{"$f":"GM$15*Otros!GH18","v":0.22384981369517923},{"$f":"GN$15*Otros!GI18","v":0.22665355432308368},{"$f":"GO$15*Otros!GJ18","v":0.22941545008972183},{"$f":"GP$15*Otros!GK18","v":0.23150363265432822},{"$f":"GQ$15*Otros!GL18","v":0.23355850297908679},{"$f":"GR$15*Otros!GM18","v":0.23534616794205504},{"$f":"GS$15*Otros!GN18","v":0.23687123727367904},{"$f":"GT$15*Otros!GO18","v":0.23836969060729749},{"$f":"GU$15*Otros!GP18","v":0.23922841926600294},{"$f":"GV$15*Otros!GQ18","v":0.24006854113390932},{"$f":"GW$15*Otros!GR18","v":0.24066302263694436},{"$f":"GX$15*Otros!GS18","v":0.24101620180088582},{"$f":"GY$15*Otros!GT18","v":0.24135687984433427}]
[13,80,null,{"$f":"13*F54*(K54-K$41)","v":20.50671575718491},28.173325215968092,79.117047248372515,0.32410763850658675,0.21782610924082546,1.6944515337885435,1.9364819992799032,0.32297699179254213,0.22296122295329585,{"$f":"SUMPRODUCT($P54:$HH54,Otros!$C$26:$GU$26)*(100/$E$15)","v":58.847802175328773},{"$f":"SUMPRODUCT($P54:$HH54,Otros!$C$27:$GU$27)*(100/$E$15)","v":56.830468450775214},{"$f":"SUMPRODUCT($P54:$HH54,Otros!$C$28:$GU$28)*(100/$E$15)","v":48.148237216168759},{"$f":"G$15*Otros!B19","v":0.104},{"$f":"H$15*Otros!C19","v":0.11316833457987258},{"$f":"I$15*Otros!D19","v":0.12231581636918673},{"$f":"J$15*Otros!E19","v":0.13363659986379609},{"$f":"K$15*Otros!F19","v":0.14712330071050259},{"$f":"L$15*Otros!G19","v":0.16057289390460477},{"$f":"M$15*Otros!H19","v":0.18035830276978254},{"$f":"N$15*Otros!I19","v":0.20008509684226866},{"$f":"O$15*Otros!J19","v":0.22034364857155506},{"$f":"P$15*Otros!K19","v":0.24112574058166697},{"$f":"Q$15*Otros!L19","v":0.26182792377731001},{"$f":"R$15*Otros!M19","v":0.28085970023122114},{"$f":"S$15*Otros!N19","v":0.29980478369962194},{"$f":"T$15*Otros!O19","v":0.31451200969678489},{"$f":"U$15*Otros!P19","v":0.32499829484466775},{"$f":"V$15*Otros!Q19","v":0.33541428317997068},{"$f":"W$15*Otros!R19","v":0.33908213453460945},{"$f":"X$15*Otros!S19","v":0.34270252709837962},{"$f":"Y$15*Otros!T19","v":0.34549307370227811},{"$f":"Z$15*Otros!U19","v":0.34745871808765955},{"$f":"AA$15*Otros!V19","v":0.34938338932924184},{"$f":"AB$15*Otros!W19","v":0.34932548620391141},{"$f":"AC$15*Otros!X19","v":0.34923657428181604},{"$f":"AD$15*Otros!Y19","v":0.34931049669777003},{"$f":"AE$15*Otros!Z19","v":0.34954636074576206},{"$f":"AF$15*Otros!AA19","v":0.34975101380881224},{"$f":"AG$15*Otros!AB19","v":0.34915845891917008},{"$f":"AH$15*Otros!AC19","v":0.34854016649293618},{"$f":"AI$15*Otros!AD19","v":0.34808734605436908},{"$f":"AJ$15*Otros!AE19","v":0.34779895178815701},{"$f":"AK$15*Otros!AF19","v":0.34748449260952902},{"$f":"AL$15*Otros!AG19","v":0.34714455599240429},{"$f":"AM$15*Otros!AH19","v":0.34677972226140441},{"$f":"AN$15*Otros!AI19","v":0.34657810677748163},{"$f":"AO$15*Otros!AJ19","v":0.34653839027190447},{"$f":"AP$15*Otros!AK19","v":0.34647291157688997},{"$f":"AQ$15*Otros!AL19","v":0.34601090911455834},{"$f":"AR$15*Otros!AM19","v":0.34552675604013311},{"$f":"AS$15*Otros!AN19","v":0.34502099016371679},{"$f":"AT$15*Otros!AO19","v":0.3444941417448889},{"$f":"AU$15*Otros!AP19","v":0.34394673347346588},{"$f":"AV$15*Otros!AQ19","v":0.34374380198641341},{"$f":"AW$15*Otros!AR19","v":0.34351854506866303},{"$f":"AX$15*Otros!AS19","v":0.34363313905949383},{"$f":"AY$15*Otros!AT19","v":0.34408377020532116},{"$f":"AZ$15*Otros!AU19","v":0.34450767924970116},{"$f":"BA$15*Otros!AV19","v":0.34490523379937765},{"$f":"BB$15*Otros!AW19","v":0.34527680072917372},{"$f":"BC$15*Otros!AX19","v":0.3461544733221647},{"$f":"BD$15*Otros!AY19","v":0.34753195037899981},{"$f":"BE$15*Otros!AZ19","v":0.34887556954749493},{"$f":"BF$15*Otros!BA19","v":0.35018560661004011},{"$f":"BG$15*Otros!BB19","v":0.35146234197404458},{"$f":"BH$15*Otros!BC19","v":0.35322653168290752},{"$f":"BI$15*Otros!BD19","v":0.35547159103879961},{"$f":"BJ$15*Otros!BE19","v":0.35767499199077252},{"$f":"BK$15*Otros!BF19","v":0.36052171726796539},{"$f":"BL$15*Otros!BG19","v":0.36332105784468527},{"$f":"BM$15*Otros!BH19","v":0.36624285873273121},{"$f":"BN$15*Otros!BI19","v":0.36928499829623024},{"$f":"BO$15*Otros!BJ19","v":0.37227727799926985},{"$f":"BP$15*Otros!BK19","v":0.37421621531946953},{"$f":"BQ$15*Otros!BL19","v":0.3761152195317814},{"$f":"BR$15*Otros!BM19","v":0.3773117558935552},{"$f":"BS$15*Otros!BN19","v":0.37781563005771096},{"$f":"BT$15*Otros!BO19","v":0.37829317026564141},{"$f":"BU$15*Otros!BP19","v":0.37809142902442677},{"$f":"BV$15*Otros!BQ19","v":0.37787041765598745},{"$f":"BW$15*Otros!BR19","v":0.37730703965082452},{"$f":"BX$15*Otros!BS19","v":0.37640644638599458},{"$f":"BY$15*Otros!BT19","v":0.37549404757709987},{"$f":"BZ$15*Otros!BU19","v":0.37425154927064175},{"$f":"CA$15*Otros!BV19","v":0.3730011553753726},{"$f":"CB$15*Otros!BW19","v":0.37190092877555481},{"$f":"CC$15*Otros!BX19","v":0.37094879710129625},{"$f":"CD$15*Otros!BY19","v":0.36998656718464512},{"$f":"CE$15*Otros!BZ19","v":0.36870394312209126},{"$f":"CF$15*Otros!CA19","v":0.36741507273183249},{"$f":"CG$15*Otros!CB19","v":0.36688877992101981},{"$f":"CH$15*Otros!CC19","v":0.36711332687263371},{"$f":"CI$15*Otros!CD19","v":0.36731649309839848},{"$f":"CJ$15*Otros!CE19","v":0.36749858593027568},{"$f":"CK$15*Otros!CF19","v":0.36765991086207311},{"$f":"CL$15*Otros!CG19","v":0.36914802705742178},{"$f":"CM$15*Otros!CH19","v":0.37194165544983271},{"$f":"CN$15*Otros!CI19","v":0.37468669208202859},{"$f":"CO$15*Otros!CJ19","v":0.37856189839634474},{"$f":"CP$15*Otros!CK19","v":0.38237650011201807},{"$f":"CQ$15*Otros!CL19","v":0.38715086531944276},{"$f":"CR$15*Otros!CM19","v":0.39286874314752429},{"$f":"CS$15*Otros!CN19","v":0.39850507867404772},{"$f":"CT$15*Otros!CO19","v":0.40463369776572372},{"$f":"CU$15*Otros!CP19","v":0.41067545196372551},{"$f":"CV$15*Otros!CQ19","v":0.41762318628580908},{"$f":"CW$15*Otros!CR19","v":0.42546095744373907},{"$f":"CX$15*Otros!CS19","v":0.43319157216977239},{"$f":"CY$15*Otros!CT19","v":0.43997921175143501},{"$f":"CZ$15*Otros!CU19","v":0.4466703434663849},{"$f":"DA$15*Otros!CV19","v":0.45271418054980406},{"$f":"DB$15*Otros!CW19","v":0.45812066093799636},{"$f":"DC$15*Otros!CX19","v":0.46344490757461237},{"$f":"DD$15*Otros!CY19","v":0.46651893017431706},{"$f":"DE$15*Otros!CZ19","v":0.46953650369768174},{"$f":"DF$15*Otros!DA19","v":0.47182810879299963},{"$f":"DG$15*Otros!DB19","v":0.4734056915862635},{"$f":"DH$15*Otros!DC19","v":0.47494352787951749},{"$f":"DI$15*Otros!DD19","v":0.47538826222556207},{"$f":"DJ$15*Otros!DE19","v":0.47580618860858837},{"$f":"DK$15*Otros!DF19","v":0.47554659284763007},{"$f":"DL$15*Otros!DG19","v":0.47462108136724507},{"$f":"DM$15*Otros!DH19","v":0.47368476854411651},{"$f":"DN$15*Otros!DI19","v":0.47248197631404953},{"$f":"DO$15*Otros!DJ19","v":0.471271885854808},{"$f":"DP$15*Otros!DK19","v":0.46967525821290401},{"$f":"DQ$15*Otros!DL19","v":0.46769895394584088},{"$f":"DR$15*Otros!DM19","v":0.46572485645785971},{"$f":"DS$15*Otros!DN19","v":0.46350454988686335},{"$f":"DT$15*Otros!DO19","v":0.46128970857179191},{"$f":"DU$15*Otros!DP19","v":0.45895763578992238},{"$f":"DV$15*Otros!DQ19","v":0.45651063826745553},{"$f":"DW$15*Otros!DR19","v":0.45407240893370521},{"$f":"DX$15*Otros!DS19","v":0.45140167372594586},{"$f":"DY$15*Otros!DT19","v":0.44874278003056095},{"$f":"DZ$15*Otros!DU19","v":0.44609581638027307},{"$f":"EA$15*Otros!DV19","v":0.44346086653528427},{"$f":"EB$15*Otros!DW19","v":0.44083800960864145},{"$f":"EC$15*Otros!DX19","v":0.43822732018892535},{"$f":"ED$15*Otros!DY19","v":0.43562886846031079},{"$f":"EE$15*Otros!DZ19","v":0.43304272032004165},{"$f":"EF$15*Otros!EA19","v":0.43046893749336174},{"$f":"EG$15*Otros!EB19","v":0.42790757764595122},{"$f":"EH$15*Otros!EC19","v":0.4253586944939044},{"$f":"EI$15*Otros!ED19","v":0.42282233791129825},{"$f":"EJ$15*Otros!EE19","v":0.4202985540353894},{"$f":"EK$15*Otros!EF19","v":0.41778738536948568},{"$f":"EL$15*Otros!EG19","v":0.41528887088353289},{"$f":"EM$15*Otros!EH19","v":0.41280304611245566},{"$f":"EN$15*Otros!EI19","v":0.41032994325230049},{"$f":"EO$15*Otros!EJ19","v":0.40776053521376948},{"$f":"EP$15*Otros!EK19","v":0.40509681109068973},{"$f":"EQ$15*Otros!EL19","v":0.40244848697875607},{"$f":"ER$15*Otros!EM19","v":0.40002976810028712},{"$f":"ES$15*Otros!EN19","v":0.39762386808516148},{"$f":"ET$15*Otros!EO19","v":0.39523080097804153},{"$f":"EU$15*Otros!EP19","v":0.39285057810303609},{"$f":"EV$15*Otros!EQ19","v":0.39048320814354293},{"$f":"EW$15*Otros!ER19","v":0.38812869722024468},{"$f":"EX$15*Otros!ES19","v":0.38578704896728833},{"$f":"EY$15*Otros!ET19","v":0.38345826460668903},{"$f":"EZ$15*Otros!EU19","v":0.38114234302099159},{"$f":"FA$15*Otros!EV19","v":0.37883928082422413},{"$f":"FB$15*Otros!EW19","v":0.37654907243118135},{"$f":"FC$15*Otros!EX19","v":0.37427171012506655},{"$f":"FD$15*Otros!EY19","v":0.37200718412352829},{"$f":"FE$15*Otros!EZ19","v":0.36975548264312857},{"$f":"FF$15*Otros!FA19","v":0.36751659196226338},{"$f":"FG$15*Otros!FB19","v":0.36509489246840182},{"$f":"FH$15*Otros!FC19","v":0.36268834111418657},{"$f":"FI$15*Otros!FD19","v":0.36039351847662093},{"$f":"FJ$15*Otros!FE19","v":0.35820862594372049},{"$f":"FK$15*Otros!FF19","v":0.35603643160668674},{"$f":"FL$15*Otros!FG19","v":0.35387691138632127},{"$f":"FM$15*Otros!FH19","v":0.35173003966727534},{"$f":"FN$15*Otros!FI19","v":0.34950206393699118},{"$f":"FO$15*Otros!FJ19","v":0.34719466208835953},{"$f":"FP$15*Otros!FK19","v":0.34490208158358893},{"$f":"FQ$15*Otros!FL19","v":0.34262427101667942},{"$f":"FR$15*Otros!FM19","v":0.34036117776137392},{"$f":"FS$15*Otros!FN19","v":0.33811274802003627},{"$f":"FT$15*Otros!FO19","v":0.33587892687124377},{"$f":"FU$15*Otros!FP19","v":0.33365965831612926},{"$f":"FV$15*Otros!FQ19","v":0.33181196034135252},{"$f":"FW$15*Otros!FR19","v":0.32997436296967647},{"$f":"FX$15*Otros!FS19","v":0.32814684674010269},{"$f":"FY$15*Otros!FT19","v":0.32632939111443515},{"$f":"FZ$15*Otros!FU19","v":0.32452197451264514},{"$f":"GA$15*Otros!FV19","v":0.32307093825867772},{"$f":"GB$15*Otros!FW19","v":0.32162568873545172},{"$f":"GC$15*Otros!FX19","v":0.32010069758948051},{"$f":"GD$15*Otros!FY19","v":0.31849753597117164},{"$f":"GE$15*Otros!FZ19","v":0.31690226195973709},{"$f":"GF$15*Otros!GA19","v":0.31497888999396378},{"$f":"GG$15*Otros!GB19","v":0.31306746626181048},{"$f":"GH$15*Otros!GC19","v":0.3110849646728836},{"$f":"GI$15*Otros!GD19","v":0.30903284673369152},{"$f":"GJ$15*Otros!GE19","v":0.30699452894478346},{"$f":"GK$15*Otros!GF19","v":0.30496994265466232},{"$f":"GL$15*Otros!GG19","v":0.30295901874686865},{"$f":"GM$15*Otros!GH19","v":0.30104218023012236},{"$f":"GN$15*Otros!GI19","v":0.29921789381162478},{"$f":"GO$15*Otros!GJ19","v":0.29740512420643317},{"$f":"GP$15*Otros!GK19","v":0.29544574218568759},{"$f":"GQ$15*Otros!GL19","v":0.29349968621926276},{"$f":"GR$15*Otros!GM19","v":0.29164496923144512},{"$f":"GS$15*Otros!GN19","v":0.28988010197155673},{"$f":"GT$15*Otros!GO19","v":0.28812647068551978},{"$f":"GU$15*Otros!GP19","v":0.28638402114055161},{"$f":"GV$15*Otros!GQ19","v":0.28465269877306393},{"$f":"GW$15*Otros!GR19","v":0.28293244870915557},{"$f":"GX$15*Otros!GS19","v":0.28122321578453874},{"$f":"GY$15*Otros!GT19","v":0.27952494456390342}]
[14,80,null,21.523941108324181,-6.2142936896408374,39.68724328107492,0.34707459149060566,0.18098493649581632,1.070034666771505,2.0914590893428775,0.34475732850233259,0.18352442185564638,{"$f":"SUMPRODUCT($P55:$HH55,Otros!$C$26:$GU$26)*(100/$E$15)","v":9.3090980321143828},{"$f":"SUMPRODUCT($P55:$HH55,Otros!$C$27:$GU$27)*(100/$E$15)","v":11.658320405417058},{"$f":"SUMPRODUCT($P55:$HH55,Otros!$C$28:$GU$28)*(100/$E$15)","v":6.2374034950629413},{"$f":"G$15*Otros!B20","v":3.5999999999999997E-2},{"$f":"H$15*Otros!C20","v":3.5989929725047817E-2},{"$f":"I$15*Otros!D20","v":3.5975240108584335E-2},{"$f":"J$15*Otros!E20","v":3.6155791592447077E-2},{"$f":"K$15*Otros!F20","v":3.6531294477641758E-2},{"$f":"L$15*Otros!G20","v":3.6901845183045817E-2},{"$f":"M$15*Otros!H20","v":3.7267406207678828E-2},{"$f":"N$15*Otros!I20","v":3.7627943585262467E-2},{"$f":"O$15*Otros!J20","v":3.7983426784446765E-2},{"$f":"P$15*Otros!K20","v":3.8333828609770783E-2},{"$f":"Q$15*Otros!L20","v":3.8679125103466251E-2},{"$f":"R$15*Otros!M20","v":3.8623160469032525E-2},{"$f":"S$15*Otros!N20","v":3.856328022521522E-2},{"$f":"T$15*Otros!O20","v":3.8697020653213961E-2},{"$f":"U$15*Otros!P20","v":3.9023445954665989E-2},{"$f":"V$15*Otros!Q20","v":3.9344783950729698E-2},{"$f":"W$15*Otros!R20","v":3.9661025579612687E-2},{"$f":"X$15*Otros!S20","v":3.9972164395694364E-2},{"$f":"Y$15*Otros!T20","v":4.0278196481420087E-2},{"$f":"Z$15*Otros!U20","v":4.0579120360602565E-2},{"$f":"AA$15*Otros!V20","v":4.0874936913170359E-2},{"$f":"AB$15*Otros!W20","v":4.0777294109406004E-2},{"$f":"AC$15*Otros!X20","v":4.0676472878081738E-2},{"$f":"AD$15*Otros!Y20","v":4.076577146196321E-2},{"$f":"AE$15*Otros!Z20","v":4.1043756802010653E-2},{"$f":"AF$15*Otros!AA20","v":4.1316740642249793E-2},{"$f":"AG$15*Otros!AB20","v":4.1584734130329259E-2},{"$f":"AH$15*Otros!AC20","v":4.1847750253263719E-2},{"$f":"AI$15*Otros!AD20","v":4.1915279765714936E-2},{"$f":"AJ$15*Otros!AE20","v":4.1789060291313233E-2},{"$f":"AK$15*Otros!AF20","v":4.166026614392173E-2},{"$f":"AL$15*Otros!AG20","v":4.1906520625510472E-2},{"$f":"AM$15*Otros!AH20","v":4.2147942369264564E-2},{"$f":"AN$15*Otros!AI20","v":4.2197009753751819E-2},{"$f":"AO$15*Otros!AJ20","v":4.2055629887367045E-2},{"$f":"AP$15*Otros!AK20","v":4.1912045755268947E-2},{"$f":"AQ$15*Otros!AL20","v":4.2137594618564776E-2},{"$f":"AR$15*Otros!AM20","v":4.235847276937392E-2},{"$f":"AS$15*Otros!AN20","v":4.2574705516997102E-2},{"$f":"AT$15*Otros!AO20","v":4.2786319310532582E-2},{"$f":"AU$15*Otros!AP20","v":4.2993341684183235E-2},{"$f":"AV$15*Otros!AQ20","v":4.3195801204019078E-2},{"$f":"AW$15*Otros!AR20","v":4.339372741617889E-2},{"$f":"AX$15*Otros!AS20","v":4.3768010343367109E-2},{"$f":"AY$15*Otros!AT20","v":4.431654841387906E-2},{"$f":"AZ$15*Otros!AU20","v":4.4857770735638174E-2},{"$f":"BA$15*Otros!AV20","v":4.5391673256498399E-2},{"$f":"BB$15*Otros!AW20","v":4.5918254942333411E-2},{"$f":"BC$15*Otros!AX20","v":4.6614760104316082E-2},{"$f":"BD$15*Otros!AY20","v":4.7478971382402722E-2},{"$f":"BE$15*Otros!AZ20","v":4.8332887468796527E-2},{"$f":"BF$15*Otros!BA20","v":4.8826478882659265E-2},{"$f":"BG$15*Otros!BB20","v":4.9312762904637882E-2},{"$f":"BH$15*Otros!BC20","v":5.0312227007879753E-2},{"$f":"BI$15*Otros!BD20","v":5.1818016186413927E-2},{"$f":"BJ$15*Otros!BE20","v":5.3307330537086285E-2},{"$f":"BK$15*Otros!BF20","v":5.4780127979937761E-2},{"$f":"BL$15*Otros!BG20","v":5.6236373869017892E-2},{"$f":"BM$15*Otros!BH20","v":5.8184946987182393E-2},{"$f":"BN$15*Otros!BI20","v":6.0618799445974696E-2},{"$f":"BO$15*Otros!BJ20","v":6.3026627200779325E-2},{"$f":"BP$15*Otros!BK20","v":6.5408377375910862E-2},{"$f":"BQ$15*Otros!BL20","v":6.7764008122813205E-2},{"$f":"BR$15*Otros!BM20","v":7.0259193894979102E-2},{"$f":"BS$15*Otros!BN20","v":7.289153578590496E-2},{"$f":"BT$15*Otros!BO20","v":7.5494515541082441E-2},{"$f":"BU$15*Otros!BP20","v":7.7741477414957724E-2},{"$f":"BV$15*Otros!BQ20","v":7.9962256123331535E-2},{"$f":"BW$15*Otros!BR20","v":8.2156869328169249E-2},{"$f":"BX$15*Otros!BS20","v":8.4325343269030004E-2},{"$f":"BY$15*Otros!BT20","v":8.6467712448457967E-2},{"$f":"BZ$15*Otros!BU20","v":9.0177257082666329E-2},{"$f":"CA$15*Otros!BV20","v":9.3844744573829394E-2},{"$f":"CB$15*Otros!BW20","v":9.7312499174943723E-2},{"$f":"CC$15*Otros!BX20","v":0.10058298601604522},{"$f":"CD$15*Otros!BY20","v":0.10381479627754811},{"$f":"CE$15*Otros!BZ20","v":0.10607615549805742},{"$f":"CF$15*Otros!CA20","v":0.10830864843776895},{"$f":"CG$15*Otros!CB20","v":0.11035866945257321},{"$f":"CH$15*Otros!CC20","v":0.11222873049750652},{"$f":"CI$15*Otros!CD20","v":0.11407344506161443},{"$f":"CJ$15*Otros!CE20","v":0.11468255583991312},{"$f":"CK$15*Otros!CF20","v":0.11527936623837413},{"$f":"CL$15*Otros!CG20","v":0.11541489410432773},{"$f":"CM$15*Otros!CH20","v":0.11509643701470003},{"$f":"CN$15*Otros!CI20","v":0.11477556773263722},{"$f":"CO$15*Otros!CJ20","v":0.11327396881976229},{"$f":"CP$15*Otros!CK20","v":0.11178286191014168},{"$f":"CQ$15*Otros!CL20","v":0.1100108781769587},{"$f":"CR$15*Otros!CM20","v":0.10796282318144802},{"$f":"CS$15*Otros!CN20","v":0.10593172977411394},{"$f":"CT$15*Otros!CO20","v":0.10334427775029642},{"$f":"CU$15*Otros!CP20","v":0.10078012653188265},{"$f":"CV$15*Otros!CQ20","v":9.8239262761733101E-2},{"$f":"CW$15*Otros!CR20","v":9.5721666701225588E-2},{"$f":"CX$15*Otros!CS20","v":9.3227312457248759E-2},{"$f":"CY$15*Otros!CT20","v":9.0477347410228559E-2},{"$f":"CZ$15*Otros!CU20","v":8.7753670829988084E-2},{"$f":"DA$15*Otros!CV20","v":8.5194081479835218E-2},{"$f":"DB$15*Otros!CW20","v":8.2796193658452963E-2},{"$f":"DC$15*Otros!CX20","v":8.042132219677095E-2},{"$f":"DD$15*Otros!CY20","v":7.8340482754432089E-2},{"$f":"DE$15*Otros!CZ20","v":7.6279466444571717E-2},{"$f":"DF$15*Otros!DA20","v":7.4238219900971819E-2},{"$f":"DG$15*Otros!DB20","v":7.2216685854138693E-2},{"$f":"DH$15*Otros!DC20","v":7.021480328483802E-2},{"$f":"DI$15*Otros!DD20","v":6.849595354870941E-2},{"$f":"DJ$15*Otros!DE20","v":6.6793602034236177E-2},{"$f":"DK$15*Otros!DF20","v":6.5368124208518702E-2},{"$f":"DL$15*Otros!DG20","v":6.4214963545595624E-2},{"$f":"DM$15*Otros!DH20","v":6.3072156681145949E-2},{"$f":"DN$15*Otros!DI20","v":6.1939674034669552E-2},{"$f":"DO$15*Otros!DJ20","v":6.0817484189686348E-2},{"$f":"DP$15*Otros!DK20","v":5.9832048783922322E-2},{"$f":"DQ$15*Otros!DL20","v":5.8981126485775574E-2},{"$f":"DR$15*Otros!DM20","v":5.8137465302793227E-2},{"$f":"DS$15*Otros!DN20","v":5.7052450629678272E-2},{"$f":"DT$15*Otros!DO20","v":5.5977561742036358E-2},{"$f":"DU$15*Otros!DP20","v":5.5158452481176436E-2},{"$f":"DV$15*Otros!DQ20","v":5.4590758508708558E-2},{"$f":"DW$15*Otros!DR20","v":5.4027332079010379E-2},{"$f":"DX$15*Otros!DS20","v":5.3226774896562065E-2},{"$f":"DY$15*Otros!DT20","v":5.2433314137260732E-2},{"$f":"DZ$15*Otros!DU20","v":5.1766199013111899E-2},{"$f":"EA$15*Otros!DV20","v":5.1223287257551556E-2},{"$f":"EB$15*Otros!DW20","v":5.0684583992437381E-2},{"$f":"EC$15*Otros!DX20","v":5.0150078353171139E-2},{"$f":"ED$15*Otros!DY20","v":4.9619758813928452E-2},{"$f":"EE$15*Otros!DZ20","v":4.9093613212753386E-2},{"$f":"EF$15*Otros!EA20","v":4.8571628775988945E-2},{"$f":"EG$15*Otros!EB20","v":4.8053792142058696E-2},{"$f":"EH$15*Otros!EC20","v":4.7767553927122959E-2},{"$f":"EI$15*Otros!ED20","v":4.7482722439236701E-2},{"$f":"EJ$15*Otros!EE20","v":4.7199302859589183E-2},{"$f":"EK$15*Otros!EF20","v":4.6917299961279142E-2},{"$f":"EL$15*Otros!EG20","v":4.6636718120610647E-2},{"$f":"EM$15*Otros!EH20","v":4.6357561328136732E-2},{"$f":"EN$15*Otros!EI20","v":4.6079833199456209E-2},{"$f":"EO$15*Otros!EJ20","v":4.5912593026209397E-2},{"$f":"EP$15*Otros!EK20","v":4.5853880409783714E-2},{"$f":"EQ$15*Otros!EL20","v":4.579400454242874E-2},{"$f":"ER$15*Otros!EM20","v":4.5947194247663498E-2},{"$f":"ES$15*Otros!EN20","v":4.6096689392469851E-2},{"$f":"ET$15*Otros!EO20","v":4.6559987263812115E-2},{"$f":"EU$15*Otros!EP20","v":4.733139495217302E-2},{"$f":"EV$15*Otros!EQ20","v":4.8091640092645181E-2},{"$f":"EW$15*Otros!ER20","v":4.8632993386633072E-2},{"$f":"EX$15*Otros!ES20","v":4.9165899680971688E-2},{"$f":"EY$15*Otros!ET20","v":4.9895774189786045E-2},{"$f":"EZ$15*Otros!EU20","v":5.0818979069465545E-2},{"$f":"FA$15*Otros!EV20","v":5.1729058425797669E-2},{"$f":"FB$15*Otros!EW20","v":5.3029400829665709E-2},{"$f":"FC$15*Otros!EX20","v":5.4311985779862397E-2},{"$f":"FD$15*Otros!EY20","v":5.6074978490373878E-2},{"$f":"FE$15*Otros!EZ20","v":5.8309499137028847E-2},{"$f":"FF$15*Otros!FA20","v":6.0514780202621687E-2},{"$f":"FG$15*Otros!FB20","v":6.2886690559116623E-2},{"$f":"FH$15*Otros!FC20","v":6.5227519937716222E-2},{"$f":"FI$15*Otros!FD20","v":6.7634172368266673E-2},{"$f":"FJ$15*Otros!FE20","v":7.0105173442068625E-2},{"$f":"FK$15*Otros!FF20","v":7.2543616091442872E-2},{"$f":"FL$15*Otros!FG20","v":7.5329294273656588E-2},{"$f":"FM$15*Otros!FH20","v":7.807841095026917E-2},{"$f":"FN$15*Otros!FI20","v":8.0978756567862797E-2},{"$f":"FO$15*Otros!FJ20","v":8.4027256561228961E-2},{"$f":"FP$15*Otros!FK20","v":8.7035693070758008E-2},{"$f":"FQ$15*Otros!FL20","v":9.000444186256043E-2},{"$f":"FR$15*Otros!FM20","v":9.2933877077547938E-2},{"$f":"FS$15*Otros!FN20","v":9.5824371178574397E-2},{"$f":"FT$15*Otros!FO20","v":9.8676294900026426E-2},{"$f":"FU$15*Otros!FP20","v":0.10149001719979169},{"$f":"FV$15*Otros!FQ20","v":0.10390883019567779},{"$f":"FW$15*Otros!FR20","v":0.10629451111526551},{"$f":"FX$15*Otros!FS20","v":0.10864738381720145},{"$f":"FY$15*Otros!FT20","v":0.11096777038701984},{"$f":"FZ$15*Otros!FU20","v":0.11325599110508422},{"$f":"GA$15*Otros!FV20","v":0.11551236441626268},{"$f":"GB$15*Otros!FW20","v":0.11773720690128391},{"$f":"GC$15*Otros!FX20","v":0.11993083324971984},{"$f":"GD$15*Otros!FY20","v":0.12209355623454418},{"$f":"GE$15*Otros!FZ20","v":0.12422568668821693},{"$f":"GF$15*Otros!GA20","v":0.12615954473891564},{"$f":"GG$15*Otros!GB20","v":0.12806546486549794},{"$f":"GH$15*Otros!GC20","v":0.12986075479142781},{"$f":"GI$15*Otros!GD20","v":0.1315472085775922},{"$f":"GJ$15*Otros!GE20","v":0.13320857397470576},{"$f":"GK$15*Otros!GF20","v":0.13468215741601838},{"$f":"GL$15*Otros!GG20","v":0.13613314902793003},{"$f":"GM$15*Otros!GH20","v":0.13756178770408531},{"$f":"GN$15*Otros!GI20","v":0.13896831057507814},{"$f":"GO$15*Otros!GJ20","v":0.14035295300116432},{"$f":"GP$15*Otros!GK20","v":0.14155787165718739},{"$f":"GQ$15*Otros!GL20","v":0.14274328957719498},{"$f":"GR$15*Otros!GM20","v":0.14390941855249084},{"$f":"GS$15*Otros!GN20","v":0.14505646869741354},{"$f":"GT$15*Otros!GO20","v":0.14618464844687015},{"$f":"GU$15*Otros!GP20","v":0.14698746145286143},{"$f":"GV$15*Otros!GQ20","v":0.14777552420909529},{"$f":"GW$15*Otros!GR20","v":0.14839750121050488},{"$f":"GX$15*Otros!GS20","v":0.14885630457992854},{"$f":"GY$15*Otros!GT20","v":0.14930448846184399}]
[15,80,null,{"$f":"13*F56*(K56-K$41)","v":14.809209467519414},{"$f":"13*F56*(L56-L$41)","v":27.503956293678417},{"$f":"25*(N56^(1/3))-17","v":62.769787606281866},{"$f":"5.52/(16.518+1.481*(I$41/I$22)*I37-(J$41/J$22)*J37)","v":0.32109405044579076},{"$f":"(10.872+0.404*(I$41/I$22)*I37-4*(J$41/J$22)*J37)/(16.518+1.481*(I$41/I$22)*I37-(J$41/J$22)*J37)","v":0.22138275925417109},{"$f":"(4-L56-10*K56)/K56","v":1.7399568883974623},{"$f":"(1.708*K56-1.481*L56+0.404)/K56","v":1.9086435963100239},{"$f":"6*N56/(M56+15*N56+3*O56)","v":0.32118732143325168},{"$f":"4*M56/(M56+15*N56+3*O56)","v":0.2292746932737669},{"$f":"SUMPRODUCT($P56:$HH56,Otros!$C$26:$GU$26)*(100/$E$15)","v":34.784380067175746},{"$f":"SUMPRODUCT($P56:$HH56,Otros!$C$27:$GU$27)*(100/$E$15)","v":32.485928275133887},{"$f":"SUMPRODUCT($P56:$HH56,Otros!$C$28:$GU$28)*(100/$E$15)","v":28.262057339152538},{"$f":"G$15*Otros!B21","v":0.13100000000000001},{"$f":"H$15*Otros!C21","v":0.14755871187269606},{"$f":"I$15*Otros!D21","v":0.14250192331900352},{"$f":"J$15*Otros!E21","v":0.13763171495688417},{"$f":"K$15*Otros!F21","v":0.14083512707090851},{"$f":"L$15*Otros!G21","v":0.14661003356507393},{"$f":"M$15*Otros!H21","v":0.15006607954215059},{"$f":"N$15*Otros!I21","v":0.15160676740834583},{"$f":"O$15*Otros!J21","v":0.15292803768188251},{"$f":"P$15*Otros!K21","v":0.15482497099127629},{"$f":"Q$15*Otros!L21","v":0.15670004529096582},{"$f":"R$15*Otros!M21","v":0.15835495792303333},{"$f":"S$15*Otros!N21","v":0.15959265200896761},{"$f":"T$15*Otros!O21","v":0.16041494530987929},{"$f":"U$15*Otros!P21","v":0.16082389847983561},{"$f":"V$15*Otros!Q21","v":0.16131361419799176},{"$f":"W$15*Otros!R21","v":0.16208008225727857},{"$f":"X$15*Otros!S21","v":0.16302372930008679},{"$f":"Y$15*Otros!T21","v":0.16385013908461182},{"$f":"Z$15*Otros!U21","v":0.16456003857773205},{"$f":"AA$15*Otros!V21","v":0.16544617321997526},{"$f":"AB$15*Otros!W21","v":0.16670146187107165},{"$f":"AC$15*Otros!X21","v":0.16832311871930014},{"$f":"AD$15*Otros!Y21","v":0.17021158605682268},{"$f":"AE$15*Otros!Z21","v":0.17236450919905413},{"$f":"AF$15*Otros!AA21","v":0.17487550690440612},{"$f":"AG$15*Otros!AB21","v":0.17793283705074062},{"$f":"AH$15*Otros!AC21","v":0.18134025109747612},{"$f":"AI$15*Otros!AD21","v":0.18499880296595095},{"$f":"AJ$15*Otros!AE21","v":0.18881057240711527},{"$f":"AK$15*Otros!AF21","v":0.1922053188003662},{"$f":"AL$15*Otros!AG21","v":0.19518622669719743},{"$f":"AM$15*Otros!AH21","v":0.19785072054143613},{"$f":"AN$15*Otros!AI21","v":0.2004826818967142},{"$f":"AO$15*Otros!AJ21","v":0.20317542083363546},{"$f":"AP$15*Otros!AK21","v":0.2058347135980986},{"$f":"AQ$15*Otros!AL21","v":0.20827480688118799},{"$f":"AR$15*Otros!AM21","v":0.21040507762079841},{"$f":"AS$15*Otros!AN21","v":0.212320609331518},{"$f":"AT$15*Otros!AO21","v":0.21411522882438191},{"$f":"AU$15*Otros!AP21","v":0.21588146037164346},{"$f":"AV$15*Otros!AQ21","v":0.21761935290126069},{"$f":"AW$15*Otros!AR21","v":0.21932896535039373},{"$f":"AX$15*Otros!AS21","v":0.22091993650587985},{"$f":"AY$15*Otros!AT21","v":0.22230333635254781},{"$f":"AZ$15*Otros!AU21","v":0.22339169826347807},{"$f":"BA$15*Otros!AV21","v":0.22436710934462104},{"$f":"BB$15*Otros!AW21","v":0.22514183140330141},{"$f":"BC$15*Otros!AX21","v":0.22598410316731182},{"$f":"BD$15*Otros!AY21","v":0.22680475177095724},{"$f":"BE$15*Otros!AZ21","v":0.22760396098942365},{"$f":"BF$15*Otros!BA21","v":0.22838191735437399},{"$f":"BG$15*Otros!BB21","v":0.22913880996324673},{"$f":"BH$15*Otros!BC21","v":0.22978808507564394},{"$f":"BI$15*Otros!BD21","v":0.23050380866923131},{"$f":"BJ$15*Otros!BE21","v":0.23128503087864857},{"$f":"BK$15*Otros!BF21","v":0.23247316811486088},{"$f":"BL$15*Otros!BG21","v":0.23389219131886987},{"$f":"BM$15*Otros!BH21","v":0.23545395457203841},{"$f":"BN$15*Otros!BI21","v":0.23707185075807374},{"$f":"BO$15*Otros!BJ21","v":0.23866082833361768},{"$f":"BP$15*Otros!BK21","v":0.24005376351517152},{"$f":"BQ$15*Otros!BL21","v":0.24116994045674434},{"$f":"BR$15*Otros!BM21","v":0.24209594877491619},{"$f":"BS$15*Otros!BN21","v":0.24266944549538266},{"$f":"BT$15*Otros!BO21","v":0.24289539782783048},{"$f":"BU$15*Otros!BP21","v":0.24269713327442685},{"$f":"BV$15*Otros!BQ21","v":0.24208085466606161},{"$f":"BW$15*Otros!BR21","v":0.24097191987986649},{"$f":"BX$15*Otros!BS21","v":0.23929730046001452},{"$f":"BY$15*Otros!BT21","v":0.23698558226614405},{"$f":"BZ$15*Otros!BU21","v":0.23388730282218056},{"$f":"CA$15*Otros!BV21","v":0.23025251941467428},{"$f":"CB$15*Otros!BW21","v":0.22672077400969465},{"$f":"CC$15*Otros!BX21","v":0.22336954850833132},{"$f":"CD$15*Otros!BY21","v":0.22011859060352304},{"$f":"CE$15*Otros!BZ21","v":0.21688924034119647},{"$f":"CF$15*Otros!CA21","v":0.21399069627148362},{"$f":"CG$15*Otros!CB21","v":0.21149516597039097},{"$f":"CH$15*Otros!CC21","v":0.20970259383832449},{"$f":"CI$15*Otros!CD21","v":0.20837415964588241},{"$f":"CJ$15*Otros!CE21","v":0.20750280387129397},{"$f":"CK$15*Otros!CF21","v":0.20715672013984593},{"$f":"CL$15*Otros!CG21","v":0.20725281567761575},{"$f":"CM$15*Otros!CH21","v":0.20763516354074926},{"$f":"CN$15*Otros!CI21","v":0.20807699698626492},{"$f":"CO$15*Otros!CJ21","v":0.20835634446756016},{"$f":"CP$15*Otros!CK21","v":0.20869552659370486},{"$f":"CQ$15*Otros!CL21","v":0.20923923319485127},{"$f":"CR$15*Otros!CM21","v":0.20983915163320371},{"$f":"CS$15*Otros!CN21","v":0.20970158751202148},{"$f":"CT$15*Otros!CO21","v":0.20840857121904441},{"$f":"CU$15*Otros!CP21","v":0.20640682209075825},{"$f":"CV$15*Otros!CQ21","v":0.2044879315062049},{"$f":"CW$15*Otros!CR21","v":0.20265080395141644},{"$f":"CX$15*Otros!CS21","v":0.20047376964491084},{"$f":"CY$15*Otros!CT21","v":0.19761423721725571},{"$f":"CZ$15*Otros!CU21","v":0.19470778938502095},{"$f":"DA$15*Otros!CV21","v":0.1926516648350643},{"$f":"DB$15*Otros!CW21","v":0.19218586673700505},{"$f":"DC$15*Otros!CX21","v":0.19423793920406543},{"$f":"DD$15*Otros!CY21","v":0.19937517323835571},{"$f":"DE$15*Otros!CZ21","v":0.2067362217773375},{"$f":"DF$15*Otros!DA21","v":0.2154114413191556},{"$f":"DG$15*Otros!DB21","v":0.22471114519004598},{"$f":"DH$15*Otros!DC21","v":0.23449094681917601},{"$f":"DI$15*Otros!DD21","v":0.24454372646765202},{"$f":"DJ$15*Otros!DE21","v":0.25479794658354216},{"$f":"DK$15*Otros!DF21","v":0.26492320458611812},{"$f":"DL$15*Otros!DG21","v":0.27466138137496193},{"$f":"DM$15*Otros!DH21","v":0.28318111162963489},{"$f":"DN$15*Otros!DI21","v":0.29005427933797218},{"$f":"DO$15*Otros!DJ21","v":0.29562641111869503},{"$f":"DP$15*Otros!DK21","v":0.30055168691458656},{"$f":"DQ$15*Otros!DL21","v":0.30502925861673486},{"$f":"DR$15*Otros!DM21","v":0.3088162135438694},{"$f":"DS$15*Otros!DN21","v":0.31173757337523555},{"$f":"DT$15*Otros!DO21","v":0.31393155762835179},{"$f":"DU$15*Otros!DP21","v":0.31559479827203174},{"$f":"DV$15*Otros!DQ21","v":0.31698056758244536},{"$f":"DW$15*Otros!DR21","v":0.31809350572361167},{"$f":"DX$15*Otros!DS21","v":0.31899856247531411},{"$f":"DY$15*Otros!DT21","v":0.31975922694691045},{"$f":"DZ$15*Otros!DU21","v":0.32019898905690991},{"$f":"EA$15*Otros!DV21","v":0.32050126263231904},{"$f":"EB$15*Otros!DW21","v":0.32060946153355746},{"$f":"EC$15*Otros!DX21","v":0.32064413414358139},{"$f":"ED$15*Otros!DY21","v":0.32060654022379825},{"$f":"EE$15*Otros!DZ21","v":0.32044003435446933},{"$f":"EF$15*Otros!EA21","v":0.32014688492988924},{"$f":"EG$15*Otros!EB21","v":0.31978654532631923},{"$f":"EH$15*Otros!EC21","v":0.31924648541293843},{"$f":"EI$15*Otros!ED21","v":0.31869951084811488},{"$f":"EJ$15*Otros!EE21","v":0.31814577713213565},{"$f":"EK$15*Otros!EF21","v":0.31764129152356485},{"$f":"EL$15*Otros!EG21","v":0.31701864341510327},{"$f":"EM$15*Otros!EH21","v":0.31627998091851384},{"$f":"EN$15*Otros!EI21","v":0.31542742963913473},{"$f":"EO$15*Otros!EJ21","v":0.31462667667604305},{"$f":"EP$15*Otros!EK21","v":0.31382265670525733},{"$f":"EQ$15*Otros!EL21","v":0.31301548987236583},{"$f":"ER$15*Otros!EM21","v":0.31225884575539142},{"$f":"ES$15*Otros!EN21","v":0.31144541528330383},{"$f":"ET$15*Otros!EO21","v":0.31052336960376514},{"$f":"EU$15*Otros!EP21","v":0.30949473254837578},{"$f":"EV$15*Otros!EQ21","v":0.30841377885500709},{"$f":"EW$15*Otros!ER21","v":0.30733349987386177},{"$f":"EX$15*Otros!ES21","v":0.30630562080655782},{"$f":"EY$15*Otros!ET21","v":0.30543195105887544},{"$f":"EZ$15*Otros!EU21","v":0.30460773598866397},{"$f":"FA$15*Otros!EV21","v":0.30378143134365493},{"$f":"FB$15*Otros!EW21","v":0.30285231956714026},{"$f":"FC$15*Otros!EX21","v":0.3017722235720583},{"$f":"FD$15*Otros!EY21","v":0.30059375680985501},{"$f":"FE$15*Otros!EZ21","v":0.2993187956550199},{"$f":"FF$15*Otros!FA21","v":0.29814599026657512},{"$f":"FG$15*Otros!FB21","v":0.29712249754058528},{"$f":"FH$15*Otros!FC21","v":0.29614849402422122},{"$f":"FI$15*Otros!FD21","v":0.29498161177188303},{"$f":"FJ$15*Otros!FE21","v":0.29357741809918331},{"$f":"FK$15*Otros!FF21","v":0.29208350689449364},{"$f":"FL$15*Otros!FG21","v":0.29064394585308184},{"$f":"FM$15*Otros!FH21","v":0.28925788114728346},{"$f":"FN$15*Otros!FI21","v":0.28797133050319268},{"$f":"FO$15*Otros!FJ21","v":0.2866428696661879},{"$f":"FP$15*Otros!FK21","v":0.2851807815509943},{"$f":"FQ$15*Otros!FL21","v":0.28354160059156303},{"$f":"FR$15*Otros!FM21","v":0.2817744176549079},{"$f":"FS$15*Otros!FN21","v":0.28001808655598592},{"$f":"FT$15*Otros!FO21","v":0.27831775484622834},{"$f":"FU$15*Otros!FP21","v":0.27662765750031715},{"$f":"FV$15*Otros!FQ21","v":0.27499239812524517},{"$f":"FW$15*Otros!FR21","v":0.27327804193240213},{"$f":"FX$15*Otros!FS21","v":0.27157436563723364},{"$f":"FY$15*Otros!FT21","v":0.26979367871346532},{"$f":"FZ$15*Otros!FU21","v":0.26789397896010303},{"$f":"GA$15*Otros!FV21","v":0.2659208928953094},{"$f":"GB$15*Otros!FW21","v":0.26391896561607242},{"$f":"GC$15*Otros!FX21","v":0.26210276253719089},{"$f":"GD$15*Otros!FY21","v":0.26034155236084561},{"$f":"GE$15*Otros!FZ21","v":0.25859224575914547},{"$f":"GF$15*Otros!GA21","v":0.25668679675241418},{"$f":"GG$15*Otros!GB21","v":0.25479517520827882},{"$f":"GH$15*Otros!GC21","v":0.25295879295953205},{"$f":"GI$15*Otros!GD21","v":0.25125929212014708},{"$f":"GJ$15*Otros!GE21","v":0.24961237400183325},{"$f":"GK$15*Otros!GF21","v":0.24793575621109737},{"$f":"GL$15*Otros!GG21","v":0.24623012469923927},{"$f":"GM$15*Otros!GH21","v":0.24465714085814355},{"$f":"GN$15*Otros!GI21","v":0.24309453752583474},{"$f":"GO$15*Otros!GJ21","v":0.24134346309265364},{"$f":"GP$15*Otros!GK21","v":0.23940747808465696},{"$f":"GQ$15*Otros!GL21","v":0.23795785587744833},{"$f":"GR$15*Otros!GM21","v":0.23784486647362296},{"$f":"GS$15*Otros!GN21","v":0.23784138487063872},{"$f":"GT$15*Otros!GO21","v":0.23489828734602616},{"$f":"GU$15*Otros!GP21","v":0.2283021212706807},{"$f":"GV$15*Otros!GQ21","v":0.22699814278328537},{"$f":"GW$15*Otros!GR21","v":0.24085240178601344},{"$f":"GX$15*Otros!GS21","v":0.25464442189646858},{"$f":"GY$15*Otros!GT21","v":0.22863419160447787}]

{"sheet":"Otros","index":5,"n_rows":100,"n_cols":203,"rows_kept":100,"cut":false,"hidden":false,"merged":[[32,1,32,2],[25,0,28,0]]}
["Bajo",null,3535]
["Medio",null,"Powerled 1W"]
["Alto",null,"Powerled 3W"]
[]
[]
["x (nm)",380,{"$f":"B6+2","v":382},{"$f":"C6+2","v":384},386,388,390,392,394,396,398,400,402,404,406,408,410,412,414,416,418,420,422,424,426,428,430,432,434,436,438,440,442,444,446,448,450,452,454,456,458,460,462,464,466,468,470,472,474,476,478,480,482,484,486,488,490,492,494,496,498,500,502,504,506,508,510,{"$f":"BO6+2","v":512},514,516,518,520,522,524,526,528,530,532,534,536,538,540,542,544,546,548,550,552,554,556,558,560,562,564,566,568,570,572,574,576,578,580,582,584,586,588,590,592,594,596,598,600,602,604,606,608,610,612,614,616,618,620,622,624,626,628,630,632,634,636,638,{"$f":"EA6+2","v":640},642,644,646,648,650,652,654,656,658,660,662,664,666,668,670,672,674,676,678,680,682,684,686,688,690,692,694,696,698,700,702,704,706,708,710,712,714,716,718,720,722,724,726,728,730,732,734,736,738,740,742,744,746,748,750,752,754,756,758,760,762,764,766,{"$f":"GM6+2","v":768},770,772,774,776,778,780]
["TCS1",0.219,0.22700000000000001,0.23499999999999999,0.24160000000000001,0.24679999999999999,0.252,0.25359999999999999,0.25519999999999998,0.25600000000000001,0.25600000000000001,0.25600000000000001,0.25519999999999998,0.25440000000000002,0.25359999999999999,0.25280000000000002,0.252,0.25040000000000001,0.24879999999999999,0.2472,0.24560000000000001,0.24399999999999999,0.2424,0.24079999999999999,0.2394,0.2382,0.23699999999999999,0.23499999999999999,0.23300000000000001,0.2316,0.23080000000000001,0.23,0.22839999999999999,0.2268,0.2258,0.22539999999999999,0.22500000000000001,0.2238,0.22259999999999999,0.22159999999999999,0.2208,0.22,0.21920000000000001,0.21840000000000001,0.21759999999999999,0.21679999999999999,0.216,0.2152,0.21440000000000001,0.214,0.214,0.214,0.214,0.214,0.21440000000000001,0.2152,0.216,0.21679999999999999,0.21759999999999999,0.219,0.221,0.223,0.2238,0.22459999999999999,0.22520000000000001,0.22559999999999999,0.22600000000000001,0.22600000000000001,0.22600000000000001,0.2258,0.22539999999999999,0.22500000000000001,0.22500000000000001,0.22500000000000001,0.22539999999999999,0.22620000000000001,0.22700000000000001,0.22819999999999999,0.22939999999999999,0.23119999999999999,0.2336,0.23599999999999999,0.23960000000000001,0.2432,0.24660000000000001,0.24979999999999999,0.253,0.25659999999999999,0.26019999999999999,0.26400000000000001,0.26800000000000002,0.27200000000000002,0.27639999999999998,0.28079999999999999,0.28599999999999998,0.29199999999999998,0.29799999999999999,0.30599999999999999,0.314,0.3226,0.33179999999999998,0.34100000000000003,0.35139999999999999,0.36180000000000001,0.37159999999999999,0.38080000000000003,0.39,0.39760000000000001,0.4052,0.41199999999999998,0.41799999999999998,0.42399999999999999,0.4284,0.43280000000000002,0.43640000000000001,0.43919999999999998,0.442,0.44440000000000002,0.44679999999999997,0.44840000000000002,0.44919999999999999,0.45,0.45040000000000002,0.45079999999999998,0.45100000000000001,0.45100000000000001,0.45100000000000001,0.45100000000000001,0.45100000000000001,0.45100000000000001,0.45100000000000001,0.45100000000000001,0.45100000000000001,0.45100000000000001,0.45079999999999998,0.45040000000000002,0.45,0.45,0.45,0.45019999999999999,0.4506,0.45100000000000001,0.45100000000000001,0.45100000000000001,0.45140000000000002,0.45219999999999999,0.45300000000000001,0.45340000000000003,0.45379999999999998,0.45419999999999999,0.4546,0.45500000000000002,0.45579999999999998,0.45660000000000001,0.4572,0.45760000000000001,0.45800000000000002,0.45879999999999999,0.45960000000000001,0.46039999999999998,0.4612,0.46200000000000002,0.46239999999999998,0.46279999999999999,0.4632,0.46360000000000001,0.46400000000000002,0.46439999999999998,0.46479999999999999,0.4652,0.46560000000000001,0.46600000000000003,0.46600000000000003,0.46600000000000003,0.46600000000000003,0.46600000000000003,0.46600000000000003,0.46600000000000003,0.46600000000000003,0.4662,0.46660000000000001,0.46700000000000003,0.46700000000000003,0.46700000000000003,0.46700000000000003,0.46700000000000003,0.46700000000000003,0.46700000000000003,0.46700000000000003,0.46700000000000003,0.46700000000000003,0.46700000000000003,0.46700000000000003,0.46700000000000003,0.46700000000000003,0.46700000000000003,0.46700000000000003,0.46700000000000003,0.46700000000000003,0.46700000000000003,0.46700000000000003,0.46700000000000003]
["TCS2",7.0000000000000007E-2,7.3599999999999999E-2,7.7200000000000005E-2,8.1000000000000003E-2,8.5000000000000006E-2,8.8999999999999996E-2,9.3799999999999994E-2,9.8599999999999993E-2,0.10299999999999999,0.107,0.111,0.113,0.115,0.1164,0.1172,0.11799999999999999,0.1188,0.1196,0.1202,0.1206,0.121,0.12139999999999999,0.12180000000000001,0.122,0.122,0.122,0.122,0.122,0.1222,0.1226,0.123,0.1234,0.12379999999999999,0.1246,0.1258,0.127,0.12740000000000001,0.1278,0.12859999999999999,0.1298,0.13100000000000001,0.13220000000000001,0.13339999999999999,0.1348,0.13639999999999999,0.13800000000000001,0.14000000000000001,0.14199999999999999,0.1444,0.1472,0.15,0.15359999999999999,0.15720000000000001,0.16200000000000001,0.16800000000000001,0.17399999999999999,0.1804,0.18679999999999999,0.19339999999999999,0.20019999999999999,0.20699999999999999,0.2142,0.22140000000000001,0.22839999999999999,0.23519999999999999,0.24199999999999999,0.24640000000000001,0.25080000000000002,0.25440000000000002,0.25719999999999998,0.26,0.2616,0.26319999999999999,0.2646,0.26579999999999998,0.26700000000000002,0.26779999999999998,0.26860000000000001,0.26960000000000001,0.27079999999999999,0.27200000000000002,0.27360000000000001,0.2752,0.2772,0.27960000000000002,0.28199999999999997,0.2848,0.28760000000000002,0.29099999999999998,0.29499999999999998,0.29899999999999999,0.30299999999999999,0.307,0.31159999999999999,0.31680000000000003,0.32200000000000001,0.32479999999999998,0.3276,0.33019999999999999,0.33260000000000001,0.33500000000000002,0.33660000000000001,0.3382,0.33939999999999998,0.3402,0.34100000000000003,0.34100000000000003,0.34100000000000003,0.3412,0.34160000000000001,0.34200000000000003,0.34200000000000003,0.34200000000000003,0.34200000000000003,0.34200000000000003,0.34200000000000003,0.34160000000000001,0.3412,0.34100000000000003,0.34100000000000003,0.34100000000000003,0.3402,0.33939999999999998,0.33900000000000002,0.33900000000000002,0.33900000000000002,0.33860000000000001,0.3382,0.33800000000000002,0.33800000000000002,0.33800000000000002,0.33760000000000001,0.3372,0.33679999999999999,0.33639999999999998,0.33600000000000002,0.33560000000000001,0.3352,0.33479999999999999,0.33439999999999998,0.33400000000000002,0.3332,0.33239999999999997,0.33200000000000002,0.33200000000000002,0.33200000000000002,0.33160000000000001,0.33119999999999999,0.33100000000000002,0.33100000000000002,0.33100000000000002,0.3306,0.33019999999999999,0.32979999999999998,0.32940000000000003,0.32900000000000001,0.3286,0.32819999999999999,0.32800000000000001,0.32800000000000001,0.32800000000000001,0.3276,0.32719999999999999,0.32679999999999998,0.32640000000000002,0.32600000000000001,0.3256,0.32519999999999999,0.32479999999999998,0.32440000000000002,0.32400000000000001,0.32400000000000001,0.32400000000000001,0.32400000000000001,0.32400000000000001,0.32400000000000001,0.3236,0.32319999999999999,0.32279999999999998,0.32240000000000002,0.32200000000000001,0.3216,0.32119999999999999,0.32079999999999997,0.32040000000000002,0.32,0.31919999999999998,0.31840000000000002,0.31759999999999999,0.31680000000000003,0.316,0.31559999999999999,0.31519999999999998,0.315,0.315,0.315,0.31459999999999999,0.31419999999999998,0.314,0.314,0.314]
["TCS3",6.5000000000000002E-2,6.6199999999999995E-2,6.7400000000000002E-2,6.8400000000000002E-2,6.9199999999999998E-2,7.0000000000000007E-2,7.0800000000000002E-2,7.1599999999999997E-2,7.22E-2,7.2599999999999998E-2,7.2999999999999995E-2,7.2999999999999995E-2,7.2999999999999995E-2,7.3200000000000001E-2,7.3599999999999999E-2,7.3999999999999996E-2,7.3999999999999996E-2,7.3999999999999996E-2,7.3999999999999996E-2,7.3999999999999996E-2,7.3999999999999996E-2,7.3599999999999999E-2,7.3200000000000001E-2,7.2999999999999995E-2,7.2999999999999995E-2,7.2999999999999995E-2,7.2999999999999995E-2,7.2999999999999995E-2,7.2999999999999995E-2,7.2999999999999995E-2,7.2999999999999995E-2,7.2999999999999995E-2,7.2999999999999995E-2,7.3200000000000001E-2,7.3599999999999999E-2,7.3999999999999996E-2,7.4399999999999994E-2,7.4800000000000005E-2,7.5399999999999995E-2,7.6200000000000004E-2,7.6999999999999999E-2,7.8200000000000006E-2,7.9399999999999998E-2,8.1000000000000003E-2,8.3000000000000004E-2,8.5000000000000006E-2,8.8599999999999998E-2,9.2200000000000004E-2,9.7000000000000003E-2,0.10299999999999999,0.109,0.1158,0.1226,0.13039999999999999,0.13919999999999999,0.14799999999999999,0.15759999999999999,0.16719999999999999,0.1772,0.18759999999999999,0.19800000000000001,0.2072,0.21640000000000001,0.22500000000000001,0.23300000000000001,0.24099999999999999,0.24859999999999999,0.25619999999999998,0.2636,0.27079999999999999,0.27800000000000002,0.28760000000000002,0.29720000000000002,0.30940000000000001,0.32419999999999999,0.33900000000000002,0.35139999999999999,0.36380000000000001,0.37440000000000001,0.38319999999999999,0.39200000000000002,0.39479999999999998,0.39760000000000001,0.3992,0.39960000000000001,0.4,0.3972,0.39439999999999997,0.39040000000000002,0.38519999999999999,0.38,0.374,0.36799999999999999,0.36180000000000001,0.35539999999999999,0.34899999999999998,0.3422,0.33539999999999998,0.3286,0.32179999999999997,0.315,0.30859999999999999,0.30220000000000002,0.29620000000000002,0.29060000000000002,0.28499999999999998,0.27979999999999999,0.27460000000000001,0.27039999999999997,0.26719999999999999,0.26400000000000001,0.26119999999999999,0.25840000000000002,0.25600000000000001,0.254,0.252,0.25,0.248,0.24579999999999999,0.24340000000000001,0.24099999999999999,0.23860000000000001,0.23619999999999999,0.23380000000000001,0.23139999999999999,0.22900000000000001,0.22700000000000001,0.22500000000000001,0.22320000000000001,0.22159999999999999,0.22,0.21879999999999999,0.21759999999999999,0.21679999999999999,0.21640000000000001,0.216,0.216,0.216,0.21659999999999999,0.21779999999999999,0.219,0.221,0.223,0.22520000000000001,0.2276,0.23,0.23319999999999999,0.2364,0.24060000000000001,0.24579999999999999,0.251,0.25819999999999999,0.26540000000000002,0.27279999999999999,0.28039999999999998,0.28799999999999998,0.29759999999999998,0.30719999999999997,0.31759999999999999,0.32879999999999998,0.34,0.35039999999999999,0.36080000000000001,0.37080000000000002,0.38040000000000002,0.39,0.39879999999999999,0.40760000000000002,0.4158,0.4234,0.43099999999999999,0.43740000000000001,0.44379999999999997,0.4496,0.45479999999999998,0.46,0.46479999999999999,0.46960000000000002,0.4738,0.47739999999999999,0.48099999999999998,0.48380000000000001,0.48659999999999998,0.48899999999999999,0.49099999999999999,0.49299999999999999,0.49459999999999998,0.49619999999999997,0.49759999999999999,0.49880000000000002,0.5,0.50080000000000002,0.50160000000000005,0.50260000000000005,0.50380000000000003,0.505,0.50700000000000001,0.50900000000000001,0.51119999999999999,0.51359999999999995,0.51600000000000001]
["TCS4",7.3999999999999996E-2,7.7600000000000002E-2,8.1199999999999994E-2,8.5000000000000006E-2,8.8999999999999996E-2,9.2999999999999999E-2,9.7799999999999998E-2,0.1026,0.1072,0.1116,0.11600000000000001,0.11799999999999999,0.12,0.1216,0.12280000000000001,0.124,0.12479999999999999,0.12559999999999999,0.12640000000000001,0.12720000000000001,0.128,0.12920000000000001,0.13039999999999999,0.1318,0.13339999999999999,0.13500000000000001,0.1366,0.13819999999999999,0.14000000000000001,0.14199999999999999,0.14399999999999999,0.14680000000000001,0.14960000000000001,0.153,0.157,0.161,0.16539999999999999,0.16980000000000001,0.17480000000000001,0.1804,0.186,0.19359999999999999,0.20119999999999999,0.20979999999999999,0.21940000000000001,0.22900000000000001,0.23899999999999999,0.249,0.25940000000000002,0.2702,0.28100000000000003,0.2918,0.30259999999999998,0.31280000000000002,0.32240000000000002,0.33200000000000002,0.34,0.34799999999999998,0.35560000000000003,0.36280000000000001,0.37,0.37519999999999998,0.38040000000000002,0.38440000000000002,0.38719999999999999,0.39,0.3916,0.39319999999999999,0.39419999999999999,0.39460000000000001,0.39500000000000002,0.39379999999999998,0.3926,0.3906,0.38779999999999998,0.38500000000000001,0.38179999999999997,0.37859999999999999,0.375,0.371,0.36699999999999999,0.36180000000000001,0.35659999999999997,0.35139999999999999,0.34620000000000001,0.34100000000000003,0.33539999999999998,0.32979999999999998,0.32400000000000001,0.318,0.312,0.30559999999999998,0.29920000000000002,0.2928,0.28639999999999999,0.28000000000000003,0.2732,0.26640000000000003,0.25979999999999998,0.25340000000000001,0.247,0.23980000000000001,0.2326,0.22600000000000001,0.22,0.214,0.20760000000000001,0.20119999999999999,0.19539999999999999,0.19020000000000001,0.185,0.18099999999999999,0.17699999999999999,0.17380000000000001,0.1714,0.16900000000000001,0.16700000000000001,0.16500000000000001,0.16320000000000001,0.16159999999999999,0.16,0.15840000000000001,0.15679999999999999,0.15559999999999999,0.15479999999999999,0.154,0.1532,0.15240000000000001,0.15179999999999999,0.15140000000000001,0.151,0.1502,0.14940000000000001,0.14879999999999999,0.1484,0.14799999999999999,0.14799999999999999,0.14799999999999999,0.14799999999999999,0.14799999999999999,0.14799999999999999,0.1484,0.14879999999999999,0.14940000000000001,0.1502,0.151,0.1522,0.15340000000000001,0.15479999999999999,0.15640000000000001,0.158,0.15959999999999999,0.16120000000000001,0.16259999999999999,0.1638,0.16500000000000001,0.16619999999999999,0.16739999999999999,0.16839999999999999,0.16919999999999999,0.17,0.1704,0.17080000000000001,0.17080000000000001,0.1704,0.17,0.16919999999999999,0.16839999999999999,0.1676,0.1668,0.16600000000000001,0.16520000000000001,0.16439999999999999,0.16400000000000001,0.16400000000000001,0.16400000000000001,0.16439999999999999,0.1648,0.1656,0.1668,0.16800000000000001,0.1696,0.17119999999999999,0.17299999999999999,0.17499999999999999,0.17699999999999999,0.17860000000000001,0.1802,0.18179999999999999,0.18340000000000001,0.185,0.18659999999999999,0.18820000000000001,0.18959999999999999,0.1908,0.192,0.1928,0.19359999999999999,0.1946,0.1958,0.19700000000000001]
["TCS5",0.29499999999999998,0.2994,0.30380000000000001,0.30680000000000002,0.30840000000000001,0.31,0.31080000000000002,0.31159999999999999,0.31219999999999998,0.31259999999999999,0.313,0.31380000000000002,0.31459999999999999,0.31580000000000003,0.31740000000000002,0.31900000000000001,0.32019999999999998,0.32140000000000002,0.32279999999999998,0.32440000000000002,0.32600000000000001,0.3276,0.32919999999999999,0.33079999999999998,0.33239999999999997,0.33400000000000002,0.33600000000000002,0.33800000000000002,0.34039999999999998,0.34320000000000001,0.34599999999999997,0.34839999999999999,0.3508,0.35360000000000003,0.35680000000000001,0.36,0.36359999999999998,0.36720000000000003,0.37140000000000001,0.37619999999999998,0.38100000000000001,0.38619999999999999,0.39140000000000003,0.39579999999999999,0.39939999999999998,0.40300000000000002,0.40579999999999999,0.40860000000000002,0.41099999999999998,0.41299999999999998,0.41499999999999998,0.41620000000000001,0.41739999999999999,0.41820000000000002,0.41860000000000003,0.41899999999999998,0.41820000000000002,0.41739999999999999,0.41620000000000001,0.41460000000000002,0.41299999999999998,0.41139999999999999,0.4098,0.4078,0.40539999999999998,0.40300000000000002,0.4002,0.39739999999999998,0.39460000000000001,0.39179999999999998,0.38900000000000001,0.38579999999999998,0.3826,0.37919999999999998,0.37559999999999999,0.372,0.36840000000000001,0.36480000000000001,0.36099999999999999,0.35699999999999998,0.35299999999999998,0.34860000000000002,0.34420000000000001,0.33979999999999999,0.33539999999999998,0.33100000000000002,0.3266,0.32219999999999999,0.31759999999999999,0.31280000000000002,0.308,0.30399999999999999,0.3,0.29520000000000002,0.28960000000000002,0.28399999999999997,0.27879999999999999,0.27360000000000001,0.26879999999999998,0.26440000000000002,0.26,0.25480000000000003,0.24959999999999999,0.24399999999999999,0.23799999999999999,0.23200000000000001,0.22720000000000001,0.22239999999999999,0.218,0.214,0.21,0.20599999999999999,0.20200000000000001,0.1988,0.19639999999999999,0.19400000000000001,0.192,0.19,0.18820000000000001,0.18659999999999999,0.185,0.1842,0.18340000000000001,0.18240000000000001,0.1812,0.18,0.17879999999999999,0.17760000000000001,0.17680000000000001,0.1764,0.17599999999999999,0.17560000000000001,0.17519999999999999,0.17499999999999999,0.17499999999999999,0.17499999999999999,0.17499999999999999,0.17499999999999999,0.17499999999999999,0.17499999999999999,0.17499999999999999,0.17580000000000001,0.17660000000000001,0.17760000000000001,0.17879999999999999,0.18,0.1812,0.18240000000000001,0.18360000000000001,0.18479999999999999,0.186,0.18720000000000001,0.18840000000000001,0.18959999999999999,0.1908,0.192,0.19320000000000001,0.19439999999999999,0.1958,0.19739999999999999,0.19900000000000001,0.19939999999999999,0.19980000000000001,0.19980000000000001,0.19939999999999999,0.19900000000000001,0.1986,0.19819999999999999,0.1976,0.1968,0.19600000000000001,0.1956,0.19520000000000001,0.19500000000000001,0.19500000000000001,0.19500000000000001,0.19539999999999999,0.1958,0.19620000000000001,0.1966,0.19700000000000001,0.19819999999999999,0.19939999999999999,0.2006,0.20180000000000001,0.20300000000000001,0.20380000000000001,0.2046,0.2056,0.20680000000000001,0.20799999999999999,0.20960000000000001,0.2112,0.21260000000000001,0.21379999999999999,0.215,0.21579999999999999,0.21659999999999999,0.21740000000000001,0.21820000000000001,0.219]
["TCS6",0.151,0.17180000000000001,0.19259999999999999,0.21540000000000001,0.2402,0.26500000000000001,0.29459999999999997,0.32419999999999999,0.35320000000000001,0.38159999999999999,0.41,0.43159999999999998,0.45319999999999999,0.46960000000000002,0.48080000000000001,0.49199999999999999,0.49840000000000001,0.50480000000000003,0.50980000000000003,0.51339999999999997,0.51700000000000002,0.51980000000000004,0.52259999999999995,0.52539999999999998,0.5282,0.53100000000000003,0.53380000000000005,0.53659999999999997,0.53920000000000001,0.54159999999999997,0.54400000000000004,0.54679999999999995,0.54959999999999998,0.55200000000000005,0.55400000000000005,0.55600000000000005,0.55600000000000005,0.55600000000000005,0.55559999999999998,0.55479999999999996,0.55400000000000005,0.55200000000000005,0.55000000000000004,0.5474,0.54420000000000002,0.54100000000000004,0.53700000000000003,0.53300000000000003,0.52859999999999996,0.52380000000000004,0.51900000000000002,0.51300000000000001,0.50700000000000001,0.50080000000000002,0.49440000000000001,0.48799999999999999,0.48039999999999999,0.4728,0.4652,0.45760000000000001,0.45,0.44240000000000002,0.43480000000000002,0.42759999999999998,0.42080000000000001,0.41399999999999998,0.40639999999999998,0.39879999999999999,0.39140000000000003,0.38419999999999999,0.377,0.36940000000000001,0.36180000000000001,0.35460000000000003,0.3478,0.34100000000000003,0.33460000000000001,0.32819999999999999,0.32179999999999997,0.31540000000000001,0.309,0.30259999999999998,0.29620000000000002,0.29020000000000001,0.28460000000000002,0.27900000000000003,0.27339999999999998,0.26779999999999998,0.2626,0.25779999999999997,0.253,0.2482,0.24340000000000001,0.23960000000000001,0.23680000000000001,0.23400000000000001,0.23119999999999999,0.22839999999999999,0.2266,0.2258,0.22500000000000001,0.2238,0.22259999999999999,0.2218,0.22140000000000001,0.221,0.22059999999999999,0.22020000000000001,0.22,0.22,0.22,0.22,0.22,0.22,0.22,0.22,0.22,0.22,0.22059999999999999,0.2218,0.223,0.22459999999999999,0.22620000000000001,0.22819999999999999,0.2306,0.23300000000000001,0.2354,0.23780000000000001,0.24,0.24199999999999999,0.24399999999999999,0.24679999999999999,0.24959999999999999,0.25240000000000001,0.25519999999999998,0.25800000000000001,0.26,0.26200000000000001,0.26400000000000001,0.26600000000000001,0.26800000000000002,0.27,0.27200000000000002,0.27400000000000002,0.27600000000000002,0.27800000000000002,0.2792,0.28039999999999998,0.28139999999999998,0.28220000000000001,0.28299999999999997,0.28420000000000001,0.28539999999999999,0.28699999999999998,0.28899999999999998,0.29099999999999998,0.29299999999999998,0.29499999999999998,0.29720000000000002,0.29959999999999998,0.30199999999999999,0.30640000000000001,0.31080000000000002,0.31540000000000001,0.32019999999999998,0.32500000000000001,0.33019999999999999,0.33539999999999998,0.34060000000000001,0.3458,0.35099999999999998,0.35620000000000002,0.3614,0.3664,0.37119999999999997,0.376,0.38119999999999998,0.38640000000000002,0.39140000000000003,0.3962,0.40100000000000002,0.40579999999999999,0.41060000000000002,0.41539999999999999,0.42020000000000002,0.42499999999999999,0.4294,0.43380000000000002,0.43819999999999998,0.44259999999999999,0.44700000000000001,0.45140000000000002,0.45579999999999998,0.4602,0.46460000000000001,0.46899999999999997,0.47220000000000001,0.47539999999999999,0.47860000000000003,0.48180000000000001,0.48499999999999999]
["TCS7",0.378,0.41039999999999999,0.44280000000000003,0.47199999999999998,0.498,0.52400000000000002,0.53280000000000005,0.54159999999999997,0.54700000000000004,0.54900000000000004,0.55100000000000005,0.55259999999999998,0.55420000000000003,0.55579999999999996,0.55740000000000001,0.55900000000000005,0.55940000000000001,0.55979999999999996,0.56020000000000003,0.56059999999999999,0.56100000000000005,0.55979999999999996,0.55859999999999999,0.55759999999999998,0.55679999999999996,0.55600000000000005,0.55400000000000005,0.55200000000000005,0.54959999999999998,0.54679999999999995,0.54400000000000004,0.54039999999999999,0.53680000000000005,0.53239999999999998,0.5272,0.52200000000000002,0.51559999999999995,0.50919999999999999,0.50239999999999996,0.49519999999999997,0.48799999999999999,0.48039999999999999,0.4728,0.46479999999999999,0.45639999999999997,0.44800000000000001,0.44040000000000001,0.43280000000000002,0.42480000000000001,0.41639999999999999,0.40799999999999997,0.39879999999999999,0.3896,0.38059999999999999,0.37180000000000002,0.36299999999999999,0.35420000000000001,0.34539999999999998,0.33760000000000001,0.33079999999999998,0.32400000000000001,0.31879999999999997,0.31359999999999999,0.309,0.30499999999999999,0.30099999999999999,0.29699999999999999,0.29299999999999998,0.28939999999999999,0.28620000000000001,0.28299999999999997,0.27900000000000003,0.27500000000000002,0.27139999999999997,0.26819999999999999,0.26500000000000001,0.26300000000000001,0.26100000000000001,0.25940000000000002,0.25819999999999999,0.25700000000000001,0.25700000000000001,0.25700000000000001,0.25740000000000002,0.25819999999999999,0.25900000000000001,0.25940000000000002,0.25979999999999998,0.26,0.26,0.26,0.25919999999999999,0.25840000000000002,0.2576,0.25679999999999997,0.25600000000000001,0.25519999999999998,0.25440000000000002,0.254,0.254,0.254,0.25600000000000001,0.25800000000000001,0.26119999999999999,0.2656,0.27,0.27560000000000001,0.28120000000000001,0.28760000000000002,0.29480000000000001,0.30199999999999999,0.31080000000000002,0.3196,0.32800000000000001,0.33600000000000002,0.34399999999999997,0.35120000000000001,0.3584,0.36499999999999999,0.371,0.377,0.38179999999999997,0.3866,0.39119999999999999,0.39560000000000001,0.4,0.40400000000000003,0.40799999999999997,0.41199999999999998,0.41599999999999998,0.42,0.42359999999999998,0.42720000000000002,0.43080000000000002,0.43440000000000001,0.438,0.44080000000000003,0.44359999999999999,0.44640000000000002,0.44919999999999999,0.45200000000000001,0.45400000000000001,0.45600000000000002,0.45800000000000002,0.46,0.46200000000000002,0.46360000000000001,0.4652,0.46639999999999998,0.4672,0.46800000000000003,0.46879999999999999,0.46960000000000002,0.47060000000000002,0.4718,0.47299999999999998,0.47460000000000002,0.47620000000000001,0.47820000000000001,0.48060000000000003,0.48299999999999998,0.4854,0.48780000000000001,0.4904,0.49320000000000003,0.496,0.49880000000000002,0.50160000000000005,0.50460000000000005,0.50780000000000003,0.51100000000000001,0.51380000000000003,0.51659999999999995,0.51939999999999997,0.5222,0.52500000000000002,0.52780000000000005,0.53059999999999996,0.53339999999999999,0.53620000000000001,0.53900000000000003,0.54259999999999997,0.54620000000000002,0.54900000000000004,0.55100000000000005,0.55300000000000005,0.5554,0.55779999999999996,0.56020000000000003,0.56259999999999999,0.56499999999999995,0.56699999999999995,0.56899999999999995,0.57099999999999995,0.57299999999999995,0.57499999999999996,0.57620000000000005,0.57740000000000002,0.5786,0.57979999999999998,0.58099999999999996]
["TCS8",0.104,0.114,0.124,0.13719999999999999,0.15359999999999999,0.17,0.19800000000000001,0.22600000000000001,0.25580000000000003,0.28739999999999999,0.31900000000000001,0.35780000000000001,0.39660000000000001,0.42520000000000002,0.44359999999999999,0.46200000000000002,0.47,0.47799999999999998,0.48359999999999997,0.48680000000000001,0.49,0.48920000000000002,0.4884,0.48680000000000001,0.4844,0.48199999999999998,0.47839999999999999,0.4748,0.4708,0.46639999999999998,0.46200000000000002,0.4572,0.45240000000000002,0.44779999999999998,0.44340000000000002,0.439,0.43380000000000002,0.42859999999999998,0.4234,0.41820000000000002,0.41299999999999998,0.40660000000000002,0.4002,0.39400000000000002,0.38800000000000001,0.38200000000000001,0.37559999999999999,0.36919999999999997,0.36320000000000002,0.35759999999999997,0.35199999999999998,0.34599999999999997,0.34,0.33460000000000001,0.32979999999999998,0.32500000000000001,0.31900000000000001,0.313,0.30780000000000002,0.3034,0.29899999999999999,0.29499999999999998,0.29099999999999998,0.2878,0.28539999999999999,0.28299999999999997,0.2802,0.27739999999999998,0.27479999999999999,0.27239999999999998,0.27,0.26679999999999998,0.2636,0.26079999999999998,0.25840000000000002,0.25600000000000001,0.254,0.252,0.25080000000000002,0.25040000000000001,0.25,0.25040000000000001,0.25080000000000002,0.25159999999999999,0.25280000000000002,0.254,0.25559999999999999,0.25719999999999998,0.25919999999999999,0.2616,0.26400000000000001,0.26600000000000001,0.26800000000000002,0.26960000000000001,0.27079999999999999,0.27200000000000002,0.27279999999999999,0.27360000000000001,0.27479999999999999,0.27639999999999998,0.27800000000000002,0.28039999999999998,0.2828,0.28620000000000001,0.29060000000000002,0.29499999999999998,0.3034,0.31180000000000002,0.32240000000000002,0.3352,0.34799999999999998,0.3624,0.37680000000000002,0.39400000000000002,0.41399999999999998,0.434,0.45319999999999999,0.47239999999999999,0.49120000000000003,0.50960000000000005,0.52800000000000002,0.54400000000000004,0.56000000000000005,0.57520000000000004,0.58960000000000001,0.60399999999999998,0.61399999999999999,0.624,0.63280000000000003,0.64039999999999997,0.64800000000000002,0.65400000000000003,0.66,0.66559999999999997,0.67079999999999995,0.67600000000000005,0.67959999999999998,0.68320000000000003,0.68659999999999999,0.68979999999999997,0.69299999999999995,0.69579999999999997,0.6986,0.70099999999999996,0.70299999999999996,0.70499999999999996,0.70660000000000001,0.70820000000000005,0.70960000000000001,0.71079999999999999,0.71199999999999997,0.71319999999999995,0.71440000000000003,0.71540000000000004,0.71619999999999995,0.71699999999999997,0.71779999999999999,0.71860000000000002,0.71940000000000004,0.72019999999999995,0.72099999999999997,0.72060000000000002,0.72019999999999995,0.7198,0.71940000000000004,0.71899999999999997,0.72019999999999995,0.72140000000000004,0.72260000000000002,0.7238,0.72499999999999998,0.7258,0.72660000000000002,0.72740000000000005,0.72819999999999996,0.72899999999999998,0.72940000000000005,0.7298,0.73,0.73,0.73,0.73,0.73,0.73,0.73,0.73,0.73,0.73,0.73,0.73,0.73,0.73,0.73,0.73,0.73,0.73,0.73,0.73,0.73,0.73,0.73]
["TCS9",6.6000000000000003E-2,6.4399999999999999E-2,6.2799999999999995E-2,6.1199999999999997E-2,5.96E-2,5.8000000000000003E-2,5.6800000000000003E-2,5.5599999999999997E-2,5.4399999999999997E-2,5.3199999999999997E-2,5.1999999999999998E-2,5.1999999999999998E-2,5.1999999999999998E-2,5.1799999999999999E-2,5.1400000000000001E-2,5.0999999999999997E-2,5.0599999999999999E-2,5.0200000000000002E-2,0.05,0.05,0.05,4.9599999999999998E-2,4.9200000000000001E-2,4.8800000000000003E-2,4.8399999999999999E-2,4.8000000000000001E-2,4.7600000000000003E-2,4.7199999999999999E-2,4.6800000000000001E-2,4.6399999999999997E-2,4.5999999999999999E-2,4.5199999999999997E-2,4.4400000000000002E-2,4.36E-2,4.2799999999999998E-2,4.2000000000000003E-2,4.1599999999999998E-2,4.1200000000000001E-2,4.0399999999999998E-2,3.9199999999999999E-2,3.7999999999999999E-2,3.6799999999999999E-2,3.56E-2,3.4599999999999999E-2,3.3799999999999997E-2,3.3000000000000002E-2,3.2199999999999999E-2,3.1399999999999997E-2,3.0800000000000001E-2,3.04E-2,0.03,2.9600000000000001E-2,2.92E-2,2.8799999999999999E-2,2.8400000000000002E-2,2.8000000000000001E-2,2.8000000000000001E-2,2.8000000000000001E-2,2.8000000000000001E-2,2.8000000000000001E-2,2.8000000000000001E-2,2.8400000000000002E-2,2.8799999999999999E-2,2.92E-2,2.9600000000000001E-2,0.03,0.03,0.03,3.0200000000000001E-2,3.0599999999999999E-2,3.1E-2,3.1E-2,3.1E-2,3.1199999999999999E-2,3.1600000000000003E-2,3.2000000000000001E-2,3.2000000000000001E-2,3.2000000000000001E-2,3.2199999999999999E-2,3.2599999999999997E-2,3.3000000000000002E-2,3.3399999999999999E-2,3.3799999999999997E-2,3.4200000000000001E-2,3.4599999999999999E-2,3.5000000000000003E-2,3.5799999999999998E-2,3.6600000000000001E-2,3.78E-2,3.9399999999999998E-2,4.1000000000000002E-2,4.2200000000000001E-2,4.3400000000000001E-2,4.48E-2,4.6399999999999997E-2,4.8000000000000001E-2,4.9599999999999998E-2,5.1200000000000002E-2,5.3600000000000002E-2,5.6800000000000003E-2,0.06,6.6400000000000001E-2,7.2800000000000004E-2,8.1199999999999994E-2,9.1600000000000001E-2,0.10199999999999999,0.11559999999999999,0.12920000000000001,0.14680000000000001,0.16839999999999999,0.19,0.21640000000000001,0.24279999999999999,0.27200000000000002,0.30399999999999999,0.33600000000000002,0.36880000000000002,0.40160000000000001,0.43540000000000001,0.47020000000000001,0.505,0.53539999999999999,0.56579999999999997,0.59299999999999997,0.61699999999999999,0.64100000000000001,0.65739999999999998,0.67379999999999995,0.68899999999999995,0.70299999999999996,0.71699999999999997,0.72619999999999996,0.73540000000000005,0.74360000000000004,0.75080000000000002,0.75800000000000001,0.76280000000000003,0.76759999999999995,0.7722,0.77659999999999996,0.78100000000000003,0.78459999999999996,0.78820000000000001,0.79139999999999999,0.79420000000000002,0.79700000000000004,0.7994,0.80179999999999996,0.80420000000000003,0.80659999999999998,0.80900000000000005,0.81100000000000005,0.81299999999999994,0.81499999999999995,0.81699999999999995,0.81899999999999995,0.82099999999999995,0.82299999999999995,0.82479999999999998,0.82640000000000002,0.82799999999999996,0.82879999999999998,0.8296,0.83020000000000005,0.8306,0.83099999999999996,0.83179999999999998,0.83260000000000001,0.83340000000000003,0.83420000000000005,0.83499999999999996,0.83540000000000003,0.83579999999999999,0.83599999999999997,0.83599999999999997,0.83599999999999997,0.83640000000000003,0.83679999999999999,0.83720000000000006,0.83760000000000001,0.83799999999999997,0.83840000000000003,0.83879999999999999,0.83899999999999997,0.83899999999999997,0.83899999999999997,0.83899999999999997,0.83899999999999997,0.83899999999999997,0.83899999999999997,0.83899999999999997,0.83899999999999997,0.83899999999999997,0.83899999999999997,0.83899999999999997,0.83899999999999997,0.83899999999999997,0.83899999999999997,0.83899999999999997,0.83899999999999997,0.83899999999999997]
["TCS10",0.05,5.16E-2,5.3199999999999997E-2,5.5E-2,5.7000000000000002E-2,5.8999999999999997E-2,6.0600000000000001E-2,6.2199999999999998E-2,6.3600000000000004E-2,6.4799999999999996E-2,6.6000000000000003E-2,6.6400000000000001E-2,6.6799999999999998E-2,6.7199999999999996E-2,6.7599999999999993E-2,6.8000000000000005E-2,6.8400000000000002E-2,6.88E-2,6.9000000000000006E-2,6.9000000000000006E-2,6.9000000000000006E-2,6.9400000000000003E-2,6.9800000000000001E-2,7.0400000000000004E-2,7.1199999999999999E-2,7.1999999999999995E-2,7.2400000000000006E-2,7.2800000000000004E-2,7.3599999999999999E-2,7.4800000000000005E-2,7.5999999999999998E-2,7.6799999999999993E-2,7.7600000000000002E-2,7.9000000000000001E-2,8.1000000000000003E-2,8.3000000000000004E-2,8.5000000000000006E-2,8.6999999999999994E-2,8.9399999999999993E-2,9.2200000000000004E-2,9.5000000000000001E-2,9.8199999999999996E-2,0.1014,0.105,0.109,0.113,0.1178,0.1226,0.12839999999999999,0.13519999999999999,0.14199999999999999,0.15,0.158,0.16739999999999999,0.1782,0.189,0.20100000000000001,0.21299999999999999,0.2276,0.24479999999999999,0.26200000000000001,0.2792,0.2964,0.317,0.34100000000000003,0.36499999999999999,0.38540000000000002,0.40579999999999999,0.42580000000000001,0.44540000000000002,0.46500000000000002,0.48259999999999997,0.50019999999999998,0.51639999999999997,0.53120000000000001,0.54600000000000004,0.56000000000000005,0.57399999999999995,0.58679999999999999,0.59840000000000004,0.61,0.61960000000000004,0.62919999999999998,0.63780000000000003,0.64539999999999997,0.65300000000000002,0.65820000000000001,0.66339999999999999,0.66839999999999999,0.67320000000000002,0.67800000000000005,0.68159999999999998,0.68520000000000003,0.68820000000000003,0.69059999999999999,0.69299999999999995,0.69499999999999995,0.69699999999999995,0.6986,0.69979999999999998,0.70099999999999996,0.70220000000000005,0.70340000000000003,0.70420000000000005,0.7046,0.70499999999999996,0.70499999999999996,0.70499999999999996,0.70520000000000005,0.7056,0.70599999999999996,0.70640000000000003,0.70679999999999998,0.70699999999999996,0.70699999999999996,0.70699999999999996,0.70699999999999996,0.70699999999999996,0.70720000000000005,0.70760000000000001,0.70799999999999996,0.70799999999999996,0.70799999999999996,0.70840000000000003,0.70920000000000005,0.71,0.71040000000000003,0.71079999999999999,0.71120000000000005,0.71160000000000001,0.71199999999999997,0.71279999999999999,0.71360000000000001,0.71440000000000003,0.71519999999999995,0.71599999999999997,0.71679999999999999,0.71760000000000002,0.71840000000000004,0.71919999999999995,0.72,0.7208,0.72160000000000002,0.72260000000000002,0.7238,0.72499999999999998,0.72660000000000002,0.72819999999999996,0.72940000000000005,0.73019999999999996,0.73099999999999998,0.73260000000000003,0.73419999999999996,0.73580000000000001,0.73740000000000006,0.73899999999999999,0.74019999999999997,0.74139999999999995,0.74280000000000002,0.74439999999999995,0.746,0.74680000000000002,0.74760000000000004,0.74819999999999998,0.74860000000000004,0.749,0.74980000000000002,0.75060000000000004,0.75139999999999996,0.75219999999999998,0.753,0.75339999999999996,0.75380000000000003,0.75419999999999998,0.75460000000000005,0.755,0.755,0.755,0.755,0.755,0.755,0.755,0.755,0.75560000000000005,0.75680000000000003,0.75800000000000001,0.75760000000000005,0.75719999999999998,0.75719999999999998,0.75760000000000005,0.75800000000000001,0.75839999999999996,0.75880000000000003,0.75900000000000001,0.75900000000000001,0.75900000000000001,0.75900000000000001,0.75900000000000001,0.75900000000000001,0.75900000000000001,0.75900000000000001]
["TCS11",0.111,0.115,0.11899999999999999,0.1222,0.1246,0.127,0.1278,0.12859999999999999,0.12859999999999999,0.1278,0.127,0.1246,0.1222,0.12,0.11799999999999999,0.11600000000000001,0.1144,0.1128,0.11119999999999999,0.1096,0.108,0.10680000000000001,0.1056,0.1048,0.10440000000000001,0.104,0.104,0.104,0.1042,0.1046,0.105,0.10539999999999999,0.10580000000000001,0.10680000000000001,0.1084,0.11,0.112,0.114,0.1166,0.1198,0.123,0.12740000000000001,0.1318,0.1368,0.1424,0.14799999999999999,0.15559999999999999,0.16320000000000001,0.17199999999999999,0.182,0.192,0.20280000000000001,0.21360000000000001,0.22559999999999999,0.23880000000000001,0.252,0.2676,0.28320000000000001,0.29780000000000001,0.31140000000000001,0.32500000000000001,0.33379999999999999,0.34260000000000002,0.3488,0.35239999999999999,0.35599999999999998,0.3548,0.35360000000000003,0.35160000000000002,0.3488,0.34599999999999997,0.34079999999999999,0.33560000000000001,0.32919999999999999,0.3216,0.314,0.30599999999999999,0.29799999999999999,0.28939999999999999,0.2802,0.27100000000000002,0.26179999999999998,0.25259999999999999,0.24379999999999999,0.2354,0.22700000000000001,0.21859999999999999,0.2102,0.2024,0.19520000000000001,0.188,0.18079999999999999,0.1736,0.1666,0.1598,0.153,0.14699999999999999,0.14099999999999999,0.13539999999999999,0.13020000000000001,0.125,0.1206,0.1162,0.1124,0.10920000000000001,0.106,0.1036,0.1012,9.9199999999999997E-2,9.7600000000000006E-2,9.6000000000000002E-2,9.4399999999999998E-2,9.2799999999999994E-2,9.1600000000000001E-2,9.0800000000000006E-2,0.09,8.8800000000000004E-2,8.7599999999999997E-2,8.6599999999999996E-2,8.5800000000000001E-2,8.5000000000000006E-2,8.3799999999999999E-2,8.2600000000000007E-2,8.1600000000000006E-2,8.0799999999999997E-2,0.08,7.9600000000000004E-2,7.9200000000000007E-2,7.8799999999999995E-2,7.8399999999999997E-2,7.8E-2,7.8E-2,7.8E-2,7.8E-2,7.8E-2,7.8E-2,7.8E-2,7.8E-2,7.8600000000000003E-2,7.9799999999999996E-2,8.1000000000000003E-2,8.1799999999999998E-2,8.2600000000000007E-2,8.4000000000000005E-2,8.5999999999999993E-2,8.7999999999999995E-2,0.09,9.1999999999999998E-2,9.4799999999999995E-2,9.8400000000000001E-2,0.10199999999999999,0.106,0.11,0.11459999999999999,0.1198,0.125,0.13139999999999999,0.13780000000000001,0.14499999999999999,0.153,0.161,0.1694,0.17780000000000001,0.1862,0.1946,0.20300000000000001,0.21099999999999999,0.219,0.2268,0.2344,0.24199999999999999,0.248,0.254,0.2596,0.26479999999999998,0.27,0.27479999999999999,0.27960000000000002,0.28399999999999997,0.28799999999999998,0.29199999999999998,0.29599999999999999,0.3,0.30359999999999998,0.30680000000000002,0.31,0.31159999999999999,0.31319999999999998,0.31459999999999999,0.31580000000000003,0.317,0.31940000000000002,0.32179999999999997,0.32440000000000002,0.32719999999999999,0.33,0.33160000000000001,0.3332,0.33479999999999999,0.33639999999999998,0.33800000000000002]
["TCS12",0.12,0.1132,0.10639999999999999,0.1004,9.5200000000000007E-2,0.09,8.6800000000000002E-2,8.3599999999999994E-2,8.0799999999999997E-2,7.8399999999999997E-2,7.5999999999999998E-2,7.2800000000000004E-2,6.9599999999999995E-2,6.7199999999999996E-2,6.5600000000000006E-2,6.4000000000000001E-2,6.4399999999999999E-2,6.4799999999999996E-2,6.7000000000000004E-2,7.0999999999999994E-2,7.4999999999999997E-2,8.2199999999999995E-2,8.9399999999999993E-2,9.9000000000000005E-2,0.111,0.123,0.13780000000000001,0.15260000000000001,0.1694,0.18820000000000001,0.20699999999999999,0.2266,0.2462,0.26479999999999998,0.28239999999999998,0.3,0.31240000000000001,0.32479999999999998,0.33400000000000002,0.34,0.34599999999999997,0.34639999999999999,0.3468,0.3458,0.34339999999999998,0.34100000000000003,0.33579999999999999,0.3306,0.32379999999999998,0.31540000000000001,0.307,0.29699999999999999,0.28699999999999998,0.27700000000000002,0.26700000000000002,0.25700000000000001,0.2462,0.2354,0.2248,0.21440000000000001,0.20399999999999999,0.19359999999999999,0.1832,0.17319999999999999,0.1636,0.154,0.14399999999999999,0.13400000000000001,0.125,0.11700000000000001,0.109,0.1014,9.3799999999999994E-2,8.6999999999999994E-2,8.1000000000000003E-2,7.4999999999999997E-2,6.9800000000000001E-2,6.4600000000000005E-2,5.9799999999999999E-2,5.5399999999999998E-2,5.0999999999999997E-2,4.7E-2,4.2999999999999997E-2,3.9800000000000002E-2,3.7400000000000003E-2,3.5000000000000003E-2,3.2599999999999997E-2,3.0200000000000001E-2,2.8199999999999999E-2,2.6599999999999999E-2,2.5000000000000001E-2,2.3800000000000002E-2,2.2599999999999999E-2,2.1399999999999999E-2,2.0199999999999999E-2,1.9E-2,1.8200000000000001E-2,1.7399999999999999E-2,1.7000000000000001E-2,1.7000000000000001E-2,1.7000000000000001E-2,1.7000000000000001E-2,1.7000000000000001E-2,1.6799999999999999E-2,1.6400000000000001E-2,1.6E-2,1.6E-2,1.6E-2,1.6E-2,1.6E-2,1.6E-2,1.6E-2,1.6E-2,1.6E-2,1.6E-2,1.6E-2,1.6E-2,1.6E-2,1.6E-2,1.6E-2,1.6E-2,1.6E-2,1.6E-2,1.6400000000000001E-2,1.72E-2,1.7999999999999999E-2,1.7999999999999999E-2,1.7999999999999999E-2,1.7999999999999999E-2,1.7999999999999999E-2,1.7999999999999999E-2,1.7999999999999999E-2,1.7999999999999999E-2,1.8200000000000001E-2,1.8599999999999998E-2,1.9E-2,1.9400000000000001E-2,1.9800000000000002E-2,2.06E-2,2.18E-2,2.3E-2,2.3400000000000001E-2,2.3800000000000002E-2,2.4400000000000002E-2,2.52E-2,2.5999999999999999E-2,2.76E-2,2.92E-2,3.1E-2,3.3000000000000002E-2,3.5000000000000003E-2,3.8199999999999998E-2,4.1399999999999999E-2,4.5600000000000002E-2,5.0799999999999998E-2,5.6000000000000001E-2,6.3200000000000006E-2,7.0400000000000004E-2,7.8600000000000003E-2,8.7800000000000003E-2,9.7000000000000003E-2,0.1094,0.12180000000000001,0.13600000000000001,0.152,0.16800000000000001,0.18479999999999999,0.2016,0.21940000000000001,0.2382,0.25700000000000001,0.2762,0.2954,0.31480000000000002,0.33439999999999998,0.35399999999999998,0.37280000000000002,0.3916,0.41,0.42799999999999999,0.44600000000000001,0.46160000000000001,0.47720000000000001,0.49199999999999999,0.50600000000000001,0.52,0.53239999999999998,0.54479999999999995,0.55620000000000003,0.56659999999999999,0.57699999999999996,0.58579999999999999,0.59460000000000002,0.6028,0.61040000000000005,0.61799999999999999,0.624,0.63,0.63539999999999996,0.64019999999999999,0.64500000000000002]
["TCS13",0.104,0.1132,0.12239999999999999,0.1338,0.1474,0.161,0.18099999999999999,0.20100000000000001,0.22159999999999999,0.24279999999999999,0.26400000000000001,0.28360000000000002,0.30320000000000003,0.31859999999999999,0.32979999999999998,0.34100000000000003,0.34539999999999998,0.3498,0.35339999999999999,0.35620000000000002,0.35899999999999999,0.35980000000000001,0.36059999999999998,0.36159999999999998,0.36280000000000001,0.36399999999999999,0.3644,0.36480000000000001,0.3654,0.36620000000000003,0.36699999999999999,0.36780000000000002,0.36859999999999998,0.36959999999999998,0.37080000000000002,0.372,0.37280000000000002,0.37359999999999999,0.37440000000000001,0.37519999999999998,0.376,0.37719999999999998,0.37840000000000001,0.38,0.38200000000000001,0.38400000000000001,0.38600000000000001,0.38800000000000001,0.3906,0.39379999999999998,0.39700000000000002,0.4002,0.40339999999999998,0.40720000000000001,0.41160000000000002,0.41599999999999998,0.42120000000000002,0.4264,0.43180000000000002,0.43740000000000001,0.443,0.44740000000000002,0.45179999999999998,0.45540000000000003,0.4582,0.46100000000000002,0.46300000000000002,0.46500000000000002,0.46660000000000001,0.46779999999999999,0.46899999999999997,0.4698,0.47060000000000002,0.47160000000000002,0.4728,0.47399999999999998,0.4748,0.47560000000000002,0.47739999999999999,0.48020000000000002,0.48299999999999998,0.48580000000000001,0.48859999999999998,0.49320000000000003,0.49959999999999999,0.50600000000000001,0.51400000000000001,0.52200000000000002,0.53139999999999998,0.54220000000000002,0.55300000000000005,0.56459999999999999,0.57620000000000005,0.58919999999999995,0.60360000000000003,0.61799999999999999,0.63119999999999998,0.64439999999999997,0.65680000000000005,0.66839999999999999,0.68,0.68840000000000001,0.69679999999999997,0.70420000000000005,0.71060000000000001,0.71699999999999997,0.7218,0.72660000000000002,0.73040000000000005,0.73319999999999996,0.73599999999999999,0.73839999999999995,0.74080000000000001,0.74260000000000004,0.74380000000000002,0.745,0.74580000000000002,0.74660000000000004,0.74719999999999998,0.74760000000000004,0.748,0.748,0.748,0.748,0.748,0.748,0.748,0.748,0.748,0.748,0.748,0.748,0.748,0.748,0.748,0.748,0.748,0.748,0.74780000000000002,0.74739999999999995,0.747,0.747,0.747,0.747,0.747,0.747,0.747,0.747,0.747,0.747,0.747,0.747,0.747,0.747,0.747,0.747,0.74660000000000004,0.74619999999999997,0.746,0.746,0.746,0.746,0.746,0.74580000000000002,0.74539999999999995,0.745,0.74460000000000004,0.74419999999999997,0.74380000000000002,0.74339999999999995,0.74299999999999999,0.74339999999999995,0.74380000000000002,0.74419999999999997,0.74460000000000004,0.745,0.74619999999999997,0.74739999999999995,0.74839999999999995,0.74919999999999998,0.75,0.75,0.75,0.74980000000000002,0.74939999999999996,0.749,0.74860000000000004,0.74819999999999998,0.748,0.748,0.748,0.74760000000000004,0.74719999999999998,0.747,0.747,0.747,0.747,0.747,0.747,0.747,0.747]
["TCS14",3.5999999999999997E-2,3.5999999999999997E-2,3.5999999999999997E-2,3.6200000000000003E-2,3.6600000000000001E-2,3.6999999999999998E-2,3.7400000000000003E-2,3.78E-2,3.8199999999999998E-2,3.8600000000000002E-2,3.9E-2,3.9E-2,3.9E-2,3.9199999999999999E-2,3.9600000000000003E-2,0.04,4.0399999999999998E-2,4.0800000000000003E-2,4.1200000000000001E-2,4.1599999999999998E-2,4.2000000000000003E-2,4.2000000000000003E-2,4.2000000000000003E-2,4.2200000000000001E-2,4.2599999999999999E-2,4.2999999999999997E-2,4.3400000000000001E-2,4.3799999999999999E-2,4.3999999999999997E-2,4.3999999999999997E-2,4.3999999999999997E-2,4.4400000000000002E-2,4.48E-2,4.4999999999999998E-2,4.4999999999999998E-2,4.4999999999999998E-2,4.5400000000000003E-2,4.58E-2,4.6199999999999998E-2,4.6600000000000003E-2,4.7E-2,4.7399999999999998E-2,4.7800000000000002E-2,4.8399999999999999E-2,4.9200000000000001E-2,0.05,5.0799999999999998E-2,5.16E-2,5.2600000000000001E-2,5.3800000000000001E-2,5.5E-2,5.5800000000000002E-2,5.6599999999999998E-2,5.8000000000000003E-2,0.06,6.2E-2,6.4000000000000001E-2,6.6000000000000003E-2,6.8599999999999994E-2,7.1800000000000003E-2,7.4999999999999997E-2,7.8200000000000006E-2,8.14E-2,8.48E-2,8.8400000000000006E-2,9.1999999999999998E-2,9.5200000000000007E-2,9.8400000000000001E-2,0.1016,0.1048,0.108,0.1132,0.11840000000000001,0.1234,0.12820000000000001,0.13300000000000001,0.1366,0.14019999999999999,0.14360000000000001,0.14680000000000001,0.15,0.15160000000000001,0.1532,0.1542,0.15459999999999999,0.155,0.15379999999999999,0.15260000000000001,0.151,0.14899999999999999,0.14699999999999999,0.14419999999999999,0.1414,0.1386,0.1358,0.13300000000000001,0.1298,0.12659999999999999,0.1236,0.1208,0.11799999999999999,0.11559999999999999,0.1132,0.1108,0.1084,0.106,0.104,0.10199999999999999,0.1004,9.9199999999999997E-2,9.8000000000000004E-2,9.6799999999999997E-2,9.5600000000000004E-2,9.4600000000000004E-2,9.3799999999999994E-2,9.2999999999999999E-2,9.1800000000000007E-2,9.06E-2,8.9800000000000005E-2,8.9399999999999993E-2,8.8999999999999996E-2,8.8200000000000001E-2,8.7400000000000005E-2,8.6800000000000002E-2,8.6400000000000005E-2,8.5999999999999993E-2,8.5599999999999996E-2,8.5199999999999998E-2,8.48E-2,8.4400000000000003E-2,8.4000000000000005E-2,8.4000000000000005E-2,8.4000000000000005E-2,8.4000000000000005E-2,8.4000000000000005E-2,8.4000000000000005E-2,8.4000000000000005E-2,8.4000000000000005E-2,8.4199999999999997E-2,8.4599999999999995E-2,8.5000000000000006E-2,8.5800000000000001E-2,8.6599999999999996E-2,8.7999999999999995E-2,0.09,9.1999999999999998E-2,9.3600000000000003E-2,9.5200000000000007E-2,9.7199999999999995E-2,9.9599999999999994E-2,0.10199999999999999,0.1052,0.1084,0.11260000000000001,0.1178,0.123,0.12859999999999999,0.13420000000000001,0.14000000000000001,0.14599999999999999,0.152,0.1588,0.1656,0.17280000000000001,0.1804,0.188,0.1956,0.20319999999999999,0.21079999999999999,0.21840000000000001,0.22600000000000001,0.23280000000000001,0.23960000000000001,0.24640000000000001,0.25319999999999998,0.26,0.26679999999999998,0.27360000000000001,0.28039999999999998,0.28720000000000001,0.29399999999999998,0.3004,0.30680000000000002,0.313,0.31900000000000001,0.32500000000000001,0.3306,0.3362,0.34179999999999999,0.34739999999999999,0.35299999999999998,0.35820000000000002,0.3634,0.36859999999999998,0.37380000000000002,0.379,0.38340000000000002,0.38779999999999998,0.39179999999999998,0.39539999999999997,0.39900000000000002]
["TCS15",0.13100000000000001,0.14760000000000001,0.1426,0.13780000000000001,0.1411,0.14699999999999999,0.15060000000000001,0.15229999999999999,0.15379999999999999,0.15590000000000001,0.158,0.15989999999999999,0.16139999999999999,0.16250000000000001,0.16320000000000001,0.16400000000000001,0.1651,0.16639999999999999,0.1676,0.16869999999999999,0.17,0.17169999999999999,0.17380000000000001,0.1762,0.1789,0.182,0.1857,0.1898,0.19420000000000001,0.1988,0.20300000000000001,0.20680000000000001,0.21029999999999999,0.21379999999999999,0.21740000000000001,0.221,0.22439999999999999,0.22750000000000001,0.23039999999999999,0.23319999999999999,0.23599999999999999,0.23880000000000001,0.24160000000000001,0.24429999999999999,0.24679999999999999,0.249,0.25109999999999999,0.253,0.255,0.25700000000000001,0.25900000000000001,0.26100000000000001,0.26300000000000001,0.26490000000000002,0.26690000000000003,0.26900000000000002,0.27160000000000001,0.27450000000000002,0.27760000000000001,0.28079999999999999,0.28399999999999997,0.28699999999999998,0.28970000000000001,0.29220000000000002,0.29430000000000001,0.29599999999999999,0.29720000000000002,0.2979,0.29799999999999999,0.2974,0.29599999999999999,0.29360000000000003,0.29049999999999998,0.28749999999999998,0.28470000000000001,0.28199999999999997,0.27929999999999999,0.27700000000000002,0.2752,0.27429999999999999,0.27400000000000002,0.27429999999999999,0.27529999999999999,0.27689999999999998,0.27889999999999998,0.28100000000000003,0.28289999999999998,0.28489999999999999,0.28720000000000001,0.28960000000000002,0.29099999999999998,0.2908,0.28960000000000002,0.28849999999999998,0.28749999999999998,0.28599999999999998,0.28349999999999997,0.28089999999999998,0.27950000000000003,0.28039999999999998,0.28499999999999998,0.29420000000000002,0.30680000000000002,0.32150000000000001,0.33729999999999999,0.35399999999999998,0.37130000000000002,0.3891,0.40689999999999998,0.42430000000000001,0.44,0.45329999999999998,0.4647,0.47520000000000001,0.48509999999999998,0.49399999999999999,0.50160000000000005,0.5081,0.51380000000000003,0.51910000000000001,0.52400000000000002,0.52859999999999996,0.53300000000000003,0.53690000000000004,0.54059999999999997,0.54400000000000004,0.54730000000000001,0.55049999999999999,0.55349999999999999,0.55630000000000002,0.55900000000000005,0.56140000000000001,0.56379999999999997,0.56620000000000004,0.56869999999999998,0.57099999999999995,0.57310000000000005,0.57499999999999996,0.57699999999999996,0.57899999999999996,0.58099999999999996,0.58309999999999995,0.58509999999999995,0.58689999999999998,0.58850000000000002,0.59,0.59150000000000003,0.59309999999999996,0.59499999999999997,0.59699999999999998,0.59899999999999998,0.6008,0.60229999999999995,0.60360000000000003,0.60470000000000002,0.60599999999999998,0.60760000000000003,0.60929999999999995,0.61060000000000003,0.61140000000000005,0.61199999999999999,0.61270000000000002,0.61350000000000005,0.61450000000000005,0.61539999999999995,0.61599999999999999,0.61619999999999997,0.61609999999999998,0.61599999999999999,0.61599999999999999,0.61599999999999999,0.61609999999999998,0.61599999999999999,0.6159,0.61560000000000004,0.61499999999999999,0.61419999999999997,0.61329999999999996,0.61280000000000001,0.61240000000000006,0.61199999999999999,0.61119999999999997,0.61040000000000005,0.60970000000000002,0.60929999999999995,0.60899999999999999,0.60860000000000003,0.60809999999999997,0.6079,0.60770000000000002,0.60699999999999998,0.60580000000000001,0.60580000000000001,0.60919999999999996,0.6129,0.60899999999999999,0.59550000000000003,0.59570000000000001,0.63590000000000002,0.6764,0.61099999999999999]
[]
[]
[]
[null,"x (nm)",380,{"$f":"C25+2","v":382},{"$f":"D25+2","v":384},386,388,390,392,394,396,398,400,402,404,406,408,410,412,414,416,418,420,422,424,426,428,430,432,434,436,438,440,442,444,446,448,450,452,454,456,458,460,462,464,466,468,470,472,474,476,478,480,482,484,486,488,490,492,494,496,498,500,502,504,506,508,510,{"$f":"BP25+2","v":512},514,516,518,520,522,524,526,528,530,532,534,536,538,540,542,544,546,548,550,552,554,556,558,560,562,564,566,568,570,572,574,576,578,580,582,584,586,588,590,592,594,596,598,600,602,604,606,608,610,612,614,616,618,620,622,624,626,628,630,632,634,636,638,{"$f":"EB25+2","v":640},642,644,646,648,650,652,654,656,658,660,662,664,666,668,670,672,674,676,678,680,682,684,686,688,690,692,694,696,698,700,702,704,706,708,710,712,714,716,718,720,722,724,726,728,730,732,734,736,738,740,742,744,746,748,750,752,754,756,758,760,762,764,766,{"$f":"GN25+2","v":768},770,772,774,776,778,{"$f":"GT25+2","v":780}]
["CIE","X",1.3680000000000001E-3,1.642328E-3,1.9957569999999999E-3,2.5353849999999998E-3,3.3008289999999999E-3,4.2430000000000002E-3,5.3300480000000004E-3,6.7411169999999996E-3,8.7513729999999998E-3,1.14217E-2,1.431E-2,1.714744E-2,2.0748010000000001E-2,2.6207359999999999E-2,3.3880920000000002E-2,4.351E-2,5.5022599999999998E-2,6.9211999999999996E-2,8.6958110000000005E-2,0.1084063,0.13438,0.16539570000000001,0.19861100000000001,0.2301868,0.25877729999999999,0.28389999999999999,0.30489650000000001,0.32164540000000003,0.33435130000000002,0.34312130000000002,0.34827999999999998,0.3501474,0.34928700000000001,0.3463733,0.34180880000000002,0.3362,0.33004109999999998,0.32288679999999997,0.3140251,0.30329040000000002,0.2908,0.27672140000000001,0.26042270000000001,0.24084749999999999,0.2184072,0.19536000000000001,0.17332729999999999,0.15228330000000001,0.13217860000000001,0.11327520000000001,9.5640000000000003E-2,7.9308039999999996E-2,6.4580990000000005E-2,5.1862110000000003E-2,4.1150880000000001E-2,3.2009999999999997E-2,2.41444E-2,1.7540400000000001E-2,1.216179E-2,7.9672400000000004E-3,4.8999999999999998E-3,2.94532E-3,2.2362929999999999E-3,2.92552E-3,5.17484E-3,9.2999999999999992E-3,1.553588E-2,2.399277E-2,3.4814850000000001E-2,4.798504E-2,6.3270000000000007E-2,8.0462240000000004E-2,9.9456450000000002E-2,0.12016739999999999,0.14236789999999999,0.16550000000000001,0.18914,0.21336579999999999,0.2383209,0.26399220000000001,0.29039999999999999,0.31757259999999998,0.34548279999999998,0.37408390000000002,0.40337840000000003,0.4334499,0.46433600000000003,0.4959713,0.52829590000000004,0.56120939999999997,0.59450000000000003,0.62797579999999997,0.66156970000000004,0.69523919999999995,0.72882840000000004,0.7621,0.79482560000000002,0.82682480000000003,0.85793249999999999,0.88789439999999997,0.9163,0.94279840000000004,0.96721789999999996,0.98938559999999998,1.0090892,1.0263,1.040986,1.0524667000000001,1.0597943999999999,1.0628067999999999,1.0622,1.0584435999999999,1.0509767999999999,1.0390368999999999,1.0226662,1.0025999999999999,0.97933139999999996,0.95284789999999997,0.92319399999999996,0.89050200000000002,0.85444989999999998,0.81494599999999995,0.77295400000000003,0.7295836,0.68560220000000005,0.64239999999999997,0.60111380000000003,0.5613977,0.52259949999999999,0.4847436,0.44790000000000002,0.41209800000000002,0.37753330000000002,0.34445629999999999,0.3130192,0.28349999999999997,0.25611840000000002,0.23072719999999999,0.20709710000000001,0.1851708,0.16489999999999999,0.14623,0.1291467,0.1136397,9.9690440000000005E-2,8.7400000000000005E-2,7.6804280000000003E-2,6.7686640000000006E-2,5.9806850000000002E-2,5.2971039999999997E-2,4.6769999999999999E-2,4.0875359999999999E-2,3.5404610000000003E-2,3.0564190000000001E-2,2.6344840000000001E-2,2.2700000000000001E-2,1.959988E-2,1.6987169999999999E-2,1.4790640000000001E-2,1.2948680000000001E-2,1.135916E-2,9.9388459999999994E-3,8.6788539999999997E-3,7.5823879999999998E-3,6.6273130000000001E-3,5.790346E-3,5.0525830000000002E-3,4.4035070000000001E-3,3.833913E-3,3.3343420000000001E-3,2.8993270000000002E-3,2.52302E-3,2.1966160000000002E-3,1.91096E-3,1.66011E-3,1.439971E-3,1.246275E-3,1.07643E-3,9.2873580000000003E-4,8.0075030000000002E-4,6.9007859999999999E-4,5.9450210000000004E-4,5.1242900000000001E-4,4.4245359999999997E-4,3.8298139999999999E-4,3.323011E-4,2.8888710000000002E-4,2.5156819999999999E-4,2.1917099999999999E-4,1.9084049999999999E-4,1.6615050000000001E-4,1.4462190000000001E-4,1.25852E-4,1.095515E-4,9.5394450000000006E-5,8.3075270000000005E-5,7.231304E-5,6.2928439999999995E-5,5.4770279999999998E-5,4.7676539999999999E-5,4.1509940000000003E-5]
[null,"Y",3.8999999999999999E-5,4.69146E-5,5.7176399999999997E-5,7.2344209999999998E-5,9.3508159999999998E-5,1.2E-4,1.5149200000000001E-4,1.9181600000000001E-4,2.4690669999999999E-4,3.1851999999999998E-4,3.9599999999999998E-4,4.73024E-4,5.7221870000000001E-4,7.2455999999999996E-4,9.4116000000000002E-4,1.2099999999999999E-3,1.530752E-3,1.9353230000000001E-3,2.4548E-3,3.1178E-3,4.0000000000000001E-3,5.1593200000000002E-3,6.5461599999999997E-3,8.0865069999999997E-3,9.7676800000000008E-3,1.1599999999999999E-2,1.358272E-2,1.5715090000000001E-2,1.800736E-2,2.045392E-2,2.3E-2,2.5610239999999999E-2,2.8351250000000001E-2,3.1310829999999998E-2,3.4521120000000002E-2,3.7999999999999999E-2,4.1768E-2,4.5842670000000002E-2,5.0243679999999999E-2,5.4980559999999998E-2,0.06,6.5277520000000006E-2,7.0911089999999996E-2,7.7016000000000001E-2,8.36668E-2,9.0980000000000005E-2,9.9045839999999996E-2,0.1078846,0.117532,0.12799279999999999,0.13902,0.1504693,0.16271769999999999,0.17624310000000001,0.19127350000000001,0.20802000000000001,0.22673450000000001,0.24748120000000001,0.27018490000000001,0.29505049999999999,0.32300000000000001,0.3546858,0.38928750000000001,0.42562990000000001,0.46339439999999998,0.503,0.544512,0.58696530000000002,0.62934559999999995,0.6708752,0.71,0.7454636,0.77783679999999999,0.80811040000000001,0.83630680000000002,0.86199999999999999,0.88496240000000004,0.9054432,0.92373479999999997,0.93992260000000005,0.95399999999999996,0.96600739999999996,0.97602250000000002,0.98409239999999998,0.99031279999999999,0.99495009999999995,0.99809829999999999,0.99974819999999998,0.99985670000000004,0.99832549999999998,0.995,0.98974260000000003,0.98272409999999999,0.9740837,0.96385679999999996,0.95199999999999996,0.93849919999999998,0.92345759999999999,0.90700639999999999,0.88920480000000002,0.87,0.84939200000000004,0.82758129999999996,0.80479469999999997,0.781192,0.75700000000000001,0.73242240000000003,0.70749649999999997,0.68221920000000003,0.65667439999999999,0.63100000000000001,0.60531440000000003,0.57963790000000004,0.55396109999999998,0.52835279999999996,0.503,0.47803040000000002,0.45340320000000001,0.42908000000000002,0.405032,0.38100000000000001,0.35682720000000001,0.33281759999999999,0.3093381,0.2865936,0.26500000000000001,0.24488960000000001,0.2260528,0.2081616,0.1911552,0.17499999999999999,0.15964639999999999,0.1451259,0.13150029999999999,0.1187792,0.107,9.6188640000000006E-2,8.6264850000000004E-2,7.7120640000000004E-2,6.8710080000000007E-2,6.0999999999999999E-2,5.3955040000000003E-2,4.7549649999999999E-2,4.1758719999999999E-2,3.656384E-2,3.2000000000000001E-2,2.807664E-2,2.4708049999999999E-2,2.1800770000000001E-2,1.9281079999999999E-2,1.7000000000000001E-2,1.483718E-2,1.283478E-2,1.106831E-2,9.5333109999999992E-3,8.2100000000000003E-3,7.0854239999999999E-3,6.1384849999999999E-3,5.3430589999999998E-3,4.6764040000000003E-3,4.1019999999999997E-3,3.5890990000000001E-3,3.1340930000000001E-3,2.7381390000000001E-3,2.3932440000000001E-3,2.091E-3,1.8245799999999999E-3,1.5901870000000001E-3,1.384496E-3,1.2040919999999999E-3,1.047E-3,9.1110880000000005E-4,7.9323839999999996E-4,6.9008269999999998E-4,5.9949600000000003E-4,5.1999999999999995E-4,4.500528E-4,3.887184E-4,3.3538349999999998E-4,2.8916560000000002E-4,2.4919999999999999E-4,2.1468560000000001E-4,1.8504750000000001E-4,1.5977809999999999E-4,1.383016E-4,1.2E-4,1.043224E-4,9.0845869999999995E-5,7.9146669999999997E-5,6.8916000000000002E-5,6.0000000000000002E-5,5.2225599999999997E-5,4.5447469999999999E-5,3.9561039999999999E-5,3.444868E-5,3.0000000000000001E-5,2.6113560000000001E-5,2.272461E-5,1.9778550000000001E-5,1.7216869999999999E-5,1.499E-5]
[null,"Z",6.4500010000000003E-3,7.745488E-3,9.4145440000000004E-3,1.19658E-2,1.5588050000000001E-2,2.005001E-2,2.520288E-2,3.1897040000000002E-2,4.1437710000000003E-2,5.4119880000000002E-2,6.7850010000000002E-2,8.1361559999999999E-2,9.854048E-2,0.1246133,0.16130349999999999,0.2074,0.26261139999999999,0.3307985,0.4162091,0.51969480000000001,0.64559999999999995,0.79671329999999996,0.95943900000000004,1.1153673,1.2581233000000001,1.3855999999999999,1.4948035,1.5848807,1.6564048,1.7098745,1.7470600000000001,1.7696232999999999,1.7804333999999999,1.7829682,1.7791982,1.7721100000000001,1.7640389999999999,1.7524663,1.7335594999999999,1.7059369,1.6692,1.6234127,1.5645279999999999,1.4861114,1.3898798999999999,1.2876399999999999,1.1878242999999999,1.0901479999999999,0.99419760000000001,0.90145310000000001,0.81295010000000001,0.7294448,0.65210489999999999,0.58232859999999997,0.52033759999999996,0.46517999999999998,0.41618359999999999,0.3729459,0.33485779999999998,0.30133749999999998,0.27200000000000002,0.2464838,0.22345329999999999,0.20116919999999999,0.17922540000000001,0.15820000000000001,0.13837579999999999,0.1200751,0.10390480000000001,8.9982720000000002E-2,7.8249990000000005E-2,6.8678160000000002E-2,6.0788349999999998E-2,5.3904349999999997E-2,4.7752759999999998E-2,4.2160000000000003E-2,3.6935639999999999E-2,3.2088720000000001E-2,2.771181E-2,2.3787160000000002E-2,2.0299999999999999E-2,1.724036E-2,1.458461E-2,1.2307230000000001E-2,1.0377920000000001E-2,8.7499989999999996E-3,7.3816000000000003E-3,6.2427999999999997E-3,5.3036000000000003E-3,4.5342000000000004E-3,3.8999999999999998E-3,3.3706000000000001E-3,2.9348E-3,2.5852000000000002E-3,2.3094000000000001E-3,2.0999999999999999E-3,1.9482E-3,1.8409329999999999E-3,1.766267E-3,1.7112E-3,1.6500009999999999E-3,1.5644000000000001E-3,1.4585329999999999E-3,1.3366669999999999E-3,1.2049999999999999E-3,1.1000000000000001E-3,1.0494E-3,1.0212000000000001E-3,9.6864E-4,8.8688000000000005E-4,8.0000000000000004E-4,7.2367999999999998E-4,6.4543999999999995E-4,5.4786669999999996E-4,4.3540000000000001E-4,3.4000000000000002E-4,2.8316000000000002E-4,2.5181329999999998E-4,2.2954670000000001E-4,2.1196E-4,1.9000000000000001E-4,1.5563999999999999E-4,1.1685329999999999E-4,8.6133330000000006E-5,6.4999999999999994E-5,4.9999990000000002E-5,3.9480000000000001E-5,3.2639999999999999E-5,2.765333E-5,2.3640000000000001E-5,2.0000000000000002E-5,1.6200000000000001E-5,1.213333E-5,7.7333299999999997E-6,3.1999999999999999E-6,0,0,0,0,0,0,0,0,0,0,0,0,0,0,0,0,0,0,0,0,0,0,0,0,0,0,0,0,0,0,0,0,0,0,0,0,0,0,0,0,0,0,0,0,0,0,0,0,0,0,0,0,0,0,0,0,0,0,0,0,0,0,0,0,0,0]
[null,"Photopic Luminous Efficacy Vλ",3.8999999999999999E-5,4.69146E-5,5.7176399999999997E-5,7.2344209999999998E-5,9.3508159999999998E-5,1.2E-4,1.5149200000000001E-4,1.9181600000000001E-4,2.4690669999999999E-4,3.1851999999999998E-4,3.9599999999999998E-4,4.73024E-4,5.7221870000000001E-4,7.2455999999999996E-4,9.4116000000000002E-4,1.2099999999999999E-3,1.530752E-3,1.9353230000000001E-3,2.4548E-3,3.1178E-3,4.0000000000000001E-3,5.1593200000000002E-3,6.5461599999999997E-3,8.0865069999999997E-3,9.7676800000000008E-3,1.1599999999999999E-2,1.358272E-2,1.5715090000000001E-2,1.800736E-2,2.045392E-2,2.3E-2,2.5610239999999999E-2,2.8351250000000001E-2,3.1310829999999998E-2,3.4521120000000002E-2,3.7999999999999999E-2,4.1768E-2,4.5842670000000002E-2,5.0243679999999999E-2,5.4980559999999998E-2,0.06,6.5277520000000006E-2,7.0911089999999996E-2,7.7016000000000001E-2,8.36668E-2,9.0980000000000005E-2,9.9045839999999996E-2,0.1078846,0.117532,0.12799279999999999,0.13902,0.1504693,0.16271769999999999,0.17624310000000001,0.19127350000000001,0.20802000000000001,0.22673450000000001,0.24748120000000001,0.27018490000000001,0.29505049999999999,0.32300000000000001,0.3546858,0.38928750000000001,0.42562990000000001,0.46339439999999998,0.503,0.544512,0.58696530000000002,0.62934559999999995,0.6708752,0.71,0.7454636,0.77783679999999999,0.80811040000000001,0.83630680000000002,0.86199999999999999,0.88496240000000004,0.9054432,0.92373479999999997,0.93992260000000005,0.95399999999999996,0.96600739999999996,0.97602250000000002,0.98409239999999998,0.99031279999999999,0.99495009999999995,0.99809829999999999,0.99974819999999998,0.99985670000000004,0.99832549999999998,0.995,0.98974260000000003,0.98272409999999999,0.9740837,0.96385679999999996,0.95199999999999996,0.93849919999999998,0.92345759999999999,0.90700639999999999,0.88920480000000002,0.87,0.84939200000000004,0.82758129999999996,0.80479469999999997,0.781192,0.75700000000000001,0.73242240000000003,0.70749649999999997,0.68221920000000003,0.65667439999999999,0.63100000000000001,0.60531440000000003,0.57963790000000004,0.55396109999999998,0.52835279999999996,0.503,0.47803040000000002,0.45340320000000001,0.42908000000000002,0.405032,0.38100000000000001,0.35682720000000001,0.33281759999999999,0.3093381,0.2865936,0.26500000000000001,0.24488960000000001,0.2260528,0.2081616,0.1911552,0.17499999999999999,0.15964639999999999,0.1451259,0.13150029999999999,0.1187792,0.107,9.6188640000000006E-2,8.6264850000000004E-2,7.7120640000000004E-2,6.8710080000000007E-2,6.0999999999999999E-2,5.3955040000000003E-2,4.7549649999999999E-2,4.1758719999999999E-2,3.656384E-2,3.2000000000000001E-2,2.807664E-2,2.4708049999999999E-2,2.1800770000000001E-2,1.9281079999999999E-2,1.7000000000000001E-2,1.483718E-2,1.283478E-2,1.106831E-2,9.5333109999999992E-3,8.2100000000000003E-3,7.0854239999999999E-3,6.1384849999999999E-3,5.3430589999999998E-3,4.6764040000000003E-3,4.1019999999999997E-3,3.5890990000000001E-3,3.1340930000000001E-3,2.7381390000000001E-3,2.3932440000000001E-3,2.091E-3,1.8245799999999999E-3,1.5901870000000001E-3,1.384496E-3,1.2040919999999999E-3,1.047E-3,9.1110880000000005E-4,7.9323839999999996E-4,6.9008269999999998E-4,5.9949600000000003E-4,5.1999999999999995E-4,4.500528E-4,3.887184E-4,3.3538349999999998E-4,2.8916560000000002E-4,2.4919999999999999E-4,2.1468560000000001E-4,1.8504750000000001E-4,1.5977809999999999E-4,1.383016E-4,1.2E-4,1.043224E-4,9.0845869999999995E-5,7.9146669999999997E-5,6.8916000000000002E-5,6.0000000000000002E-5,5.2225599999999997E-5,4.5447469999999999E-5,3.9561039999999999E-5,3.444868E-5,3.0000000000000001E-5,2.6113560000000001E-5,2.272461E-5,1.9778550000000001E-5,1.7216869999999999E-5,1.499E-5]
[]
[]
[]
[null,"Leds dentro del filtro",null,"Primero"]
[null,{"$f":"IF(Datos!$H$3:$H$66=Principal!$N$13,ROW(Datos!$A$3:$A$66),\"\")","v":3},{"$f":"IF(B34<>\"\",INDIRECT(\"Datos!A\"&B34,TRUE),\"\")","v":"Blanco Frío (6000K) XP-E"},{"$f":"IF(C34<>\"\",1,0)","v":1}]
[null,4,{"$f":"IF(B35<>\"\",INDIRECT(\"Datos!A\"&B35,TRUE),\"\")","v":"Blanco Frío (6000K) XP-E2"},{"$f":"IF(AND(C35<>\"\",C34=\"\"),1,0)","v":0}]
[null,5,{"$f":"IF(B36<>\"\",INDIRECT(\"Datos!A\"&B36,TRUE),\"\")","v":"Blanco Cálido (3500K) XP-E"},{"$f":"IF(AND(C36<>\"\",C35=\"\"),1,0)","v":0}]
[null,6,{"$f":"IF(B37<>\"\",INDIRECT(\"Datos!A\"&B37,TRUE),\"\")","v":"Blanco Cálido (3500K) XP-E2"},0]
[null,7,{"$f":"IF(B38<>\"\",INDIRECT(\"Datos!A\"&B38,TRUE),\"\")","v":"Blue (465-480) XP-E"},0]
[null,8,{"$f":"IF(B39<>\"\",INDIRECT(\"Datos!A\"&B39,TRUE),\"\")","v":"Blue (465-480) XP-E2"},0]
[null,9,{"$f":"IF(B40<>\"\",INDIRECT(\"Datos!A\"&B40,TRUE),\"\")","v":"Royal Blue (440-450) XP-E2"},0]
[null,10,{"$f":"IF(B41<>\"\",INDIRECT(\"Datos!A\"&B41,TRUE),\"\")","v":"Green (520-525) XP-E"},0]
[null,11,{"$f":"IF(B42<>\"\",INDIRECT(\"Datos!A\"&B42,TRUE),\"\")","v":"Green (520-525) XP-E2"},0]
[null,12,{"$f":"IF(B43<>\"\",INDIRECT(\"Datos!A\"&B43,TRUE),\"\")","v":"Red (620-630) XP-E"},0]
[null,13,{"$f":"IF(B44<>\"\",INDIRECT(\"Datos!A\"&B44,TRUE),\"\")","v":"Red (620-630) XP-E2"},0]
[null,14,{"$f":"IF(B45<>\"\",INDIRECT(\"Datos!A\"&B45,TRUE),\"\")","v":"Photo Red (650-665) XP-E"},0]
[null,15,{"$f":"IF(B46<>\"\",INDIRECT(\"Datos!A\"&B46,TRUE),\"\")","v":"Photo Red (650-665) XP-E2"},0]
[null,16,{"$f":"IF(B47<>\"\",INDIRECT(\"Datos!A\"&B47,TRUE),\"\")","v":"Amber (585-595) XP-E2"},0]
[null,17,{"$f":"IF(B48<>\"\",INDIRECT(\"Datos!A\"&B48,TRUE),\"\")","v":"Amber (585-595) XP-E"},0]
[null,18,{"$f":"IF(B49<>\"\",INDIRECT(\"Datos!A\"&B49,TRUE),\"\")","v":"Red-Orange (610-620) XP-E"},0]
[null,19,{"$f":"IF(B50<>\"\",INDIRECT(\"Datos!A\"&B50,TRUE),\"\")","v":"Red-Orange (610-620) XP-E2"},0]
[null,20,{"$f":"IF(B51<>\"\",INDIRECT(\"Datos!A\"&B51,TRUE),\"\")","v":"Far-Red (720-740) XP-E2"},0]
[null,21,{"$f":"IF(B52<>\"\",INDIRECT(\"Datos!A\"&B52,TRUE),\"\")","v":"UV (395-400) Semiled"},0]
[null,22,{"$f":"IF(B53<>\"\",INDIRECT(\"Datos!A\"&B53,TRUE),\"\")","v":"UV (405-410) Semiled"},0]
[null,23,{"$f":"IF(B54<>\"\",INDIRECT(\"Datos!A\"&B54,TRUE),\"\")","v":"UV (410-420) Semiled"},0]
[null,24,{"$f":"IF(B55<>\"\",INDIRECT(\"Datos!A\"&B55,TRUE),\"\")","v":"Royal Blue (440-450) XT-E"},0]
[null,25,{"$f":"IF(B56<>\"\",INDIRECT(\"Datos!A\"&B56,TRUE),\"\")","v":"Blanco Frío (6000K) XT-E"},0]
[null,26,{"$f":"IF(B57<>\"\",INDIRECT(\"Datos!A\"&B57,TRUE),\"\")","v":"Blanco Cálido (3500K) XT-E"},0]
[null,27,{"$f":"IF(B58<>\"\",INDIRECT(\"Datos!A\"&B58,TRUE),\"\")","v":"Blanco Frío (6000K) XP-G2"},0]
[null,28,{"$f":"IF(B59<>\"\",INDIRECT(\"Datos!A\"&B59,TRUE),\"\")","v":"Blanco Cálido (3500K) XP-G2"},0]
[null,"",{"$f":"IF(B60<>\"\",INDIRECT(\"Datos!A\"&B60,TRUE),\"\")","v":""},0]
[null,"",{"$f":"IF(B61<>\"\",INDIRECT(\"Datos!A\"&B61,TRUE),\"\")","v":""},0]
[null,"",{"$f":"IF(B62<>\"\",INDIRECT(\"Datos!A\"&B62,TRUE),\"\")","v":""},0]
[null,"",{"$f":"IF(B63<>\"\",INDIRECT(\"Datos!A\"&B63,TRUE),\"\")","v":""},0]
[null,"",{"$f":"IF(B64<>\"\",INDIRECT(\"Datos!A\"&B64,TRUE),\"\")","v":""},0]
[null,"",{"$f":"IF(B65<>\"\",INDIRECT(\"Datos!A\"&B65,TRUE),\"\")","v":""},{"$f":"IF(AND(C65<>\"\",C64=\"\"),1,0)","v":0}]
[null,"",{"$f":"IF(B66<>\"\",INDIRECT(\"Datos!A\"&B66,TRUE),\"\")","v":""},0]
[null,"",{"$f":"IF(B67<>\"\",INDIRECT(\"Datos!A\"&B67,TRUE),\"\")","v":""},0]
[null,"",{"$f":"IF(B68<>\"\",INDIRECT(\"Datos!A\"&B68,TRUE),\"\")","v":""},0]
[null,"",{"$f":"IF(B69<>\"\",INDIRECT(\"Datos!A\"&B69,TRUE),\"\")","v":""},0]
[null,"",{"$f":"IF(B70<>\"\",INDIRECT(\"Datos!A\"&B70,TRUE),\"\")","v":""},0]
[null,"",{"$f":"IF(B71<>\"\",INDIRECT(\"Datos!A\"&B71,TRUE),\"\")","v":""},0]
[null,"",{"$f":"IF(B72<>\"\",INDIRECT(\"Datos!A\"&B72,TRUE),\"\")","v":""},0]
[null,"",{"$f":"IF(B73<>\"\",INDIRECT(\"Datos!A\"&B73,TRUE),\"\")","v":""},0]
[null,"",{"$f":"IF(B74<>\"\",INDIRECT(\"Datos!A\"&B74,TRUE),\"\")","v":""},0]
[null,"",{"$f":"IF(B75<>\"\",INDIRECT(\"Datos!A\"&B75,TRUE),\"\")","v":""},0]
[null,"",{"$f":"IF(B76<>\"\",INDIRECT(\"Datos!A\"&B76,TRUE),\"\")","v":""},0]
[null,"",{"$f":"IF(B77<>\"\",INDIRECT(\"Datos!A\"&B77,TRUE),\"\")","v":""},0]
[null,"",{"$f":"IF(B78<>\"\",INDIRECT(\"Datos!A\"&B78,TRUE),\"\")","v":""},0]
[null,"",{"$f":"IF(B79<>\"\",INDIRECT(\"Datos!A\"&B79,TRUE),\"\")","v":""},0]
[null,"",{"$f":"IF(B80<>\"\",INDIRECT(\"Datos!A\"&B80,TRUE),\"\")","v":""},0]
[null,"",{"$f":"IF(B81<>\"\",INDIRECT(\"Datos!A\"&B81,TRUE),\"\")","v":""},0]
[null,"",{"$f":"IF(B82<>\"\",INDIRECT(\"Datos!A\"&B82,TRUE),\"\")","v":""},{"$f":"IF(AND(C82<>\"\",C81=\"\"),1,0)","v":0}]
[null,"",{"$f":"IF(B83<>\"\",INDIRECT(\"Datos!A\"&B83,TRUE),\"\")","v":""},0]
[null,"",{"$f":"IF(B84<>\"\",INDIRECT(\"Datos!A\"&B84,TRUE),\"\")","v":""},0]
[null,"",{"$f":"IF(B85<>\"\",INDIRECT(\"Datos!A\"&B85,TRUE),\"\")","v":""},0]
[null,"",{"$f":"IF(B86<>\"\",INDIRECT(\"Datos!A\"&B86,TRUE),\"\")","v":""},0]
[null,"",{"$f":"IF(B87<>\"\",INDIRECT(\"Datos!A\"&B87,TRUE),\"\")","v":""},0]
[null,"",{"$f":"IF(B88<>\"\",INDIRECT(\"Datos!A\"&B88,TRUE),\"\")","v":""},0]
[null,"",{"$f":"IF(B89<>\"\",INDIRECT(\"Datos!A\"&B89,TRUE),\"\")","v":""},0]
[null,"",{"$f":"IF(B90<>\"\",INDIRECT(\"Datos!A\"&B90,TRUE),\"\")","v":""},0]
[null,"",{"$f":"IF(B91<>\"\",INDIRECT(\"Datos!A\"&B91,TRUE),\"\")","v":""},0]
[null,"",{"$f":"IF(B92<>\"\",INDIRECT(\"Datos!A\"&B92,TRUE),\"\")","v":""},0]
[null,"",{"$f":"IF(B93<>\"\",INDIRECT(\"Datos!A\"&B93,TRUE),\"\")","v":""},0]
[null,"",{"$f":"IF(B94<>\"\",INDIRECT(\"Datos!A\"&B94,TRUE),\"\")","v":""},0]
[null,"",{"$f":"IF(B95<>\"\",INDIRECT(\"Datos!A\"&B95,TRUE),\"\")","v":""},0]
[null,"",{"$f":"IF(B96<>\"\",INDIRECT(\"Datos!A\"&B96,TRUE),\"\")","v":""},0]
[null,"",{"$f":"IF(B97<>\"\",INDIRECT(\"Datos!A\"&B97,TRUE),\"\")","v":""},0]
[null,null,{"$f":"IF(B98<>\"\",INDIRECT(\"Datos!A\"&B98,TRUE),\"\")","v":""},0]
[null,null,{"$f":"IF(B99<>\"\",INDIRECT(\"Datos!A\"&B99,TRUE),\"\")","v":""},0]
[null,null,{"$f":"IF(B100<>\"\",INDIRECT(\"Datos!A\"&B100,TRUE),\"\")","v":""},{"$f":"IF(AND(C100<>\"\",C99=\"\"),1,0)","v":0}]